Workbook

Sheet model
M1: Start | N1: End | O1: Resolution | Q1: Electricity Price Timeseries
M2: 2019-01-01T00:00:00 | N2: 2019-01-08T00:00:00 | O2: 1h | Q2: 2019-01-01T00:00:00 | R2: 162.03
A3: Power plants | B3: Pmax | C3: Qmax | D3: Εlectricty/Water conversion Segment 1 | E3: Electricity/Water conversion Segment 2 | F3: Mstart | G3: Mend | H3: Mmax | I3: Local Inflow | J3: Max efficiency point 1 | K3: Max efficiency point 2 | Q3: 2019-01-01T01:00:00 | R3: 156.36
A4: Bastusel | B4: 100 | C4: 170 | D4: 1.679 | E4: 1.767 | F4: 5581.44 | G4: 5417.28 | H4: 8208 | I4: 0.25797685 | J4: 0.759 | K4: 1 | Q4: 2019-01-01T02:00:00 | R4: 151.06
A5: Bergnäs | B5: 8 | C5: 160 | D5: 19.76 | E5: 20.8 | F5: 114543.6 | G5: 105898.8 | H5: 216120 | I5: 22.29 | J5: 0.759 | K5: 1 | Q5: 2019-01-01T03:00:00 | R5: 153.52
A6: Båtfors | B6: 42 | C6: 280 | D6: 6.583 | E6: 6.93 | F6: 1117.2 | G6: 891.1 | H6: 1330 | I6: 2 | J6: 0.759 | K6: 1 | Q6: 2019-01-01T04:00:00 | R6: 158.91
A7: Finnfors | B7: 54 | C7: 300 | D7: 5.486 | E7: 5.774 | F7: 234 | G7: 234 | H7: 300 | I7: 0 | J7: 0.759 | K7: 1 | Q7: 2019-01-01T05:00:00 | R7: 164.02
A8: Gallejaur | B8: 214 | C8: 310 | D8: 1.43 | E8: 1.506 | F8: 1224 | G8: 2808 | H8: 3600 | I8: 15.356963 | J8: 0.759 | K8: 1 | Q8: 2019-01-01T06:00:00 | R8: 175.56
A9: Granfors | B9: 40 | C9: 240 | D9: 5.924 | E9: 6.236 | F9: 232.4 | G9: 212.8 | H9: 280 | I9: 0 | J9: 0.759 | K9: 1 | Q9: 2019-01-01T07:00:00 | R9: 283.11
A10: Grytfors | B10: 31 | C10: 165 | D10: 5.255 | E10: 5.531 | F10: 1060.8 | G10: 1110.72 | H10: 1248 | I10: 3.78 | J10: 0.759 | K10: 1 | Q10: 2019-01-01T08:00:00 | R10: 278.76
A11: Krångfors | B11: 62 | C11: 240 | D11: 3.823 | E11: 4.024 | F11: 201.3 | G11: 207.9 | H11: 330 | I11: 0 | J11: 0.759 | K11: 1 | Q11: 2019-01-01T09:00:00 | R11: 299.57
A12: Kvistforsen | B12: 130 | C12: 300 | D12: 2.279 | E12: 2.399 | F12: 769.06667 | G12: 560 | H12: 1120 | I12: 1.327381 | J12: 0.759 | K12: 1 | Q12: 2019-01-01T10:00:00 | R12: 285.28
A13: Rebnis | B13: 64 | C13: 80 | D13: 1.234 | E13: 1.299 | F13: 70243.509 | G13: 59524.123 | H13: 205560 | I13: 3.68 | J13: 0.759 | K13: 1 | Q13: 2019-01-01T11:00:00 | R13: 207.34
A14: Rengård | B14: 36 | C14: 220 | D14: 6.035 | E14: 6.353 | F14: 1022 | G14: 770 | H14: 1400 | I14: 10.37 | J14: 0.759 | K14: 1 | Q14: 2019-01-01T12:00:00 | R14: 194.95
A15: Sadva | B15: 31 | C15: 70 | D15: 2.23 | E15: 2.347 | F15: 99057.778 | G15: 93831.111 | H15: 168000 | I15: 5.43 | J15: 0.759 | K15: 1 | Q15: 2019-01-01T13:00:00 | R15: 190.41
... A18: Vargfors | B18: 131 | C18: 320 | D18: 2.412 | E18: 2.539 | F18: 3386.76 | G18: 3847.68 | H18: 4008 | I18: 3.5584954 | J18: 0.759 | K18: 1 | Q18: 2019-01-01T16:00:00 | R18: 191.54
Q19: 2019-01-01T17:00:00 | R19: 202.9
Q20: 2019-01-01T18:00:00 | R20: 197.69
Q21: 2019-01-01T19:00:00 | R21: 195.33
Q22: 2019-01-01T20:00:00 | R22: 186.72
Q23: 2019-01-01T21:00:00 | R23: 178.87
Q24: 2019-01-01T22:00:00 | R24: 174.71
Q25: 2019-01-01T23:00:00 | R25: 168.75
Q26: 2019-01-02T00:00:00 | R26: 172.89
Q27: 2019-01-02T01:00:00 | R27: 172.13
Q28: 2019-01-02T02:00:00 | R28: 171.66
Q29: 2019-01-02T03:00:00 | R29: 173.27
Q30: 2019-01-02T04:00:00 | R30: 176.97
... Q169: 2019-01-07T23:00:00 | R169: 143.94

Sheet Cost_of_electricity
B1: vom_cost
A2: =model!Q2 -> 2019-01-01T00:00:00 | B2: =model!R2*-1 -> -162.03
A3: =model!Q3 -> 2019-01-01T01:00:00 | B3: =model!R3*-1 -> -156.36
A4: =model!Q4 -> 2019-01-01T02:00:00 | B4: =model!R4*-1 -> -151.06
A5: =model!Q5 -> 2019-01-01T03:00:00 | B5: =model!R5*-1 -> -153.52
A6: =model!Q6 -> 2019-01-01T04:00:00 | B6: =model!R6*-1 -> -158.91
A7: =model!Q7 -> 2019-01-01T05:00:00 | B7: =model!R7*-1 -> -164.02
A8: =model!Q8 -> 2019-01-01T06:00:00 | B8: =model!R8*-1 -> -175.56
A9: =model!Q9 -> 2019-01-01T07:00:00 | B9: =model!R9*-1 -> -283.11
A10: =model!Q10 -> 2019-01-01T08:00:00 | B10: =model!R10*-1 -> -278.76
A11: =model!Q11 -> 2019-01-01T09:00:00 | B11: =model!R11*-1 -> -299.57
A12: =model!Q12 -> 2019-01-01T10:00:00 | B12: =model!R12*-1 -> -285.28
A13: =model!Q13 -> 2019-01-01T11:00:00 | B13: =model!R13*-1 -> -207.34
... A169: =model!Q169 -> 2019-01-07T23:00:00 | B169: =model!R169*-1 -> -143.94

Sheet Units
B1: unit | C1: node
A2: unit__from_node | B2: Bastusel_pwr_plant | C2: Bastusel_upper
A3: unit__from_node | B3: Båtfors_pwr_plant | C3: Båtfors_upper
A4: unit__from_node | B4: Bergnäs_pwr_plant | C4: Bergnäs_upper
A5: unit__from_node | B5: electricity_load | C5: electricity_node
A6: unit__from_node | B6: Finnfors_pwr_plant | C6: Finnfors_upper
A7: unit__from_node | B7: Gallejaur_pwr_plant | C7: Gallejaur_upper
A8: unit__from_node | B8: Granfors_pwr_plant | C8: Granfors_upper
A9: unit__from_node | B9: Grytfors_pwr_plant | C9: Grytfors_upper
A10: unit__from_node | B10: Krångfors_pwr_plant | C10: Krångfors_upper
A11: unit__from_node | B11: Kvistforsen_pwr_plant | C11: Kvistforsen_upper
A12: unit__from_node | B12: Rebnis_pwr_plant | C12: Rebnis_upper
A13: unit__from_node | B13: Rengård_pwr_plant | C13: Rengård_upper
... A47: unit__to_node | B47: Vargfors_pwr_plant | C47: Vargfors_lower

Sheet Unit_parameters
A1: unit__from_node | B1: Kvistforsen_pwr_plant | C1: Kvistforsen_upper | D1: minimum_operating_point | E1: Base | F1: 0.0888888888889 | H1: {"type": "array", "value_type": "float", "data": [
A2: unit__to_node | B2: Bastusel_pwr_plant | C2: electricity_node | D2: operating_points | E2: Base | F2: =$H$1&H2&", "&I2&"]}" -> {"type": "array", "value_type": "float", "data": [0.759, 1]} | H2: =SUBSTITUTE(model!J4, ",", ".") -> 0.759 | I2: =SUBSTITUTE(model!K4, ",", ".") -> 1
A3: unit__to_node | B3: Bergnäs_pwr_plant | C3: electricity_node | D3: operating_points | E3: Base | F3: =$H$1&H3&", "&I3&"]}" -> {"type": "array", "value_type": "float", "data": [0.759, 1]} | H3: =SUBSTITUTE(model!J5, ",", ".") -> 0.759 | I3: =SUBSTITUTE(model!K5, ",", ".") -> 1
A4: unit__to_node | B4: Båtfors_pwr_plant | C4: electricity_node | D4: operating_points | E4: Base | F4: =$H$1&H4&", "&I4&"]}" -> {"type": "array", "value_type": "float", "data": [0.759, 1]} | H4: =SUBSTITUTE(model!J6, ",", ".") -> 0.759 | I4: =SUBSTITUTE(model!K6, ",", ".") -> 1
A5: unit__to_node | B5: Finnfors_pwr_plant | C5: electricity_node | D5: operating_points | E5: Base | F5: =$H$1&H5&", "&I5&"]}" -> {"type": "array", "value_type": "float", "data": [0.759, 1]} | H5: =SUBSTITUTE(model!J7, ",", ".") -> 0.759 | I5: =SUBSTITUTE(model!K7, ",", ".") -> 1
A6: unit__to_node | B6: Gallejaur_pwr_plant | C6: electricity_node | D6: operating_points | E6: Base | F6: =$H$1&H6&", "&I6&"]}" -> {"type": "array", "value_type": "float", "data": [0.759, 1]} | H6: =SUBSTITUTE(model!J8, ",", ".") -> 0.759 | I6: =SUBSTITUTE(model!K8, ",", ".") -> 1
A7: unit__to_node | B7: Granfors_pwr_plant | C7: electricity_node | D7: operating_points | E7: Base | F7: =$H$1&H7&", "&I7&"]}" -> {"type": "array", "value_type": "float", "data": [0.759, 1]} | H7: =SUBSTITUTE(model!J9, ",", ".") -> 0.759 | I7: =SUBSTITUTE(model!K9, ",", ".") -> 1
A8: unit__to_node | B8: Grytfors_pwr_plant | C8: electricity_node | D8: operating_points | E8: Base | F8: =$H$1&H8&", "&I8&"]}" -> {"type": "array", "value_type": "float", "data": [0.759, 1]} | H8: =SUBSTITUTE(model!J10, ",", ".") -> 0.759 | I8: =SUBSTITUTE(model!K10, ",", ".") -> 1
A9: unit__to_node | B9: Krångfors_pwr_plant | C9: electricity_node | D9: operating_points | E9: Base | F9: =$H$1&H9&", "&I9&"]}" -> {"type": "array", "value_type": "float", "data": [0.759, 1]} | H9: =SUBSTITUTE(model!J11, ",", ".") -> 0.759 | I9: =SUBSTITUTE(model!K11, ",", ".") -> 1
A10: unit__to_node | B10: Kvistforsen_pwr_plant | C10: electricity_node | D10: operating_points | E10: Base | F10: =$H$1&H10&", "&I10&"]}" -> {"type": "array", "value_type": "float", "data": [0.759, 1]} | H10: =SUBSTITUTE(model!J12, ",", ".") -> 0.759 | I10: =SUBSTITUTE(model!K12, ",", ".") -> 1
A11: unit__to_node | B11: Rebnis_pwr_plant | C11: electricity_node | D11: operating_points | E11: Base | F11: =$H$1&H11&", "&I11&"]}" -> {"type": "array", "value_type": "float", "data": [0.759, 1]} | H11: =SUBSTITUTE(model!J13, ",", ".") -> 0.759 | I11: =SUBSTITUTE(model!K13, ",", ".") -> 1
A12: unit__to_node | B12: Rengård_pwr_plant | C12: electricity_node | D12: operating_points | E12: Base | F12: =$H$1&H12&", "&I12&"]}" -> {"type": "array", "value_type": "float", "data": [0.759, 1]} | H12: =SUBSTITUTE(model!J14, ",", ".") -> 0.759 | I12: =SUBSTITUTE(model!K14, ",", ".") -> 1
A13: unit__to_node | B13: Sadva_pwr_plant | C13: electricity_node | D13: operating_points | E13: Base | F13: =$H$1&H13&", "&I13&"]}" -> {"type": "array", "value_type": "float", "data": [0.759, 1]} | H13: =SUBSTITUTE(model!J15, ",", ".") -> 0.759 | I13: =SUBSTITUTE(model!K15, ",", ".") -> 1
... A16: unit__to_node | B16: Vargfors_pwr_plant | C16: electricity_node | D16: operating_points | E16: Base | F16: =$H$1&H16&", "&I16&"]}" -> {"type": "array", "value_type": "float", "data": [0.759, 1]} | H16: =SUBSTITUTE(model!J18, ",", ".") -> 0.759 | I16: =SUBSTITUTE(model!K18, ",", ".") -> 1
A17: unit__from_node | B17: Bastusel_pwr_plant | C17: Bastusel_upper | D17: unit_capacity | E17: Base | F17: =model!C4 -> 170
A18: unit__from_node | B18: Bergnäs_pwr_plant | C18: Bergnäs_upper | D18: unit_capacity | E18: Base | F18: =model!C5 -> 160
A19: unit__from_node | B19: Båtfors_pwr_plant | C19: Båtfors_upper | D19: unit_capacity | E19: Base | F19: =model!C6 -> 280
A20: unit__from_node | B20: Finnfors_pwr_plant | C20: Finnfors_upper | D20: unit_capacity | E20: Base | F20: =model!C7 -> 300
A21: unit__from_node | B21: Gallejaur_pwr_plant | C21: Gallejaur_upper | D21: unit_capacity | E21: Base | F21: =model!C8 -> 310
A22: unit__from_node | B22: Granfors_pwr_plant | C22: Granfors_upper | D22: unit_capacity | E22: Base | F22: =model!C9 -> 240
A23: unit__from_node | B23: Grytfors_pwr_plant | C23: Grytfors_upper | D23: unit_capacity | E23: Base | F23: =model!C10 -> 165
A24: unit__from_node | B24: Krångfors_pwr_plant | C24: Krångfors_upper | D24: unit_capacity | E24: Base | F24: =model!C11 -> 240
A25: unit__from_node | B25: Kvistforsen_pwr_plant | C25: Kvistforsen_upper | D25: unit_capacity | E25: Base | F25: =model!C12 -> 300
A26: unit__from_node | B26: Rebnis_pwr_plant | C26: Rebnis_upper | D26: unit_capacity | E26: Base | F26: =model!C13 -> 80
A27: unit__from_node | B27: Rengård_pwr_plant | C27: Rengård_upper | D27: unit_capacity | E27: Base | F27: =model!C14 -> 220
A28: unit__from_node | B28: Sadva_pwr_plant | C28: Sadva_upper | D28: unit_capacity | E28: Base | F28: =model!C15 -> 70
... A31: unit__from_node | B31: Vargfors_pwr_plant | C31: Vargfors_upper | D31: unit_capacity | E31: Base | F31: =model!C18 -> 320
A32: unit__to_node | B32: Bastusel_pwr_plant | C32: electricity_node | D32: unit_capacity | E32: Base | F32: =model!B4 -> 100
A33: unit__to_node | B33: Bergnäs_pwr_plant | C33: electricity_node | D33: unit_capacity | E33: Base | F33: =model!B5 -> 8
A34: unit__to_node | B34: Båtfors_pwr_plant | C34: electricity_node | D34: unit_capacity | E34: Base | F34: =model!B6 -> 42
A35: unit__to_node | B35: Finnfors_pwr_plant | C35: electricity_node | D35: unit_capacity | E35: Base | F35: =model!B7 -> 54
A36: unit__to_node | B36: Gallejaur_pwr_plant | C36: electricity_node | D36: unit_capacity | E36: Base | F36: =model!B8 -> 214
A37: unit__to_node | B37: Granfors_pwr_plant | C37: electricity_node | D37: unit_capacity | E37: Base | F37: =model!B9 -> 40
A38: unit__to_node | B38: Grytfors_pwr_plant | C38: electricity_node | D38: unit_capacity | E38: Base | F38: =model!B10 -> 31
A39: unit__to_node | B39: Krångfors_pwr_plant | C39: electricity_node | D39: unit_capacity | E39: Base | F39: =model!B11 -> 62
A40: unit__to_node | B40: Kvistforsen_pwr_plant | C40: electricity_node | D40: unit_capacity | E40: Base | F40: =model!B12 -> 130
A41: unit__to_node | B41: Rebnis_pwr_plant | C41: electricity_node | D41: unit_capacity | E41: Base | F41: =model!B13 -> 64
A42: unit__to_node | B42: Rengård_pwr_plant | C42: electricity_node | D42: unit_capacity | E42: Base | F42: =model!B14 -> 36
A43: unit__to_node | B43: Sadva_pwr_plant | C43: electricity_node | D43: unit_capacity | E43: Base | F43: =model!B15 -> 31
... A46: unit__to_node | B46: Vargfors_pwr_plant | C46: electricity_node | D46: unit_capacity | E46: Base | F46: =model!B18 -> 131

Sheet Unit_node_node_parameters
A1: unit__node__node | B1: Bastusel_pwr_plant | C1: Bastusel_lower | D1: Bastusel_upper | E1: fix_ratio_out_in_unit_flow | F1: Base | G1: 1
A2: unit__node__node | B2: Bergnäs_pwr_plant | C2: Bergnäs_lower | D2: Bergnäs_upper | E2: fix_ratio_out_in_unit_flow | F2: Base | G2: 1
A3: unit__node__node | B3: Båtfors_pwr_plant | C3: Båtfors_lower | D3: Båtfors_upper | E3: fix_ratio_out_in_unit_flow | F3: Base | G3: 1
A4: unit__node__node | B4: Finnfors_pwr_plant | C4: Finnfors_lower | D4: Finnfors_upper | E4: fix_ratio_out_in_unit_flow | F4: Base | G4: 1
A5: unit__node__node | B5: Gallejaur_pwr_plant | C5: Gallejaur_lower | D5: Gallejaur_upper | E5: fix_ratio_out_in_unit_flow | F5: Base | G5: 1
A6: unit__node__node | B6: Granfors_pwr_plant | C6: Granfors_lower | D6: Granfors_upper | E6: fix_ratio_out_in_unit_flow | F6: Base | G6: 1
A7: unit__node__node | B7: Grytfors_pwr_plant | C7: Grytfors_lower | D7: Grytfors_upper | E7: fix_ratio_out_in_unit_flow | F7: Base | G7: 1
A8: unit__node__node | B8: Krångfors_pwr_plant | C8: Krångfors_lower | D8: Krångfors_upper | E8: fix_ratio_out_in_unit_flow | F8: Base | G8: 1 | L8: =SUBSTITUTE(model!N10, ",", ".")
A9: unit__node__node | B9: Kvistforsen_pwr_plant | C9: Kvistforsen_lower | D9: Kvistforsen_upper | E9: fix_ratio_out_in_unit_flow | F9: Base | G9: 1
A10: unit__node__node | B10: Rebnis_pwr_plant | C10: Rebnis_lower | D10: Rebnis_upper | E10: fix_ratio_out_in_unit_flow | F10: Base | G10: 1
A11: unit__node__node | B11: Rengård_pwr_plant | C11: Rengård_lower | D11: Rengård_upper | E11: fix_ratio_out_in_unit_flow | F11: Base | G11: 1
A12: unit__node__node | B12: Sadva_pwr_plant | C12: Sadva_lower | D12: Sadva_upper | E12: fix_ratio_out_in_unit_flow | F12: Base | G12: 1
A13: unit__node__node | B13: Selsfors_pwr_plant | C13: Selsfors_lower | D13: Selsfors_upper | E13: fix_ratio_out_in_unit_flow | F13: Base | G13: 1
A14: unit__node__node | B14: Slagnäs_pwr_plant | C14: Slagnäs_lower | D14: Slagnäs_upper | E14: fix_ratio_out_in_unit_flow | F14: Base | G14: 1
A15: unit__node__node | B15: Vargfors_pwr_plant | C15: Vargfors_lower | D15: Vargfors_upper | E15: fix_ratio_out_in_unit_flow | F15: Base | G15: 1 | I15: {"type": "array", "value_type": "float", "data": [
A16: unit__node__node | B16: Bastusel_pwr_plant | C16: Bastusel_upper | D16: electricity_node | E16: unit_incremental_heat_rate | F16: Base | G16: =$I$15&I16&", "&J16&"]}" -> {"type": "array", "value_type": "float", "data": [1.679, 1.767]} | I16: =SUBSTITUTE(model!D4, ",", ".") -> 1.679 | J16: =SUBSTITUTE(model!E4, ",", ".") -> 1.767
A17: unit__node__node | B17: Bergnäs_pwr_plant | C17: Bergnäs_upper | D17: electricity_node | E17: unit_incremental_heat_rate | F17: Base | G17: =$I$15&I17&", "&J17&"]}" -> {"type": "array", "value_type": "float", "data": [19.76, 20.8]} | I17: =SUBSTITUTE(model!D5, ",", ".") -> 19.76 | J17: =SUBSTITUTE(model!E5, ",", ".") -> 20.8
A18: unit__node__node | B18: Båtfors_pwr_plant | C18: Båtfors_upper | D18: electricity_node | E18: unit_incremental_heat_rate | F18: Base | G18: =$I$15&I18&", "&J18&"]}" -> {"type": "array", "value_type": "float", "data": [6.583, 6.93]} | I18: =SUBSTITUTE(model!D6, ",", ".") -> 6.583 | J18: =SUBSTITUTE(model!E6, ",", ".") -> 6.93
A19: unit__node__node | B19: Finnfors_pwr_plant | C19: Finnfors_upper | D19: electricity_node | E19: unit_incremental_heat_rate | F19: Base | G19: =$I$15&I19&", "&J19&"]}" -> {"type": "array", "value_type": "float", "data": [5.486, 5.774]} | I19: =SUBSTITUTE(model!D7, ",", ".") -> 5.486 | J19: =SUBSTITUTE(model!E7, ",", ".") -> 5.774
A20: unit__node__node | B20: Gallejaur_pwr_plant | C20: Gallejaur_upper | D20: electricity_node | E20: unit_incremental_heat_rate | F20: Base | G20: =$I$15&I20&", "&J20&"]}" -> {"type": "array", "value_type": "float", "data": [1.43, 1.506]} | I20: =SUBSTITUTE(model!D8, ",", ".") -> 1.43 | J20: =SUBSTITUTE(model!E8, ",", ".") -> 1.506
A21: unit__node__node | B21: Granfors_pwr_plant | C21: Granfors_upper | D21: electricity_node | E21: unit_incremental_heat_rate | F21: Base | G21: =$I$15&I21&", "&J21&"]}" -> {"type": "array", "value_type": "float", "data": [5.924, 6.236]} | I21: =SUBSTITUTE(model!D9, ",", ".") -> 5.924 | J21: =SUBSTITUTE(model!E9, ",", ".") -> 6.236
A22: unit__node__node | B22: Grytfors_pwr_plant | C22: Grytfors_upper | D22: electricity_node | E22: unit_incremental_heat_rate | F22: Base | G22: =$I$15&I22&", "&J22&"]}" -> {"type": "array", "value_type": "float", "data": [5.255, 5.531]} | I22: =SUBSTITUTE(model!D10, ",", ".") -> 5.255 | J22: =SUBSTITUTE(model!E10, ",", ".") -> 5.531
A23: unit__node__node | B23: Krångfors_pwr_plant | C23: Krångfors_upper | D23: electricity_node | E23: unit_incremental_heat_rate | F23: Base | G23: =$I$15&I23&", "&J23&"]}" -> {"type": "array", "value_type": "float", "data": [3.823, 4.024]} | I23: =SUBSTITUTE(model!D11, ",", ".") -> 3.823 | J23: =SUBSTITUTE(model!E11, ",", ".") -> 4.024
A24: unit__node__node | B24: Kvistforsen_pwr_plant | C24: Kvistforsen_upper | D24: electricity_node | E24: unit_incremental_heat_rate | F24: Base | G24: =$I$15&I24&", "&J24&"]}" -> {"type": "array", "value_type": "float", "data": [2.279, 2.399]} | I24: =SUBSTITUTE(model!D12, ",", ".") -> 2.279 | J24: =SUBSTITUTE(model!E12, ",", ".") -> 2.399
A25: unit__node__node | B25: Rebnis_pwr_plant | C25: Rebnis_upper | D25: electricity_node | E25: unit_incremental_heat_rate | F25: Base | G25: =$I$15&I25&", "&J25&"]}" -> {"type": "array", "value_type": "float", "data": [1.234, 1.299]} | I25: =SUBSTITUTE(model!D13, ",", ".") -> 1.234 | J25: =SUBSTITUTE(model!E13, ",", ".") -> 1.299
A26: unit__node__node | B26: Rengård_pwr_plant | C26: Rengård_upper | D26: electricity_node | E26: unit_incremental_heat_rate | F26: Base | G26: =$I$15&I26&", "&J26&"]}" -> {"type": "array", "value_type": "float", "data": [6.035, 6.353]} | I26: =SUBSTITUTE(model!D14, ",", ".") -> 6.035 | J26: =SUBSTITUTE(model!E14, ",", ".") -> 6.353
A27: unit__node__node | B27: Sadva_pwr_plant | C27: Sadva_upper | D27: electricity_node | E27: unit_incremental_heat_rate | F27: Base | G27: =$I$15&I27&", "&J27&"]}" -> {"type": "array", "value_type": "float", "data": [2.23, 2.347]} | I27: =SUBSTITUTE(model!D15, ",", ".") -> 2.23 | J27: =SUBSTITUTE(model!E15, ",", ".") -> 2.347
... A30: unit__node__node | B30: Vargfors_pwr_plant | C30: Vargfors_upper | D30: electricity_node | E30: unit_incremental_heat_rate | F30: Base | G30: =$I$15&I30&", "&J30&"]}" -> {"type": "array", "value_type": "float", "data": [2.412, 2.539]} | I30: =SUBSTITUTE(model!D18, ",", ".") -> 2.412 | J30: =SUBSTITUTE(model!E18, ",", ".") -> 2.539

Sheet Nodes
A1: node | B1: commodity | C1: node__commodity
A2: Bastusel_upper | B2: water
A3: Bergnäs_upper | B3: water
A4: Båtfors_upper | B4: water
A5: Finnfors_upper | B5: water
A6: Gallejaur_upper | B6: water
A7: Granfors_upper | B7: water
A8: Grytfors_upper | B8: water
A9: Krångfors_upper | B9: water
A10: Kvistforsen_upper | B10: water
A11: Rebnis_upper | B11: water
A12: Rengård_upper | B12: water
A13: Sadva_upper | B13: water
... A32: electricity_node | B32: electricity

Sheet node_parameter_values
A1: node | B1: Bastusel_upper | C1: demand | D1: Base | E1: =model!I4 * (-1) -> -0.25797685 | F1: fix_node_state | G1: =$R$1&$Q$1&$S$1&N1&$T$1&$Q$2&$U$1&$Q$3&$V$1&O1&$W$1 -> {"type": "time_series", "data": {"2019-01-01T00:00:00": 5581.44, "2019-01-01T01:00:00": NaN, "2019-01-07T23:00:00": 5417.28}} | H1: has_state | I1: True | J1: node_state_cap | K1: =model!H4 -> 8208 | L1: state_coeff | M1: 1 | N1: =SUBSTITUTE(model!F4, ",", ".") -> 5581.44 | O1: =SUBSTITUTE(model!G4, ",", ".") -> 5417.28 | Q1: =model!M2 -> 2019-01-01T00:00:00 | R1: {"type": "time_series", "data": {" | S1: ": | T1: , " | U1: ": NaN, " | V1: ": | W1: }}
A2: node | B2: Bergnäs_upper | C2: demand | D2: Base | E2: =model!I5 * (-1) -> -22.29 | F2: fix_node_state | G2: =$R$1&$Q$1&$S$1&N2&$T$1&$Q$2&$U$1&$Q$3&$V$1&O2&$W$1 -> {"type": "time_series", "data": {"2019-01-01T00:00:00": 114543.6, "2019-01-01T01:00:00": NaN, "2019-01-07T23:00:00": 105898.8}} | H2: has_state | I2: True | J2: node_state_cap | K2: =model!H5 -> 216120 | L2: state_coeff | M2: 1 | N2: =SUBSTITUTE(model!F5, ",", ".") -> 114543.6 | O2: =SUBSTITUTE(model!G5, ",", ".") -> 105898.8 | Q2: =model!Q3 -> 2019-01-01T01:00:00
A3: node | B3: Båtfors_upper | C3: demand | D3: Base | E3: =model!I6 * (-1) -> -2 | F3: fix_node_state | G3: =$R$1&$Q$1&$S$1&N3&$T$1&$Q$2&$U$1&$Q$3&$V$1&O3&$W$1 -> {"type": "time_series", "data": {"2019-01-01T00:00:00": 1117.2, "2019-01-01T01:00:00": NaN, "2019-01-07T23:00:00": 891.1}} | H3: has_state | I3: True | J3: node_state_cap | K3: =model!H6 -> 1330 | L3: state_coeff | M3: 1 | N3: =SUBSTITUTE(model!F6, ",", ".") -> 1117.2 | O3: =SUBSTITUTE(model!G6, ",", ".") -> 891.1 | Q3: {=INDEX(model!Q:Q, COUNTA(model!Q:Q))} -> 2019-01-07T23:00:00
A4: node | B4: Finnfors_upper | C4: demand | D4: Base | E4: =model!I7 * (-1) -> 0 | F4: fix_node_state | G4: =$R$1&$Q$1&$S$1&N4&$T$1&$Q$2&$U$1&$Q$3&$V$1&O4&$W$1 -> {"type": "time_series", "data": {"2019-01-01T00:00:00": 234, "2019-01-01T01:00:00": NaN, "2019-01-07T23:00:00": 234}} | H4: has_state | I4: True | J4: node_state_cap | K4: =model!H7 -> 300 | L4: state_coeff | M4: 1 | N4: =SUBSTITUTE(model!F7, ",", ".") -> 234 | O4: =SUBSTITUTE(model!G7, ",", ".") -> 234
A5: node | B5: Gallejaur_upper | C5: demand | D5: Base | E5: =model!I8 * (-1) -> -15.356963 | F5: fix_node_state | G5: =$R$1&$Q$1&$S$1&N5&$T$1&$Q$2&$U$1&$Q$3&$V$1&O5&$W$1 -> {"type": "time_series", "data": {"2019-01-01T00:00:00": 1224, "2019-01-01T01:00:00": NaN, "2019-01-07T23:00:00": 2808}} | H5: has_state | I5: True | J5: node_state_cap | K5: =model!H8 -> 3600 | L5: state_coeff | M5: 1 | N5: =SUBSTITUTE(model!F8, ",", ".") -> 1224 | O5: =SUBSTITUTE(model!G8, ",", ".") -> 2808
A6: node | B6: Granfors_upper | C6: demand | D6: Base | E6: =model!I9 * (-1) -> 0 | F6: fix_node_state | G6: =$R$1&$Q$1&$S$1&N6&$T$1&$Q$2&$U$1&$Q$3&$V$1&O6&$W$1 -> {"type": "time_series", "data": {"2019-01-01T00:00:00": 232.4, "2019-01-01T01:00:00": NaN, "2019-01-07T23:00:00": 212.8}} | H6: has_state | I6: True | J6: node_state_cap | K6: =model!H9 -> 280 | L6: state_coeff | M6: 1 | N6: =SUBSTITUTE(model!F9, ",", ".") -> 232.4 | O6: =SUBSTITUTE(model!G9, ",", ".") -> 212.8
A7: node | B7: Grytfors_upper | C7: demand | D7: Base | E7: =model!I10 * (-1) -> -3.78 | F7: fix_node_state | G7: =$R$1&$Q$1&$S$1&N7&$T$1&$Q$2&$U$1&$Q$3&$V$1&O7&$W$1 -> {"type": "time_series", "data": {"2019-01-01T00:00:00": 1060.8, "2019-01-01T01:00:00": NaN, "2019-01-07T23:00:00": 1110.72}} | H7: has_state | I7: True | J7: node_state_cap | K7: =model!H10 -> 1248 | L7: state_coeff | M7: 1 | N7: =SUBSTITUTE(model!F10, ",", ".") -> 1060.8 | O7: =SUBSTITUTE(model!G10, ",", ".") -> 1110.72
A8: node | B8: Krångfors_upper | C8: demand | D8: Base | E8: =model!I11 * (-1) -> 0 | F8: fix_node_state | G8: =$R$1&$Q$1&$S$1&N8&$T$1&$Q$2&$U$1&$Q$3&$V$1&O8&$W$1 -> {"type": "time_series", "data": {"2019-01-01T00:00:00": 201.3, "2019-01-01T01:00:00": NaN, "2019-01-07T23:00:00": 207.9}} | H8: has_state | I8: True | J8: node_state_cap | K8: =model!H11 -> 330 | L8: state_coeff | M8: 1 | N8: =SUBSTITUTE(model!F11, ",", ".") -> 201.3 | O8: =SUBSTITUTE(model!G11, ",", ".") -> 207.9
A9: node | B9: Kvistforsen_upper | C9: demand | D9: Base | E9: =model!I12 * (-1) -> -1.327381 | F9: fix_node_state | G9: =$R$1&$Q$1&$S$1&N9&$T$1&$Q$2&$U$1&$Q$3&$V$1&O9&$W$1 -> {"type": "time_series", "data": {"2019-01-01T00:00:00": 769.066666704, "2019-01-01T01:00:00": NaN, "2019-01-07T23:00:00": 560}} | H9: has_state | I9: True | J9: node_state_cap | K9: =model!H12 -> 1120 | L9: state_coeff | M9: 1 | N9: =SUBSTITUTE(model!F12, ",", ".") -> 769.066666704 | O9: =SUBSTITUTE(model!G12, ",", ".") -> 560
A10: node | B10: Rebnis_upper | C10: demand | D10: Base | E10: =model!I13 * (-1) -> -3.68 | F10: fix_node_state | G10: =$R$1&$Q$1&$S$1&N10&$T$1&$Q$2&$U$1&$Q$3&$V$1&O10&$W$1 -> {"type": "time_series", "data": {"2019-01-01T00:00:00": 70243.509200184, "2019-01-01T01:00:00": NaN, "2019-01-07T23:00:00": 59524.122689676}} | H10: has_state | I10: True | J10: node_state_cap | K10: =model!H13 -> 205560 | L10: state_coeff | M10: 1 | N10: =SUBSTITUTE(model!F13, ",", ".") -> 70243.509200184 | O10: =SUBSTITUTE(model!G13, ",", ".") -> 59524.122689676
A11: node | B11: Rengård_upper | C11: demand | D11: Base | E11: =model!I14 * (-1) -> -10.37 | F11: fix_node_state | G11: =$R$1&$Q$1&$S$1&N11&$T$1&$Q$2&$U$1&$Q$3&$V$1&O11&$W$1 -> {"type": "time_series", "data": {"2019-01-01T00:00:00": 1022, "2019-01-01T01:00:00": NaN, "2019-01-07T23:00:00": 770}} | H11: has_state | I11: True | J11: node_state_cap | K11: =model!H14 -> 1400 | L11: state_coeff | M11: 1 | N11: =SUBSTITUTE(model!F14, ",", ".") -> 1022 | O11: =SUBSTITUTE(model!G14, ",", ".") -> 770
A12: node | B12: Sadva_upper | C12: demand | D12: Base | E12: =model!I15 * (-1) -> -5.43 | F12: fix_node_state | G12: =$R$1&$Q$1&$S$1&N12&$T$1&$Q$2&$U$1&$Q$3&$V$1&O12&$W$1 -> {"type": "time_series", "data": {"2019-01-01T00:00:00": 99057.7777728, "2019-01-01T01:00:00": NaN, "2019-01-07T23:00:00": 93831.111108}} | H12: has_state | I12: True | J12: node_state_cap | K12: =model!H15 -> 168000 | L12: state_coeff | M12: 1 | N12: =SUBSTITUTE(model!F15, ",", ".") -> 99057.7777728 | O12: =SUBSTITUTE(model!G15, ",", ".") -> 93831.111108
A13: node | B13: Selsfors_upper | C13: demand | D13: Base | E13: =model!I16 * (-1) -> 0 | F13: fix_node_state | G13: =$R$1&$Q$1&$S$1&N13&$T$1&$Q$2&$U$1&$Q$3&$V$1&O13&$W$1 -> {"type": "time_series", "data": {"2019-01-01T00:00:00": 40, "2019-01-01T01:00:00": NaN, "2019-01-07T23:00:00": 200}} | H13: has_state | I13: True | J13: node_state_cap | K13: =model!H16 -> 500 | L13: state_coeff | M13: 1 | N13: =SUBSTITUTE(model!F16, ",", ".") -> 40 | O13: =SUBSTITUTE(model!G16, ",", ".") -> 200
A14: node | B14: Slagnäs_upper | C14: demand | D14: Base | E14: =model!I17 * (-1) -> 0 | F14: fix_node_state | G14: =$R$1&$Q$1&$S$1&N14&$T$1&$Q$2&$U$1&$Q$3&$V$1&O14&$W$1 -> {"type": "time_series", "data": {"2019-01-01T00:00:00": 384, "2019-01-01T01:00:00": NaN, "2019-01-07T23:00:00": 537.6}} | H14: has_state | I14: True | J14: node_state_cap | K14: =model!H17 -> 768 | L14: state_coeff | M14: 1 | N14: =SUBSTITUTE(model!F17, ",", ".") -> 384 | O14: =SUBSTITUTE(model!G17, ",", ".") -> 537.6
A15: node | B15: Vargfors_upper | C15: demand | D15: Base | E15: =model!I18 * (-1) -> -3.5584954 | F15: fix_node_state | G15: =$R$1&$Q$1&$S$1&N15&$T$1&$Q$2&$U$1&$Q$3&$V$1&O15&$W$1 -> {"type": "time_series", "data": {"2019-01-01T00:00:00": 3386.76, "2019-01-01T01:00:00": NaN, "2019-01-07T23:00:00": 3847.68}} | H15: has_state | I15: True | J15: node_state_cap | K15: =model!H18 -> 4008 | L15: state_coeff | M15: 1 | N15: =SUBSTITUTE(model!F18, ",", ".") -> 3386.76 | O15: =SUBSTITUTE(model!G18, ",", ".") -> 3847.68

Sheet Connections
A1: connection | B1: node | C1: connection__to_node
A2: Bergnäs_to_Slagnäs_disch | B2: Slagnäs_upper | C2: Kvistforsen_to_downstream_disch
A3: Rebnis_to_Bergnäs_spill | B3: Bergnäs_upper | C3: Kvistforsen_to_downstream_spill
A4: Grytfors_to_Gallejaur_disch | B4: Gallejaur_upper
A5: Vargfors_to_Rengård_spill | B5: Rengård_upper
A6: Finnfors_to_Granfors_spill | B6: Granfors_upper
A7: Sadva_to_Bergnäs_disch | B7: Bergnäs_upper
A8: Granfors_to_Krångfors_disch | B8: Krångfors_upper
A9: Rengård_to_Båtfors_disch | B9: Båtfors_upper
A10: Sadva_to_Bergnäs_spill | B10: Bergnäs_upper
A11: Finnfors_to_Granfors_disch | B11: Granfors_upper
A12: Bastusel_to_Grytfors_spill | B12: Grytfors_upper
A13: Gallejaur_to_Vargfors_spill | B13: Vargfors_upper
A14: Gallejaur_to_Vargfors_disch | B14: Vargfors_upper
A15: Bergnäs_to_Slagnäs_spill | B15: Slagnäs_upper
... A29: Båtfors_to_Finnfors_disch | B29: Finnfors_upper

Sheet Connection_parameters_from
A1: connection__from_node | B1: Bastusel_to_Grytfors_disch | C1: Bastusel_lower | D1: fix_connection_flow | E1: Base | F1: {"type": "time_series", "index": {"start": "2018-12-31 22:00:00", "resolution": "1h", "ignore_year": false, "repeat": false}, "data": [110.7, 110.7]}
A2: connection__from_node | B2: Bastusel_to_Grytfors_spill | C2: Bastusel_upper | D2: fix_connection_flow | E2: Base | F2: {"type": "time_series", "index": {"start": "2018-12-30 00:00:00", "resolution": "2D", "ignore_year": false, "repeat": false}, "data": [0.0, 0.0]}
A3: connection__from_node | B3: Bergnäs_to_Slagnäs_disch | C3: Bergnäs_lower | D3: fix_connection_flow | E3: Base | F3: {"type": "time_series", "index": {"start": "2018-12-31 22:00:00", "resolution": "1h", "ignore_year": false, "repeat": false}, "data": [105.0, 105.0]}
A4: connection__from_node | B4: Bergnäs_to_Slagnäs_spill | C4: Bergnäs_upper | D4: fix_connection_flow | E4: Base | F4: {"type": "time_series", "index": {"start": "2018-12-30 00:00:00", "resolution": "2D", "ignore_year": false, "repeat": false}, "data": [0.0, 0.0]}
A5: connection__from_node | B5: Båtfors_to_Finnfors_disch | C5: Båtfors_lower | D5: fix_connection_flow | E5: Base | F5: {"type": "time_series", "index": {"start": "2018-12-31 20:00:00", "resolution": "3h", "ignore_year": false, "repeat": false}, "data": [150.2, 150.2]}
A6: connection__from_node | B6: Båtfors_to_Finnfors_spill | C6: Båtfors_upper | D6: fix_connection_flow | E6: Base | F6: {"type": "time_series", "index": {"start": "2018-12-30 00:00:00", "resolution": "2D", "ignore_year": false, "repeat": false}, "data": [0.0, 0.0]}
A7: connection__from_node | B7: Finnfors_to_Granfors_disch | C7: Finnfors_lower | D7: fix_connection_flow | E7: Base | F7: {"type": "time_series", "index": {"start": "2018-12-31 20:00:00", "resolution": "3h", "ignore_year": false, "repeat": false}, "data": [155.3, 155.3]}
A8: connection__from_node | B8: Finnfors_to_Granfors_spill | C8: Finnfors_upper | D8: fix_connection_flow | E8: Base | F8: {"type": "time_series", "index": {"start": "2018-12-30 00:00:00", "resolution": "2D", "ignore_year": false, "repeat": false}, "data": [0.0, 0.0]}
A9: connection__from_node | B9: Gallejaur_to_Vargfors_disch | C9: Gallejaur_lower | D9: fix_connection_flow | E9: Base | F9: {"type": "time_series", "index": {"start": "2018-12-31 23:00:00", "resolution": "30m", "ignore_year": false, "repeat": false}, "data": [118.2, 118.2]}
A10: connection__from_node | B10: Gallejaur_to_Vargfors_spill | C10: Gallejaur_upper | D10: fix_connection_flow | E10: Base | F10: {"type": "time_series", "index": {"start": "2018-12-30 00:00:00", "resolution": "2D", "ignore_year": false, "repeat": false}, "data": [0.0, 0.0]}
A11: connection__from_node | B11: Granfors_to_Krångfors_disch | C11: Granfors_lower | D11: fix_connection_flow | E11: Base | F11: {"type": "time_series", "index": {"start": "2018-12-31 20:00:00", "resolution": "3h", "ignore_year": false, "repeat": false}, "data": [155.6, 155.6]}
A12: connection__from_node | B12: Granfors_to_Krångfors_spill | C12: Granfors_upper | D12: fix_connection_flow | E12: Base | F12: {"type": "time_series", "index": {"start": "2018-12-30 00:00:00", "resolution": "2D", "ignore_year": false, "repeat": false}, "data": [0.0, 0.0]}
... A30: connection__from_node | B30: Vargfors_to_Rengård_spill | C30: Vargfors_upper | D30: fix_connection_flow | E30: Base | F30: {"type": "time_series", "index": {"start": "2018-12-30 00:00:00", "resolution": "2D", "ignore_year": false, "repeat": false}, "data": [0.0, 0.0]}

Sheet Connection_parameters
A1: connection__node__node | B1: Bastusel_to_Grytfors_disch | C1: Grytfors_upper | D1: Bastusel_lower | E1: connection_flow_delay | F1: Base | G1: {"type": "duration", "data": "1h"}
A2: connection__node__node | B2: Bastusel_to_Grytfors_spill | C2: Grytfors_upper | D2: Bastusel_upper | E2: connection_flow_delay | F2: Base | G2: {"type": "duration", "data": "150m"}
A3: connection__node__node | B3: Bergnäs_to_Slagnäs_disch | C3: Slagnäs_upper | D3: Bergnäs_lower | E3: connection_flow_delay | F3: Base | G3: {"type": "duration", "data": "1h"}
A4: connection__node__node | B4: Bergnäs_to_Slagnäs_spill | C4: Slagnäs_upper | D4: Bergnäs_upper | E4: connection_flow_delay | F4: Base | G4: {"type": "duration", "data": "1h"}
A5: connection__node__node | B5: Båtfors_to_Finnfors_disch | C5: Finnfors_upper | D5: Båtfors_lower | E5: connection_flow_delay | F5: Base | G5: {"type": "duration", "data": "3h"}
A6: connection__node__node | B6: Båtfors_to_Finnfors_spill | C6: Finnfors_upper | D6: Båtfors_upper | E6: connection_flow_delay | F6: Base | G6: {"type": "duration", "data": "3h"}
A7: connection__node__node | B7: Finnfors_to_Granfors_disch | C7: Granfors_upper | D7: Finnfors_lower | E7: connection_flow_delay | F7: Base | G7: {"type": "duration", "data": "3h"}
A8: connection__node__node | B8: Finnfors_to_Granfors_spill | C8: Granfors_upper | D8: Finnfors_upper | E8: connection_flow_delay | F8: Base | G8: {"type": "duration", "data": "3h"}
A9: connection__node__node | B9: Gallejaur_to_Vargfors_disch | C9: Vargfors_upper | D9: Gallejaur_lower | E9: connection_flow_delay | F9: Base | G9: {"type": "duration", "data": "30m"}
A10: connection__node__node | B10: Gallejaur_to_Vargfors_spill | C10: Vargfors_upper | D10: Gallejaur_upper | E10: connection_flow_delay | F10: Base | G10: {"type": "duration", "data": "150m"}
A11: connection__node__node | B11: Granfors_to_Krångfors_disch | C11: Krångfors_upper | D11: Granfors_lower | E11: connection_flow_delay | F11: Base | G11: {"type": "duration", "data": "3h"}
A12: connection__node__node | B12: Granfors_to_Krångfors_spill | C12: Krångfors_upper | D12: Granfors_upper | E12: connection_flow_delay | F12: Base | G12: {"type": "duration", "data": "3h"}
... A28: connection__node__node | B28: Vargfors_to_Rengård_spill | C28: Rengård_upper | D28: Vargfors_upper | E28: connection_flow_delay | F28: Base | G28: {"type": "duration", "data": "3h"}
A29: connection__node__node | B29: Bastusel_to_Grytfors_disch | C29: Grytfors_upper | D29: Bastusel_lower | E29: fix_ratio_out_in_connection_flow | F29: Base | G29: 1
A30: connection__node__node | B30: Bastusel_to_Grytfors_spill | C30: Grytfors_upper | D30: Bastusel_upper | E30: fix_ratio_out_in_connection_flow | F30: Base | G30: 1
A31: connection__node__node | B31: Bergnäs_to_Slagnäs_disch | C31: Slagnäs_upper | D31: Bergnäs_lower | E31: fix_ratio_out_in_connection_flow | F31: Base | G31: 1
A32: connection__node__node | B32: Bergnäs_to_Slagnäs_spill | C32: Slagnäs_upper | D32: Bergnäs_upper | E32: fix_ratio_out_in_connection_flow | F32: Base | G32: 1
A33: connection__node__node | B33: Båtfors_to_Finnfors_disch | C33: Finnfors_upper | D33: Båtfors_lower | E33: fix_ratio_out_in_connection_flow | F33: Base | G33: 1
A34: connection__node__node | B34: Båtfors_to_Finnfors_spill | C34: Finnfors_upper | D34: Båtfors_upper | E34: fix_ratio_out_in_connection_flow | F34: Base | G34: 1
A35: connection__node__node | B35: Finnfors_to_Granfors_disch | C35: Granfors_upper | D35: Finnfors_lower | E35: fix_ratio_out_in_connection_flow | F35: Base | G35: 1
A36: connection__node__node | B36: Finnfors_to_Granfors_spill | C36: Granfors_upper | D36: Finnfors_upper | E36: fix_ratio_out_in_connection_flow | F36: Base | G36: 1
A37: connection__node__node | B37: Gallejaur_to_Vargfors_disch | C37: Vargfors_upper | D37: Gallejaur_lower | E37: fix_ratio_out_in_connection_flow | F37: Base | G37: 1
A38: connection__node__node | B38: Gallejaur_to_Vargfors_spill | C38: Vargfors_upper | D38: Gallejaur_upper | E38: fix_ratio_out_in_connection_flow | F38: Base | G38: 1
A39: connection__node__node | B39: Granfors_to_Krångfors_disch | C39: Krångfors_upper | D39: Granfors_lower | E39: fix_ratio_out_in_connection_flow | F39: Base | G39: 1
A40: connection__node__node | B40: Granfors_to_Krångfors_spill | C40: Krångfors_upper | D40: Granfors_upper | E40: fix_ratio_out_in_connection_flow | F40: Base | G40: 1
... A56: connection__node__node | B56: Vargfors_to_Rengård_spill | C56: Rengård_upper | D56: Vargfors_upper | E56: fix_ratio_out_in_connection_flow | F56: Base | G56: 1

Sheet Model_parameters
A1: Relationship class names | B1: Object class names 1 | C1: Object class names 2 | D1: Object names 1 | E1: Object names 2 | K1: report | L1: output_name | M1: report__output
A2: model__default_stochastic_structure | B2: model | C2: stochastic_structure | D2: instance | E2: deterministic | F2: model | G2: instance | H2: duration_unit | I2: Base | J2: hour | K2: my_report | L2: node_state
A3: model__default_temporal_block | B3: model | C3: temporal_block | D3: instance | E3: some_week | F3: model | G3: instance | H3: model_end | I3: Base | J3: =N3&model!N2&Model_parameters!O3 -> {"type": "date_time", "data": "2019-01-08T00:00:00"} | K3: my_report | L3: unit_flow | N3: {"type": "date_time", "data": " | O3: "}
A4: model__report | B4: model | C4: report | D4: instance | E4: my_report | F4: model | G4: instance | H4: model_start | I4: Base | J4: =N3&model!M2&Model_parameters!O3 -> {"type": "date_time", "data": "2019-01-01T00:00:00"} | K4: my_report | L4: connection_flow
A5: stochastic_structure__stochastic_scenario | B5: stochastic_structure | C5: stochastic_scenario | D5: deterministic | E5: realization

Sheet Resolution
A1: temporal_block | B1: some_week | C1: resolution | D1: Base | E1: =G2&model!O2&H2 -> {"type": "duration", "data": "1h"}
G2: {"type": "duration", "data": " | H2: "}
