Workbook

Sheet Overview
E1: Model My Watershed BMP Spreadsheet Tool
E2: Load Reductions from BMP Implementation in Urban and Rural Areas
B4: Version: | C4: 2022-07-05 at 1:30am ET
B6: Developed by: | C6: Barry Evans, Drexel University & Penn State University
C7: Anthony Aufdenkampe, LimnoTech
C8: Mike Hickman, Center for Watershed Protection
C9: Reid Christianson, Center for Watershed Protection & University of Illinois
B11: Repository & Archives: | C11: https://github.com/WikiWatershed/MMW-BMP-spreadsheet-tool
B12: Latest Version: | C12: https://raw.githubusercontent.com/WikiWatershed/MMW-BMP-spreadsheet-tool/master/MMW_BMP_Spreadsheet_Tool.xlsx.
B13: User Manual: | C13: https://raw.githubusercontent.com/WikiWatershed/MMW-BMP-spreadsheet-tool/master/docs/MMW_BMP_Spreadsheet_Tool_UserManual.docx
A15: OVERVIEW:
A16: This tool provides the ability to use results from a Model My Watershed "multi-year" model run for the purpose of estimating loading rates for different "source areas", and then subsequently calculating potential load reductions that might result from the implementation of both urban and agricultural BMPs in a given watershed.
A17: The tool is based on the concept of "composite" loading rates whereby both "upland" and "streambank-eroded" loads are combined to facilitate the estimation of load reductions based on the use of various BMPs as applied to different developed land and agricultural land categories.
A19: THIS TOOL INCLUDES:
A20: Section 2 (Loading Rate Look-Up Tables) contains the Look-Up Tables for different sources that incorporate Land Use (upland source), Stream Bank (erosion) and Farm Animal Loads. The "Total" (pollutant) Loading Rate values in these Tables are used to calculate Baseline and Existing loads as well as "future" loads from proposed urban and agricultural BMP load reductions.
A21: * In the MMW model run, Stream Bank and Farm Animal loads are modeled as separate sources/outputs, and therefore must be apportioned into the land use loads. This calculation has been completed herein and the results are summarized on the Look-up Table. Stream Bank loads are mostly attributable to developed lands. Farm Animal loads are attributed to Cropland and Hay/Pasture land uses.
A22: * The Look-Up Tables also show loads calculated by the MMW model from septic, groundwater and point sources. However, per PA DEP guidance, these loads are NOT included in the land use loading rates presented in the Table. These loads are not loads that enter the MS4 and therefore these loads are not a pollutant load that is required to be addressed in the MS4 program. Please note, when comparing the nitrogen and phosphorus loading rates to other literature values for a watershed, the rates in this workbook may appear lower by land use for nutrients because of these adjustments. However, since groundwater loads of nitrogen and phosphorus are generally attributed to long-term agricultural practices, load reductions for this source can be simulated using the "Nutrient Management" option found in the "Agricultural BMPs" tab.
A23: Section 3 (MMW Output) contains results from the MMW output file that are used for calculations throughout this workbook.
A24: Sections 4 to 7 Contain supporting documentation that show how the calculations were performed to arrive at the values for the watershed that were presented in the Look-up Table in Section 2.
B26: Tabs that require or allow user input
B27: These tabs contain calculated values or provide descriptive information. No user input is required.
B28: Final results tab.
A30: Detailed Instructions are provided in a user manual that can be obtained at the following link: | I30: https://raw.githubusercontent.com/WikiWatershed/MMW-BMP-spreadsheet-tool/master/docs/MMW_BMP_Spreadsheet_Tool_UserManual.docx
A32: LIMITATIONS:
A33: This Excel workbook tool was originally developed for use by municipalities that have MS4 discharges and load reduction responsibilities in Pennsylvania. This tool calculates land use pollutant loading rates for TSS, TN and TP using calculations, methodology, assumptions, and data based on, and consistent with, the MapShed model used in PA, and is also consistent with PADEP’s 2017 TMDL and PRP instructions for MS4s. Now that the modeling routines in MapShed have been incorporated into Model My Watershed, this tool can also utilize output from a MMW run for a given watershed. Similarly, it can be used in other geographic areas where similar load reduction estimates have to be made.

Sheet TechDocs
A1: Impervious Fraction LUT
B2: The percent impervious surface estimates for different types of developed land are based on those used in the original MapShed modelling application, and it is recommended that they not be changed when using this tool. However, they can be overridden using the look-up table provided below.
B4: Source | C4: MapShed default Impervious (fraction) | D4: Manual Entry Impervious (fraction) | E4: Impervious (fraction) to use
B5: Source | C5: impervFraction_defaultMapShed | D5: impervFraction_manualEntry | E5: impervFraction_toUse
B6: Hay/Past | E6: =IF(ISNUMBER(Impervious[[#This Row],[impervFraction_manualEntry]]),Impervious[[#This Row],[impervFraction_manualEntry]],Impervious[[#This Row],[impervFraction_defaultMapShed]]) -> 0
B7: Cropland | E7: =IF(ISNUMBER(Impervious[[#This Row],[impervFraction_manualEntry]]),Impervious[[#This Row],[impervFraction_manualEntry]],Impervious[[#This Row],[impervFraction_defaultMapShed]]) -> 0
B8: Forest | E8: =IF(ISNUMBER(Impervious[[#This Row],[impervFraction_manualEntry]]),Impervious[[#This Row],[impervFraction_manualEntry]],Impervious[[#This Row],[impervFraction_defaultMapShed]]) -> 0
B9: Wetland | E9: =IF(ISNUMBER(Impervious[[#This Row],[impervFraction_manualEntry]]),Impervious[[#This Row],[impervFraction_manualEntry]],Impervious[[#This Row],[impervFraction_defaultMapShed]]) -> 0
B10: Disturbed | E10: =IF(ISNUMBER(Impervious[[#This Row],[impervFraction_manualEntry]]),Impervious[[#This Row],[impervFraction_manualEntry]],Impervious[[#This Row],[impervFraction_defaultMapShed]]) -> 0
B11: Turfgrass | E11: =IF(ISNUMBER(Impervious[[#This Row],[impervFraction_manualEntry]]),Impervious[[#This Row],[impervFraction_manualEntry]],Impervious[[#This Row],[impervFraction_defaultMapShed]]) -> 0
B12: Open_Land | E12: =IF(ISNUMBER(Impervious[[#This Row],[impervFraction_manualEntry]]),Impervious[[#This Row],[impervFraction_manualEntry]],Impervious[[#This Row],[impervFraction_defaultMapShed]]) -> 0
B13: Bare_Rock | E13: =IF(ISNUMBER(Impervious[[#This Row],[impervFraction_manualEntry]]),Impervious[[#This Row],[impervFraction_manualEntry]],Impervious[[#This Row],[impervFraction_defaultMapShed]]) -> 0
B14: Sandy_Areas | E14: =IF(ISNUMBER(Impervious[[#This Row],[impervFraction_manualEntry]]),Impervious[[#This Row],[impervFraction_manualEntry]],Impervious[[#This Row],[impervFraction_defaultMapShed]]) -> 0
B15: Unpaved_Road | E15: =IF(ISNUMBER(Impervious[[#This Row],[impervFraction_manualEntry]]),Impervious[[#This Row],[impervFraction_manualEntry]],Impervious[[#This Row],[impervFraction_defaultMapShed]]) -> 0
B16: Ld_Mixed | C16: 0.15 | E16: =IF(ISNUMBER(Impervious[[#This Row],[impervFraction_manualEntry]]),Impervious[[#This Row],[impervFraction_manualEntry]],Impervious[[#This Row],[impervFraction_defaultMapShed]]) -> 0.15
B17: Md_Mixed | C17: 0.52 | E17: =IF(ISNUMBER(Impervious[[#This Row],[impervFraction_manualEntry]]),Impervious[[#This Row],[impervFraction_manualEntry]],Impervious[[#This Row],[impervFraction_defaultMapShed]]) -> 0.52
B18: Hd_Mixed | C18: 0.87 | E18: =IF(ISNUMBER(Impervious[[#This Row],[impervFraction_manualEntry]]),Impervious[[#This Row],[impervFraction_manualEntry]],Impervious[[#This Row],[impervFraction_defaultMapShed]]) -> 0.87
B19: Ld_Residential | C19: 0.15 | E19: =IF(ISNUMBER(Impervious[[#This Row],[impervFraction_manualEntry]]),Impervious[[#This Row],[impervFraction_manualEntry]],Impervious[[#This Row],[impervFraction_defaultMapShed]]) -> 0.15
B20: Md_Residential | C20: 0.52 | E20: =IF(ISNUMBER(Impervious[[#This Row],[impervFraction_manualEntry]]),Impervious[[#This Row],[impervFraction_manualEntry]],Impervious[[#This Row],[impervFraction_defaultMapShed]]) -> 0.52
B21: Hd_Residential | C21: 0.87 | E21: =IF(ISNUMBER(Impervious[[#This Row],[impervFraction_manualEntry]]),Impervious[[#This Row],[impervFraction_manualEntry]],Impervious[[#This Row],[impervFraction_defaultMapShed]]) -> 0.87
B22: Ld_Mixed - Upland | C22: 0.15 | E22: =IF(ISNUMBER(Impervious[[#This Row],[impervFraction_manualEntry]]),Impervious[[#This Row],[impervFraction_manualEntry]],Impervious[[#This Row],[impervFraction_defaultMapShed]]) -> 0.15
B23: Md_Mixed - Upland | C23: 0.52 | E23: =IF(ISNUMBER(Impervious[[#This Row],[impervFraction_manualEntry]]),Impervious[[#This Row],[impervFraction_manualEntry]],Impervious[[#This Row],[impervFraction_defaultMapShed]]) -> 0.52
B24: Hd_Mixed - Upland | C24: 0.87 | E24: =IF(ISNUMBER(Impervious[[#This Row],[impervFraction_manualEntry]]),Impervious[[#This Row],[impervFraction_manualEntry]],Impervious[[#This Row],[impervFraction_defaultMapShed]]) -> 0.87
B25: Ld_Residential - Upland | C25: 0.15 | E25: =IF(ISNUMBER(Impervious[[#This Row],[impervFraction_manualEntry]]),Impervious[[#This Row],[impervFraction_manualEntry]],Impervious[[#This Row],[impervFraction_defaultMapShed]]) -> 0.15
B26: Md_Residential - Upland | C26: 0.52 | E26: =IF(ISNUMBER(Impervious[[#This Row],[impervFraction_manualEntry]]),Impervious[[#This Row],[impervFraction_manualEntry]],Impervious[[#This Row],[impervFraction_defaultMapShed]]) -> 0.52
B27: Hd_Residential - Upland | C27: 0.87 | E27: =IF(ISNUMBER(Impervious[[#This Row],[impervFraction_manualEntry]]),Impervious[[#This Row],[impervFraction_manualEntry]],Impervious[[#This Row],[impervFraction_defaultMapShed]]) -> 0.87
B29: BMP Load and Efficiencies used in the Load Reduction Calculations (DO NOT ALTER):
B30: Street Sweeping | C30: TSS Reduction (%) | D30: TP Reduction (%) | E30: TN Reduction (%) | F30: Road Width (ft)
B31: Average of SCP1 - SCP11 | C31: =0.0715 -> 0.0715 | D31: =0.0345 -> 0.0345 | E31: =0.0125 -> 0.0125 | F31: 20
B33: Stream Restoration - Protocol 1 | C33: TSS (lbs/ft/yr) | D33: TP (lbs/ft/yr) | E33: TN (lbs/ft/yr)
B34: Default | C34: 115 | D34: 0.174 | E34: 0.192
B35: Calculated | C35: =+'MMW Output'!N18 -> 154.14682 | D35: =+'MMW Output'!O18 -> 0.095971988 | E35: =+'MMW Output'!P18 -> 0.038368427
B36: Minimum | C36: =MIN(C34,C35) -> 115 | D36: =MIN(D34,D35) -> 0.095971988 | E36: =MIN(E34,E35) -> 0.038368427
A39: PERFORMANCE STANDARD APPROACH for use with urban BMPs (as referenced in PA DEP permit materials; original source citation at bottom of page.)
A40: MUNICIPALITY: For the BMP of choice, consult the Expert Panel Table below and Report cited below to determine if the BMP is an RR, ST or Other type of practice.
A41: The type of practice, runoff reduction versus stormwater treatment, is calculated differently with different efficiency curves.
A80: Source: | B80: https://www.chesapeakebay.net/documents/Final-CBP-Approved-Expert-Panel-Report-on-Stormwater-Performance-Standards-LONG_012015.pdf
A81: Recommendations of the Expert Panel to Define Removal Rates for New State Stormwater Performance Standards
A82: Stewart Comstock, Scott Crafton, Randy Greer, Peter Hill, Dave Hirschman, Shoreh Karimpour, Ken Murin, Jennifer Orr, Fred Rose, Sherry Wilkins
A83: Revised: January 20, 2015
A84: Prepared by: Tom Schueler and Cecilia Lane, Chesapeake Stormwater Network
A86: The BMP Removal Rate Curves shown below have been incorporated into this spreadsheet tool.
A87: With this approach, pollutant removal efficiencies are calculated based on the amount of runoff (runoff depth) captured per acre of impervious surface. | K87: https://www.chesapeakebay.net/documents/Final-CBP-Approved-Expert-Panel-Report-on-Stormwater-Performance-Standards-LONG_012015.pdf
K88: https://www.chesapeakebay.net/channel_files/19172/attach_f--draft_faq_document__template.pdf
K89: RunoffDepth_inPerAc | L89: TP_RemovalEfficiencyRR_pecent | M89: TP_RemovalEfficiencyST_pecent | N89: TN_RemovalEfficiencyRR_pecent | O89: TN_RemovalEfficiencyST_pecent | P89: TSS_RemovalEfficiencyRR_pecent | Q89: TSS_RemovalEfficiencyST_pecent
K90: 0.05 | L90: =0.0304*$K90^5 -0.2619*$K90^4 +0.9161*$K90^3 -1.6837*$K90^2 +1.7072*$K90-0.0091 -> 0.072163635 | M90: =0.0239*$K90^5 -0.2058*$K90^4 +0.7198*$K90^3 -1.3229*$K90^2 +1.3414*$K90-0.0072 -> 0.056651446 | N90: =0.0308*$K90^5 -0.2562*$K90^4 +0.8634*$K90^3 -1.5285*$K90^2 +1.501*$K90-0.013 -> 0.058335083 | O90: =0.0152*$K90^5 -0.131*$K90^4 +0.4581*$K90^3 -0.8418*$K90^2 +0.8536*$K90 -0.0046 -> 0.036031949 | P90: =0.0326*$K90^5 -0.2806*$K90^4 +0.9816*$K90^3 -1.8039*$K90^2 +1.8292*$K90 -0.0098 -> 0.077271206 | Q90: =0.0304*$K90^5 -0.2619*$K90^4 +0.9161*$K90^3 -1.6837*$K90^2 +1.7072*$K90-0.0091 -> 0.072163635
K91: 0.1 | L91: =0.0304*$K91^5 -0.2619*$K91^4 +0.9161*$K91^3 -1.6837*$K91^2 +1.7072*$K91-0.0091 -> 0.14567321 | M91: =0.0239*$K91^5 -0.2058*$K91^4 +0.7198*$K91^3 -1.3229*$K91^2 +1.3414*$K91-0.0072 -> 0.11441046 | N91: =0.0308*$K91^5 -0.2562*$K91^4 +0.8634*$K91^3 -1.5285*$K91^2 +1.501*$K91-0.013 -> 0.12265309 | O91: =0.0152*$K91^5 -0.131*$K91^4 +0.4581*$K91^3 -0.8418*$K91^2 +0.8536*$K91 -0.0046 -> 0.072787152 | P91: =0.0326*$K91^5 -0.2806*$K91^4 +0.9816*$K91^3 -1.8039*$K91^2 +1.8292*$K91 -0.0098 -> 0.15603487 | Q91: =0.0304*$K91^5 -0.2619*$K91^4 +0.9161*$K91^3 -1.6837*$K91^2 +1.7072*$K91-0.0091 -> 0.14567321
K92: 0.2 | L92: =0.0304*$K92^5 -0.2619*$K92^4 +0.9161*$K92^3 -1.6837*$K92^2 +1.7072*$K92-0.0091 -> 0.27191149 | M92: =0.0239*$K92^5 -0.2058*$K92^4 +0.7198*$K92^3 -1.3229*$K92^2 +1.3414*$K92-0.0072 -> 0.21360077 | N92: =0.0308*$K92^5 -0.2562*$K92^4 +0.8634*$K92^3 -1.5285*$K92^2 +1.501*$K92-0.013 -> 0.23256714 | O92: =0.0152*$K92^5 -0.131*$K92^4 +0.4581*$K92^3 -0.8418*$K92^2 +0.8536*$K92 -0.0046 -> 0.13590806 | P92: =0.0326*$K92^5 -0.2806*$K92^4 +0.9816*$K92^3 -1.8039*$K92^2 +1.8292*$K92 -0.0098 -> 0.29129827 | Q92: =0.0304*$K92^5 -0.2619*$K92^4 +0.9161*$K92^3 -1.6837*$K92^2 +1.7072*$K92-0.0091 -> 0.27191149
K93: 0.3 | L93: =0.0304*$K93^5 -0.2619*$K93^4 +0.9161*$K93^3 -1.6837*$K93^2 +1.7072*$K93-0.0091 -> 0.37421418 | M93: =0.0239*$K93^5 -0.2058*$K93^4 +0.7198*$K93^3 -1.3229*$K93^2 +1.3414*$K93-0.0072 -> 0.2939847 | N93: =0.0308*$K93^5 -0.2562*$K93^4 +0.8634*$K93^3 -1.5285*$K93^2 +1.501*$K93-0.013 -> 0.32104642 | O93: =0.0152*$K93^5 -0.131*$K93^4 +0.4581*$K93^3 -0.8418*$K93^2 +0.8536*$K93 -0.0046 -> 0.18706254 | P93: =0.0326*$K93^5 -0.2806*$K93^4 +0.9816*$K93^3 -1.8039*$K93^2 +1.8292*$K93 -0.0098 -> 0.40091856 | Q93: =0.0304*$K93^5 -0.2619*$K93^4 +0.9161*$K93^3 -1.6837*$K93^2 +1.7072*$K93-0.0091 -> 0.37421418
K94: 0.4 | L94: =0.0304*$K94^5 -0.2619*$K94^4 +0.9161*$K94^3 -1.6837*$K94^2 +1.7072*$K94-0.0091 -> 0.45662506 | M94: =0.0239*$K94^5 -0.2058*$K94^4 +0.7198*$K94^3 -1.3229*$K94^2 +1.3414*$K94-0.0072 -> 0.35873946 | N94: =0.0308*$K94^5 -0.2562*$K94^4 +0.8634*$K94^3 -1.5285*$K94^2 +1.501*$K94-0.013 -> 0.39185427 | O94: =0.0152*$K94^5 -0.131*$K94^4 +0.4581*$K94^3 -0.8418*$K94^2 +0.8536*$K94 -0.0046 -> 0.22827245 | P94: =0.0326*$K94^5 -0.2806*$K94^4 +0.9816*$K94^3 -1.8039*$K94^2 +1.8292*$K94 -0.0098 -> 0.48922886 | Q94: =0.0304*$K94^5 -0.2619*$K94^4 +0.9161*$K94^3 -1.6837*$K94^2 +1.7072*$K94-0.0091 -> 0.45662506
K95: 0.5 | L95: =0.0304*$K95^5 -0.2619*$K95^4 +0.9161*$K95^3 -1.6837*$K95^2 +1.7072*$K95-0.0091 -> 0.52266875 | M95: =0.0239*$K95^5 -0.2058*$K95^4 +0.7198*$K95^3 -1.3229*$K95^2 +1.3414*$K95-0.0072 -> 0.41063437 | N95: =0.0308*$K95^5 -0.2562*$K95^4 +0.8634*$K95^3 -1.5285*$K95^2 +1.501*$K95-0.013 -> 0.44825 | O95: =0.0152*$K95^5 -0.131*$K95^4 +0.4581*$K95^3 -0.8418*$K95^2 +0.8536*$K95 -0.0046 -> 0.2613 | P95: =0.0326*$K95^5 -0.2806*$K95^4 +0.9816*$K95^3 -1.8039*$K95^2 +1.8292*$K95 -0.0098 -> 0.56000625 | Q95: =0.0304*$K95^5 -0.2619*$K95^4 +0.9161*$K95^3 -1.6837*$K95^2 +1.7072*$K95-0.0091 -> 0.52266875
K96: 0.6 | L96: =0.0304*$K96^5 -0.2619*$K96^4 +0.9161*$K96^3 -1.6837*$K96^2 +1.7072*$K96-0.0091 -> 0.57538726 | M96: =0.0239*$K96^5 -0.2058*$K96^4 +0.7198*$K96^3 -1.3229*$K96^2 +1.3414*$K96-0.0072 -> 0.45205958 | N96: =0.0308*$K96^5 -0.2562*$K96^4 +0.8634*$K96^3 -1.5285*$K96^2 +1.501*$K96-0.013 -> 0.49302589 | O96: =0.0152*$K96^5 -0.131*$K96^4 +0.4581*$K96^3 -0.8418*$K96^2 +0.8536*$K96 -0.0046 -> 0.28766595 | P96: =0.0326*$K96^5 -0.2806*$K96^4 +0.9816*$K96^3 -1.8039*$K96^2 +1.8292*$K96 -0.0098 -> 0.61651082 | Q96: =0.0304*$K96^5 -0.2619*$K96^4 +0.9161*$K96^3 -1.6837*$K96^2 +1.7072*$K96-0.0091 -> 0.57538726
K97: 0.7 | L97: =0.0304*$K97^5 -0.2619*$K97^4 +0.9161*$K97^3 -1.6837*$K97^2 +1.7072*$K97-0.0091 -> 0.61737644 | M97: =0.0239*$K97^5 -0.2058*$K97^4 +0.7198*$K97^3 -1.3229*$K97^2 +1.3414*$K97-0.0072 -> 0.48505469 | N97: =0.0308*$K97^5 -0.2562*$K97^4 +0.8634*$K97^3 -1.5285*$K97^2 +1.501*$K97-0.013 -> 0.52854414 | O97: =0.0152*$K97^5 -0.131*$K97^4 +0.4581*$K97^3 -0.8418*$K97^2 +0.8536*$K97 -0.0046 -> 0.30866786 | P97: =0.0326*$K97^5 -0.2806*$K97^4 +0.9816*$K97^3 -1.8039*$K97^2 +1.8292*$K97 -0.0098 -> 0.66152482 | Q97: =0.0304*$K97^5 -0.2619*$K97^4 +0.9161*$K97^3 -1.6837*$K97^2 +1.7072*$K97-0.0091 -> 0.61737644
K98: 0.8 | L98: =0.0304*$K98^5 -0.2619*$K98^4 +0.9161*$K98^3 -1.6837*$K98^2 +1.7072*$K98-0.0091 -> 0.65082243 | M98: =0.0239*$K98^5 -0.2058*$K98^4 +0.7198*$K98^3 -1.3229*$K98^2 +1.3414*$K98-0.0072 -> 0.51133747 | N98: =0.0308*$K98^5 -0.2562*$K98^4 +0.8634*$K98^3 -1.5285*$K98^2 +1.501*$K98-0.013 -> 0.55677382 | O98: =0.0152*$K98^5 -0.131*$K98^4 +0.4581*$K98^3 -0.8418*$K98^2 +0.8536*$K98 -0.0046 -> 0.32539834 | P98: =0.0326*$K98^5 -0.2806*$K98^4 +0.9816*$K98^3 -1.8039*$K98^2 +1.8292*$K98 -0.0098 -> 0.69739181 | Q98: =0.0304*$K98^5 -0.2619*$K98^4 +0.9161*$K98^3 -1.6837*$K98^2 +1.7072*$K98-0.0091 -> 0.65082243
K99: 0.9 | L99: =0.0304*$K99^5 -0.2619*$K99^4 +0.9161*$K99^3 -1.6837*$K99^2 +1.7072*$K99-0.0091 -> 0.67753821 | M99: =0.0239*$K99^5 -0.2058*$K99^4 +0.7198*$K99^3 -1.3229*$K99^2 +1.3414*$K99-0.0072 -> 0.53233253 | N99: =0.0308*$K99^5 -0.2562*$K99^4 +0.8634*$K99^3 -1.5285*$K99^2 +1.501*$K99-0.013 -> 0.57932787 | O99: =0.0152*$K99^5 -0.131*$K99^4 +0.4581*$K99^3 -0.8418*$K99^2 +0.8536*$K99 -0.0046 -> 0.33876325 | P99: =0.0326*$K99^5 -0.2806*$K99^4 +0.9816*$K99^3 -1.8039*$K99^2 +1.8292*$K99 -0.0098 -> 0.72605571 | Q99: =0.0304*$K99^5 -0.2619*$K99^4 +0.9161*$K99^3 -1.6837*$K99^2 +1.7072*$K99-0.0091 -> 0.67753821
K100: 1 | L100: =0.0304*$K100^5 -0.2619*$K100^4 +0.9161*$K100^3 -1.6837*$K100^2 +1.7072*$K100-0.0091 -> 0.699 | M100: =0.0239*$K100^5 -0.2058*$K100^4 +0.7198*$K100^3 -1.3229*$K100^2 +1.3414*$K100-0.0072 -> 0.5492 | N100: =0.0308*$K100^5 -0.2562*$K100^4 +0.8634*$K100^3 -1.5285*$K100^2 +1.501*$K100-0.013 -> 0.5975 | O100: =0.0152*$K100^5 -0.131*$K100^4 +0.4581*$K100^3 -0.8418*$K100^2 +0.8536*$K100 -0.0046 -> 0.3495 | P100: =0.0326*$K100^5 -0.2806*$K100^4 +0.9816*$K100^3 -1.8039*$K100^2 +1.8292*$K100 -0.0098 -> 0.7491 | Q100: =0.0304*$K100^5 -0.2619*$K100^4 +0.9161*$K100^3 -1.6837*$K100^2 +1.7072*$K100-0.0091 -> 0.699
K101: 1.2 | L101: =0.0304*$K101^5 -0.2619*$K101^4 +0.9161*$K101^3 -1.6837*$K101^2 +1.7072*$K101-0.0091 -> 0.73060189 | M101: =0.0239*$K101^5 -0.2058*$K101^4 +0.7198*$K101^3 -1.3229*$K101^2 +1.3414*$K101-0.0072 -> 0.57404237 | N101: =0.0308*$K101^5 -0.2562*$K101^4 +0.8634*$K101^3 -1.5285*$K101^2 +1.501*$K101-0.013 -> 0.62449914 | O101: =0.0152*$K101^5 -0.131*$K101^4 +0.4581*$K101^3 -0.8418*$K101^2 +0.8536*$K101 -0.0046 -> 0.36530566 | P101: =0.0326*$K101^5 -0.2806*$K101^4 +0.9816*$K101^3 -1.8039*$K101^2 +1.8292*$K101 -0.0098 -> 0.78309587 | Q101: =0.0304*$K101^5 -0.2619*$K101^4 +0.9161*$K101^3 -1.6837*$K101^2 +1.7072*$K101-0.0091 -> 0.73060189
... K110: 3 | L110: =0.0304*$K110^5 -0.2619*$K110^4 +0.9161*$K110^3 -1.6837*$K110^2 +1.7072*$K110-0.0091 -> 0.8672 | M110: =0.0239*$K110^5 -0.2058*$K110^4 +0.7198*$K110^3 -1.3229*$K110^2 +1.3414*$K110-0.0072 -> 0.6834 | N110: =0.0308*$K110^5 -0.2562*$K110^4 +0.8634*$K110^3 -1.5285*$K110^2 +1.501*$K110-0.013 -> 0.7775 | O110: =0.0152*$K110^5 -0.131*$K110^4 +0.4581*$K110^3 -0.8418*$K110^2 +0.8536*$K110 -0.0046 -> 0.4313 | P110: =0.0326*$K110^5 -0.2806*$K110^4 +0.9816*$K110^3 -1.8039*$K110^2 +1.8292*$K110 -0.0098 -> 0.9391 | Q110: =0.0304*$K110^5 -0.2619*$K110^4 +0.9161*$K110^3 -1.6837*$K110^2 +1.7072*$K110-0.0091 -> 0.8672
A150: Source:
A151: Recommendations of the Expert Panel to Define Removal Rates for New State Stormwater Performance Standards
A152: Stewart Comstock, Scott Crafton, Randy Greer, Peter Hill, Dave Hirschman, Shoreh Karimpour, Ken Murin, Jennifer Orr, Fred Rose, Sherry Wilkins
A153: Revised: January 20, 2015
A154: Prepared by: Tom Schueler and Cecilia Lane, Chesapeake Stormwater Network
A157: List of Urban BMPs
A159: Type | B159: Ignore | C159: TSS Pct Red Coeff | D159: TP Pct Red Coeff | E159: TN Pct Red Coeff
A160: Bioretention/raingardens - A/B soils, underdrain | C160: 0.8 | D160: 0.75 | E160: 0.7 | H160: Performance Standard BMPs (reduction coefficients are calculated as shown above)
A161: Bioretention/raingardens - A/B soils, no underdrain | C161: 0.9 | D161: 0.85 | E161: 0.8
A162: Bioretention/raingardens - C/D soils, underdrain | C162: 0.55 | D162: 0.45 | E162: 0.25 | H162: Non-Performance Standard BMPs
A163: Bioswale | C163: 0.8 | D163: 0.75 | E163: 0.7 | H163: Infiltration-type BMPs for capturing runoff
A164: Dry Detention Ponds and Hydrodynamic Structures | C164: 0.1 | D164: 0.1 | E164: 0.05 | H164: Detention-type BMPs for capturing runoff
A165: Dry Extended Detention Ponds | C165: 0.6 | D165: 0.2 | E165: 0.2 | H165: Other BMPs
A166: Filter Strip - Runoff Reduction | C166: 0.56 | D166: 0.54 | E166: 0.2
A167: Filter Strip - Stormwater Treatment | C167: 0.22 | D167: 0 | E167: 0
A168: Filtering Practices | C168: 0.6 | D168: 0.6 | E168: 0.4
A169: Infiltration Practices w/ Sand, Veg. - A/B soils, no underdrain | C169: 0.95 | D169: 0.85 | E169: 0.85
A170: Infiltration Practices w/o Sand, Veg. - A/B soils, no underdrain | C170: 0.95 | D170: 0.85 | E170: 0.8
A171: Permeable Pavement w/o Sand, Veg. - A/B soils, underdrain | C171: 0.7 | D171: 0.5 | E171: 0.45
A172: Permeable Pavement w/o Sand, Veg. - A/B soils, no underdrain | C172: 0.85 | D172: 0.8 | E172: 0.75
A173: Permeable Pavement w/ Sand, Veg. - A/B soils, underdrain | C173: 0.7 | D173: 0.5 | E173: 0.5
A174: Permeable Pavement w/ Sand, Veg. - A/B soils, no underdrain | C174: 0.85 | D174: 0.8 | E174: 0.8
A175: Permeable Pavement w/o Sand, Veg. - C/D soils, underdrain | C175: 0.55 | D175: 0.2 | E175: 0.1
A176: Permeable Pavement w/ Sand, Veg. - C/D soils, underdrain | C176: 0.55 | D176: 0.2 | E176: 0.2
A177: Vegetated Open Channels - A/B soils, no underdrain | C177: 0.7 | D177: 0.45 | E177: 0.45
... A191: Street Sweeping, SCP-11 | C191: 0.001 | D191: 0 | E191: 0
A192: Stream Restoration | C192: Varies | D192: Varies | E192: Varies
A193: RR | C193: Calculated | D193: Calculated | E193: Calculated
A194: ST | C194: Calculated | D194: Calculated | E194: Calculated
A196: Land Cover: NLCD2011 --> MapShed
A197: The National Land Cover Database 2011 (NLCD2011) categories are mapped to MapShed/GWLF-E Land Use categories according to the following table.
A198: NOTE 1: Some NLCD categories are combined into a single MapShed category, whereas some MapShed categories are left unused.
A199: NOTE 2: Curve numbers for MMW are generated from the Impervious Surface percentages estimated from NLCD, and given above.
A200: NLCD Legend: | B200: https://www.mrlc.gov/nlcd11_leg.php
A201: NLCD Code | B201: NLCD name | C201: MapShed Code | D201: Land Use term in GMS file | E201: Mapshed Source List Order
A202: 11 | B202: Open Water | C202: 1 | D202: #N/A
A203: 12 | B203: Perennial Ice/Snow | C203: 22 | D203: Bare_Rock | E203: 8 | F203: Mapshed Source Terms | G203: MMW Source List Order | H203: MMW Source Terms (v1.23.0)
A204: 21 | B204: Developed, Open Space | C204: ? | D204: Ld_Open_Space (formerly Ld_Residential) | E204: 11
A205: 22 | B205: Developed, Low Intensity | C205: 2 | D205: Ld_Mixed | E205: 11 | F205: Bare_Rock | G205: 6 | H205: Barren Areas
A206: 23 | B206: Developed, Medium Intensity | C206: 20 | D206: Md_Mixed | E206: 12 | F206: Ld_Mixed | G206: 7 | H206: Low-Density Mixed | K206: NOTE: For MMW versions <=v1.23
A207: 24 | B207: Developed, High Intensity | C207: 3 | D207: Hd_Mixed | E207: 13 | F207: Ld_Mixed | G207: 7 | H207: Low-Density Mixed
A208: 31 | B208: Barren Land (Rock/Sand/Clay) | C208: 22 | D208: Bare_Rock | E208: 8 | F208: Md_Mixed | G208: 8 | H208: Medium-Density Mixed
...

Sheet MMW Output
A1: Look-Up Table for MMW Land Use Loading Rates
A2: Watershed: | B2: =+C13 -> User Specified
A3: Year: | B3: =+C14 -> User Specified
A5: Section 3: | B5: MMW Model Output
A7: This page is where the output data from a multi-year MMW model run is to be copied and pasted into this workbook (either manually or automatically) and is the source data for calculations throughout the workbook. 1. Source File Name - User-specified filename for the output file from MMW (optional). 2. Watershed Name - User-specified name of a watershed for which land use loading rates are being calculated (optional). 3. Source file - The annual pollutant load and area data, in Metric Units, is copied directly from the MMW output file into the different locations highlighted in GREEN below and subsequently converted to English Units to the columns highlighted in BLUE below. 4. Year - the year modeled (optional).
B10: Data Entered By: | C10: User Specified
B11: Date Data Entered: | C11: User Specified
B12: Source File Name: | C12: User Specified
B13: Watershed: | C13: User Specified
B14: Year: | C14: User Specified
C16: Model My Watershed OUTPUT DATA | K16: STREAM LENGTHS* | L16: KM* | M16: FEET
N17: Sed lb/ft | O17: TN lb/ft | P17: TP lb/ft
A18: Source | C18: Area | D18: Sediment | E18: Tot N | F18: Tot P | K18: Total Length | L18: 105.59 | M18: =L18*3280.84 -> 346423.9 | N18: =(D38*2000)/M18 -> 154.14682 | O18: =E38/M18 -> 0.095971988 | P18: =F38/M18 -> 0.038368427
A19: Units | C19: acres | D19: tons/year | E19: lbs/year | F19: lbs/year | K19: Ag Streams | L19: 1.67 | M19: =L19*3280.84 -> 5479.0028
A20: Hay/Past | C20: =F60 -> 1666.6667 | D20: =N48 -> 136.61541 | E20: =O48 -> 1861.461 | F20: =P48 -> 687.519 | K20: Non-Ag Streams | L20: 103.91 | M20: =L20*3280.84 -> 340912.08
A21: Cropland | C21: =F61 -> 491.35802 | D21: =N49 -> 316.40659 | E21: =O49 -> 3203.424 | F21: =P49 -> 838.1205
A22: Forest | C22: =SUM(F55:F57)+F58 -> 9730.8642 | D22: =N50 -> 7.9434023 | E22: =O50 -> 1136.898 | F22: =P50 -> 73.647 | K22: * These values can be obtained from the "Stream" tab in the "Analyze" section of a Model My Watershed run
A23: Wetland | C23: =F62+F63 -> 656.79012 | D23: =N51 -> 0.7252245 | E23: =O51 -> 254.457 | F23: =P51 -> 14.553
A24: Disturbed | C24: 0 | D24: 0 | E24: 0 | F24: 0 | K24: FARM ANIMAL DATA
A25: Turfgrass | C25: 0 | D25: 0 | E25: 0 | F25: 0
A26: Open_Land | C26: =F59 -> 66.666667 | D26: =N52 -> 1.7845065 | E26: =O52 -> 67.6935 | F26: =P52 -> 4.6305 | K26: TYPE* | L26: NUMBER* | M26: AVG WT KG | N26: TOTAL KG | O26: TOTAL AEU | P26: KG N/AEU/DAY | Q26: KG P/AEU/DAY | R26: TOTAL N/DAY | S26: TOTAL P/DAY
A27: Bare_Rock | C27: =F54 -> 222.22222 | D27: =N53 -> 0.05479425 | E27: =O53 -> 117.0855 | F27: =P53 -> 3.969 | K27: Chickens, Broilers | L27: 95 | M27: 0.9 | N27: =L27*M27 -> 85.5 | O27: =N27/1000 -> 0.0855 | P27: 1.07 | Q27: 0.3 | R27: =O27*P27 -> 0.091485 | S27: =O27*Q27 -> 0.02565
A28: Sandy_Areas | C28: 0 | D28: 0 | E28: 0 | F28: 0 | K28: Chickens, Layers | L28: 0 | M28: 1.8 | N28: =L28*M28 -> 0 | O28: =N28/1000 -> 0 | P28: 0.85 | Q28: 0.29 | R28: =O28*P28 -> 0 | S28: =O28*Q28 -> 0
A29: Unpaved_Road | C29: 0 | D29: 0 | E29: 0 | F29: 0 | K29: Cows, Beef | L29: 91 | M29: 360 | N29: =L29*M29 -> 32760 | O29: =N29/1000 -> 32.76 | P29: 0.31 | Q29: 0.09 | R29: =O29*P29 -> 10.1556 | S29: =O29*Q29 -> 2.9484
A30: Ld_Mixed | C30: =F50+F51 -> 23372.84 | D30: =N54+N57 -> 146.01918 | E30: =O54+O57 -> 7171.983 | F30: =P54+P57 -> 771.75 | K30: Cows, Dairy | L30: 69 | M30: 640 | N30: =L30*M30 -> 44160 | O30: =N30/1000 -> 44.16 | P30: 0.44 | Q30: 0.07 | R30: =O30*P30 -> 19.4304 | S30: =O30*Q30 -> 3.0912
A31: Md_Mixed | C31: =F52 -> 3395.0617 | D31: =N55 -> 111.5805 | E31: =O55 -> 4522.6755 | F31: =P55 -> 462.8295 | K31: Horses | L31: 242 | M31: 500 | N31: =L31*M31 -> 121000 | O31: =N31/1000 -> 121 | P31: 0.28 | Q31: 0.06 | R31: =O31*P31 -> 33.88 | S31: =O31*Q31 -> 7.26
A32: Hd_Mixed | C32: =F53 -> 965.4321 | D32: =N56 -> 31.739211 | E32: =O56 -> 1286.397 | F32: =P56 -> 131.6385 | K32: Pigs/Hogs/Swine | L32: 323 | M32: 61 | N32: =L32*M32 -> 19703 | O32: =N32/1000 -> 19.703 | P32: 0.48 | Q32: 0.15 | R32: =O32*P32 -> 9.45744 | S32: =O32*Q32 -> 2.95545
A33: Ld_Residential | C33: 0 | D33: 0 | E33: 0 | F33: 0 | K33: Sheep | L33: 165 | M33: 50 | N33: =L33*M33 -> 8250 | O33: =N33/1000 -> 8.25 | P33: 0.37 | Q33: 0.1 | R33: =O33*P33 -> 3.0525 | S33: =O33*Q33 -> 0.825
A34: Md_Residential | C34: 0 | D34: 0 | E34: 0 | F34: 0 | K34: Turkeys | L34: 8 | M34: 6.8 | N34: =L34*M34 -> 54.4 | O34: =N34/1000 -> 0.0544 | P34: 0.59 | Q34: 0.2 | R34: =O34*P34 -> 0.032096 | S34: =O34*Q34 -> 0.01088
A35: Hd_Residential | C35: 0 | D35: 0 | E35: 0 | F35: 0
A36: Farm Animals | D36: =N58 -> 0 | E36: =O58 -> 4895.7615 | F36: =P58 -> 1294.1145 | P36: Daily Totals | R36: =SUM(R27:R34) -> 76.099521 | S36: =SUM(S27:S34) -> 17.11658
A37: Tile Drainage | D37: 0 | E37: 0 | F37: 0 | P37: Poultry Totals | R37: =R27+R28+R34 -> 0.123581 | S37: =S27+S28+S34 -> 0.03653
A38: Stream Bank | D38: =N59 -> 26700.07 | E38: =O59 -> 33246.99 | F38: =P59 -> 13291.74 | P38: Livestock Totals | R38: =SUM(R29:R33) -> 75.97594 | S38: =SUM(S29:S33) -> 17.08005
A39: Groundwater | D39: =N60 -> 0 | E39: =O60 -> 132221.06 | F39: =P60 -> 2404.5525 | P39: Poultry Fraction | R39: =R37/R38 -> 0.0016265807 | S39: =S37/S38 -> 0.0021387525
A40: Point Source | D40: =N61 -> 0 | E40: =O61 -> 121109.62 | F40: =P61 -> 67820.949 | P40: Livestock Fraction | R40: =R38/R36 -> 0.99837606 | S40: =S38/S36 -> 0.99786581
A41: Septic Systems | D41: =N62 -> 0 | E41: =O62 -> 10658.308 | F41: =P62 -> 0
K42: * These values can be obtained from the "Animal" tab in the "Analyze" section of a Model My Watershed run
A43: Totals | C43: =SUM(C20:C41) -> 40567.901 | D43: =SUM(D20:D41) -> 27452.939 | E43: =SUM(E20:E41) -> 321753.82 | F43: =SUM(F20:F41) -> 87800.013
A45: MMW NLCD Land Cover Categories for Watershed (from "Analyze" csv file) | H45: Pollutant Load Conversion from Metric to Standard Units (from "Model" csv file)
A47: TYPE | D47: AREA (km^2) | F47: AREA (acres) | H47: SOURCE | K47: SEDIMENT (kg) | L47: TOTAL N (kg) | M47: TOTAL P (kg) | N47: SEDIMENT (tons) | O47: TOTAL N (lbs) | P47: TOTAL P (lbs)
A48: Open Water | D48: 0.13 | F48: =(D48*100)/0.405 -> 32.098765 | H48: Hay/Pasture | K48: 123914.2 | L48: 844.2 | M48: 311.8 | N48: =(2.205*K48)/2000 -> 136.61541 | O48: =L48*2.205 -> 1861.461 | P48: =M48*2.205 -> 687.519
A49: Perennial Ice/Snow | D49: 0 | F49: =(D49*100)/0.405 -> 0 | H49: Cropland | K49: 286990.1 | L49: 1452.8 | M49: 380.1 | N49: =(2.205*K49)/2000 -> 316.40659 | O49: =L49*2.205 -> 3203.424 | P49: =M49*2.205 -> 838.1205
A50: Developed, Open Space | D50: 62.33 | F50: =(D50*100)/0.405 -> 15390.123 | H50: Wooded Areas | K50: 7204.9 | L50: 515.6 | M50: 33.4 | N50: =(2.205*K50)/2000 -> 7.9434023 | O50: =L50*2.205 -> 1136.898 | P50: =M50*2.205 -> 73.647
A51: Developed, Low Intensity | D51: 32.33 | F51: =(D51*100)/0.405 -> 7982.716 | H51: Wetlands | K51: 657.8 | L51: 115.4 | M51: 6.6 | N51: =(2.205*K51)/2000 -> 0.7252245 | O51: =L51*2.205 -> 254.457 | P51: =M51*2.205 -> 14.553
A52: Developed, Medium Intensity | D52: 13.75 | F52: =(D52*100)/0.405 -> 3395.0617 | H52: Open Land | K52: 1618.6 | L52: 30.7 | M52: 2.1 | N52: =(2.205*K52)/2000 -> 1.7845065 | O52: =L52*2.205 -> 67.6935 | P52: =M52*2.205 -> 4.6305
A53: Developed, High Intensity | D53: 3.91 | F53: =(D53*100)/0.405 -> 965.4321 | H53: Barren Areas | K53: 49.7 | L53: 53.1 | M53: 1.8 | N53: =(2.205*K53)/2000 -> 0.05479425 | O53: =L53*2.205 -> 117.0855 | P53: =M53*2.205 -> 3.969
A54: Barren Land (Rock/Sand/Clay) | D54: 0.9 | F54: =(D54*100)/0.405 -> 222.22222 | H54: Low-Density Mixed | K54: 45235.5 | L54: 1110.9 | M54: 119.5 | N54: =(2.205*K54)/2000 -> 49.872139 | O54: =L54*2.205 -> 2449.5345 | P54: =M54*2.205 -> 263.4975
A55: Deciduous Forest | D55: 34.08 | F55: =(D55*100)/0.405 -> 8414.8148 | H55: Medium-Density Mixed | K55: 101206.8 | L55: 2051.1 | M55: 209.9 | N55: =(2.205*K55)/2000 -> 111.5805 | O55: =L55*2.205 -> 4522.6755 | P55: =M55*2.205 -> 462.8295
A56: Evergreen Forest | D56: 0.54 | F56: =(D56*100)/0.405 -> 133.33333 | H56: High-Density Mixed | K56: 28788.4 | L56: 583.4 | M56: 59.7 | N56: =(2.205*K56)/2000 -> 31.739211 | O56: =L56*2.205 -> 1286.397 | P56: =M56*2.205 -> 131.6385
A57: Mixed Forest | D57: 1.73 | F57: =(D57*100)/0.405 -> 427.16049 | H57: Low-Density Open Space | K57: 87208.2 | L57: 2141.7 | M57: 230.5 | N57: =(2.205*K57)/2000 -> 96.147041 | O57: =L57*2.205 -> 4722.4485 | P57: =M57*2.205 -> 508.2525
A58: Shrub/Scrub | D58: 3.06 | F58: =(D58*100)/0.405 -> 755.55556 | H58: Farm Animals | K58: 0 | L58: 2220.3 | M58: 586.9 | N58: =(2.205*K58)/2000 -> 0 | O58: =L58*2.205 -> 4895.7615 | P58: =M58*2.205 -> 1294.1145
A59: Grassland/Herbaceous | D59: 0.27 | F59: =(D59*100)/0.405 -> 66.666667 | H59: Stream Bank Erosion | K59: 24217751 | L59: 15078 | M59: 6028 | N59: =(2.205*K59)/2000 -> 26700.07 | O59: =L59*2.205 -> 33246.99 | P59: =M59*2.205 -> 13291.74
... A62: Woody Wetlands | D62: 2.66 | F62: =(D62*100)/0.405 -> 656.79012 | H62: Septic Systems | K62: 0 | L62: 4833.7 | M62: 0 | N62: =(2.205*K62)/2000 -> 0 | O62: =L62*2.205 -> 10658.308 | P62: =M62*2.205 -> 0
A63: Emergent Herbaceous Wetlands | D63: 0 | F63: =(D63*100)/0.405 -> 0
A65: Totals | D65: =SUM(D49:D63) -> 164.3 | F65: =SUM(F49:F63) -> 40567.901 | H65: Totals | K65: =SUM(K48:K63) -> 24900625 | L65: =SUM(L48:L63) -> 145920.1 | M65: =SUM(M48:M63) -> 39818.6 | N65: =SUM(N48:N63) -> 27452.939 | O65: =SUM(O48:O63) -> 321753.82 | P65: =SUM(P48:P63) -> 87800.013
A68: Note: The information below is only used for allocation of "urban" loads within a larger watershed boundary
A70: MMW NLCD Land Cover Categories for Urban Area (from second, smaller "Analyze" csv file)
A72: TYPE | D72: AREA (km^2) | F72: AREA (acres) | I72: TN (lb/yr) | J72: TP (lb/yr) | K72: Sediment (lb/yr)
A73: Open Water | D73: 0 | F73: =(D73*100)/0.405 -> 0
A74: Perennial Ice/Snow | D74: 0 | F74: =(D74*100)/0.405 -> 0
A75: Developed, Open Space | D75: 5.27 | F75: =(D75*100)/0.405 -> 1301.2346 | I75: =(+'Landcover Loading Rates'!V25)*F75 -> 1340.2716 | J75: =(+'Landcover Loading Rates'!AA25)*F75 -> 468.44444 | K75: =(+'Landcover Loading Rates'!Q25)*F75 -> 1727264.6 | M75: (Note: The values below only pertain to the smaller target area)
A76: Developed, Low Intensity | D76: 2.79 | F76: =(D76*100)/0.405 -> 688.88889 | I76: =(+'Landcover Loading Rates'!V25)*F76 -> 709.55556 | J76: =(+'Landcover Loading Rates'!AA25)*F76 -> 248 | K76: =(+'Landcover Loading Rates'!Q25)*F76 -> 914434.21
A77: Developed, Medium Intensity | D77: 0.84 | F77: =(D77*100)/0.405 -> 207.40741 | I77: =(+'Landcover Loading Rates'!V26)*F77 -> 638.81481 | J77: =(+'Landcover Loading Rates'!AA26)*F77 -> 138.96296 | K77: =(+'Landcover Loading Rates'!Q26)*F77 -> 453994.46 | M77: STREAM LENGTHS | N77: KM* | O77: FEET
A78: Developed, High Intensity | D78: 0.2 | F78: =(D78*100)/0.405 -> 49.382716 | I78: =(+'Landcover Loading Rates'!V27)*F78 -> 200.49383 | J78: =(+'Landcover Loading Rates'!AA27)*F78 -> 42.469136 | K78: =(+'Landcover Loading Rates'!Q27)*F78 -> 145851.53
A79: Barren Land (Rock/Sand/Clay) | D79: 0 | F79: =(D79*100)/0.405 -> 0 | I79: =(+'Landcover Loading Rates'!V22)*F79 -> 0 | J79: =(+'Landcover Loading Rates'!AA22)*F79 -> 0 | K79: =(+'Landcover Loading Rates'!Q22)*F79 -> 0 | M79: Total Length | N79: 21.6 | O79: =N79*3280.84 -> 70866.144
A80: Deciduous Forest | D80: 1.49 | F80: =(D80*100)/0.405 -> 367.90123 | I80: =(+'Landcover Loading Rates'!V17)*F80 -> 268.5679 | J80: =(+'Landcover Loading Rates'!AA17)*F80 -> 95.654321 | K80: =(+'Landcover Loading Rates'!Q17)*F80 -> 363806.1 | M80: Ag Streams | N80: 4.27 | O80: =N80*3280.84 -> 14009.187
A81: Evergreen Forest | D81: 0.02 | F81: =(D81*100)/0.405 -> 4.9382716 | I81: =(+'Landcover Loading Rates'!V17)*F81 -> 3.6049383 | J81: =(+'Landcover Loading Rates'!AA17)*F81 -> 1.2839506 | K81: =(+'Landcover Loading Rates'!Q17)*F81 -> 4883.3033 | M81: Non-Ag Streams | N81: 17.33 | O81: =N81*3280.84 -> 56856.957
A82: Mixed Forest | D82: 0.06 | F82: =(D82*100)/0.405 -> 14.814815 | I82: =(+'Landcover Loading Rates'!V17)*F82 -> 10.814815 | J82: =(+'Landcover Loading Rates'!AA17)*F82 -> 3.8518519 | K82: =(+'Landcover Loading Rates'!Q17)*F82 -> 14649.91
A83: Shrub/Scrub | D83: 0.7 | F83: =(D83*100)/0.405 -> 172.83951 | I83: =(+'Landcover Loading Rates'!V17)*F83 -> 126.17284 | J83: =(+'Landcover Loading Rates'!AA17)*F83 -> 44.938272 | K83: =(+'Landcover Loading Rates'!Q17)*F83 -> 170915.62 | M83: * These values can be obtained from the "Stream" tab in the "Analyze" section of a Model My Watershed run
A84: Grassland/Herbaceous | D84: 0.15 | F84: =(D84*100)/0.405 -> 37.037037 | I84: =(+'Landcover Loading Rates'!V21)*F84 -> 60.37037 | J84: =(+'Landcover Loading Rates'!AA21)*F84 -> 11.851852 | K84: =(+'Landcover Loading Rates'!Q21)*F84 -> 38547.093
A85: Pasture/Hay | D85: 4.66 | F85: =(D85*100)/0.405 -> 1150.6173 | I85: =(+'Landcover Loading Rates'!V15)*F85 -> 4602.4691 | J85: =(+'Landcover Loading Rates'!AA15)*F85 -> 1449.7778 | K85: =(+'Landcover Loading Rates'!Q15)*F85 -> 1324561.6
A86: Cultivated Crops | D86: 1.2 | F86: =(D86*100)/0.405 -> 296.2963 | I86: =(+'Landcover Loading Rates'!V16)*F86 -> 2785.1852 | J86: =(+'Landcover Loading Rates'!AA16)*F86 -> 758.51852 | K86: =(+'Landcover Loading Rates'!Q16)*F86 -> 674110.34
A87: Woody Wetlands | D87: 0.06 | F87: =(D87*100)/0.405 -> 14.814815 | I87: =(+'Landcover Loading Rates'!V18)*F87 -> 14.814815 | J87: =(+'Landcover Loading Rates'!AA18)*F87 -> 4 | K87: =(+'Landcover Loading Rates'!Q18)*F87 -> 14658.44
A88: Emergent Herbaceous Wetlands | D88: 0.01 | F88: =(D88*100)/0.405 -> 2.4691358 | I88: =(+'Landcover Loading Rates'!V18)*F88 -> 2.4691358 | J88: =(+'Landcover Loading Rates'!AA18)*F88 -> 0.66666667 | K88: =(+'Landcover Loading Rates'!Q18)*F88 -> 2443.0733
A90: Totals | D90: =SUM(D74:D88) -> 17.45 | F90: =SUM(F74:F88) -> 4308.642 | I90: =SUM(I74:I88) -> 10763.605 | J90: =SUM(J74:J88) -> 3268.4198 | K90: =SUM(K74:K88) -> 5850120.3
A93: TYPE | D93: AREA (m^2)* | F93: AREA (acres)
A94: Open Water | D94: 0 | F94: =((D94/1000000)*100)/0.405 -> 0
A95: Perennial Ice/Snow | D95: 0 | F95: =((D95/1000000)*100)/0.405 -> 0
A96: Developed, Open Space | D96: 0 | F96: =((D96/1000000)*100)/0.405 -> 0 | I96: =(+'Landcover Loading Rates'!V25)*F96 -> 0 | J96: =(+'Landcover Loading Rates'!AA25)*F96 -> 0 | K96: =(+'Landcover Loading Rates'!Q25)*F96 -> 0
A97: Developed, Low Intensity | D97: 0 | F97: =((D97/1000000)*100)/0.405 -> 0 | I97: =(+'Landcover Loading Rates'!V25)*F97 -> 0 | J97: =(+'Landcover Loading Rates'!AA25)*F97 -> 0 | K97: =(+'Landcover Loading Rates'!Q25)*F97 -> 0
A98: Developed, Medium Intensity | D98: 0 | F98: =((D98/1000000)*100)/0.405 -> 0 | I98: =(+'Landcover Loading Rates'!V26)*F98 -> 0 | J98: =(+'Landcover Loading Rates'!AA26)*F98 -> 0 | K98: =(+'Landcover Loading Rates'!Q26)*F98 -> 0
A99: Developed, High Intensity | D99: 0 | F99: =((D99/1000000)*100)/0.405 -> 0 | I99: =(+'Landcover Loading Rates'!V27)*F99 -> 0 | J99: =(+'Landcover Loading Rates'!AA27)*F99 -> 0 | K99: =(+'Landcover Loading Rates'!Q27)*F99 -> 0 | M99: *Only use this input block if land cover distribution is given in square meters (m^2).
A100: Barren Land (Rock/Sand/Clay) | D100: 0 | F100: =((D100/1000000)*100)/0.405 -> 0 | I100: =(+'Landcover Loading Rates'!V22)*F100 -> 0 | J100: =(+'Landcover Loading Rates'!AA22)*F100 -> 0 | K100: =(+'Landcover Loading Rates'!Q22)*F100 -> 0 | M100: This occurs when AOI is less than about 2 square kilometers.
A101: Deciduous Forest | D101: 0 | F101: =((D101/1000000)*100)/0.405 -> 0 | I101: =(+'Landcover Loading Rates'!V17)*F101 -> 0 | J101: =(+'Landcover Loading Rates'!AA17)*F101 -> 0 | K101: =(+'Landcover Loading Rates'!Q17)*F101 -> 0
A102: Evergreen Forest | D102: 0 | F102: =((D102/1000000)*100)/0.405 -> 0 | I102: =(+'Landcover Loading Rates'!V17)*F102 -> 0 | J102: =(+'Landcover Loading Rates'!AA17)*F102 -> 0 | K102: =(+'Landcover Loading Rates'!Q17)*F102 -> 0
A103: Mixed Forest | D103: 0 | F103: =((D103/1000000)*100)/0.405 -> 0 | I103: =(+'Landcover Loading Rates'!V17)*F103 -> 0 | J103: =(+'Landcover Loading Rates'!AA17)*F103 -> 0 | K103: =(+'Landcover Loading Rates'!Q17)*F103 -> 0
A104: Shrub/Scrub | D104: 0 | F104: =((D104/1000000)*100)/0.405 -> 0 | I104: =(+'Landcover Loading Rates'!V17)*F104 -> 0 | J104: =(+'Landcover Loading Rates'!AA17)*F104 -> 0 | K104: =(+'Landcover Loading Rates'!Q17)*F104 -> 0
A105: Grassland/Herbaceous | D105: 0 | F105: =((D105/1000000)*100)/0.405 -> 0 | I105: =(+'Landcover Loading Rates'!V21)*F105 -> 0 | J105: =(+'Landcover Loading Rates'!AA21)*F105 -> 0 | K105: =(+'Landcover Loading Rates'!Q21)*F105 -> 0
A106: Pasture/Hay | D106: 0 | F106: =((D106/1000000)*100)/0.405 -> 0 | I106: =(+'Landcover Loading Rates'!V15)*F106 -> 0 | J106: =(+'Landcover Loading Rates'!AA15)*F106 -> 0 | K106: =(+'Landcover Loading Rates'!Q15)*F106 -> 0
A107: Cultivated Crops | D107: 0 | F107: =((D107/1000000)*100)/0.405 -> 0 | I107: =(+'Landcover Loading Rates'!V16)*F107 -> 0 | J107: =(+'Landcover Loading Rates'!AA16)*F107 -> 0 | K107: =(+'Landcover Loading Rates'!Q16)*F107 -> 0
A108: Woody Wetlands | D108: 0 | F108: =((D108/1000000)*100)/0.405 -> 0 | I108: =(+'Landcover Loading Rates'!V18)*F108 -> 0 | J108: =(+'Landcover Loading Rates'!AA18)*F108 -> 0 | K108: =(+'Landcover Loading Rates'!Q18)*F108 -> 0
A109: Emergent Herbaceous Wetlands | D109: 0 | F109: =((D109/1000000)*100)/0.405 -> 0 | I109: =(+'Landcover Loading Rates'!V18)*F109 -> 0 | J109: =(+'Landcover Loading Rates'!AA18)*F109 -> 0 | K109: =(+'Landcover Loading Rates'!Q18)*F109 -> 0
A111: Totals | D111: =SUM(D94:D109) -> 0 | F111: =SUM(F94:F109) -> 0 | I111: =SUM(I96:I109) -> 0 | J111: =SUM(J96:J109) -> 0 | K111: =SUM(K96:K109) -> 0
A114: TOTAL LOADS | I114: =I90+I111 -> 10763.605 | J114: =J90+J111 -> 3268.4198 | K114: =K90+K111 -> 5850120.3

Sheet Landcover Loading Rates
A1: Look-Up Table for MMW Loading Rates
A2: =CONCATENATE("Watershed: ",'MMW Output'!B2) -> Watershed: User Specified
A3: =CONCATENATE("Year: ",'MMW Output'!C14) -> Year: User Specified
A4: =CONCATENATE("Source File: ",'MMW Output'!$C$12) -> Source File: User Specified | I4: =COLUMN(LoadRates[TSS_LoadRate_lbPerAcPerY]) -> 17
A6: Section 2: Landcover Loading Rates Look-Up Table
B9: TOTAL WATERSHED ANNUAL LOADS from Model My Watershed | O9: ANNUAL LAND USE LOADING RATES (lbs/acre) based on land use, stream bank and farm animal sources
O11: SEDIMENT | S11: NITROGEN | X11: PHOSPHORUS
B12: Source | C12: Area | D12: Runoff | E12: Erosion | G12: Sediment | H12: Dis N | J12: Total Nitrogen | K12: Dis P | M12: Total Phosphorus | O12: From Land Use | P12: From Stream Banks ① | Q12: TOTAL SEDIMENT LOADING RATE | S12: From Land Use | T12: From Stream Banks ① | U12: From Farm Animals ② | V12: TOTAL NITROGEN LOADING RATE | X12: From Land Use | Y12: From Stream Banks ① | Z12: From Farm Animals ② | AA12: TOTAL PHOSPHORUS LOADING RATE
B13: Units | C13: Acres | D13: inches | E13: Tons | G13: Tons | H13: Pounds | J13: Pounds | K13: Pounds | M13: Pounds | O13: lbs/acre | P13: lbs/acre | Q13: lbs/acre | S13: lbs/acre | T13: lbs/acre | U13: lbs/acre | V13: lbs/acre | X13: lbs/acre | Y13: lbs/acre | Z13: lbs/acre | AA13: lbs/acre
B14: Source | C14: area_ac | D14: runoff_in | E14: erosion_tons | F14: Column1 | G14: sediment_tons | H14: DN_lbs | I14: Column2 | J14: TN_lbs | K14: DP_lbs | L14: Column3 | M14: TP_lbs | N14: Column4 | O14: TSS_LoadRateLand_lbPerAcPerY | P14: TSS_LoadRateBanks_lbPerAcPerY | Q14: TSS_LoadRate_lbPerAcPerY | R14: Column5 | S14: TN_LoadRateLand_lbPerAcPerY | T14: TN_LoadRateBanks_lbPerAcPerY | U14: TN_LoadRateAnimal_lbPerAcPerY | V14: TN_LoadRate_lbPerAcPerY | W14: Column6 | X14: TP_LoadRateLand_lbPerAcPerY | Y14: TP_LoadRateBanks_lbPerAcPerY | Z14: TP_LoadRateAnimal_lbPerAcPerY | AA14: TP_LoadRate_lbPerAcPerY
A15: MapShed Land Use Categories | B15: Hay/Past | C15: =+'MMW Output'!C20 -> 1666.6667 | D15: =+'MMW Output'!#REF! -> #REF! | E15: =+'MMW Output'!#REF! -> #REF! | G15: =+'MMW Output'!D20 -> 136.61541 | H15: =+'MMW Output'!#REF! -> #REF! | J15: =+'MMW Output'!E20 -> 1861.461 | K15: =+'MMW Output'!#REF! -> #REF! | M15: =+'MMW Output'!F20 -> 687.519 | O15: =IF(C15=0,0,(G15*2000/C15)) -> 163.93849 | P15: =IF(C15=0,0,'Stream Bank Loading Rates'!C$145) -> 987.23631 | Q15: =SUM(O15:P15) -> 1151.1748 | S15: =IF(C15=0,0,ROUND((J15/C15),2)) -> 1.12 | T15: =IF(C15=0,0,ROUND('Stream Bank Loading Rates'!$K$145,2)) -> 0.61 | U15: =IF(C15=0,0,ROUND('Farm Animal Loading rates'!$D$33,2)) -> 2.27 | V15: =SUM(S15:U15) -> 4 | X15: =IF(C15=0,0,ROUND((M15/C15),2)) -> 0.41 | Y15: =IF(C15=0,0,ROUND('Stream Bank Loading Rates'!T$145,2)) -> 0.25 | Z15: =IF(C15=0,0,ROUND('Farm Animal Loading rates'!$E$33,2)) -> 0.6 | AA15: =SUM(X15:Z15) -> 1.26 | AB15: Hay/Past
B16: Cropland | C16: =+'MMW Output'!C21 -> 491.35802 | D16: =+'MMW Output'!#REF! -> #REF! | E16: =+'MMW Output'!#REF! -> #REF! | G16: =+'MMW Output'!D21 -> 316.40659 | H16: =+'MMW Output'!#REF! -> #REF! | J16: =+'MMW Output'!E21 -> 3203.424 | K16: =+'MMW Output'!#REF! -> #REF! | M16: =+'MMW Output'!F21 -> 838.1205 | O16: =IF(C16=0,0,(G16*2000/C16)) -> 1287.8861 | P16: =IF(C16=0,0,'Stream Bank Loading Rates'!C$145) -> 987.23631 | Q16: =SUM(O16:P16) -> 2275.1224 | S16: =IF(C16=0,0,ROUND((J16/C16),2)) -> 6.52 | T16: =IF(C16=0,0,ROUND('Stream Bank Loading Rates'!$K$145,2)) -> 0.61 | U16: =IF(C16=0,0,ROUND('Farm Animal Loading rates'!$D$33,2)) -> 2.27 | V16: =SUM(S16:U16) -> 9.4 | X16: =IF(C16=0,0,ROUND((M16/C16),2)) -> 1.71 | Y16: =IF(C16=0,0,ROUND('Stream Bank Loading Rates'!T$145,2)) -> 0.25 | Z16: =IF(C16=0,0,ROUND('Farm Animal Loading rates'!$E$33,2)) -> 0.6 | AA16: =SUM(X16:Z16) -> 2.56 | AB16: Cropland
B17: Forest | C17: =+'MMW Output'!C22 -> 9730.8642 | D17: =+'MMW Output'!#REF! -> #REF! | E17: =+'MMW Output'!#REF! -> #REF! | G17: =+'MMW Output'!D22 -> 7.9434023 | H17: =+'MMW Output'!#REF! -> #REF! | J17: =+'MMW Output'!E22 -> 1136.898 | K17: =+'MMW Output'!#REF! -> #REF! | M17: =+'MMW Output'!F22 -> 73.647 | O17: =IF(C17=0,0,(G17*2000/C17)) -> 1.6326201 | P17: =IF(C17=0,0,'Stream Bank Loading Rates'!C$145) -> 987.23631 | Q17: =SUM(O17:P17) -> 988.86893 | S17: =IF(C17=0,0,ROUND((J17/C17),2)) -> 0.12 | T17: =IF(C17=0,0,ROUND('Stream Bank Loading Rates'!$K$145,2)) -> 0.61 | U17: n/a | V17: =SUM(S17:U17) -> 0.73 | X17: =IF(C17=0,0,ROUND((M17/C17),2)) -> 0.01 | Y17: =IF(C17=0,0,ROUND('Stream Bank Loading Rates'!T$145,2)) -> 0.25 | Z17: n/a | AA17: =SUM(X17:Z17) -> 0.26 | AB17: Forest
B18: Wetland | C18: =+'MMW Output'!C23 -> 656.79012 | D18: =+'MMW Output'!#REF! -> #REF! | E18: =+'MMW Output'!#REF! -> #REF! | G18: =+'MMW Output'!D23 -> 0.7252245 | H18: =+'MMW Output'!#REF! -> #REF! | J18: =+'MMW Output'!E23 -> 254.457 | K18: =+'MMW Output'!#REF! -> #REF! | M18: =+'MMW Output'!F23 -> 14.553 | O18: =IF(C18=0,0,(G18*2000/C18)) -> 2.2083904 | P18: =IF(C18=0,0,'Stream Bank Loading Rates'!C$145) -> 987.23631 | Q18: =SUM(O18:P18) -> 989.4447 | S18: =IF(C18=0,0,ROUND((J18/C18),2)) -> 0.39 | T18: =IF(C18=0,0,ROUND('Stream Bank Loading Rates'!$K$145,2)) -> 0.61 | U18: n/a | V18: =SUM(S18:U18) -> 1 | X18: =IF(C18=0,0,ROUND((M18/C18),2)) -> 0.02 | Y18: =IF(C18=0,0,ROUND('Stream Bank Loading Rates'!T$145,2)) -> 0.25 | Z18: n/a | AA18: =SUM(X18:Z18) -> 0.27 | AB18: Wetland
B19: Disturbed | C19: =+'MMW Output'!C24 -> 0 | D19: =+'MMW Output'!#REF! -> #REF! | E19: =+'MMW Output'!#REF! -> #REF! | G19: =+'MMW Output'!D24 -> 0 | H19: =+'MMW Output'!#REF! -> #REF! | J19: =+'MMW Output'!E24 -> 0 | K19: =+'MMW Output'!#REF! -> #REF! | M19: =+'MMW Output'!F24 -> 0 | O19: =IF(C19=0,0,(G19*2000/C19)) -> 0 | P19: =IF(C19=0,0,'Stream Bank Loading Rates'!C$145) -> 0 | Q19: =SUM(O19:P19) -> 0 | S19: =IF(C19=0,0,ROUND((J19/C19),2)) -> 0 | T19: =IF(C19=0,0,ROUND('Stream Bank Loading Rates'!$K$145,2)) -> 0 | U19: n/a | V19: =SUM(S19:U19) -> 0 | X19: =IF(C19=0,0,ROUND((M19/C19),2)) -> 0 | Y19: =IF(C19=0,0,ROUND('Stream Bank Loading Rates'!T$145,2)) -> 0 | Z19: n/a | AA19: =SUM(X19:Z19) -> 0 | AB19: Disturbed
B20: Turfgrass | C20: =+'MMW Output'!C25 -> 0 | D20: =+'MMW Output'!#REF! -> #REF! | E20: =+'MMW Output'!#REF! -> #REF! | G20: =+'MMW Output'!D25 -> 0 | H20: =+'MMW Output'!#REF! -> #REF! | J20: =+'MMW Output'!E25 -> 0 | K20: =+'MMW Output'!#REF! -> #REF! | M20: =+'MMW Output'!F25 -> 0 | O20: =IF(C20=0,0,(G20*2000/C20)) -> 0 | P20: =IF(C20=0,0,'Stream Bank Loading Rates'!C$145) -> 0 | Q20: =SUM(O20:P20) -> 0 | S20: =IF(C20=0,0,ROUND((J20/C20),2)) -> 0 | T20: =IF(C20=0,0,ROUND('Stream Bank Loading Rates'!$K$145,2)) -> 0 | U20: n/a | V20: =SUM(S20:U20) -> 0 | X20: =IF(C20=0,0,ROUND((M20/C20),2)) -> 0 | Y20: =IF(C20=0,0,ROUND('Stream Bank Loading Rates'!T$145,2)) -> 0 | Z20: n/a | AA20: =SUM(X20:Z20) -> 0 | AB20: Turfgrass
B21: Open_Land | C21: =+'MMW Output'!C26 -> 66.666667 | D21: =+'MMW Output'!#REF! -> #REF! | E21: =+'MMW Output'!#REF! -> #REF! | G21: =+'MMW Output'!D26 -> 1.7845065 | H21: =+'MMW Output'!#REF! -> #REF! | J21: =+'MMW Output'!E26 -> 67.6935 | K21: =+'MMW Output'!#REF! -> #REF! | M21: =+'MMW Output'!F26 -> 4.6305 | O21: =IF(C21=0,0,(G21*2000/C21)) -> 53.535195 | P21: =IF(C21=0,0,'Stream Bank Loading Rates'!C$145) -> 987.23631 | Q21: =SUM(O21:P21) -> 1040.7715 | S21: =IF(C21=0,0,ROUND((J21/C21),2)) -> 1.02 | T21: =IF(C21=0,0,ROUND('Stream Bank Loading Rates'!$K$145,2)) -> 0.61 | U21: n/a | V21: =SUM(S21:U21) -> 1.63 | X21: =IF(C21=0,0,ROUND((M21/C21),2)) -> 0.07 | Y21: =IF(C21=0,0,ROUND('Stream Bank Loading Rates'!T$145,2)) -> 0.25 | Z21: n/a | AA21: =SUM(X21:Z21) -> 0.32 | AB21: Open_Land
B22: Bare_Rock | C22: =+'MMW Output'!C27 -> 222.22222 | D22: =+'MMW Output'!#REF! -> #REF! | E22: =+'MMW Output'!#REF! -> #REF! | G22: =+'MMW Output'!D27 -> 0.05479425 | H22: =+'MMW Output'!#REF! -> #REF! | J22: =+'MMW Output'!E27 -> 117.0855 | K22: =+'MMW Output'!#REF! -> #REF! | M22: =+'MMW Output'!F27 -> 3.969 | O22: =IF(C22=0,0,(G22*2000/C22)) -> 0.49314825 | P22: =IF(C22=0,0,'Stream Bank Loading Rates'!C$145) -> 987.23631 | Q22: =SUM(O22:P22) -> 987.72946 | S22: =IF(C22=0,0,ROUND((J22/C22),2)) -> 0.53 | T22: =IF(C22=0,0,ROUND('Stream Bank Loading Rates'!$K$145,2)) -> 0.61 | U22: n/a | V22: =SUM(S22:U22) -> 1.14 | X22: =IF(C22=0,0,ROUND((M22/C22),2)) -> 0.02 | Y22: =IF(C22=0,0,ROUND('Stream Bank Loading Rates'!T$145,2)) -> 0.25 | Z22: n/a | AA22: =SUM(X22:Z22) -> 0.27 | AB22: Bare_Rock
B23: Sandy_Areas | C23: =+'MMW Output'!C28 -> 0 | D23: =+'MMW Output'!#REF! -> #REF! | E23: =+'MMW Output'!#REF! -> #REF! | G23: =+'MMW Output'!D28 -> 0 | H23: =+'MMW Output'!#REF! -> #REF! | J23: =+'MMW Output'!E28 -> 0 | K23: =+'MMW Output'!#REF! -> #REF! | M23: =+'MMW Output'!F28 -> 0 | O23: =IF(C23=0,0,(G23*2000/C23)) -> 0 | P23: =IF(C23=0,0,'Stream Bank Loading Rates'!C$145) -> 0 | Q23: =SUM(O23:P23) -> 0 | S23: =IF(C23=0,0,ROUND((J23/C23),2)) -> 0 | T23: =IF(C23=0,0,ROUND('Stream Bank Loading Rates'!$K$145,2)) -> 0 | U23: n/a | V23: =SUM(S23:U23) -> 0 | X23: =IF(C23=0,0,ROUND((M23/C23),2)) -> 0 | Y23: =IF(C23=0,0,ROUND('Stream Bank Loading Rates'!T$145,2)) -> 0 | Z23: n/a | AA23: =SUM(X23:Z23) -> 0 | AB23: Sandy_Areas
B24: Unpaved_Road | C24: =+'MMW Output'!C29 -> 0 | D24: =+'MMW Output'!#REF! -> #REF! | E24: =+'MMW Output'!#REF! -> #REF! | G24: =+'MMW Output'!D29 -> 0 | H24: =+'MMW Output'!#REF! -> #REF! | J24: =+'MMW Output'!E29 -> 0 | K24: =+'MMW Output'!#REF! -> #REF! | M24: =+'MMW Output'!F29 -> 0 | O24: =IF(C24=0,0,(G24*2000/C24)) -> 0 | P24: =IF(C24=0,0,'Stream Bank Loading Rates'!C$145) -> 0 | Q24: =SUM(O24:P24) -> 0 | S24: =IF(C24=0,0,ROUND((J24/C24),2)) -> 0 | T24: =IF(C24=0,0,ROUND('Stream Bank Loading Rates'!$K$145,2)) -> 0 | U24: n/a | V24: =SUM(S24:U24) -> 0 | X24: =IF(C24=0,0,ROUND((M24/C24),2)) -> 0 | Y24: =IF(C24=0,0,ROUND('Stream Bank Loading Rates'!T$145,2)) -> 0 | Z24: n/a | AA24: =SUM(X24:Z24) -> 0 | AB24: Unpaved_Road
B25: Ld_Mixed | C25: =+'MMW Output'!C30 -> 23372.84 | D25: =+'MMW Output'!#REF! -> #REF! | E25: =+'MMW Output'!#REF! -> #REF! | G25: =+'MMW Output'!D30 -> 146.01918 | H25: =+'MMW Output'!#REF! -> #REF! | J25: =+'MMW Output'!E30 -> 7171.983 | K25: =+'MMW Output'!#REF! -> #REF! | M25: =+'MMW Output'!F30 -> 771.75 | O25: =IF(C25=0,0,(G25*2000/C25)) -> 12.494774 | P25: =IF(C25=0,0,'Stream Bank Loading Rates'!E131) -> 1314.9097 | Q25: =SUM(O25:P25) -> 1327.4045 | S25: =IF(C25=0,0,ROUND((J25/C25),2)) -> 0.31 | T25: =IF(C25=0,0,ROUND('Stream Bank Loading Rates'!M131,2)) -> 0.72 | U25: n/a | V25: =SUM(S25:U25) -> 1.03 | X25: =IF(C25=0,0,ROUND((M25/C25),2)) -> 0.03 | Y25: =IF(C25=0,0,ROUND('Stream Bank Loading Rates'!V131,2)) -> 0.33 | Z25: n/a | AA25: =SUM(X25:Z25) -> 0.36 | AB25: Ld_Mixed
B26: Md_Mixed | C26: =+'MMW Output'!C31 -> 3395.0617 | D26: =+'MMW Output'!#REF! -> #REF! | E26: =+'MMW Output'!#REF! -> #REF! | G26: =+'MMW Output'!D31 -> 111.5805 | H26: =+'MMW Output'!#REF! -> #REF! | J26: =+'MMW Output'!E31 -> 4522.6755 | K26: =+'MMW Output'!#REF! -> #REF! | M26: =+'MMW Output'!F31 -> 462.8295 | O26: =IF(C26=0,0,(G26*2000/C26)) -> 65.731056 | P26: =IF(C26=0,0,'Stream Bank Loading Rates'!E132) -> 2123.1708 | Q26: =SUM(O26:P26) -> 2188.9019 | S26: =IF(C26=0,0,ROUND((J26/C26),2)) -> 1.33 | T26: =IF(C26=0,0,ROUND('Stream Bank Loading Rates'!M132,2)) -> 1.75 | U26: n/a | V26: =SUM(S26:U26) -> 3.08 | X26: =IF(C26=0,0,ROUND((M26/C26),2)) -> 0.14 | Y26: =IF(C26=0,0,ROUND('Stream Bank Loading Rates'!V132,2)) -> 0.53 | Z26: n/a | AA26: =SUM(X26:Z26) -> 0.67 | AB26: Md_Mixed
B27: Hd_Mixed | C27: =+'MMW Output'!C32 -> 965.4321 | D27: =+'MMW Output'!#REF! -> #REF! | E27: =+'MMW Output'!#REF! -> #REF! | G27: =+'MMW Output'!D32 -> 31.739211 | H27: =+'MMW Output'!#REF! -> #REF! | J27: =+'MMW Output'!E32 -> 1286.397 | K27: =+'MMW Output'!#REF! -> #REF! | M27: =+'MMW Output'!F32 -> 131.6385 | O27: =IF(C27=0,0,(G27*2000/C27)) -> 65.751307 | P27: =IF(C27=0,0,'Stream Bank Loading Rates'!E133) -> 2887.7421 | Q27: =SUM(O27:P27) -> 2953.4934 | S27: =IF(C27=0,0,ROUND((J27/C27),2)) -> 1.33 | T27: =IF(C27=0,0,ROUND('Stream Bank Loading Rates'!M133,2)) -> 2.73 | U27: n/a | V27: =SUM(S27:U27) -> 4.06 | X27: =IF(C27=0,0,ROUND((M27/C27),2)) -> 0.14 | Y27: =IF(C27=0,0,ROUND('Stream Bank Loading Rates'!V133,2)) -> 0.72 | Z27: n/a | AA27: =SUM(X27:Z27) -> 0.86 | AB27: Hd_Mixed
B28: Ld_Residential | C28: =+'MMW Output'!C33 -> 0 | G28: =+'MMW Output'!D33 -> 0 | J28: =+'MMW Output'!E33 -> 0 | M28: =+'MMW Output'!F33 -> 0 | O28: =IF(C28=0,0,(G28*2000/C28)) -> 0 | P28: =IF(C28=0,0,'Stream Bank Loading Rates'!E134) -> 0 | Q28: =SUM(O28:P28) -> 0 | S28: =IF(C28=0,0,ROUND((J28/C28),2)) -> 0 | T28: =IF(C28=0,0,ROUND('Stream Bank Loading Rates'!M134,2)) -> 0 | U28: n/a | V28: =SUM(S28:U28) -> 0 | X28: =IF(C28=0,0,ROUND((M28/C28),2)) -> 0 | Y28: =IF(C28=0,0,ROUND('Stream Bank Loading Rates'!V134,2)) -> 0 | Z28: n/a | AA28: =SUM(X28:Z28) -> 0 | AB28: Ld_Residential
B29: Md_Residential | C29: =+'MMW Output'!C34 -> 0 | G29: =+'MMW Output'!D34 -> 0 | J29: =+'MMW Output'!E34 -> 0 | M29: =+'MMW Output'!F34 -> 0 | O29: =IF(C29=0,0,(G29*2000/C29)) -> 0 | P29: =IF(C29=0,0,'Stream Bank Loading Rates'!E135) -> 0 | Q29: =SUM(O29:P29) -> 0 | S29: =IF(C29=0,0,ROUND((J29/C29),2)) -> 0 | T29: =IF(C29=0,0,ROUND('Stream Bank Loading Rates'!M135,2)) -> 0 | U29: n/a | V29: =SUM(S29:U29) -> 0 | X29: =IF(C29=0,0,ROUND((M29/C29),2)) -> 0 | Y29: =IF(C29=0,0,ROUND('Stream Bank Loading Rates'!V135,2)) -> 0 | Z29: n/a | AA29: =SUM(X29:Z29) -> 0 | AB29: Md_Residential
B30: Hd_Residential | C30: =+'MMW Output'!C35 -> 0 | G30: =+'MMW Output'!D35 -> 0 | J30: =+'MMW Output'!E35 -> 0 | M30: =+'MMW Output'!F35 -> 0 | O30: =IF(C30=0,0,(G30*2000/C30)) -> 0 | P30: =IF(C30=0,0,'Stream Bank Loading Rates'!E136) -> 0 | Q30: =SUM(O30:P30) -> 0 | S30: =IF(C30=0,0,ROUND((J30/C30),2)) -> 0 | T30: =IF(C30=0,0,ROUND('Stream Bank Loading Rates'!M136,2)) -> 0 | U30: n/a | V30: =SUM(S30:U30) -> 0 | X30: =IF(C30=0,0,ROUND((M30/C30),2)) -> 0 | Y30: =IF(C30=0,0,ROUND('Stream Bank Loading Rates'!V136,2)) -> 0 | Z30: n/a | AA30: =SUM(X30:Z30) -> 0 | AB30: Hd_Residential
A32: Addt'l Sources | B32: Source | G32: Sediment | J32: Total Nitrogen | K32: Dis P | M32: Total Phosphorus | O32: Tons * 2000 lbs/ton acres of a land use | Q32: Sum of previous two sources | S32: Tons * 2000 lbs/ton acres of a land use | V32: Sum of previous three sources | X32: Tons * 2000 lbs/ton acres of a land use | AA32: Sum of previous three sources
B33: Units | D33: inches | E33: Tons | G33: Tons | J33: Pounds | K33: Pounds | M33: Pounds
B34: Farm Animals | C34: =+'MMW Output'!C36 | D34: =+'MMW Output'!#REF! -> #REF! | E34: =+'MMW Output'!#REF! -> #REF! | G34: =+'MMW Output'!D36 -> 0 | H34: =+'MMW Output'!#REF! -> #REF! | J34: =+'MMW Output'!E36 -> 4895.7615 | K34: =+'MMW Output'!#REF! -> #REF! | M34: =+'MMW Output'!F36 -> 1294.1145
B35: Tile Drainage | C35: =+'MMW Output'!C37 | D35: =+'MMW Output'!#REF! -> #REF! | E35: =+'MMW Output'!#REF! -> #REF! | G35: =+'MMW Output'!D37 -> 0 | H35: =+'MMW Output'!#REF! -> #REF! | J35: =+'MMW Output'!E37 -> 0 | K35: =+'MMW Output'!#REF! -> #REF! | M35: =+'MMW Output'!F37 -> 0
B36: Stream Bank ① | C36: =+'MMW Output'!C38 | D36: =+'MMW Output'!#REF! -> #REF! | E36: =+'MMW Output'!#REF! -> #REF! | G36: =+'MMW Output'!D38 -> 26700.07 | H36: =+'MMW Output'!#REF! -> #REF! | J36: =+'MMW Output'!E38 -> 33246.99 | K36: =+'MMW Output'!#REF! -> #REF! | M36: =+'MMW Output'!F38 -> 13291.74
B37: Groundwater | G37: 0 | J37: =+'MMW Output'!E39 -> 132221.06 | M37: =+'MMW Output'!F39 -> 2404.5525
B38: Point Source | G38: 0 | J38: =+'MMW Output'!E40 -> 121109.62 | M38: =+'MMW Output'!F40 -> 67820.949
B39: Septic Systems | G39: 0 | J39: =+'MMW Output'!E41 -> 10658.308 | M39: =+'MMW Output'!F41 -> 0
B43: Notes:
B44: ① - Separate worksheets are used to calculate and apportion the loading rates from the Stream Bank source loads (for sediment, total nitrogen, and total phosphorus) from the MMW Output file into each land use category, using methodology provided by Dr. Barry Evans (Pennsylvania State University), the author of MapShed, and with concurrence from Mr. Bill Brown (PADEP).
B45: ② - A separate worksheet is used to calculate and apportion the "Total Nitrogen" and "Total Phosphorus" loading rates from the Farm Animals source load from the MMW Output file into the two agricultural land uses, Hay/Pasture and Cropland, based on area weighting. The methodology was provided by Dr. Barry Evans (Pennsylvania State University), the author of MapShed, and with concurrence from Mr. Bill Brown (PADEP). Additionally, since the Farm Animals source loads do not apply to other land use catergories, the values in those cells are "n/a".
B46: Groundwater | C46: =+'MMW Output'!C39 | D46: =+'MMW Output'!#REF! -> #REF! | E46: =+'MMW Output'!#REF! -> #REF! | G46: =+'MMW Output'!D39 -> 0 | H46: =+'MMW Output'!#REF! -> #REF! | J46: =+'MMW Output'!E39 -> 132221.06 | K46: =+'MMW Output'!#REF! -> #REF! | M46: =+'MMW Output'!F39 -> 2404.5525
B47: Point Source | C47: =+'MMW Output'!C40 | D47: =+'MMW Output'!#REF! -> #REF! | E47: =+'MMW Output'!#REF! -> #REF! | G47: =+'MMW Output'!D40 -> 0 | H47: =+'MMW Output'!#REF! -> #REF! | J47: =+'MMW Output'!E40 -> 121109.62 | K47: =+'MMW Output'!#REF! -> #REF! | M47: =+'MMW Output'!F40 -> 67820.949
B48: Septic Systems | C48: =+'MMW Output'!C41 | D48: =+'MMW Output'!#REF! -> #REF! | E48: =+'MMW Output'!#REF! -> #REF! | G48: =+'MMW Output'!D41 -> 0 | H48: =+'MMW Output'!#REF! -> #REF! | J48: =+'MMW Output'!E41 -> 10658.308 | K48: =+'MMW Output'!#REF! -> #REF! | M48: =+'MMW Output'!F41 -> 0

Sheet Farm Animal Loading rates
A1: Look-Up Table for MMW Loading Rates
A2: =CONCATENATE("Watershed: ",'MMW Output'!B2) -> Watershed: User Specified
A3: =CONCATENATE("Year: ",'MMW Output'!C14) -> Year: User Specified
A5: Section 4: Farm Animals TN and TP Loading Rates Worksheet
A6: This worksheet calculates and apportions the "Total Nitrogen" and "Total Phosphorus" loading rates from the "Farm Animals" source load from a MMW Output file into the two applicable agricultural land uses, Hay/Pasture and Cropland, based on area weighting. The methodology was provided by Dr. Barry Evans (Stroud Water Research Center, Pennsylvania State University), the author of MapShed, and with concurrence from Mr. Bill Brown (PADEP). The MapShed output file provides the Farm Animals "Total Nitrogen" and "Total Phosphorus" loads in pounds.
A9: Step 1. The Farm Animal "Total Nitrogen" and "Total Phosphorus" load, in pounds, and land areas for each land use category, in acres, from a MMW Output file are presented below.
B12: Total Watershed Load | D12: Total Nitrogen | E12: Total Phosphorus
C13: Nutrient Load from Farm Animals | D13: =+'MMW Output'!E36 -> 4895.7615 | E13: =+'MMW Output'!F36 -> 1294.1145 | F13: pounds | G13: Note: The loads are taken from cells E36 and F36 from the MMW Output worksheet
B15: Land Use Categories from MMW ①
C16: Source | D16: Area (acres)
C17: Hay/Pasture | D17: =+'MMW Output'!C20 -> 1666.6667
C18: Cropland | D18: =+'MMW Output'!C21 -> 491.35802
B19: ① - Since only the 'Hay/Pasture' and 'Cropland' land uses are apportioned Farm Loading Rates, the remaining land use categories are not applicable to this worksheet.
A22: Step 2. Total Acres in "Hay/Pasture" and "Cropland" land uses are summed.
C24: Area of Hay/Pasture & Cropland, acres | D24: =+D17+D18 -> 2158.0247 | E24: acres = | F24: =CONCATENATE("[ ",ROUND(D17,2)," acres + ",ROUND(D18,2)," acres"," ]") -> [ 1666.67 acres + 491.36 acres ]
A27: Step 3. Calculate the unit area Farm Animals loading rate (lbs/ac) to Total Nitrogen and Total Phosphorus for each land use by dividing the Farm Animal Load by the land use acres.
D29: Total Nitrogen | E29: Total Phosphorus
C30: Nutrient Load from Farm Animals | D30: =+D13 -> 4895.7615 | E30: =+E13 -> 1294.1145 | F30: pounds, from Step 1
C31: Area of Hay/Pasture & Cropland | D31: =+D24 -> 2158.0247 | E31: =+D24 -> 2158.0247 | F31: acres, from Step 2
C33: Loading Rate for Hay/Pasture & Cropland | D33: =+D30/D31 -> 2.2686309 | E33: =+E30/E31 -> 0.59967548 | F33: pounds per acre
A36: Step 4. Add these Farm Animals loading rates to the Land Use (upland) and Stream Bank loading rates for Hay/Pasture and Cropland to calculate the Toal Nitrogen and Total Phosphorus loading rates as shown on the Land Use Loading Rates Look-Up Table.

Sheet Stream Bank Loading Rates
A1: Look-Up Table for MMW Loading Rates | I1: Look-Up Table for MMW Loading Rates | R1: Look-Up Table for MMW Loading Rates
A2: =CONCATENATE("Watershed: ",'MMW Output'!$B$2) -> Watershed: User Specified | I2: =CONCATENATE("Watershed: ",'MMW Output'!$B$2) -> Watershed: User Specified | R2: =CONCATENATE("Watershed: ",'MMW Output'!$B$2) -> Watershed: User Specified
A3: =CONCATENATE("Year: ",'MMW Output'!$C$14) -> Year: User Specified | I3: =CONCATENATE("Year: ",'MMW Output'!$C$14) -> Year: User Specified | R3: =CONCATENATE("Year: ",'MMW Output'!$C$14) -> Year: User Specified
A5: Section 5: Stream Bank Sediment Loading Rates Worksheet | I5: Section 6: Stream Bank Nitrogen Loading Rates Worksheet | R5: Section 7: Stream Bank Phosphorus Loading Rates Worksheet
A6: This worksheet calculates and apportions the loading rates from the Stream Bank source load for sediment from the MMW Output file into each land use category, using methodology provided from Dr. Barry Evans (Pennsylvania State University), the author of MapShed, and with concurrence from Mr. Bill Brown (PADEP). The MMW output file provides the sediment load in tons, which are converted to pounds to be consistent with the loading rates for Total Nitrogen and Total Phosphorus. | I6: This worksheet calculates and apportions the loading rates from the Stream Bank source load for Total Nitrogen from the Christina MapShed Output file into each land use category, using methodology provided from Dr. Barry Evans (Pennsylvania State University), the author of MapShed, and with concurrence from Mr. Bill Brown (PADEP). The MapShed output file provides the nitrogen load in pounds. | R6: This worksheet calculates and apportions the loading rates from the Stream Bank source load for Total Phosphorus from the MMW Output file into each land use category, using methodology provided from Dr. Barry Evans (Pennsylvania State University), the author of MapShed, and with concurrence from Mr. Bill Brown (PADEP). The MapShed output file provides the Phosphorus load in pounds.
A9: Step 1. The Stream Bank Sediment Load, in tons, and land areas for each land use category, in acres, are presented below. | I9: Step 1. The land areas for each land use category, in acres, are presented below. | R9: Step 1. The land areas for each land use category, in acres, are presented below.
C11: Sediment
B12: Stream Bank | C12: =ROUND('MMW Output'!D38,2) -> 26700.07 | D12: tons | E12: Note: The sediment load is taken from Cell D38 in the MMW Output worksheet
B14: Source | C14: Area (acres) | J14: Source | K14: Area (acres) | S14: Source | T14: Area (acres)
A15: Land Use Categories from MapShed | B15: Hay/Pasture | C15: =+'MMW Output'!C20 -> 1666.6667 | I15: Land Use Categories from MapShed | J15: Hay/Pasture | K15: =+'MMW Output'!C20 -> 1666.6667 | R15: Land Use Categories from MapShed | S15: Hay/Pasture | T15: =+'MMW Output'!C20 -> 1666.6667
B16: Cropland | C16: =+'MMW Output'!C21 -> 491.35802 | J16: Cropland | K16: =+'MMW Output'!C21 -> 491.35802 | S16: Cropland | T16: =+'MMW Output'!C21 -> 491.35802
B17: Forest | C17: =+'MMW Output'!C22 -> 9730.8642 | J17: Forest | K17: =+'MMW Output'!C22 -> 9730.8642 | S17: Forest | T17: =+'MMW Output'!C22 -> 9730.8642
B18: Wetland | C18: =+'MMW Output'!C23 -> 656.79012 | J18: Wetland | K18: =+'MMW Output'!C23 -> 656.79012 | S18: Wetland | T18: =+'MMW Output'!C23 -> 656.79012
B19: Disturbed | C19: =+'MMW Output'!C24 -> 0 | J19: Disturbed | K19: =+'MMW Output'!C24 -> 0 | S19: Disturbed | T19: =+'MMW Output'!C24 -> 0
B20: Turfgrass | C20: =+'MMW Output'!C25 -> 0 | J20: Turfgrass | K20: =+'MMW Output'!C25 -> 0 | S20: Turfgrass | T20: =+'MMW Output'!C25 -> 0
B21: Open_Land | C21: =+'MMW Output'!C26 -> 66.666667 | J21: Open_Land | K21: =+'MMW Output'!C26 -> 66.666667 | S21: Open_Land | T21: =+'MMW Output'!C26 -> 66.666667
B22: Bare_Rock | C22: =+'MMW Output'!C27 -> 222.22222 | J22: Bare_Rock | K22: =+'MMW Output'!C27 -> 222.22222 | S22: Bare_Rock | T22: =+'MMW Output'!C27 -> 222.22222
B23: Sandy_Areas | C23: =+'MMW Output'!C28 -> 0 | J23: Sandy_Areas | K23: =+'MMW Output'!C28 -> 0 | S23: Sandy_Areas | T23: =+'MMW Output'!C28 -> 0
B24: Unpaved_Road | C24: =+'MMW Output'!C29 -> 0 | J24: Unpaved_Road | K24: =+'MMW Output'!C29 -> 0 | S24: Unpaved_Road | T24: =+'MMW Output'!C29 -> 0
B25: Ld_Mixed | C25: =+'MMW Output'!C30 -> 23372.84 | J25: Ld_Mixed | K25: =+'MMW Output'!C30 -> 23372.84 | S25: Ld_Mixed | T25: =+'MMW Output'!C30 -> 23372.84
B26: Md_Mixed | C26: =+'MMW Output'!C31 -> 3395.0617 | J26: Md_Mixed | K26: =+'MMW Output'!C31 -> 3395.0617 | S26: Md_Mixed | T26: =+'MMW Output'!C31 -> 3395.0617
B27: Hd_Mixed | C27: =+'MMW Output'!C32 -> 965.4321 | J27: Hd_Mixed | K27: =+'MMW Output'!C32 -> 965.4321 | S27: Hd_Mixed | T27: =+'MMW Output'!C32 -> 965.4321
... B30: Hd_Residential | C30: =+'MMW Output'!C35 -> 0 | J30: Hd_Residential | K30: =+'MMW Output'!C35 -> 0 | S30: Hd_Residential | T30: =+'MMW Output'!C35 -> 0
B32: Total Acres, Watershed | C32: =SUM(C15:C31) -> 40567.901 | J32: Total Acres, Watershed | K32: =SUM(K15:K31) -> 40567.901 | S32: Total Acres, Watershed | T32: =SUM(T15:T31) -> 40567.901
A34: Step 2. Convert the Stream Bank Sediment Load to pounds by multiplying tons by 2,000 pounds per ton. | I34: Step 2. The Stream Bank Total Nitrogen Load, in pounds, is presented below: | R34: Step 2. The Stream Bank Total Phosphorus Load, in pounds, is presented below:
C36: Sediment Load, pounds | K36: Total Nitrogen Load, pounds | T36: Total Phosphorus Load, pounds
B37: Stream Bank | C37: =+C12*2000 -> 53400140 | D37: pounds | E37: =CONCATENATE("= [ ",ROUND(C12,2)," tons x 2,000 pounds per ton]") -> = [ 26700.07 tons x 2,000 pounds per ton] | J37: Stream Bank | K37: =+'MMW Output'!E38 -> 33246.99 | L37: pounds | S37: Stream Bank | T37: =+'MMW Output'!F38 -> 13291.74 | U37: pounds
A40: =CONCATENATE("Step 3. Sum the total acres in the ", 'MMW Output'!C13," watershed.") -> Step 3. Sum the total acres in the User Specified watershed. | I40: =CONCATENATE("Step 3. Sum the total acres in the ", 'MMW Output'!C13," watershed.") -> Step 3. Sum the total acres in the User Specified watershed. | R40: =CONCATENATE("Step 3. Sum the total acres in the ", 'MMW Output'!C13," watershed.") -> Step 3. Sum the total acres in the User Specified watershed.
B42: Total Acres in watershed | C42: =SUM(C15:C31) -> 40567.901 | D42: acres | J42: Total Acres in watershed | K42: =SUM(K15:K31) -> 40567.901 | L42: acres | S42: Total Acres in watershed | T42: =SUM(T15:T31) -> 40567.901 | U42: acres
A45: Step 4. Calculate the total acres in the watershed that are considered "Developed," which includes Low Density Mixed (Ld_Mixed), Medium Density Mixed (Md_Mixed), High Density Mixed (Hd_Mixed); and Low Density Residential (Ld_Residential), Medium Density Residential (Md_Residential), and High Density Residential (Hd_Residential). | I45: Step 4. Calculate the total acres in the watershed that are considered "Developed," which includes Low Density Mixed (Ld_Mixed), Medium Density Mixed (Md_Mixed), High Density Mixed (Hd_Mixed); and Low Density Residential (Ld_Residential), Medium Density Residential (Md_Residential), and High Density Residential (Hd_Residential): | R45: Step 4. Calculate the total acres in the watershed that are considered "Developed," which includes Low Density Mixed (Ld_Mixed), Medium Density Mixed (Md_Mixed), High Density Mixed (Hd_Mixed); and Low Density Residential (Ld_Residential), Medium Density Residential (Md_Residential), and High Density Residential (Hd_Residential):
B47: Area of Developed Lands | C47: acres | D47: percent | J47: Area of Developed Lands | K47: acres | L47: percent | S47: Area of Developed Lands | T47: acres | U47: percent
B48: Low Density Developed | C48: =+C25+C28 -> 23372.84 | D48: =+C48/C$51 -> 0.84277066 | E48: [ Ld_Mixed + Ld_Residential ] | J48: Low Density Developed | K48: =+K25+K28 -> 23372.84 | L48: =+K48/K$51 -> 0.84277066 | M48: [ Ld_Mixed + Ld_Residential ] | S48: Low Density Developed | T48: =+T25+T28 -> 23372.84 | U48: =+T48/T$51 -> 0.84277066 | V48: [ Ld_Mixed + Ld_Residential ]
B49: Medium Density Developed | C49: =+C26+C29 -> 3395.0617 | D49: =+C49/C$51 -> 0.12241809 | E49: [ Md_Mixed + Md_Residential ] | J49: Medium Density Developed | K49: =+K26+K29 -> 3395.0617 | L49: =+K49/K$51 -> 0.12241809 | M49: [ Md_Mixed + Md_Residential ] | S49: Medium Density Developed | T49: =+T26+T29 -> 3395.0617 | U49: =+T49/T$51 -> 0.12241809 | V49: [ Md_Mixed + Md_Residential ]
B50: High Density Developed | C50: =+C27+C30 -> 965.4321 | D50: =+C50/C$51 -> 0.034811254 | E50: [ Hd_Mixed + Hd_Residential ] | J50: High Density Developed | K50: =+K27+K30 -> 965.4321 | L50: =+K50/K$51 -> 0.034811254 | M50: [ Hd_Mixed + Hd_Residential ] | S50: High Density Developed | T50: =+T27+T30 -> 965.4321 | U50: =+T50/T$51 -> 0.034811254 | V50: [ Hd_Mixed + Hd_Residential ]
B51: Total | C51: =+C48+C49+C50 -> 27733.333 | D51: =+C51/C$51 -> 1 | E51: [ All "Developed" land use categories ] | J51: Total | K51: =+K48+K49+K50 -> 27733.333 | L51: =+K51/K$51 -> 1 | M51: [ All "Developed" land use categories ] | S51: Total | T51: =+T48+T49+T50 -> 27733.333 | U51: =+T51/T$51 -> 1 | V51: [ All "Developed" land use categories ]
A54: Step 5. Calculate the portion of the Stream Bank Sediment Load resulting from "Developed" Lands | I54: Step 5. Calculate the portion of the Stream Bank Total Nitrogen (TN) Load resulting from "Developed" Lands | R54: Step 5. Calculate the portion of the Stream Bank Total Phosphorus (TP) Load resulting from "Developed" Lands
B55: This is A) 75% of the Stream Bank Sediment Load times the percent of developed lands in the watershed | J55: This is A) 75% of the Stream Bank Total Nitrogen Load times the percent of developed lands in the watershed | S55: This is A) 75% of the Stream Bank Total Phosphorus Load times the percent of developed lands in the
B56: plus B) 25% of the Stream Bank Sediment Load: | J56: plus B) 25% of the Stream Bank Total Nitrogen Load: | S56: watershed plus B) 25% of the Stream Bank Total Phosphorus Load:
B58: Stream Bank Sediment Load | C58: =C37 -> 53400140 | D58: pounds | E58: from Step 2 | J58: Stream Bank TN Load | K58: =K37 -> 33246.99 | L58: pounds | M58: from Step 2 | S58: Stream Bank TP Load | T58: =T37 -> 13291.74 | U58: pounds | V58: from Step 2
B59: Total Developed Acres | C59: =+C51 -> 27733.333 | D59: acres | E59: from Step 4 | J59: Total Developed Acres | K59: =+K51 -> 27733.333 | L59: acres | M59: from Step 4 | S59: Total Developed Acres | T59: =+T51 -> 27733.333 | U59: acres | V59: from Step 4
B60: Total Acres in watershed | C60: =+C42 -> 40567.901 | D60: acres | E60: from Step 3 | J60: Total Acres in watershed | K60: =+K42 -> 40567.901 | L60: acres | M60: from Step 3 | S60: Total Acres in watershed | T60: =+T42 -> 40567.901 | U60: acres | V60: from Step 3
B61: Percent of Developed lands in watershed | C61: =+C59/C60 -> 0.68362751 | D61: = | E61: =CONCATENATE("[ ",ROUND(C59,2)," acres / ",ROUND(C60,2)," acres ]") -> [ 27733.33 acres / 40567.9 acres ] | J61: Percent of Developed lands in watershed | K61: =+K59/K60 -> 0.68362751 | L61: = | M61: =CONCATENATE("[ ",ROUND(K59,2)," acres / ",ROUND(K60,2)," acres ]") -> [ 27733.33 acres / 40567.9 acres ] | S61: Percent of Developed lands in watershed | T61: =+T59/T60 -> 0.68362751 | U61: = | V61: =CONCATENATE("[ ",ROUND(T59,2)," acres / ",ROUND(T60,2)," acres ]") -> [ 27733.33 acres / 40567.9 acres ]
B63: A) 75% x Stream Bank Sediment Load x Percent of Developed Lands | C63: =+C58*(C51/C60)*0.75 -> 27379354 | D63: pounds = | E63: =CONCATENATE("[ 75% x ",ROUND(C58,2)," pounds x ",ROUND(C61*100,0),"% ]") -> [ 75% x 53400140 pounds x 68% ] | J63: A) 75% x Stream Bank TN Load x Percent of Developed Lands | K63: =+K58*K61*0.75 -> 17046.418 | L63: pounds = | M63: =CONCATENATE("[ 75% x ",ROUND(K58,2)," pounds x ",ROUND(K61*100,0),"% ]") -> [ 75% x 33246.99 pounds x 68% ] | S63: A) 75% x Stream Bank TP Load x Percent of Developed Lands | T63: =+T58*T61*0.75 -> 6814.9493 | U63: pounds = | V63: =CONCATENATE("[ 75% x ",ROUND(T58,2)," pounds x ",ROUND(T61*100,0),"% ]") -> [ 75% x 13291.74 pounds x 68% ]
B64: B) 25% x Stream Bank Sediment Load | C64: =+C58*0.25 -> 13350035 | D64: pounds = | E64: =CONCATENATE("[ 25% x ",ROUND(C58,2)," pounds ]") -> [ 25% x 53400140 pounds ] | J64: B) 25% x Stream Bank TN Load | K64: =+K58*0.25 -> 8311.7475 | L64: pounds = | M64: =CONCATENATE("[ 25% x ",ROUND(K58,2)," pounds ]") -> [ 25% x 33246.99 pounds ] | S64: B) 25% x Stream Bank TP Load | T64: =+T58*0.25 -> 3322.935 | U64: pounds = | V64: =CONCATENATE("[ 25% x ",ROUND(T58,2)," pounds ]") -> [ 25% x 13291.74 pounds ]
B65: Load Assigned to Developed Lands | C65: =+C64+C63 -> 40729389 | D65: pounds | J65: Load Assigned to Developed Lands | K65: =+K64+K63 -> 25358.165 | L65: pounds | S65: Load Assigned to Developed Lands | T65: =+T64+T63 -> 10137.884 | U65: pounds
A68: Step 6. Calculate the portion of the Stream Bank Sediment Load from "Developed" Lands that is assigned to each of the land use categories by calculating relative components from "Impervious" surfaces and from the land use as a whole: | I68: Step 6. Calculate the portion of the Stream Bank Total Nitrogen Load from "Developed" Lands that is assigned to each of the land use categories by calculating relative components from "Impervious" surfaces and from the land use as a whole: | R68: Step 6. Calculate the portion of the Stream Bank Total Phosphorus Load from "Developed" Lands that is assigned to each of the land use categories by calculating relative components from "Impervious" surfaces and from the land use as a whole:
B70: Estimated Percent of Impervious Area for corresponding land use categories (MapShed Values) | J70: Estimated Percent of Impervious Area for corresponding land use categories (MapShed Values) | S70: Estimated Percent of Impervious Area for corresponding land use categories (MapShed Values)
B71: Low Density Developed | C71: =+TechDocs!E16 -> 0.15 | J71: Low Density Developed | K71: =+TechDocs!E16 -> 0.15 | S71: Low Density Developed | T71: =+TechDocs!E16 -> 0.15
B72: Medium Density Developed | C72: =+TechDocs!E17 -> 0.52 | J72: Medium Density Developed | K72: =+TechDocs!E17 -> 0.52 | S72: Medium Density Developed | T72: =+TechDocs!E17 -> 0.52
B73: High Density Developed | C73: =+TechDocs!E18 -> 0.87 | J73: High Density Developed | K73: =+TechDocs!E18 -> 0.87 | S73: High Density Developed | T73: =+TechDocs!E18 -> 0.87
A76: Step 7. Calculate how many acres within the watershed are "Impervious" by multiplying the acres in Step 4 by the percent in Step 6: | I76: Step 7. Calculate how many acres within the watershed are "Impervious" by multiplying the acres in Step 4 by the percent in Step 6: | R76: Step 7. Calculate how many acres within the watershed are "Impervious" by multiplying the acres in Step 4 by the percent in Step 6:
B78: Estimated Impervious Surfaces for Developed Lands | J78: Estimated Impervious Surfaces for Developed Lands | S78: Estimated Impervious Surfaces for Developed Lands
B79: Low Density Developed | C79: =+C48*C71 -> 3505.9259 | D79: acres = | E79: =CONCATENATE(" [ ",ROUND(C48,2)," acres x ",C71*100," percent ]") -> [ 23372.84 acres x 15 percent ] | J79: Low Density Developed | K79: =+K48*K71 -> 3505.9259 | L79: acres = | M79: =CONCATENATE(" [ ",ROUND(K48,2)," acres x ",K71*100," percent ]") -> [ 23372.84 acres x 15 percent ] | S79: Low Density Developed | T79: =+T48*T71 -> 3505.9259 | U79: acres = | V79: =CONCATENATE(" [ ",ROUND(T48,2)," acres x ",T71*100," percent ]") -> [ 23372.84 acres x 15 percent ]
B80: Medium Density Developed | C80: =+C49*C72 -> 1765.4321 | D80: acres = | E80: =CONCATENATE(" [ ",ROUND(C49,2)," acres x ",C72*100," percent ]") -> [ 3395.06 acres x 52 percent ] | J80: Medium Density Developed | K80: =+K49*K72 -> 1765.4321 | L80: acres = | M80: =CONCATENATE(" [ ",ROUND(K49,2)," acres x ",K72*100," percent ]") -> [ 3395.06 acres x 52 percent ] | S80: Medium Density Developed | T80: =+T49*T72 -> 1765.4321 | U80: acres = | V80: =CONCATENATE(" [ ",ROUND(T49,2)," acres x ",T72*100," percent ]") -> [ 3395.06 acres x 52 percent ]
B81: High Density Developed | C81: =+C50*C73 -> 839.92593 | D81: acres = | E81: =CONCATENATE(" [ ",ROUND(C50,2)," acres x ",C73*100," percent ]") -> [ 965.43 acres x 87 percent ] | J81: High Density Developed | K81: =+K50*K73 -> 839.92593 | L81: acres = | M81: =CONCATENATE(" [ ",ROUND(K50,2)," acres x ",K73*100," percent ]") -> [ 965.43 acres x 87 percent ] | S81: High Density Developed | T81: =+T50*T73 -> 839.92593 | U81: acres = | V81: =CONCATENATE(" [ ",ROUND(T50,2)," acres x ",T73*100," percent ]") -> [ 965.43 acres x 87 percent ]
B82: Total Developed Impervious Surface Area | C82: =+C79+C80+C81 -> 6111.284 | D82: acres | J82: Total Developed Impervious Surface Area | K82: =+K79+K80+K81 -> 6111.284 | L82: acres | S82: Total Developed Impervious Surface Area | T82: =+T79+T80+T81 -> 6111.284 | U82: acres
A85: Step 8. Calculate the percent of total developed Impervious Surface for each land use: | I85: Step 8. Calculate the percent of total developed Impervious Surface for each land use: | R85: Step 8. Calculate the percent of total developed Impervious Surface for each land use:
B87: Percent of Total Impervious Surfaces | J87: Percent of Total Impervious Surfaces | S87: Percent of Total Impervious Surfaces
B88: Low Density Developed | C88: =+C79/(C$79+C$80+C$81) -> 0.57368074 | D88: = | E88: =CONCATENATE(" [ ",ROUND(C79,2)," acres / ",ROUND(C82,2)," acres ]") -> [ 3505.93 acres / 6111.28 acres ] | J88: Low Density Developed | K88: =+K79/(K$79+K$80+K$81) -> 0.57368074 | L88: = | M88: =CONCATENATE(" [ ",ROUND(K79,2)," acres / ",ROUND(K82,2)," acres ]") -> [ 3505.93 acres / 6111.28 acres ] | S88: Low Density Developed | T88: =+T79/(T$79+T$80+T$81) -> 0.57368074 | U88: = | V88: =CONCATENATE(" [ ",ROUND(T79,2)," acres / ",ROUND(T82,2)," acres ]") -> [ 3505.93 acres / 6111.28 acres ]
B89: Medium Density Developed | C89: =+C80/(C$79+C$80+C$81) -> 0.28888072 | D89: = | E89: =CONCATENATE(" [ ",ROUND(C80,2)," acres / ",ROUND(C82,2)," acres ]") -> [ 1765.43 acres / 6111.28 acres ] | J89: Medium Density Developed | K89: =+K80/(K$79+K$80+K$81) -> 0.28888072 | L89: = | M89: =CONCATENATE(" [ ",ROUND(K80,2)," acres / ",ROUND(K82,2)," acres ]") -> [ 1765.43 acres / 6111.28 acres ] | S89: Medium Density Developed | T89: =+T80/(T$79+T$80+T$81) -> 0.28888072 | U89: = | V89: =CONCATENATE(" [ ",ROUND(T80,2)," acres / ",ROUND(T82,2)," acres ]") -> [ 1765.43 acres / 6111.28 acres ]
B90: High Density Developed | C90: =+C81/(C$79+C$80+C$81) -> 0.13743854 | D90: = | E90: =CONCATENATE(" [ ",ROUND(C81,2)," acres / ",ROUND(C82,2)," acres ]") -> [ 839.93 acres / 6111.28 acres ] | J90: High Density Developed | K90: =+K81/(K$79+K$80+K$81) -> 0.13743854 | L90: = | M90: =CONCATENATE(" [ ",ROUND(K81,2)," acres / ",ROUND(K82,2)," acres ]") -> [ 839.93 acres / 6111.28 acres ] | S90: High Density Developed | T90: =+T81/(T$79+T$80+T$81) -> 0.13743854 | U90: = | V90: =CONCATENATE(" [ ",ROUND(T81,2)," acres / ",ROUND(T82,2)," acres ]") -> [ 839.93 acres / 6111.28 acres ]
B91: Total | C91: =+C88+C89+C90 -> 1 | J91: Total | K91: =+K88+K89+K90 -> 1 | S91: Total | T91: =+T88+T89+T90 -> 1
A94: Step 9. Distribute the "Total Load Assigned to Developed Lands" from Step 5 to each Developed Land type based on "Impervious" surfaces and the percent of land area in the land use category: | I94: Step 9. Distribute the "Total Load Assigned to Developed Lands" from Step 5 based on "Impervious" surfaces and assign 40% based on the percent of land area in the land use category. | R94: Step 9. Distribute the "Total Load Assigned to Developed Lands" from Step 5 to each Developed Land type based on "Impervious" surfaces and the percent of land area in each land use category.
B96: Load Assigned to Developed Lands | C96: =+C65 -> 40729389 | D96: pounds = | E96: [ result of Step 5 ] | J96: Load Assigned to Developed Lands | K96: =+K65 -> 25358.165 | L96: pounds = | M96: [ result of Step 5 ] | S96: Load Assigned to Developed Lands | T96: =+T65 -> 10137.884 | U96: pounds = | V96: [ result of Step 5 ]
B97: Load assigned to Total Developed Land | C97: =+C63 -> 27379354 | D97: pounds = | E97: [ result of Step 5 ] | J97: Load assigned to Total Developed Land Area | K97: =+K63 -> 17046.418 | L97: pounds = | M97: [ result of Step 5 ] | S97: Load assigned to Total Developed Land | T97: =+T63 -> 6814.9493 | U97: pounds = | V97: [ result of Step 5 ]
B98: Load assigned for Total Impervious Land | C98: =+C64 -> 13350035 | D98: pounds = | E98: [ result of Step 5 ] | J98: Load assigned for total impervious land area | K98: =+K64 -> 8311.7475 | L98: pounds = | M98: [ result of Step 5 ] | S98: Load assigned to Total Impervious Land | T98: =+T64 -> 3322.935 | U98: pounds = | V98: [ result of Step 5 ]
A101: Step 10. Apportion Load Assigned to "Impervious" surfaces to each "Developed" land use category by | I101: Step 10. Apportion Load Assigned to "Impervious" surfaces to each "Developed" land use category by | R101: Step 10. Apportion Load Assigned to "Impervious" surfaces to each "Developed" land use category by
A102: =CONCATENATE("multiplying the 'Percent of Total Impervious Surfaces' (Step 8) by ",ROUND(C98,2)," pounds (calculated in Step 9):") -> multiplying the 'Percent of Total Impervious Surfaces' (Step 8) by 13350035 pounds (calculated in Step 9): | I102: =CONCATENATE("multiplying the 'Percent of Total Impervious Surfaces' (Step 8) by ",ROUND(K98,2)," pounds (calculated in Step 9):") -> multiplying the 'Percent of Total Impervious Surfaces' (Step 8) by 8311.75 pounds (calculated in Step 9): | R102: =CONCATENATE("multiplying the 'Percent of Total Impervious Surfaces' (Step 8) by ",ROUND(T98,2)," pounds (calculated in Step 9):") -> multiplying the 'Percent of Total Impervious Surfaces' (Step 8) by 3322.94 pounds (calculated in Step 9):
B104: Stream Bank Sediment Load Assigned to Impervious Surface, pounds | J104: Stream Bank Total Nitrogen Load Assigned to Impervious Surface, pounds | S104: Stream Bank Total Phosphorus Load Assigned to Impervious Surface, pounds
B105: Low Density Developed | C105: =C88*C$98 -> 7658658 | D105: =CONCATENATE("= [ ",ROUND(C88*100,0)," % x ",ROUND(C$98,2)," pounds ]") -> = [ 57 % x 13350035 pounds ] | J105: Low Density Developed | K105: =K88*K$97 -> 9779.2016 | L105: =CONCATENATE("= [ ",ROUND(K88*100,0)," % x ",ROUND(K$98,2)," pounds ]") -> = [ 57 % x 8311.75 pounds ] | S105: Low Density Developed | T105: =T88*T$98 -> 1906.3038 | U105: =CONCATENATE("= [ ",ROUND(T88*100,0)," % x ",ROUND(T$98,2)," pounds ]") -> = [ 57 % x 3322.94 pounds ]
B106: Medium Density Developed | C106: =C89*C$98 -> 3856567.7 | D106: =CONCATENATE("= [ ",ROUND(C89*100,0)," % x ",ROUND(C$98,2)," pounds ]") -> = [ 29 % x 13350035 pounds ] | J106: Medium Density Developed | K106: =K89*K$97 -> 4924.3814 | L106: =CONCATENATE("= [ ",ROUND(K89*100,0)," % x ",ROUND(K$98,2)," pounds ]") -> = [ 29 % x 8311.75 pounds ] | S106: Medium Density Developed | T106: =T89*T$98 -> 959.93185 | U106: =CONCATENATE("= [ ",ROUND(T89*100,0)," % x ",ROUND(T$98,2)," pounds ]") -> = [ 29 % x 3322.94 pounds ]
B107: High Density Developed | C107: =C90*C$98 -> 1834809.3 | D107: =CONCATENATE("= [ ",ROUND(C90*100,0)," % x ",ROUND(C$98,2)," pounds ]") -> = [ 14 % x 13350035 pounds ] | J107: High Density Developed | K107: =K90*K$97 -> 2342.8347 | L107: =CONCATENATE("= [ ",ROUND(K90*100,0)," % x ",ROUND(K$98,2)," pounds ]") -> = [ 14 % x 8311.75 pounds ] | S107: High Density Developed | T107: =T90*T$98 -> 456.69933 | U107: =CONCATENATE("= [ ",ROUND(T90*100,0)," % x ",ROUND(T$98,2)," pounds ]") -> = [ 14 % x 3322.94 pounds ]
A110: Step 11. Apportion Load Assigned to Total Land Area to each "Developed" land use category by multiplying | I110: Step 11. Apportion Load Assigned to Total Land Area to each "Developed" land use category by multiplying | R110: Step 11. Apportion Load Assigned to Total Land Area to each "Developed" land use category by multiplying
A111: =CONCATENATE("the 'Percent of Area of Developed Lands' (from Step 4) by ",ROUND(C97,2)," pounds (calculated in Step 9):") -> the 'Percent of Area of Developed Lands' (from Step 4) by 27379353.58 pounds (calculated in Step 9): | I111: =CONCATENATE("the 'Percent of Area of Developed Lands' (from Step 4) by ",ROUND(K97,2)," pounds (calculated in Step 9):") -> the 'Percent of Area of Developed Lands' (from Step 4) by 17046.42 pounds (calculated in Step 9): | R111: =CONCATENATE("the 'Percent of Area of Developed Lands' (from Step 4) by ",ROUND(T97,2)," pounds (calculated in Step 9):") -> the 'Percent of Area of Developed Lands' (from Step 4) by 6814.95 pounds (calculated in Step 9):
B113: Stream Bank Sediment Load Assigned to Total Developed Land Area, pounds | J113: Stream Bank Total Nitrogen Load Assigned to Total Developed Land Area, pounds | S113: Stream Bank Total Phosphorus Load Assigned to Total Developed Land Area, pounds
B114: Low Density Developed | C114: =(C48/C$51)*C$97 -> 23074516 | D114: =CONCATENATE("= [ ",ROUND(D48*100,0)," % x ",ROUND(C$97,2)," pounds ]") -> = [ 84 % x 27379353.58 pounds ] | J114: Low Density Developed | K114: =K48/K$51*K$98 -> 7004.8969 | L114: =CONCATENATE("= [ ",ROUND(L48*100,0)," % x ",ROUND(K$97,2)," pounds ]") -> = [ 84 % x 17046.42 pounds ] | S114: Low Density Developed | T114: =T48/T$51*T$97 -> 5743.4393 | U114: =CONCATENATE("= [ ",ROUND(U48*100,0)," % x ",ROUND(T$97,2)," pounds ]") -> = [ 84 % x 6814.95 pounds ]
B115: Medium Density Developed | C115: =(C49/C$51)*C$97 -> 3351728.2 | D115: =CONCATENATE("= [ ",ROUND(D49*100,0)," % x ",ROUND(C$97,2)," pounds ]") -> = [ 12 % x 27379353.58 pounds ] | J115: Medium Density Developed | K115: =K49/K$51*K$98 -> 1017.5083 | L115: =CONCATENATE("= [ ",ROUND(L49*100,0)," % x ",ROUND(K$97,2)," pounds ]") -> = [ 12 % x 17046.42 pounds ] | S115: Medium Density Developed | T115: =T49/T$51*T$97 -> 834.27309 | U115: =CONCATENATE("= [ ",ROUND(U49*100,0)," % x ",ROUND(T$97,2)," pounds ]") -> = [ 12 % x 6814.95 pounds ]
B116: High Density Developed | C116: =(C50/C$51)*C$97 -> 953109.62 | D116: =CONCATENATE("= [ ",ROUND(D50*100,0)," % x ",ROUND(C$97,2)," pounds ] ") -> = [ 3 % x 27379353.58 pounds ] | J116: High Density Developed | K116: =K50/K$51*K$98 -> 289.34235 | L116: =CONCATENATE("= [ ",ROUND(L50*100,0)," % x ",ROUND(K$97,2)," pounds ] ") -> = [ 3 % x 17046.42 pounds ] | S116: High Density Developed | T116: =T50/T$51*T$97 -> 237.23693 | U116: =CONCATENATE("= [ ",ROUND(U50*100,0)," % x ",ROUND(T$97,2)," pounds ] ") -> = [ 3 % x 6814.95 pounds ]
A119: Step 12. Combine the loads apportioned to "Impervious" surfaces, from Step 10, and the loads apportioned to Total Developed Land Area, from Step 11: | I119: Step 12. Combine the loads apportioned to "Impervious" surfaces, from Step 10, and the loads apportioned to Total Developed Land Area, from Step 11: | R119: Step 12. Combine the loads apportioned to "Impervious" surfaces, from Step 10, and the loads apportioned to Total Developed Land Area, from Step 11:
B121: Total Stream Bank Sediment Load per Land Use, pounds | J121: Total Stream Bank Total Nitrogen Load per Land Use, pounds | S121: Total Stream Bank Total Phosphorus Load per Land Use, pounds
B122: Low Density Developed | C122: =+C105+C114 -> 30733174 | D122: =CONCATENATE(" = [ ",ROUND(C105,2)," pounds + ",ROUND(C114,2)," pounds ]") -> = [ 7658658.02 pounds + 23074515.76 pounds ] | J122: Low Density Developed | K122: =+K105+K114 -> 16784.099 | L122: =CONCATENATE(" = [ ",ROUND(K105,2)," pounds + ",ROUND(K114,2)," pounds ]") -> = [ 9779.2 pounds + 7004.9 pounds ] | S122: Low Density Developed | T122: =+T105+T114 -> 7649.7432 | U122: =CONCATENATE(" = [ ",ROUND(T105,2)," pounds + ",ROUND(T114,2)," pounds ]") -> = [ 1906.3 pounds + 5743.44 pounds ]
B123: Medium Density Developed | C123: =+C106+C115 -> 7208295.9 | D123: =CONCATENATE(" = [ ",ROUND(C106,2)," pounds + ",ROUND(C115,2)," pounds ]") -> = [ 3856567.7 pounds + 3351728.2 pounds ] | J123: Medium Density Developed | K123: =+K106+K115 -> 5941.8897 | L123: =CONCATENATE(" = [ ",ROUND(K106,2)," pounds + ",ROUND(K115,2)," pounds ]") -> = [ 4924.38 pounds + 1017.51 pounds ] | S123: Medium Density Developed | T123: =+T106+T115 -> 1794.2049 | U123: =CONCATENATE(" = [ ",ROUND(T106,2)," pounds + ",ROUND(T115,2)," pounds ]") -> = [ 959.93 pounds + 834.27 pounds ]
B124: High Density Developed | C124: =+C107+C116 -> 2787918.9 | D124: =CONCATENATE(" = [ ",ROUND(C107,2)," pounds + ",ROUND(C116,2)," pounds ]") -> = [ 1834809.28 pounds + 953109.62 pounds ] | J124: High Density Developed | K124: =+K107+K116 -> 2632.1771 | L124: =CONCATENATE(" = [ ",ROUND(K107,2)," pounds + ",ROUND(K116,2)," pounds ]") -> = [ 2342.83 pounds + 289.34 pounds ] | S124: High Density Developed | T124: =+T107+T116 -> 693.93625 | U124: =CONCATENATE(" = [ ",ROUND(T107,2)," pounds + ",ROUND(T116,2)," pounds ]") -> = [ 456.7 pounds + 237.24 pounds ]
A128: Step 13. Calculate the Stream Bank Loading Rate for each "Developed" Land Use, in pounds per acre, by dividing the load from Step 12 by the acres in Step 4: | I128: Step 13. Calculate the Stream Bank Loading Rate for each "Developed" Land Use, in pounds per acre, by dividing the load from Step 12 by the acres in Step 4: | R128: Step 13. Calculate the Stream Bank Loading Rate for each "Developed" Land Use, in pounds per acre, by dividing the load from Step 12 by the acres in Step 4:
A130: Stream Bank Sediment Land Use Loading Rate | C130: pounds | D130: Land Use area, acres | E130: Stream Bank Sediment Loading Rate, pounds/acre | I130: Stream Bank Total Nitrogen Land Use Loading Rate | K130: pounds | L130: Land Use area, acres | M130: Stream Bank Total Nitrogen Loading Rate, pounds/acre | R130: Stream Bank Total Phosphorus Land Use Loading Rate | T130: pounds | U130: Land Use area, acres | V130: Stream Bank Total Phosphorus Loading Rate, pounds/acre
B131: Low Density Developed | C131: =+C122 -> 30733174 | D131: =+C48 -> 23372.84 | E131: =+C131/D131 -> 1314.9097 | F131: =CONCATENATE("= [",ROUND(C131,2)," lbs / ",(ROUND(D131,2))," acres ]") -> = [30733173.78 lbs / 23372.84 acres ] | J131: Low Density Developed | K131: =+K122 -> 16784.099 | L131: =+K48 -> 23372.84 | M131: =+K131/L131 -> 0.71810267 | N131: =CONCATENATE("= [",ROUND(K131,2)," lbs / ",(ROUND(L131,2))," acres ]") -> = [16784.1 lbs / 23372.84 acres ] | S131: Low Density Developed | T131: =+T122 -> 7649.7432 | U131: =+T48 -> 23372.84 | V131: =+T131/U131 -> 0.32729199 | W131: =CONCATENATE("= [",ROUND(T131,2)," lbs / ",(ROUND(U131,2))," acres ]") -> = [7649.74 lbs / 23372.84 acres ]
B132: Medium Density Developed | C132: =+C123 -> 7208295.9 | D132: =+C49 -> 3395.0617 | E132: =+C132/D132 -> 2123.1708 | F132: =CONCATENATE("= [",ROUND(C132,2)," lbs / ",(ROUND(D132,2))," acres ]") -> = [7208295.91 lbs / 3395.06 acres ] | J132: Medium Density Developed | K132: =+K123 -> 5941.8897 | L132: =+K49 -> 3395.0617 | M132: =+K132/L132 -> 1.7501566 | N132: =CONCATENATE("= [",ROUND(K132,2)," lbs / ",(ROUND(L132,2))," acres ]") -> = [5941.89 lbs / 3395.06 acres ] | S132: Medium Density Developed | T132: =+T123 -> 1794.2049 | U132: =+T49 -> 3395.0617 | V132: =+T132/U132 -> 0.52847491 | W132: =CONCATENATE("= [",ROUND(T132,2)," lbs / ",(ROUND(U132,2))," acres ]") -> = [1794.2 lbs / 3395.06 acres ]
B133: High Density Developed | C133: =+C124 -> 2787918.9 | D133: =+C50 -> 965.4321 | E133: =+C133/D133 -> 2887.7421 | F133: =CONCATENATE("= [",ROUND(C133,2)," lbs / ",(ROUND(D133,2))," acres ]") -> = [2787918.9 lbs / 965.43 acres ] | J133: High Density Developed | K133: =+K124 -> 2632.1771 | L133: =+K50 -> 965.4321 | M133: =+K133/L133 -> 2.7264238 | N133: =CONCATENATE("= [",ROUND(K133,2)," lbs / ",(ROUND(L133,2))," acres ]") -> = [2632.18 lbs / 965.43 acres ] | S133: High Density Developed | T133: =+T124 -> 693.93625 | U133: =+T50 -> 965.4321 | V133: =+T133/U133 -> 0.71878308 | W133: =CONCATENATE("= [",ROUND(T133,2)," lbs / ",(ROUND(U133,2))," acres ]") -> = [693.94 lbs / 965.43 acres ]
A137: Step 14. Calculate the Stream Bank Loading Rate for "Undeveloped Land" (all other land use categories): | I137: Step 14. Calculate the Stream Bank Loading Rate for "Undeveloped Land" (all other land use categories): | R137: Step 14. Calculate the Stream Bank Loading Rate for "Undeveloped Land" (all other land use categories):
B139: Total Stream Bank Load | C139: =+C37 -> 53400140 | D139: pounds = | E139: [ from Step 3 ] | J139: Total Stream Bank Load | K139: =+K37 -> 33246.99 | L139: pounds = | M139: [ from Step 3 ] | S139: Total Stream Bank Load | T139: =+T37 -> 13291.74 | U139: pounds = | V139: [ from Step 3 ]
B140: Load assigned to Developed Lands | C140: =+C65 -> 40729389 | D140: pounds = | E140: [ from Step 5 ] | J140: Load assigned to Developed Lands | K140: =+K65 -> 25358.165 | L140: pounds = | M140: [ from Step 5 ] | S140: Load assigned to Developed Lands | T140: =+T65 -> 10137.884 | U140: pounds = | V140: [ from Step 5 ]
B141: Remaining Load assigned to Undeveloped Lands | C141: =+C139-C140 -> 12670751 | D141: pounds = | E141: =CONCATENATE("[ ",ROUND(C139,2)," pounds - ",ROUND(C140,2)," pounds ]") -> [ 53400140 pounds - 40729388.58 pounds ] | J141: Remaining Load assigned to Undeveloped Lands | K141: =+K139-K140 -> 7888.8247 | L141: pounds = | M141: =CONCATENATE(" [ ",ROUND(K139,2)," pounds - ",ROUND(K140,2)," pounds ]") -> [ 33246.99 pounds - 25358.17 pounds ] | S141: Remaining Load assigned to Undeveloped Lands | T141: =+T139-T140 -> 3153.8557 | U141: pounds = | V141: =CONCATENATE(" [ ",ROUND(T139,2)," pounds - ",ROUND(T140,2)," pounds ]") -> [ 13291.74 pounds - 10137.88 pounds ]
B143: Acres of Undeveloped Lands | C143: =+C42-C51 -> 12834.568 | D143: acres = | E143: [ sum of "Undeveloped Land" from Step 1 ] | J143: Acres of Undeveloped Lands | K143: =+K42-K51 -> 12834.568 | L143: acres = | M143: [ sum of "Undeveloped Land" from Step 1 ] | S143: Acres of Undeveloped Lands | T143: =+T42-T51 -> 12834.568 | U143: acres = | V143: [ sum of "Undeveloped Land" from Step 1 ]
B145: Stream Bank Sediment Loading rate for Undeveloped Lands | C145: =+C141/C143 -> 987.23631 | D145: pounds per acre | E145: =CONCATENATE("= [ ",ROUND(C141,2)," pounds / ",ROUND(C143,2)," acres ]") -> = [ 12670751.42 pounds / 12834.57 acres ] | J145: Stream Bank Total Nitrogen Loading rate for Undeveloped Lands | K145: =+K141/K143 -> 0.61465449 | L145: pounds per acre | M145: =CONCATENATE("= [ ",ROUND(K141,2)," pounds / ",ROUND(K143,2)," acres ]") -> = [ 7888.82 pounds / 12834.57 acres ] | S145: Stream Bank Total Phosphorus Loading rate for Undeveloped Lands | T145: =+T141/T143 -> 0.24573135 | U145: pounds per acre | V145: =CONCATENATE("= [ ",ROUND(T141,2)," pounds / ",ROUND(T143,2)," acres ]") -> = [ 3153.86 pounds / 12834.57 acres ]
A148: Step 15. Add these Stream Bank Sediment Land Use Loading Rates to the Land Use (upland source) Loading Rates for each of the corresponding land uses in the Land Use Loading Rates Look-Up Table to calculate the Total Sediment Loading Rate. | I148: Step 15. Add these Stream Bank Total Nitrogen Land Use Loading Rates to the Land Use (upland source) and Farm Animals Loading Rates for each of the corresponding land uses in the Land Use Loading Rates Look-Up Table to calculate the final Total Nitrogen Loading Rate. | R148: Step 15. Add these Stream Bank Total Phosphorus Land Use Loading Rates to the Land Use (upland source) and Farm Animals Loading Rates for each of the corresponding land uses in the Land Use Loading Rates Look-Up Table to calculate the final Total Phosphorus Loading Rate.

Sheet Urban BMPs
A1: Urban BMP Load Reduction Calculation Table
A2: INSTRUCTIONS: Each row in the table below can represent either different areas of land use/cover within a single planning area (e.g., municipality), or different BMP drainage areas within a given planning area.
A3: If an individual planning area has multiple "developed land" types, each type can be represented in separate rows, with each row having the same "Project Name". If it is assumed that the planning area is being treated by one BMP system, then the "Treatment Depth" should be the same for each row.
A4: Similarly, a given planning area can have multiple "BMP drainage areas" (i.e., areas treated by different BMP systems). If a BMP drainage area has multiple "developed land" types, separate "land use areas" can be represented on separate rows, with each row having the same "Project Name". Also, in the case of "RR" and "ST" BMP types, the treatment depth should be the same for any row associated with the same Project Name.
A5: If runoff from a land use/cover type with NO impervious cover (e.g., Cropland) is treated by a BMP system (either existing or proposed), use the Manual Override (column R) to type in the treatment depth instead of column Q as would normally be done.
A6: Examples of various options for characterizing different types of project areas are provided in the "Example" spreadsheet that is also available for downloading from the Model My Watershed site.
A8: Project_name | B8: BMP_name | C8: BMP_class | D8: Existing? | E8: yearInstalled | I8: drainageLandCoverClass | J8: drainageArea_ac | K8: treatmentDepth_in | L8: lengthTreatedStream_ft | M8: lengthTreatedRoad_ft | N8: impervArea_ac | Q8: treatmentDepthNormalized_inPerImpervAc | R8: treatmentDepthNormalizedManual_inPerImpervAc | S8: treatmentDepthNormalizedEffective_inPerImpervAc | T8: impervFraction_percent | U8: TSS_Load_lbPerY | V8: TP_Load_lbPerY | W8: TN_Load_lbPerY | X8: TSS_ReductionEfficiency_percent | Y8: TP_ReductionEfficiency_percent | Z8: TN_ReductionEfficiency_percent | AA8: TSS_Reduction_lbPerY | AB8: TSS_Reduction_tonPerY | AC8: TP_Reduction_lbPerY | AD8: TN_Reduction_lbPerY
A9: Project Name | B9: BMP Name | C9: BMP Type | D9: Existing or Proposed | E9: Year Installed | F9: BMP Surface Area (Square Feet) | G9: BMP Surface Area (Acres) | H9: Water Volume Captured by BMP (Cubic Feet) | I9: MapShed Land Cover of Drainage Area | J9: Drainage Area Treated by BMP (Acres) | K9: Treatment Depth (inches of rainfall) | L9: Stream Restoration length (feet) - Qualified projects only | M9: Street Sweeping* Road Length Swept (ft) - Qualified projects only | N9: Impervious Area (ac) | O9: BMP Loading Ratio1 (Impervious Area / BMP Surface Area) | P9: BMP Loading Ratio2 (BMP Water Vol / Runoff Vol from 2.5" Rain ) | Q9: Treatment Depth (in/imp. ac) | R9: Treatment Depth (in/ac) for Manual Override - use if no impervious area | S9: Effective Treatment Depth (in/imp. ac) | T9: Impervious Surface (%) | U9: TSS Load (lbs/yr) | V9: TP Load (lbs/yr) | W9: TN Load (lbs/yr) | X9: TSS Reduction (%) | Y9: TP Reduction (%) | Z9: TN Reduction (%) | AA9: TSS Reduction (lbs/yr) | AB9: TSS Reduction (tons/yr) | AC9: TP Reduction (lbs/yr) | AD9: TN Reduction (lbs/yr)
A10: Project_name | B10: BMP_name | C10: BMP_type | D10: Existing? | E10: YearInstalled | F10: SquareFeet | G10: Acres | H10: CubicFeet | I10: drainageLandCoverClass | J10: drainageArea_ac | K10: treatmentDepth_in | L10: lengthTreatedStream_ft | M10: lengthTreatedRoad_ft2 | N10: impervArea_ac | O10: LoadRatio1 | P10: LoadRatio2 | Q10: treatmentDepthNormalized_inPerImpervAc | R10: treatmentDepthNormalizedManual_inPerImpervAc | S10: treatmentDepthNormalizedEffective_inPerImpervAc | T10: impervFraction_percent | U10: TSS_Load_lbPerY | V10: TP_Load_lbPerY | W10: TN_Load_lbPerY | X10: TSS_ReductionEfficiency_percent | Y10: TP_ReductionEfficiency_percent | Z10: TN_ReductionEfficiency_percent | AA10: TSS_Reduction_lbPerY | AB10: TSS_Reduction_tonPerY | AC10: TP_Reduction_lbPerY | AD10: TN_Reduction_lbPerY
A11: Existing | B11: Mall | C11: RR | D11: Existing | E11: 1998 | G11: =UrbanBMPs[[#This Row],[SquareFeet]]/43560 -> 0 | I11: Hd_Mixed | J11: 20 | K11: 1.8 | N11: =IFERROR(UrbanBMPs[[#This Row],[drainageArea_ac]]*UrbanBMPs[[#This Row],[impervFraction_percent]],NA()) -> 17.4 | O11: =IFERROR(UrbanBMPs[[#This Row],[impervArea_ac]]/UrbanBMPs[[#This Row],[Acres]],NA()) -> #N/A | P11: =IF(UrbanBMPs[[#This Row],[BMP_type]]="RR",NA(),IF(UrbanBMPs[[#This Row],[BMP_type]]="ST",NA(), IF(ISNUMBER(UrbanBMPs[[#This Row],[LoadRatio1]]),NA(), IFERROR(UrbanBMPs[[#This Row],[CubicFeet]]/(0.208*UrbanBMPs[[#This Row],[impervArea_ac]]*43560),NA())))) -> #N/A | Q11: =IFERROR(MIN(UrbanBMPs[[#This Row],[treatmentDepth_in]]*UrbanBMPs[[#This Row],[drainageArea_ac]]/UrbanBMPs[[#This Row],[impervArea_ac]],2.5),NA()) -> 2.0689655 | S11: =IF(UrbanBMPs[[#This Row],[treatmentDepthNormalizedManual_inPerImpervAc]]>0,UrbanBMPs[[#This Row],[treatmentDepthNormalizedManual_inPerImpervAc]],IFERROR(UrbanBMPs[[#This Row],[treatmentDepthNormalized_inPerImpervAc]],NA())) -> 2.0689655 | T11: =IF(UrbanBMPs[[#This Row],[BMP_type]]="Stream Restoration",NA(),IFERROR(INDEX(Impervious[#All],MATCH(UrbanBMPs[[#This Row],[drainageLandCoverClass]],Impervious[[#All],[Source]],0),4),NA())) -> 0.87 | U11: =IF(ISNUMBER(SEARCH("Street Sweeping",UrbanBMPs[[#This Row],[BMP_type]])),UrbanBMPs[[#This Row],[lengthTreatedRoad_ft2]]*Street_Sweeping[Road Width (ft)]/43560*INDEX(LoadRates[#All],MATCH(UrbanBMPs[[#This Row],[drainageLandCoverClass]],LoadRates[[#All],[Source]],0),(COLUMN(LoadRates[TSS_LoadRateLand_lbPerAcPerY])-1))*UrbanBMPs[[#This Row],[impervFraction_percent]], IF(UrbanBMPs[[#This Row],[BMP_type]]="Stream Restoration",NA(), IF(UrbanBMPs[[#This Row],[BMP_type]]="Forest Buffer",INDEX(LoadRates[#All], MATCH(UrbanBMPs[[#This Row],[drainageLandCoverClass]],LoadRates[[#All],[Source]],0),(COLUMN(LoadRates[TSS_LoadRateLand_lbPerAcPerY])-1))*(UrbanBMPs[[#This Row],[Acres]])*2,INDEX(LoadRates[#All],MATCH(UrbanBMPs[[#This Row],[drainageLandCoverClass]],LoadRates[[#All],[Source]],0), (COLUMN(LoadRates[TSS_LoadRate_lbPerAcPerY])-1))* UrbanBMPs[[#This Row],[drainageArea_ac]]))) -> 59069.868 | V11: =IF(ISNUMBER(SEARCH("Street Sweeping",UrbanBMPs[[#This Row],[BMP_type]])),UrbanBMPs[[#This Row],[lengthTreatedRoad_ft2]]*Street_Sweeping[Road Width (ft)]/43560*INDEX(LoadRates[#All],MATCH(UrbanBMPs[[#This Row],[drainageLandCoverClass]],LoadRates[[#All],[Source]],0),(COLUMN(LoadRates[TP_LoadRateLand_lbPerAcPerY])-1))*UrbanBMPs[[#This Row],[impervFraction_percent]], IF(UrbanBMPs[[#This Row],[BMP_type]]="Stream Restoration",NA(), IF(UrbanBMPs[[#This Row],[BMP_type]]="Forest Buffer",INDEX(LoadRates[#All], MATCH(UrbanBMPs[[#This Row],[drainageLandCoverClass]],LoadRates[[#All],[Source]],0),(COLUMN(LoadRates[TP_LoadRateLand_lbPerAcPerY])-1))*(UrbanBMPs[[#This Row],[Acres]])*2,INDEX(LoadRates[#All],MATCH(UrbanBMPs[[#This Row],[drainageLandCoverClass]],LoadRates[[#All],[Source]],0), (COLUMN(LoadRates[TP_LoadRate_lbPerAcPerY])-1))* UrbanBMPs[[#This Row],[drainageArea_ac]]))) -> 17.2 | W11: =IF(ISNUMBER(SEARCH("Street Sweeping",UrbanBMPs[[#This Row],[BMP_type]])),UrbanBMPs[[#This Row],[lengthTreatedRoad_ft2]]*Street_Sweeping[Road Width (ft)]/43560*INDEX(LoadRates[#All],MATCH(UrbanBMPs[[#This Row],[drainageLandCoverClass]],LoadRates[[#All],[Source]],0),(COLUMN(LoadRates[TN_LoadRateLand_lbPerAcPerY])-1))*UrbanBMPs[[#This Row],[impervFraction_percent]], IF(UrbanBMPs[[#This Row],[BMP_type]]="Stream Restoration",NA(), IF(UrbanBMPs[[#This Row],[BMP_type]]="Forest Buffer",INDEX(LoadRates[#All], MATCH(UrbanBMPs[[#This Row],[drainageLandCoverClass]],LoadRates[[#All],[Source]],0),(COLUMN(LoadRates[TN_LoadRateLand_lbPerAcPerY])-1))*(UrbanBMPs[[#This Row],[Acres]])*4,INDEX(LoadRates[#All],MATCH(UrbanBMPs[[#This Row],[drainageLandCoverClass]],LoadRates[[#All],[Source]],0), (COLUMN(LoadRates[TN_LoadRate_lbPerAcPerY])-1))* UrbanBMPs[[#This Row],[drainageArea_ac]]))) -> 81.2 | X11: =_xlfn.IFNA(INDEX(UrbBMPCoeffs[#All], MATCH(UrbanBMPs[[#This Row],[BMP_type]],UrbBMPCoeffs[[#All],[Type]],0),3), IF(UrbanBMPs[[#This Row],[BMP_type]]="RR",0.0326*UrbanBMPs[[#This Row],[treatmentDepthNormalizedEffective_inPerImpervAc]]^5-0.2806*UrbanBMPs[[#This Row],[treatmentDepthNormalizedEffective_inPerImpervAc]]^4+0.9816*UrbanBMPs[[#This Row],[treatmentDepthNormalizedEffective_inPerImpervAc]]^3-1.8039*UrbanBMPs[[#This Row],[treatmentDepthNormalizedEffective_inPerImpervAc]]^2+1.8292*UrbanBMPs[[#This Row],[treatmentDepthNormalizedEffective_inPerImpervAc]]-0.0098, IF(UrbanBMPs[[#This Row],[BMP_type]]="ST",0.0304*UrbanBMPs[[#This Row],[treatmentDepthNormalizedEffective_inPerImpervAc]]^5-0.2619*UrbanBMPs[[#This Row],[treatmentDepthNormalizedEffective_inPerImpervAc]]^4+0.9161*UrbanBMPs[[#This Row],[treatmentDepthNormalizedEffective_inPerImpervAc]]^3-1.6837*UrbanBMPs[[#This Row],[treatmentDepthNormalizedEffective_inPerImpervAc]]^2+1.7072*UrbanBMPs[[#This Row],[treatmentDepthNormalizedEffective_inPerImpervAc]]-0.0091, IF(OR(UrbanBMPs[[#This Row],[BMP_type]]="Other",UrbanBMPs[[#This Row],[BMP_type]]="Stream Restoration"),0,NA())))) -> 0.84071054 | Y11: =_xlfn.IFNA(INDEX(UrbBMPCoeffs[#All], MATCH(UrbanBMPs[[#This Row],[BMP_type]],UrbBMPCoeffs[[#All],[Type]],0),4), IF(UrbanBMPs[[#This Row],[BMP_type]]="RR",0.0304*UrbanBMPs[[#This Row],[treatmentDepthNormalizedEffective_inPerImpervAc]]^5-0.2619*UrbanBMPs[[#This Row],[treatmentDepthNormalizedEffective_inPerImpervAc]]^4+0.9161*UrbanBMPs[[#This Row],[treatmentDepthNormalizedEffective_inPerImpervAc]]^3-1.6837*UrbanBMPs[[#This Row],[treatmentDepthNormalizedEffective_inPerImpervAc]]^2+1.7072*UrbanBMPs[[#This Row],[treatmentDepthNormalizedEffective_inPerImpervAc]]-0.0091, IF(UrbanBMPs[[#This Row],[BMP_type]]="ST",0.0239*UrbanBMPs[[#This Row],[treatmentDepthNormalizedEffective_inPerImpervAc]]^5-0.2058*UrbanBMPs[[#This Row],[treatmentDepthNormalizedEffective_inPerImpervAc]]^4+0.7198*UrbanBMPs[[#This Row],[treatmentDepthNormalizedEffective_inPerImpervAc]]^3-1.3229*UrbanBMPs[[#This Row],[treatmentDepthNormalizedEffective_inPerImpervAc]]^2+1.3414*UrbanBMPs[[#This Row],[treatmentDepthNormalizedEffective_inPerImpervAc]]-0.0072, IF(OR(UrbanBMPs[[#This Row],[BMP_type]]="Other",UrbanBMPs[[#This Row],[BMP_type]]="Stream Restoration"),0,NA())))) -> 0.78267815 | Z11: =_xlfn.IFNA(INDEX(UrbBMPCoeffs[#All], MATCH(UrbanBMPs[[#This Row],[BMP_type]],UrbBMPCoeffs[[#All],[Type]],0),5), IF(UrbanBMPs[[#This Row],[BMP_type]]="RR",0.0308*UrbanBMPs[[#This Row],[treatmentDepthNormalizedEffective_inPerImpervAc]]^5-0.2562*UrbanBMPs[[#This Row],[treatmentDepthNormalizedEffective_inPerImpervAc]]^4+0.8634*UrbanBMPs[[#This Row],[treatmentDepthNormalizedEffective_inPerImpervAc]]^3-1.5285*UrbanBMPs[[#This Row],[treatmentDepthNormalizedEffective_inPerImpervAc]]^2+1.501*UrbanBMPs[[#This Row],[treatmentDepthNormalizedEffective_inPerImpervAc]]-0.013,IF(UrbanBMPs[[#This Row],[BMP_type]]="ST",0.0152*UrbanBMPs[[#This Row],[treatmentDepthNormalizedEffective_inPerImpervAc]]^5-0.131*UrbanBMPs[[#This Row],[treatmentDepthNormalizedEffective_inPerImpervAc]]^4+0.4581*UrbanBMPs[[#This Row],[treatmentDepthNormalizedEffective_inPerImpervAc]]^3-0.8418*UrbanBMPs[[#This Row],[treatmentDepthNormalizedEffective_inPerImpervAc]]^2+0.8536*UrbanBMPs[[#This Row],[treatmentDepthNormalizedEffective_inPerImpervAc]]-0.0046, IF(OR(UrbanBMPs[[#This Row],[BMP_type]]="Other",UrbanBMPs[[#This Row],[BMP_type]]="Stream Restoration"),0,NA())))) -> 0.6693839 | AA11: =IF(UrbanBMPs[[#This Row],[TSS_ReductionEfficiency_percent]]>0,UrbanBMPs[[#This Row],[TSS_Load_lbPerY]]*UrbanBMPs[[#This Row],[TSS_ReductionEfficiency_percent]], IF(UrbanBMPs[[#This Row],[BMP_type]]="Stream Restoration",INDEX(Stream_Nutrients[#All], MATCH("Default",Stream_Nutrients[[#All],[Stream Restoration - Protocol 1]],0),(COLUMN(Stream_Nutrients[TSS (lbs/ft/yr)])-1))*UrbanBMPs[[#This Row],[lengthTreatedStream_ft]],NA())) -> 49660.66 | AB11: =IFERROR(UrbanBMPs[[#This Row],[TSS_Reduction_lbPerY]]/2000,NA()) -> 24.83033 | AC11: =IF(UrbanBMPs[[#This Row],[TP_ReductionEfficiency_percent]]>0,UrbanBMPs[[#This Row],[TP_Load_lbPerY]]*UrbanBMPs[[#This Row],[TP_ReductionEfficiency_percent]], IF(UrbanBMPs[[#This Row],[BMP_type]]="Stream Restoration",INDEX(Stream_Nutrients[#All], MATCH("Default",Stream_Nutrients[[#All],[Stream Restoration - Protocol 1]],0),(COLUMN(Stream_Nutrients[TP (lbs/ft/yr)])-1))*UrbanBMPs[[#This Row],[lengthTreatedStream_ft]],NA())) -> 13.462064 | AD11: =IF(UrbanBMPs[[#This Row],[TN_ReductionEfficiency_percent]]>0,UrbanBMPs[[#This Row],[TN_Load_lbPerY]]*UrbanBMPs[[#This Row],[TN_ReductionEfficiency_percent]], IF(UrbanBMPs[[#This Row],[BMP_type]]="Stream Restoration",INDEX(Stream_Nutrients[#All], MATCH("Default",Stream_Nutrients[[#All],[Stream Restoration - Protocol 1]],0),(COLUMN(Stream_Nutrients[TN (lbs/ft/yr)])-1))*UrbanBMPs[[#This Row],[lengthTreatedStream_ft]],NA())) -> 54.353973
A12: System 1 | B12: Area 1 | C12: Bioretention/raingardens - A/B soils, underdrain | D12: Proposed | E12: 2020 | F12: 230000 | G12: =UrbanBMPs[[#This Row],[SquareFeet]]/43560 -> 5.2800735 | I12: Hd_Mixed | J12: 20 | N12: =IFERROR(UrbanBMPs[[#This Row],[drainageArea_ac]]*UrbanBMPs[[#This Row],[impervFraction_percent]],NA()) -> 17.4 | O12: =IFERROR(UrbanBMPs[[#This Row],[impervArea_ac]]/UrbanBMPs[[#This Row],[Acres]],NA()) -> 3.2954087 | P12: =IF(UrbanBMPs[[#This Row],[BMP_type]]="RR",NA(),IF(UrbanBMPs[[#This Row],[BMP_type]]="ST",NA(), IF(ISNUMBER(UrbanBMPs[[#This Row],[LoadRatio1]]),NA(), IFERROR(UrbanBMPs[[#This Row],[CubicFeet]]/(0.208*UrbanBMPs[[#This Row],[impervArea_ac]]*43560),NA())))) -> #N/A | Q12: =IFERROR(MIN(UrbanBMPs[[#This Row],[treatmentDepth_in]]*UrbanBMPs[[#This Row],[drainageArea_ac]]/UrbanBMPs[[#This Row],[impervArea_ac]],2.5),NA()) -> 0 | S12: =IF(UrbanBMPs[[#This Row],[treatmentDepthNormalizedManual_inPerImpervAc]]>0,UrbanBMPs[[#This Row],[treatmentDepthNormalizedManual_inPerImpervAc]],IFERROR(UrbanBMPs[[#This Row],[treatmentDepthNormalized_inPerImpervAc]],NA())) -> 0 | T12: =IF(UrbanBMPs[[#This Row],[BMP_type]]="Stream Restoration",NA(),IFERROR(INDEX(Impervious[#All],MATCH(UrbanBMPs[[#This Row],[drainageLandCoverClass]],Impervious[[#All],[Source]],0),4),NA())) -> 0.87 | U12: =IF(ISNUMBER(SEARCH("Street Sweeping",UrbanBMPs[[#This Row],[BMP_type]])),UrbanBMPs[[#This Row],[lengthTreatedRoad_ft2]]*Street_Sweeping[Road Width (ft)]/43560*INDEX(LoadRates[#All],MATCH(UrbanBMPs[[#This Row],[drainageLandCoverClass]],LoadRates[[#All],[Source]],0),(COLUMN(LoadRates[TSS_LoadRateLand_lbPerAcPerY])-1))*UrbanBMPs[[#This Row],[impervFraction_percent]], IF(UrbanBMPs[[#This Row],[BMP_type]]="Stream Restoration",NA(), IF(UrbanBMPs[[#This Row],[BMP_type]]="Forest Buffer",INDEX(LoadRates[#All], MATCH(UrbanBMPs[[#This Row],[drainageLandCoverClass]],LoadRates[[#All],[Source]],0),(COLUMN(LoadRates[TSS_LoadRateLand_lbPerAcPerY])-1))*(UrbanBMPs[[#This Row],[Acres]])*2,INDEX(LoadRates[#All],MATCH(UrbanBMPs[[#This Row],[drainageLandCoverClass]],LoadRates[[#All],[Source]],0), (COLUMN(LoadRates[TSS_LoadRate_lbPerAcPerY])-1))* UrbanBMPs[[#This Row],[drainageArea_ac]]))) -> 59069.868 | V12: =IF(ISNUMBER(SEARCH("Street Sweeping",UrbanBMPs[[#This Row],[BMP_type]])),UrbanBMPs[[#This Row],[lengthTreatedRoad_ft2]]*Street_Sweeping[Road Width (ft)]/43560*INDEX(LoadRates[#All],MATCH(UrbanBMPs[[#This Row],[drainageLandCoverClass]],LoadRates[[#All],[Source]],0),(COLUMN(LoadRates[TP_LoadRateLand_lbPerAcPerY])-1))*UrbanBMPs[[#This Row],[impervFraction_percent]], IF(UrbanBMPs[[#This Row],[BMP_type]]="Stream Restoration",NA(), IF(UrbanBMPs[[#This Row],[BMP_type]]="Forest Buffer",INDEX(LoadRates[#All], MATCH(UrbanBMPs[[#This Row],[drainageLandCoverClass]],LoadRates[[#All],[Source]],0),(COLUMN(LoadRates[TP_LoadRateLand_lbPerAcPerY])-1))*(UrbanBMPs[[#This Row],[Acres]])*2,INDEX(LoadRates[#All],MATCH(UrbanBMPs[[#This Row],[drainageLandCoverClass]],LoadRates[[#All],[Source]],0), (COLUMN(LoadRates[TP_LoadRate_lbPerAcPerY])-1))* UrbanBMPs[[#This Row],[drainageArea_ac]]))) -> 17.2 | W12: =IF(ISNUMBER(SEARCH("Street Sweeping",UrbanBMPs[[#This Row],[BMP_type]])),UrbanBMPs[[#This Row],[lengthTreatedRoad_ft2]]*Street_Sweeping[Road Width (ft)]/43560*INDEX(LoadRates[#All],MATCH(UrbanBMPs[[#This Row],[drainageLandCoverClass]],LoadRates[[#All],[Source]],0),(COLUMN(LoadRates[TN_LoadRateLand_lbPerAcPerY])-1))*UrbanBMPs[[#This Row],[impervFraction_percent]], IF(UrbanBMPs[[#This Row],[BMP_type]]="Stream Restoration",NA(), IF(UrbanBMPs[[#This Row],[BMP_type]]="Forest Buffer",INDEX(LoadRates[#All], MATCH(UrbanBMPs[[#This Row],[drainageLandCoverClass]],LoadRates[[#All],[Source]],0),(COLUMN(LoadRates[TN_LoadRateLand_lbPerAcPerY])-1))*(UrbanBMPs[[#This Row],[Acres]])*4,INDEX(LoadRates[#All],MATCH(UrbanBMPs[[#This Row],[drainageLandCoverClass]],LoadRates[[#All],[Source]],0), (COLUMN(LoadRates[TN_LoadRate_lbPerAcPerY])-1))* UrbanBMPs[[#This Row],[drainageArea_ac]]))) -> 81.2 | X12: =_xlfn.IFNA(INDEX(UrbBMPCoeffs[#All], MATCH(UrbanBMPs[[#This Row],[BMP_type]],UrbBMPCoeffs[[#All],[Type]],0),3), IF(UrbanBMPs[[#This Row],[BMP_type]]="RR",0.0326*UrbanBMPs[[#This Row],[treatmentDepthNormalizedEffective_inPerImpervAc]]^5-0.2806*UrbanBMPs[[#This Row],[treatmentDepthNormalizedEffective_inPerImpervAc]]^4+0.9816*UrbanBMPs[[#This Row],[treatmentDepthNormalizedEffective_inPerImpervAc]]^3-1.8039*UrbanBMPs[[#This Row],[treatmentDepthNormalizedEffective_inPerImpervAc]]^2+1.8292*UrbanBMPs[[#This Row],[treatmentDepthNormalizedEffective_inPerImpervAc]]-0.0098, IF(UrbanBMPs[[#This Row],[BMP_type]]="ST",0.0304*UrbanBMPs[[#This Row],[treatmentDepthNormalizedEffective_inPerImpervAc]]^5-0.2619*UrbanBMPs[[#This Row],[treatmentDepthNormalizedEffective_inPerImpervAc]]^4+0.9161*UrbanBMPs[[#This Row],[treatmentDepthNormalizedEffective_inPerImpervAc]]^3-1.6837*UrbanBMPs[[#This Row],[treatmentDepthNormalizedEffective_inPerImpervAc]]^2+1.7072*UrbanBMPs[[#This Row],[treatmentDepthNormalizedEffective_inPerImpervAc]]-0.0091, IF(OR(UrbanBMPs[[#This Row],[BMP_type]]="Other",UrbanBMPs[[#This Row],[BMP_type]]="Stream Restoration"),0,NA())))) -> 0.8 | Y12: =_xlfn.IFNA(INDEX(UrbBMPCoeffs[#All], MATCH(UrbanBMPs[[#This Row],[BMP_type]],UrbBMPCoeffs[[#All],[Type]],0),4), IF(UrbanBMPs[[#This Row],[BMP_type]]="RR",0.0304*UrbanBMPs[[#This Row],[treatmentDepthNormalizedEffective_inPerImpervAc]]^5-0.2619*UrbanBMPs[[#This Row],[treatmentDepthNormalizedEffective_inPerImpervAc]]^4+0.9161*UrbanBMPs[[#This Row],[treatmentDepthNormalizedEffective_inPerImpervAc]]^3-1.6837*UrbanBMPs[[#This Row],[treatmentDepthNormalizedEffective_inPerImpervAc]]^2+1.7072*UrbanBMPs[[#This Row],[treatmentDepthNormalizedEffective_inPerImpervAc]]-0.0091, IF(UrbanBMPs[[#This Row],[BMP_type]]="ST",0.0239*UrbanBMPs[[#This Row],[treatmentDepthNormalizedEffective_inPerImpervAc]]^5-0.2058*UrbanBMPs[[#This Row],[treatmentDepthNormalizedEffective_inPerImpervAc]]^4+0.7198*UrbanBMPs[[#This Row],[treatmentDepthNormalizedEffective_inPerImpervAc]]^3-1.3229*UrbanBMPs[[#This Row],[treatmentDepthNormalizedEffective_inPerImpervAc]]^2+1.3414*UrbanBMPs[[#This Row],[treatmentDepthNormalizedEffective_inPerImpervAc]]-0.0072, IF(OR(UrbanBMPs[[#This Row],[BMP_type]]="Other",UrbanBMPs[[#This Row],[BMP_type]]="Stream Restoration"),0,NA())))) -> 0.75 | Z12: =_xlfn.IFNA(INDEX(UrbBMPCoeffs[#All], MATCH(UrbanBMPs[[#This Row],[BMP_type]],UrbBMPCoeffs[[#All],[Type]],0),5), IF(UrbanBMPs[[#This Row],[BMP_type]]="RR",0.0308*UrbanBMPs[[#This Row],[treatmentDepthNormalizedEffective_inPerImpervAc]]^5-0.2562*UrbanBMPs[[#This Row],[treatmentDepthNormalizedEffective_inPerImpervAc]]^4+0.8634*UrbanBMPs[[#This Row],[treatmentDepthNormalizedEffective_inPerImpervAc]]^3-1.5285*UrbanBMPs[[#This Row],[treatmentDepthNormalizedEffective_inPerImpervAc]]^2+1.501*UrbanBMPs[[#This Row],[treatmentDepthNormalizedEffective_inPerImpervAc]]-0.013,IF(UrbanBMPs[[#This Row],[BMP_type]]="ST",0.0152*UrbanBMPs[[#This Row],[treatmentDepthNormalizedEffective_inPerImpervAc]]^5-0.131*UrbanBMPs[[#This Row],[treatmentDepthNormalizedEffective_inPerImpervAc]]^4+0.4581*UrbanBMPs[[#This Row],[treatmentDepthNormalizedEffective_inPerImpervAc]]^3-0.8418*UrbanBMPs[[#This Row],[treatmentDepthNormalizedEffective_inPerImpervAc]]^2+0.8536*UrbanBMPs[[#This Row],[treatmentDepthNormalizedEffective_inPerImpervAc]]-0.0046, IF(OR(UrbanBMPs[[#This Row],[BMP_type]]="Other",UrbanBMPs[[#This Row],[BMP_type]]="Stream Restoration"),0,NA())))) -> 0.7 | AA12: =IF(UrbanBMPs[[#This Row],[TSS_ReductionEfficiency_percent]]>0,UrbanBMPs[[#This Row],[TSS_Load_lbPerY]]*UrbanBMPs[[#This Row],[TSS_ReductionEfficiency_percent]], IF(UrbanBMPs[[#This Row],[BMP_type]]="Stream Restoration",INDEX(Stream_Nutrients[#All], MATCH("Default",Stream_Nutrients[[#All],[Stream Restoration - Protocol 1]],0),(COLUMN(Stream_Nutrients[TSS (lbs/ft/yr)])-1))*UrbanBMPs[[#This Row],[lengthTreatedStream_ft]],NA())) -> 47255.894 | AB12: =IFERROR(UrbanBMPs[[#This Row],[TSS_Reduction_lbPerY]]/2000,NA()) -> 23.627947 | AC12: =IF(UrbanBMPs[[#This Row],[TP_ReductionEfficiency_percent]]>0,UrbanBMPs[[#This Row],[TP_Load_lbPerY]]*UrbanBMPs[[#This Row],[TP_ReductionEfficiency_percent]], IF(UrbanBMPs[[#This Row],[BMP_type]]="Stream Restoration",INDEX(Stream_Nutrients[#All], MATCH("Default",Stream_Nutrients[[#All],[Stream Restoration - Protocol 1]],0),(COLUMN(Stream_Nutrients[TP (lbs/ft/yr)])-1))*UrbanBMPs[[#This Row],[lengthTreatedStream_ft]],NA())) -> 12.9 | AD12: =IF(UrbanBMPs[[#This Row],[TN_ReductionEfficiency_percent]]>0,UrbanBMPs[[#This Row],[TN_Load_lbPerY]]*UrbanBMPs[[#This Row],[TN_ReductionEfficiency_percent]], IF(UrbanBMPs[[#This Row],[BMP_type]]="Stream Restoration",INDEX(Stream_Nutrients[#All], MATCH("Default",Stream_Nutrients[[#All],[Stream Restoration - Protocol 1]],0),(COLUMN(Stream_Nutrients[TN (lbs/ft/yr)])-1))*UrbanBMPs[[#This Row],[lengthTreatedStream_ft]],NA())) -> 56.84
A13: System 1 | B13: Area 2 | C13: ST | D13: Proposed | E13: 2020 | G13: =UrbanBMPs[[#This Row],[SquareFeet]]/43560 -> 0 | I13: Ld_Mixed | J13: 150 | K13: 2.4 | N13: =IFERROR(UrbanBMPs[[#This Row],[drainageArea_ac]]*UrbanBMPs[[#This Row],[impervFraction_percent]],NA()) -> 22.5 | O13: =IFERROR(UrbanBMPs[[#This Row],[impervArea_ac]]/UrbanBMPs[[#This Row],[Acres]],NA()) -> #N/A | P13: =IF(UrbanBMPs[[#This Row],[BMP_type]]="RR",NA(),IF(UrbanBMPs[[#This Row],[BMP_type]]="ST",NA(), IF(ISNUMBER(UrbanBMPs[[#This Row],[LoadRatio1]]),NA(), IFERROR(UrbanBMPs[[#This Row],[CubicFeet]]/(0.208*UrbanBMPs[[#This Row],[impervArea_ac]]*43560),NA())))) -> #N/A | Q13: =IFERROR(MIN(UrbanBMPs[[#This Row],[treatmentDepth_in]]*UrbanBMPs[[#This Row],[drainageArea_ac]]/UrbanBMPs[[#This Row],[impervArea_ac]],2.5),NA()) -> 2.5 | S13: =IF(UrbanBMPs[[#This Row],[treatmentDepthNormalizedManual_inPerImpervAc]]>0,UrbanBMPs[[#This Row],[treatmentDepthNormalizedManual_inPerImpervAc]],IFERROR(UrbanBMPs[[#This Row],[treatmentDepthNormalized_inPerImpervAc]],NA())) -> 2.5 | T13: =IF(UrbanBMPs[[#This Row],[BMP_type]]="Stream Restoration",NA(),IFERROR(INDEX(Impervious[#All],MATCH(UrbanBMPs[[#This Row],[drainageLandCoverClass]],Impervious[[#All],[Source]],0),4),NA())) -> 0.15 | U13: =IF(ISNUMBER(SEARCH("Street Sweeping",UrbanBMPs[[#This Row],[BMP_type]])),UrbanBMPs[[#This Row],[lengthTreatedRoad_ft2]]*Street_Sweeping[Road Width (ft)]/43560*INDEX(LoadRates[#All],MATCH(UrbanBMPs[[#This Row],[drainageLandCoverClass]],LoadRates[[#All],[Source]],0),(COLUMN(LoadRates[TSS_LoadRateLand_lbPerAcPerY])-1))*UrbanBMPs[[#This Row],[impervFraction_percent]], IF(UrbanBMPs[[#This Row],[BMP_type]]="Stream Restoration",NA(), IF(UrbanBMPs[[#This Row],[BMP_type]]="Forest Buffer",INDEX(LoadRates[#All], MATCH(UrbanBMPs[[#This Row],[drainageLandCoverClass]],LoadRates[[#All],[Source]],0),(COLUMN(LoadRates[TSS_LoadRateLand_lbPerAcPerY])-1))*(UrbanBMPs[[#This Row],[Acres]])*2,INDEX(LoadRates[#All],MATCH(UrbanBMPs[[#This Row],[drainageLandCoverClass]],LoadRates[[#All],[Source]],0), (COLUMN(LoadRates[TSS_LoadRate_lbPerAcPerY])-1))* UrbanBMPs[[#This Row],[drainageArea_ac]]))) -> 199110.67 | V13: =IF(ISNUMBER(SEARCH("Street Sweeping",UrbanBMPs[[#This Row],[BMP_type]])),UrbanBMPs[[#This Row],[lengthTreatedRoad_ft2]]*Street_Sweeping[Road Width (ft)]/43560*INDEX(LoadRates[#All],MATCH(UrbanBMPs[[#This Row],[drainageLandCoverClass]],LoadRates[[#All],[Source]],0),(COLUMN(LoadRates[TP_LoadRateLand_lbPerAcPerY])-1))*UrbanBMPs[[#This Row],[impervFraction_percent]], IF(UrbanBMPs[[#This Row],[BMP_type]]="Stream Restoration",NA(), IF(UrbanBMPs[[#This Row],[BMP_type]]="Forest Buffer",INDEX(LoadRates[#All], MATCH(UrbanBMPs[[#This Row],[drainageLandCoverClass]],LoadRates[[#All],[Source]],0),(COLUMN(LoadRates[TP_LoadRateLand_lbPerAcPerY])-1))*(UrbanBMPs[[#This Row],[Acres]])*2,INDEX(LoadRates[#All],MATCH(UrbanBMPs[[#This Row],[drainageLandCoverClass]],LoadRates[[#All],[Source]],0), (COLUMN(LoadRates[TP_LoadRate_lbPerAcPerY])-1))* UrbanBMPs[[#This Row],[drainageArea_ac]]))) -> 54 | W13: =IF(ISNUMBER(SEARCH("Street Sweeping",UrbanBMPs[[#This Row],[BMP_type]])),UrbanBMPs[[#This Row],[lengthTreatedRoad_ft2]]*Street_Sweeping[Road Width (ft)]/43560*INDEX(LoadRates[#All],MATCH(UrbanBMPs[[#This Row],[drainageLandCoverClass]],LoadRates[[#All],[Source]],0),(COLUMN(LoadRates[TN_LoadRateLand_lbPerAcPerY])-1))*UrbanBMPs[[#This Row],[impervFraction_percent]], IF(UrbanBMPs[[#This Row],[BMP_type]]="Stream Restoration",NA(), IF(UrbanBMPs[[#This Row],[BMP_type]]="Forest Buffer",INDEX(LoadRates[#All], MATCH(UrbanBMPs[[#This Row],[drainageLandCoverClass]],LoadRates[[#All],[Source]],0),(COLUMN(LoadRates[TN_LoadRateLand_lbPerAcPerY])-1))*(UrbanBMPs[[#This Row],[Acres]])*4,INDEX(LoadRates[#All],MATCH(UrbanBMPs[[#This Row],[drainageLandCoverClass]],LoadRates[[#All],[Source]],0), (COLUMN(LoadRates[TN_LoadRate_lbPerAcPerY])-1))* UrbanBMPs[[#This Row],[drainageArea_ac]]))) -> 154.5 | X13: =_xlfn.IFNA(INDEX(UrbBMPCoeffs[#All], MATCH(UrbanBMPs[[#This Row],[BMP_type]],UrbBMPCoeffs[[#All],[Type]],0),3), IF(UrbanBMPs[[#This Row],[BMP_type]]="RR",0.0326*UrbanBMPs[[#This Row],[treatmentDepthNormalizedEffective_inPerImpervAc]]^5-0.2806*UrbanBMPs[[#This Row],[treatmentDepthNormalizedEffective_inPerImpervAc]]^4+0.9816*UrbanBMPs[[#This Row],[treatmentDepthNormalizedEffective_inPerImpervAc]]^3-1.8039*UrbanBMPs[[#This Row],[treatmentDepthNormalizedEffective_inPerImpervAc]]^2+1.8292*UrbanBMPs[[#This Row],[treatmentDepthNormalizedEffective_inPerImpervAc]]-0.0098, IF(UrbanBMPs[[#This Row],[BMP_type]]="ST",0.0304*UrbanBMPs[[#This Row],[treatmentDepthNormalizedEffective_inPerImpervAc]]^5-0.2619*UrbanBMPs[[#This Row],[treatmentDepthNormalizedEffective_inPerImpervAc]]^4+0.9161*UrbanBMPs[[#This Row],[treatmentDepthNormalizedEffective_inPerImpervAc]]^3-1.6837*UrbanBMPs[[#This Row],[treatmentDepthNormalizedEffective_inPerImpervAc]]^2+1.7072*UrbanBMPs[[#This Row],[treatmentDepthNormalizedEffective_inPerImpervAc]]-0.0091, IF(OR(UrbanBMPs[[#This Row],[BMP_type]]="Other",UrbanBMPs[[#This Row],[BMP_type]]="Stream Restoration"),0,NA())))) -> 0.78811875 | Y13: =_xlfn.IFNA(INDEX(UrbBMPCoeffs[#All], MATCH(UrbanBMPs[[#This Row],[BMP_type]],UrbBMPCoeffs[[#All],[Type]],0),4), IF(UrbanBMPs[[#This Row],[BMP_type]]="RR",0.0304*UrbanBMPs[[#This Row],[treatmentDepthNormalizedEffective_inPerImpervAc]]^5-0.2619*UrbanBMPs[[#This Row],[treatmentDepthNormalizedEffective_inPerImpervAc]]^4+0.9161*UrbanBMPs[[#This Row],[treatmentDepthNormalizedEffective_inPerImpervAc]]^3-1.6837*UrbanBMPs[[#This Row],[treatmentDepthNormalizedEffective_inPerImpervAc]]^2+1.7072*UrbanBMPs[[#This Row],[treatmentDepthNormalizedEffective_inPerImpervAc]]-0.0091, IF(UrbanBMPs[[#This Row],[BMP_type]]="ST",0.0239*UrbanBMPs[[#This Row],[treatmentDepthNormalizedEffective_inPerImpervAc]]^5-0.2058*UrbanBMPs[[#This Row],[treatmentDepthNormalizedEffective_inPerImpervAc]]^4+0.7198*UrbanBMPs[[#This Row],[treatmentDepthNormalizedEffective_inPerImpervAc]]^3-1.3229*UrbanBMPs[[#This Row],[treatmentDepthNormalizedEffective_inPerImpervAc]]^2+1.3414*UrbanBMPs[[#This Row],[treatmentDepthNormalizedEffective_inPerImpervAc]]-0.0072, IF(OR(UrbanBMPs[[#This Row],[BMP_type]]="Other",UrbanBMPs[[#This Row],[BMP_type]]="Stream Restoration"),0,NA())))) -> 0.61997187 | Z13: =_xlfn.IFNA(INDEX(UrbBMPCoeffs[#All], MATCH(UrbanBMPs[[#This Row],[BMP_type]],UrbBMPCoeffs[[#All],[Type]],0),5), IF(UrbanBMPs[[#This Row],[BMP_type]]="RR",0.0308*UrbanBMPs[[#This Row],[treatmentDepthNormalizedEffective_inPerImpervAc]]^5-0.2562*UrbanBMPs[[#This Row],[treatmentDepthNormalizedEffective_inPerImpervAc]]^4+0.8634*UrbanBMPs[[#This Row],[treatmentDepthNormalizedEffective_inPerImpervAc]]^3-1.5285*UrbanBMPs[[#This Row],[treatmentDepthNormalizedEffective_inPerImpervAc]]^2+1.501*UrbanBMPs[[#This Row],[treatmentDepthNormalizedEffective_inPerImpervAc]]-0.013,IF(UrbanBMPs[[#This Row],[BMP_type]]="ST",0.0152*UrbanBMPs[[#This Row],[treatmentDepthNormalizedEffective_inPerImpervAc]]^5-0.131*UrbanBMPs[[#This Row],[treatmentDepthNormalizedEffective_inPerImpervAc]]^4+0.4581*UrbanBMPs[[#This Row],[treatmentDepthNormalizedEffective_inPerImpervAc]]^3-0.8418*UrbanBMPs[[#This Row],[treatmentDepthNormalizedEffective_inPerImpervAc]]^2+0.8536*UrbanBMPs[[#This Row],[treatmentDepthNormalizedEffective_inPerImpervAc]]-0.0046, IF(OR(UrbanBMPs[[#This Row],[BMP_type]]="Other",UrbanBMPs[[#This Row],[BMP_type]]="Stream Restoration"),0,NA())))) -> 0.39315 | AA13: =IF(UrbanBMPs[[#This Row],[TSS_ReductionEfficiency_percent]]>0,UrbanBMPs[[#This Row],[TSS_Load_lbPerY]]*UrbanBMPs[[#This Row],[TSS_ReductionEfficiency_percent]], IF(UrbanBMPs[[#This Row],[BMP_type]]="Stream Restoration",INDEX(Stream_Nutrients[#All], MATCH("Default",Stream_Nutrients[[#All],[Stream Restoration - Protocol 1]],0),(COLUMN(Stream_Nutrients[TSS (lbs/ft/yr)])-1))*UrbanBMPs[[#This Row],[lengthTreatedStream_ft]],NA())) -> 156922.86 | AB13: =IFERROR(UrbanBMPs[[#This Row],[TSS_Reduction_lbPerY]]/2000,NA()) -> 78.461428 | AC13: =IF(UrbanBMPs[[#This Row],[TP_ReductionEfficiency_percent]]>0,UrbanBMPs[[#This Row],[TP_Load_lbPerY]]*UrbanBMPs[[#This Row],[TP_ReductionEfficiency_percent]], IF(UrbanBMPs[[#This Row],[BMP_type]]="Stream Restoration",INDEX(Stream_Nutrients[#All], MATCH("Default",Stream_Nutrients[[#All],[Stream Restoration - Protocol 1]],0),(COLUMN(Stream_Nutrients[TP (lbs/ft/yr)])-1))*UrbanBMPs[[#This Row],[lengthTreatedStream_ft]],NA())) -> 33.478481 | AD13: =IF(UrbanBMPs[[#This Row],[TN_ReductionEfficiency_percent]]>0,UrbanBMPs[[#This Row],[TN_Load_lbPerY]]*UrbanBMPs[[#This Row],[TN_ReductionEfficiency_percent]], IF(UrbanBMPs[[#This Row],[BMP_type]]="Stream Restoration",INDEX(Stream_Nutrients[#All], MATCH("Default",Stream_Nutrients[[#All],[Stream Restoration - Protocol 1]],0),(COLUMN(Stream_Nutrients[TN (lbs/ft/yr)])-1))*UrbanBMPs[[#This Row],[lengthTreatedStream_ft]],NA())) -> 60.741675
A14: System 2 | B14: Area 1 | C14: ST | D14: Proposed | E14: 2020 | G14: =UrbanBMPs[[#This Row],[SquareFeet]]/43560 -> 0 | I14: Md_Mixed | J14: 100 | K14: 2 | N14: =IFERROR(UrbanBMPs[[#This Row],[drainageArea_ac]]*UrbanBMPs[[#This Row],[impervFraction_percent]],NA()) -> 52 | O14: =IFERROR(UrbanBMPs[[#This Row],[impervArea_ac]]/UrbanBMPs[[#This Row],[Acres]],NA()) -> #N/A | P14: =IF(UrbanBMPs[[#This Row],[BMP_type]]="RR",NA(),IF(UrbanBMPs[[#This Row],[BMP_type]]="ST",NA(), IF(ISNUMBER(UrbanBMPs[[#This Row],[LoadRatio1]]),NA(), IFERROR(UrbanBMPs[[#This Row],[CubicFeet]]/(0.208*UrbanBMPs[[#This Row],[impervArea_ac]]*43560),NA())))) -> #N/A | Q14: =IFERROR(MIN(UrbanBMPs[[#This Row],[treatmentDepth_in]]*UrbanBMPs[[#This Row],[drainageArea_ac]]/UrbanBMPs[[#This Row],[impervArea_ac]],2.5),NA()) -> 2.5 | S14: =IF(UrbanBMPs[[#This Row],[treatmentDepthNormalizedManual_inPerImpervAc]]>0,UrbanBMPs[[#This Row],[treatmentDepthNormalizedManual_inPerImpervAc]],IFERROR(UrbanBMPs[[#This Row],[treatmentDepthNormalized_inPerImpervAc]],NA())) -> 2.5 | T14: =IF(UrbanBMPs[[#This Row],[BMP_type]]="Stream Restoration",NA(),IFERROR(INDEX(Impervious[#All],MATCH(UrbanBMPs[[#This Row],[drainageLandCoverClass]],Impervious[[#All],[Source]],0),4),NA())) -> 0.52 | U14: =IF(ISNUMBER(SEARCH("Street Sweeping",UrbanBMPs[[#This Row],[BMP_type]])),UrbanBMPs[[#This Row],[lengthTreatedRoad_ft2]]*Street_Sweeping[Road Width (ft)]/43560*INDEX(LoadRates[#All],MATCH(UrbanBMPs[[#This Row],[drainageLandCoverClass]],LoadRates[[#All],[Source]],0),(COLUMN(LoadRates[TSS_LoadRateLand_lbPerAcPerY])-1))*UrbanBMPs[[#This Row],[impervFraction_percent]], IF(UrbanBMPs[[#This Row],[BMP_type]]="Stream Restoration",NA(), IF(UrbanBMPs[[#This Row],[BMP_type]]="Forest Buffer",INDEX(LoadRates[#All], MATCH(UrbanBMPs[[#This Row],[drainageLandCoverClass]],LoadRates[[#All],[Source]],0),(COLUMN(LoadRates[TSS_LoadRateLand_lbPerAcPerY])-1))*(UrbanBMPs[[#This Row],[Acres]])*2,INDEX(LoadRates[#All],MATCH(UrbanBMPs[[#This Row],[drainageLandCoverClass]],LoadRates[[#All],[Source]],0), (COLUMN(LoadRates[TSS_LoadRate_lbPerAcPerY])-1))* UrbanBMPs[[#This Row],[drainageArea_ac]]))) -> 218890.19 | V14: =IF(ISNUMBER(SEARCH("Street Sweeping",UrbanBMPs[[#This Row],[BMP_type]])),UrbanBMPs[[#This Row],[lengthTreatedRoad_ft2]]*Street_Sweeping[Road Width (ft)]/43560*INDEX(LoadRates[#All],MATCH(UrbanBMPs[[#This Row],[drainageLandCoverClass]],LoadRates[[#All],[Source]],0),(COLUMN(LoadRates[TP_LoadRateLand_lbPerAcPerY])-1))*UrbanBMPs[[#This Row],[impervFraction_percent]], IF(UrbanBMPs[[#This Row],[BMP_type]]="Stream Restoration",NA(), IF(UrbanBMPs[[#This Row],[BMP_type]]="Forest Buffer",INDEX(LoadRates[#All], MATCH(UrbanBMPs[[#This Row],[drainageLandCoverClass]],LoadRates[[#All],[Source]],0),(COLUMN(LoadRates[TP_LoadRateLand_lbPerAcPerY])-1))*(UrbanBMPs[[#This Row],[Acres]])*2,INDEX(LoadRates[#All],MATCH(UrbanBMPs[[#This Row],[drainageLandCoverClass]],LoadRates[[#All],[Source]],0), (COLUMN(LoadRates[TP_LoadRate_lbPerAcPerY])-1))* UrbanBMPs[[#This Row],[drainageArea_ac]]))) -> 67 | W14: =IF(ISNUMBER(SEARCH("Street Sweeping",UrbanBMPs[[#This Row],[BMP_type]])),UrbanBMPs[[#This Row],[lengthTreatedRoad_ft2]]*Street_Sweeping[Road Width (ft)]/43560*INDEX(LoadRates[#All],MATCH(UrbanBMPs[[#This Row],[drainageLandCoverClass]],LoadRates[[#All],[Source]],0),(COLUMN(LoadRates[TN_LoadRateLand_lbPerAcPerY])-1))*UrbanBMPs[[#This Row],[impervFraction_percent]], IF(UrbanBMPs[[#This Row],[BMP_type]]="Stream Restoration",NA(), IF(UrbanBMPs[[#This Row],[BMP_type]]="Forest Buffer",INDEX(LoadRates[#All], MATCH(UrbanBMPs[[#This Row],[drainageLandCoverClass]],LoadRates[[#All],[Source]],0),(COLUMN(LoadRates[TN_LoadRateLand_lbPerAcPerY])-1))*(UrbanBMPs[[#This Row],[Acres]])*4,INDEX(LoadRates[#All],MATCH(UrbanBMPs[[#This Row],[drainageLandCoverClass]],LoadRates[[#All],[Source]],0), (COLUMN(LoadRates[TN_LoadRate_lbPerAcPerY])-1))* UrbanBMPs[[#This Row],[drainageArea_ac]]))) -> 308 | X14: =_xlfn.IFNA(INDEX(UrbBMPCoeffs[#All], MATCH(UrbanBMPs[[#This Row],[BMP_type]],UrbBMPCoeffs[[#All],[Type]],0),3), IF(UrbanBMPs[[#This Row],[BMP_type]]="RR",0.0326*UrbanBMPs[[#This Row],[treatmentDepthNormalizedEffective_inPerImpervAc]]^5-0.2806*UrbanBMPs[[#This Row],[treatmentDepthNormalizedEffective_inPerImpervAc]]^4+0.9816*UrbanBMPs[[#This Row],[treatmentDepthNormalizedEffective_inPerImpervAc]]^3-1.8039*UrbanBMPs[[#This Row],[treatmentDepthNormalizedEffective_inPerImpervAc]]^2+1.8292*UrbanBMPs[[#This Row],[treatmentDepthNormalizedEffective_inPerImpervAc]]-0.0098, IF(UrbanBMPs[[#This Row],[BMP_type]]="ST",0.0304*UrbanBMPs[[#This Row],[treatmentDepthNormalizedEffective_inPerImpervAc]]^5-0.2619*UrbanBMPs[[#This Row],[treatmentDepthNormalizedEffective_inPerImpervAc]]^4+0.9161*UrbanBMPs[[#This Row],[treatmentDepthNormalizedEffective_inPerImpervAc]]^3-1.6837*UrbanBMPs[[#This Row],[treatmentDepthNormalizedEffective_inPerImpervAc]]^2+1.7072*UrbanBMPs[[#This Row],[treatmentDepthNormalizedEffective_inPerImpervAc]]-0.0091, IF(OR(UrbanBMPs[[#This Row],[BMP_type]]="Other",UrbanBMPs[[#This Row],[BMP_type]]="Stream Restoration"),0,NA())))) -> 0.78811875 | Y14: =_xlfn.IFNA(INDEX(UrbBMPCoeffs[#All], MATCH(UrbanBMPs[[#This Row],[BMP_type]],UrbBMPCoeffs[[#All],[Type]],0),4), IF(UrbanBMPs[[#This Row],[BMP_type]]="RR",0.0304*UrbanBMPs[[#This Row],[treatmentDepthNormalizedEffective_inPerImpervAc]]^5-0.2619*UrbanBMPs[[#This Row],[treatmentDepthNormalizedEffective_inPerImpervAc]]^4+0.9161*UrbanBMPs[[#This Row],[treatmentDepthNormalizedEffective_inPerImpervAc]]^3-1.6837*UrbanBMPs[[#This Row],[treatmentDepthNormalizedEffective_inPerImpervAc]]^2+1.7072*UrbanBMPs[[#This Row],[treatmentDepthNormalizedEffective_inPerImpervAc]]-0.0091, IF(UrbanBMPs[[#This Row],[BMP_type]]="ST",0.0239*UrbanBMPs[[#This Row],[treatmentDepthNormalizedEffective_inPerImpervAc]]^5-0.2058*UrbanBMPs[[#This Row],[treatmentDepthNormalizedEffective_inPerImpervAc]]^4+0.7198*UrbanBMPs[[#This Row],[treatmentDepthNormalizedEffective_inPerImpervAc]]^3-1.3229*UrbanBMPs[[#This Row],[treatmentDepthNormalizedEffective_inPerImpervAc]]^2+1.3414*UrbanBMPs[[#This Row],[treatmentDepthNormalizedEffective_inPerImpervAc]]-0.0072, IF(OR(UrbanBMPs[[#This Row],[BMP_type]]="Other",UrbanBMPs[[#This Row],[BMP_type]]="Stream Restoration"),0,NA())))) -> 0.61997187 | Z14: =_xlfn.IFNA(INDEX(UrbBMPCoeffs[#All], MATCH(UrbanBMPs[[#This Row],[BMP_type]],UrbBMPCoeffs[[#All],[Type]],0),5), IF(UrbanBMPs[[#This Row],[BMP_type]]="RR",0.0308*UrbanBMPs[[#This Row],[treatmentDepthNormalizedEffective_inPerImpervAc]]^5-0.2562*UrbanBMPs[[#This Row],[treatmentDepthNormalizedEffective_inPerImpervAc]]^4+0.8634*UrbanBMPs[[#This Row],[treatmentDepthNormalizedEffective_inPerImpervAc]]^3-1.5285*UrbanBMPs[[#This Row],[treatmentDepthNormalizedEffective_inPerImpervAc]]^2+1.501*UrbanBMPs[[#This Row],[treatmentDepthNormalizedEffective_inPerImpervAc]]-0.013,IF(UrbanBMPs[[#This Row],[BMP_type]]="ST",0.0152*UrbanBMPs[[#This Row],[treatmentDepthNormalizedEffective_inPerImpervAc]]^5-0.131*UrbanBMPs[[#This Row],[treatmentDepthNormalizedEffective_inPerImpervAc]]^4+0.4581*UrbanBMPs[[#This Row],[treatmentDepthNormalizedEffective_inPerImpervAc]]^3-0.8418*UrbanBMPs[[#This Row],[treatmentDepthNormalizedEffective_inPerImpervAc]]^2+0.8536*UrbanBMPs[[#This Row],[treatmentDepthNormalizedEffective_inPerImpervAc]]-0.0046, IF(OR(UrbanBMPs[[#This Row],[BMP_type]]="Other",UrbanBMPs[[#This Row],[BMP_type]]="Stream Restoration"),0,NA())))) -> 0.39315 | AA14: =IF(UrbanBMPs[[#This Row],[TSS_ReductionEfficiency_percent]]>0,UrbanBMPs[[#This Row],[TSS_Load_lbPerY]]*UrbanBMPs[[#This Row],[TSS_ReductionEfficiency_percent]], IF(UrbanBMPs[[#This Row],[BMP_type]]="Stream Restoration",INDEX(Stream_Nutrients[#All], MATCH("Default",Stream_Nutrients[[#All],[Stream Restoration - Protocol 1]],0),(COLUMN(Stream_Nutrients[TSS (lbs/ft/yr)])-1))*UrbanBMPs[[#This Row],[lengthTreatedStream_ft]],NA())) -> 172511.46 | AB14: =IFERROR(UrbanBMPs[[#This Row],[TSS_Reduction_lbPerY]]/2000,NA()) -> 86.25573 | AC14: =IF(UrbanBMPs[[#This Row],[TP_ReductionEfficiency_percent]]>0,UrbanBMPs[[#This Row],[TP_Load_lbPerY]]*UrbanBMPs[[#This Row],[TP_ReductionEfficiency_percent]], IF(UrbanBMPs[[#This Row],[BMP_type]]="Stream Restoration",INDEX(Stream_Nutrients[#All], MATCH("Default",Stream_Nutrients[[#All],[Stream Restoration - Protocol 1]],0),(COLUMN(Stream_Nutrients[TP (lbs/ft/yr)])-1))*UrbanBMPs[[#This Row],[lengthTreatedStream_ft]],NA())) -> 41.538116 | AD14: =IF(UrbanBMPs[[#This Row],[TN_ReductionEfficiency_percent]]>0,UrbanBMPs[[#This Row],[TN_Load_lbPerY]]*UrbanBMPs[[#This Row],[TN_ReductionEfficiency_percent]], IF(UrbanBMPs[[#This Row],[BMP_type]]="Stream Restoration",INDEX(Stream_Nutrients[#All], MATCH("Default",Stream_Nutrients[[#All],[Stream Restoration - Protocol 1]],0),(COLUMN(Stream_Nutrients[TN (lbs/ft/yr)])-1))*UrbanBMPs[[#This Row],[lengthTreatedStream_ft]],NA())) -> 121.0902
A15: System 2 | B15: Area 2 | C15: ST | D15: Proposed | E15: 2020 | G15: =UrbanBMPs[[#This Row],[SquareFeet]]/43560 -> 0 | I15: Cropland | J15: 85 | N15: =IFERROR(UrbanBMPs[[#This Row],[drainageArea_ac]]*UrbanBMPs[[#This Row],[impervFraction_percent]],NA()) -> 0 | O15: =IFERROR(UrbanBMPs[[#This Row],[impervArea_ac]]/UrbanBMPs[[#This Row],[Acres]],NA()) -> #N/A | P15: =IF(UrbanBMPs[[#This Row],[BMP_type]]="RR",NA(),IF(UrbanBMPs[[#This Row],[BMP_type]]="ST",NA(), IF(ISNUMBER(UrbanBMPs[[#This Row],[LoadRatio1]]),NA(), IFERROR(UrbanBMPs[[#This Row],[CubicFeet]]/(0.208*UrbanBMPs[[#This Row],[impervArea_ac]]*43560),NA())))) -> #N/A | Q15: =IFERROR(MIN(UrbanBMPs[[#This Row],[treatmentDepth_in]]*UrbanBMPs[[#This Row],[drainageArea_ac]]/UrbanBMPs[[#This Row],[impervArea_ac]],2.5),NA()) -> #N/A | R15: 1 | S15: =IF(UrbanBMPs[[#This Row],[treatmentDepthNormalizedManual_inPerImpervAc]]>0,UrbanBMPs[[#This Row],[treatmentDepthNormalizedManual_inPerImpervAc]],IFERROR(UrbanBMPs[[#This Row],[treatmentDepthNormalized_inPerImpervAc]],NA())) -> 1 | T15: =IF(UrbanBMPs[[#This Row],[BMP_type]]="Stream Restoration",NA(),IFERROR(INDEX(Impervious[#All],MATCH(UrbanBMPs[[#This Row],[drainageLandCoverClass]],Impervious[[#All],[Source]],0),4),NA())) -> 0 | U15: =IF(ISNUMBER(SEARCH("Street Sweeping",UrbanBMPs[[#This Row],[BMP_type]])),UrbanBMPs[[#This Row],[lengthTreatedRoad_ft2]]*Street_Sweeping[Road Width (ft)]/43560*INDEX(LoadRates[#All],MATCH(UrbanBMPs[[#This Row],[drainageLandCoverClass]],LoadRates[[#All],[Source]],0),(COLUMN(LoadRates[TSS_LoadRateLand_lbPerAcPerY])-1))*UrbanBMPs[[#This Row],[impervFraction_percent]], IF(UrbanBMPs[[#This Row],[BMP_type]]="Stream Restoration",NA(), IF(UrbanBMPs[[#This Row],[BMP_type]]="Forest Buffer",INDEX(LoadRates[#All], MATCH(UrbanBMPs[[#This Row],[drainageLandCoverClass]],LoadRates[[#All],[Source]],0),(COLUMN(LoadRates[TSS_LoadRateLand_lbPerAcPerY])-1))*(UrbanBMPs[[#This Row],[Acres]])*2,INDEX(LoadRates[#All],MATCH(UrbanBMPs[[#This Row],[drainageLandCoverClass]],LoadRates[[#All],[Source]],0), (COLUMN(LoadRates[TSS_LoadRate_lbPerAcPerY])-1))* UrbanBMPs[[#This Row],[drainageArea_ac]]))) -> 193385.4 | V15: =IF(ISNUMBER(SEARCH("Street Sweeping",UrbanBMPs[[#This Row],[BMP_type]])),UrbanBMPs[[#This Row],[lengthTreatedRoad_ft2]]*Street_Sweeping[Road Width (ft)]/43560*INDEX(LoadRates[#All],MATCH(UrbanBMPs[[#This Row],[drainageLandCoverClass]],LoadRates[[#All],[Source]],0),(COLUMN(LoadRates[TP_LoadRateLand_lbPerAcPerY])-1))*UrbanBMPs[[#This Row],[impervFraction_percent]], IF(UrbanBMPs[[#This Row],[BMP_type]]="Stream Restoration",NA(), IF(UrbanBMPs[[#This Row],[BMP_type]]="Forest Buffer",INDEX(LoadRates[#All], MATCH(UrbanBMPs[[#This Row],[drainageLandCoverClass]],LoadRates[[#All],[Source]],0),(COLUMN(LoadRates[TP_LoadRateLand_lbPerAcPerY])-1))*(UrbanBMPs[[#This Row],[Acres]])*2,INDEX(LoadRates[#All],MATCH(UrbanBMPs[[#This Row],[drainageLandCoverClass]],LoadRates[[#All],[Source]],0), (COLUMN(LoadRates[TP_LoadRate_lbPerAcPerY])-1))* UrbanBMPs[[#This Row],[drainageArea_ac]]))) -> 217.6 | W15: =IF(ISNUMBER(SEARCH("Street Sweeping",UrbanBMPs[[#This Row],[BMP_type]])),UrbanBMPs[[#This Row],[lengthTreatedRoad_ft2]]*Street_Sweeping[Road Width (ft)]/43560*INDEX(LoadRates[#All],MATCH(UrbanBMPs[[#This Row],[drainageLandCoverClass]],LoadRates[[#All],[Source]],0),(COLUMN(LoadRates[TN_LoadRateLand_lbPerAcPerY])-1))*UrbanBMPs[[#This Row],[impervFraction_percent]], IF(UrbanBMPs[[#This Row],[BMP_type]]="Stream Restoration",NA(), IF(UrbanBMPs[[#This Row],[BMP_type]]="Forest Buffer",INDEX(LoadRates[#All], MATCH(UrbanBMPs[[#This Row],[drainageLandCoverClass]],LoadRates[[#All],[Source]],0),(COLUMN(LoadRates[TN_LoadRateLand_lbPerAcPerY])-1))*(UrbanBMPs[[#This Row],[Acres]])*4,INDEX(LoadRates[#All],MATCH(UrbanBMPs[[#This Row],[drainageLandCoverClass]],LoadRates[[#All],[Source]],0), (COLUMN(LoadRates[TN_LoadRate_lbPerAcPerY])-1))* UrbanBMPs[[#This Row],[drainageArea_ac]]))) -> 799 | X15: =_xlfn.IFNA(INDEX(UrbBMPCoeffs[#All], MATCH(UrbanBMPs[[#This Row],[BMP_type]],UrbBMPCoeffs[[#All],[Type]],0),3), IF(UrbanBMPs[[#This Row],[BMP_type]]="RR",0.0326*UrbanBMPs[[#This Row],[treatmentDepthNormalizedEffective_inPerImpervAc]]^5-0.2806*UrbanBMPs[[#This Row],[treatmentDepthNormalizedEffective_inPerImpervAc]]^4+0.9816*UrbanBMPs[[#This Row],[treatmentDepthNormalizedEffective_inPerImpervAc]]^3-1.8039*UrbanBMPs[[#This Row],[treatmentDepthNormalizedEffective_inPerImpervAc]]^2+1.8292*UrbanBMPs[[#This Row],[treatmentDepthNormalizedEffective_inPerImpervAc]]-0.0098, IF(UrbanBMPs[[#This Row],[BMP_type]]="ST",0.0304*UrbanBMPs[[#This Row],[treatmentDepthNormalizedEffective_inPerImpervAc]]^5-0.2619*UrbanBMPs[[#This Row],[treatmentDepthNormalizedEffective_inPerImpervAc]]^4+0.9161*UrbanBMPs[[#This Row],[treatmentDepthNormalizedEffective_inPerImpervAc]]^3-1.6837*UrbanBMPs[[#This Row],[treatmentDepthNormalizedEffective_inPerImpervAc]]^2+1.7072*UrbanBMPs[[#This Row],[treatmentDepthNormalizedEffective_inPerImpervAc]]-0.0091, IF(OR(UrbanBMPs[[#This Row],[BMP_type]]="Other",UrbanBMPs[[#This Row],[BMP_type]]="Stream Restoration"),0,NA())))) -> 0.699 | Y15: =_xlfn.IFNA(INDEX(UrbBMPCoeffs[#All], MATCH(UrbanBMPs[[#This Row],[BMP_type]],UrbBMPCoeffs[[#All],[Type]],0),4), IF(UrbanBMPs[[#This Row],[BMP_type]]="RR",0.0304*UrbanBMPs[[#This Row],[treatmentDepthNormalizedEffective_inPerImpervAc]]^5-0.2619*UrbanBMPs[[#This Row],[treatmentDepthNormalizedEffective_inPerImpervAc]]^4+0.9161*UrbanBMPs[[#This Row],[treatmentDepthNormalizedEffective_inPerImpervAc]]^3-1.6837*UrbanBMPs[[#This Row],[treatmentDepthNormalizedEffective_inPerImpervAc]]^2+1.7072*UrbanBMPs[[#This Row],[treatmentDepthNormalizedEffective_inPerImpervAc]]-0.0091, IF(UrbanBMPs[[#This Row],[BMP_type]]="ST",0.0239*UrbanBMPs[[#This Row],[treatmentDepthNormalizedEffective_inPerImpervAc]]^5-0.2058*UrbanBMPs[[#This Row],[treatmentDepthNormalizedEffective_inPerImpervAc]]^4+0.7198*UrbanBMPs[[#This Row],[treatmentDepthNormalizedEffective_inPerImpervAc]]^3-1.3229*UrbanBMPs[[#This Row],[treatmentDepthNormalizedEffective_inPerImpervAc]]^2+1.3414*UrbanBMPs[[#This Row],[treatmentDepthNormalizedEffective_inPerImpervAc]]-0.0072, IF(OR(UrbanBMPs[[#This Row],[BMP_type]]="Other",UrbanBMPs[[#This Row],[BMP_type]]="Stream Restoration"),0,NA())))) -> 0.5492 | Z15: =_xlfn.IFNA(INDEX(UrbBMPCoeffs[#All], MATCH(UrbanBMPs[[#This Row],[BMP_type]],UrbBMPCoeffs[[#All],[Type]],0),5), IF(UrbanBMPs[[#This Row],[BMP_type]]="RR",0.0308*UrbanBMPs[[#This Row],[treatmentDepthNormalizedEffective_inPerImpervAc]]^5-0.2562*UrbanBMPs[[#This Row],[treatmentDepthNormalizedEffective_inPerImpervAc]]^4+0.8634*UrbanBMPs[[#This Row],[treatmentDepthNormalizedEffective_inPerImpervAc]]^3-1.5285*UrbanBMPs[[#This Row],[treatmentDepthNormalizedEffective_inPerImpervAc]]^2+1.501*UrbanBMPs[[#This Row],[treatmentDepthNormalizedEffective_inPerImpervAc]]-0.013,IF(UrbanBMPs[[#This Row],[BMP_type]]="ST",0.0152*UrbanBMPs[[#This Row],[treatmentDepthNormalizedEffective_inPerImpervAc]]^5-0.131*UrbanBMPs[[#This Row],[treatmentDepthNormalizedEffective_inPerImpervAc]]^4+0.4581*UrbanBMPs[[#This Row],[treatmentDepthNormalizedEffective_inPerImpervAc]]^3-0.8418*UrbanBMPs[[#This Row],[treatmentDepthNormalizedEffective_inPerImpervAc]]^2+0.8536*UrbanBMPs[[#This Row],[treatmentDepthNormalizedEffective_inPerImpervAc]]-0.0046, IF(OR(UrbanBMPs[[#This Row],[BMP_type]]="Other",UrbanBMPs[[#This Row],[BMP_type]]="Stream Restoration"),0,NA())))) -> 0.3495 | AA15: =IF(UrbanBMPs[[#This Row],[TSS_ReductionEfficiency_percent]]>0,UrbanBMPs[[#This Row],[TSS_Load_lbPerY]]*UrbanBMPs[[#This Row],[TSS_ReductionEfficiency_percent]], IF(UrbanBMPs[[#This Row],[BMP_type]]="Stream Restoration",INDEX(Stream_Nutrients[#All], MATCH("Default",Stream_Nutrients[[#All],[Stream Restoration - Protocol 1]],0),(COLUMN(Stream_Nutrients[TSS (lbs/ft/yr)])-1))*UrbanBMPs[[#This Row],[lengthTreatedStream_ft]],NA())) -> 135176.4 | AB15: =IFERROR(UrbanBMPs[[#This Row],[TSS_Reduction_lbPerY]]/2000,NA()) -> 67.588199 | AC15: =IF(UrbanBMPs[[#This Row],[TP_ReductionEfficiency_percent]]>0,UrbanBMPs[[#This Row],[TP_Load_lbPerY]]*UrbanBMPs[[#This Row],[TP_ReductionEfficiency_percent]], IF(UrbanBMPs[[#This Row],[BMP_type]]="Stream Restoration",INDEX(Stream_Nutrients[#All], MATCH("Default",Stream_Nutrients[[#All],[Stream Restoration - Protocol 1]],0),(COLUMN(Stream_Nutrients[TP (lbs/ft/yr)])-1))*UrbanBMPs[[#This Row],[lengthTreatedStream_ft]],NA())) -> 119.50592 | AD15: =IF(UrbanBMPs[[#This Row],[TN_ReductionEfficiency_percent]]>0,UrbanBMPs[[#This Row],[TN_Load_lbPerY]]*UrbanBMPs[[#This Row],[TN_ReductionEfficiency_percent]], IF(UrbanBMPs[[#This Row],[BMP_type]]="Stream Restoration",INDEX(Stream_Nutrients[#All], MATCH("Default",Stream_Nutrients[[#All],[Stream Restoration - Protocol 1]],0),(COLUMN(Stream_Nutrients[TN (lbs/ft/yr)])-1))*UrbanBMPs[[#This Row],[lengthTreatedStream_ft]],NA())) -> 279.2505
A16: Pine Creek | B16: Streambank Stabilization | C16: Stream Restoration | D16: Proposed | E16: 2021 | G16: =UrbanBMPs[[#This Row],[SquareFeet]]/43560 -> 0 | L16: 800 | N16: =IFERROR(UrbanBMPs[[#This Row],[drainageArea_ac]]*UrbanBMPs[[#This Row],[impervFraction_percent]],NA()) -> #N/A | O16: =IFERROR(UrbanBMPs[[#This Row],[impervArea_ac]]/UrbanBMPs[[#This Row],[Acres]],NA()) -> #N/A | P16: =IF(UrbanBMPs[[#This Row],[BMP_type]]="RR",NA(),IF(UrbanBMPs[[#This Row],[BMP_type]]="ST",NA(), IF(ISNUMBER(UrbanBMPs[[#This Row],[LoadRatio1]]),NA(), IFERROR(UrbanBMPs[[#This Row],[CubicFeet]]/(0.208*UrbanBMPs[[#This Row],[impervArea_ac]]*43560),NA())))) -> #N/A | Q16: =IFERROR(MIN(UrbanBMPs[[#This Row],[treatmentDepth_in]]*UrbanBMPs[[#This Row],[drainageArea_ac]]/UrbanBMPs[[#This Row],[impervArea_ac]],2.5),NA()) -> #N/A | S16: =IF(UrbanBMPs[[#This Row],[treatmentDepthNormalizedManual_inPerImpervAc]]>0,UrbanBMPs[[#This Row],[treatmentDepthNormalizedManual_inPerImpervAc]],IFERROR(UrbanBMPs[[#This Row],[treatmentDepthNormalized_inPerImpervAc]],NA())) -> #N/A | T16: =IF(UrbanBMPs[[#This Row],[BMP_type]]="Stream Restoration",NA(),IFERROR(INDEX(Impervious[#All],MATCH(UrbanBMPs[[#This Row],[drainageLandCoverClass]],Impervious[[#All],[Source]],0),4),NA())) -> #N/A | U16: =IF(ISNUMBER(SEARCH("Street Sweeping",UrbanBMPs[[#This Row],[BMP_type]])),UrbanBMPs[[#This Row],[lengthTreatedRoad_ft2]]*Street_Sweeping[Road Width (ft)]/43560*INDEX(LoadRates[#All],MATCH(UrbanBMPs[[#This Row],[drainageLandCoverClass]],LoadRates[[#All],[Source]],0),(COLUMN(LoadRates[TSS_LoadRateLand_lbPerAcPerY])-1))*UrbanBMPs[[#This Row],[impervFraction_percent]], IF(UrbanBMPs[[#This Row],[BMP_type]]="Stream Restoration",NA(), IF(UrbanBMPs[[#This Row],[BMP_type]]="Forest Buffer",INDEX(LoadRates[#All], MATCH(UrbanBMPs[[#This Row],[drainageLandCoverClass]],LoadRates[[#All],[Source]],0),(COLUMN(LoadRates[TSS_LoadRateLand_lbPerAcPerY])-1))*(UrbanBMPs[[#This Row],[Acres]])*2,INDEX(LoadRates[#All],MATCH(UrbanBMPs[[#This Row],[drainageLandCoverClass]],LoadRates[[#All],[Source]],0), (COLUMN(LoadRates[TSS_LoadRate_lbPerAcPerY])-1))* UrbanBMPs[[#This Row],[drainageArea_ac]]))) -> #N/A | V16: =IF(ISNUMBER(SEARCH("Street Sweeping",UrbanBMPs[[#This Row],[BMP_type]])),UrbanBMPs[[#This Row],[lengthTreatedRoad_ft2]]*Street_Sweeping[Road Width (ft)]/43560*INDEX(LoadRates[#All],MATCH(UrbanBMPs[[#This Row],[drainageLandCoverClass]],LoadRates[[#All],[Source]],0),(COLUMN(LoadRates[TP_LoadRateLand_lbPerAcPerY])-1))*UrbanBMPs[[#This Row],[impervFraction_percent]], IF(UrbanBMPs[[#This Row],[BMP_type]]="Stream Restoration",NA(), IF(UrbanBMPs[[#This Row],[BMP_type]]="Forest Buffer",INDEX(LoadRates[#All], MATCH(UrbanBMPs[[#This Row],[drainageLandCoverClass]],LoadRates[[#All],[Source]],0),(COLUMN(LoadRates[TP_LoadRateLand_lbPerAcPerY])-1))*(UrbanBMPs[[#This Row],[Acres]])*2,INDEX(LoadRates[#All],MATCH(UrbanBMPs[[#This Row],[drainageLandCoverClass]],LoadRates[[#All],[Source]],0), (COLUMN(LoadRates[TP_LoadRate_lbPerAcPerY])-1))* UrbanBMPs[[#This Row],[drainageArea_ac]]))) -> #N/A | W16: =IF(ISNUMBER(SEARCH("Street Sweeping",UrbanBMPs[[#This Row],[BMP_type]])),UrbanBMPs[[#This Row],[lengthTreatedRoad_ft2]]*Street_Sweeping[Road Width (ft)]/43560*INDEX(LoadRates[#All],MATCH(UrbanBMPs[[#This Row],[drainageLandCoverClass]],LoadRates[[#All],[Source]],0),(COLUMN(LoadRates[TN_LoadRateLand_lbPerAcPerY])-1))*UrbanBMPs[[#This Row],[impervFraction_percent]], IF(UrbanBMPs[[#This Row],[BMP_type]]="Stream Restoration",NA(), IF(UrbanBMPs[[#This Row],[BMP_type]]="Forest Buffer",INDEX(LoadRates[#All], MATCH(UrbanBMPs[[#This Row],[drainageLandCoverClass]],LoadRates[[#All],[Source]],0),(COLUMN(LoadRates[TN_LoadRateLand_lbPerAcPerY])-1))*(UrbanBMPs[[#This Row],[Acres]])*4,INDEX(LoadRates[#All],MATCH(UrbanBMPs[[#This Row],[drainageLandCoverClass]],LoadRates[[#All],[Source]],0), (COLUMN(LoadRates[TN_LoadRate_lbPerAcPerY])-1))* UrbanBMPs[[#This Row],[drainageArea_ac]]))) -> #N/A | X16: =_xlfn.IFNA(INDEX(UrbBMPCoeffs[#All], MATCH(UrbanBMPs[[#This Row],[BMP_type]],UrbBMPCoeffs[[#All],[Type]],0),3), IF(UrbanBMPs[[#This Row],[BMP_type]]="RR",0.0326*UrbanBMPs[[#This Row],[treatmentDepthNormalizedEffective_inPerImpervAc]]^5-0.2806*UrbanBMPs[[#This Row],[treatmentDepthNormalizedEffective_inPerImpervAc]]^4+0.9816*UrbanBMPs[[#This Row],[treatmentDepthNormalizedEffective_inPerImpervAc]]^3-1.8039*UrbanBMPs[[#This Row],[treatmentDepthNormalizedEffective_inPerImpervAc]]^2+1.8292*UrbanBMPs[[#This Row],[treatmentDepthNormalizedEffective_inPerImpervAc]]-0.0098, IF(UrbanBMPs[[#This Row],[BMP_type]]="ST",0.0304*UrbanBMPs[[#This Row],[treatmentDepthNormalizedEffective_inPerImpervAc]]^5-0.2619*UrbanBMPs[[#This Row],[treatmentDepthNormalizedEffective_inPerImpervAc]]^4+0.9161*UrbanBMPs[[#This Row],[treatmentDepthNormalizedEffective_inPerImpervAc]]^3-1.6837*UrbanBMPs[[#This Row],[treatmentDepthNormalizedEffective_inPerImpervAc]]^2+1.7072*UrbanBMPs[[#This Row],[treatmentDepthNormalizedEffective_inPerImpervAc]]-0.0091, IF(OR(UrbanBMPs[[#This Row],[BMP_type]]="Other",UrbanBMPs[[#This Row],[BMP_type]]="Stream Restoration"),0,NA())))) -> 0 | Y16: =_xlfn.IFNA(INDEX(UrbBMPCoeffs[#All], MATCH(UrbanBMPs[[#This Row],[BMP_type]],UrbBMPCoeffs[[#All],[Type]],0),4), IF(UrbanBMPs[[#This Row],[BMP_type]]="RR",0.0304*UrbanBMPs[[#This Row],[treatmentDepthNormalizedEffective_inPerImpervAc]]^5-0.2619*UrbanBMPs[[#This Row],[treatmentDepthNormalizedEffective_inPerImpervAc]]^4+0.9161*UrbanBMPs[[#This Row],[treatmentDepthNormalizedEffective_inPerImpervAc]]^3-1.6837*UrbanBMPs[[#This Row],[treatmentDepthNormalizedEffective_inPerImpervAc]]^2+1.7072*UrbanBMPs[[#This Row],[treatmentDepthNormalizedEffective_inPerImpervAc]]-0.0091, IF(UrbanBMPs[[#This Row],[BMP_type]]="ST",0.0239*UrbanBMPs[[#This Row],[treatmentDepthNormalizedEffective_inPerImpervAc]]^5-0.2058*UrbanBMPs[[#This Row],[treatmentDepthNormalizedEffective_inPerImpervAc]]^4+0.7198*UrbanBMPs[[#This Row],[treatmentDepthNormalizedEffective_inPerImpervAc]]^3-1.3229*UrbanBMPs[[#This Row],[treatmentDepthNormalizedEffective_inPerImpervAc]]^2+1.3414*UrbanBMPs[[#This Row],[treatmentDepthNormalizedEffective_inPerImpervAc]]-0.0072, IF(OR(UrbanBMPs[[#This Row],[BMP_type]]="Other",UrbanBMPs[[#This Row],[BMP_type]]="Stream Restoration"),0,NA())))) -> 0 | Z16: =_xlfn.IFNA(INDEX(UrbBMPCoeffs[#All], MATCH(UrbanBMPs[[#This Row],[BMP_type]],UrbBMPCoeffs[[#All],[Type]],0),5), IF(UrbanBMPs[[#This Row],[BMP_type]]="RR",0.0308*UrbanBMPs[[#This Row],[treatmentDepthNormalizedEffective_inPerImpervAc]]^5-0.2562*UrbanBMPs[[#This Row],[treatmentDepthNormalizedEffective_inPerImpervAc]]^4+0.8634*UrbanBMPs[[#This Row],[treatmentDepthNormalizedEffective_inPerImpervAc]]^3-1.5285*UrbanBMPs[[#This Row],[treatmentDepthNormalizedEffective_inPerImpervAc]]^2+1.501*UrbanBMPs[[#This Row],[treatmentDepthNormalizedEffective_inPerImpervAc]]-0.013,IF(UrbanBMPs[[#This Row],[BMP_type]]="ST",0.0152*UrbanBMPs[[#This Row],[treatmentDepthNormalizedEffective_inPerImpervAc]]^5-0.131*UrbanBMPs[[#This Row],[treatmentDepthNormalizedEffective_inPerImpervAc]]^4+0.4581*UrbanBMPs[[#This Row],[treatmentDepthNormalizedEffective_inPerImpervAc]]^3-0.8418*UrbanBMPs[[#This Row],[treatmentDepthNormalizedEffective_inPerImpervAc]]^2+0.8536*UrbanBMPs[[#This Row],[treatmentDepthNormalizedEffective_inPerImpervAc]]-0.0046, IF(OR(UrbanBMPs[[#This Row],[BMP_type]]="Other",UrbanBMPs[[#This Row],[BMP_type]]="Stream Restoration"),0,NA())))) -> 0 | AA16: =IF(UrbanBMPs[[#This Row],[TSS_ReductionEfficiency_percent]]>0,UrbanBMPs[[#This Row],[TSS_Load_lbPerY]]*UrbanBMPs[[#This Row],[TSS_ReductionEfficiency_percent]], IF(UrbanBMPs[[#This Row],[BMP_type]]="Stream Restoration",INDEX(Stream_Nutrients[#All], MATCH("Default",Stream_Nutrients[[#All],[Stream Restoration - Protocol 1]],0),(COLUMN(Stream_Nutrients[TSS (lbs/ft/yr)])-1))*UrbanBMPs[[#This Row],[lengthTreatedStream_ft]],NA())) -> 92000 | AB16: =IFERROR(UrbanBMPs[[#This Row],[TSS_Reduction_lbPerY]]/2000,NA()) -> 46 | AC16: =IF(UrbanBMPs[[#This Row],[TP_ReductionEfficiency_percent]]>0,UrbanBMPs[[#This Row],[TP_Load_lbPerY]]*UrbanBMPs[[#This Row],[TP_ReductionEfficiency_percent]], IF(UrbanBMPs[[#This Row],[BMP_type]]="Stream Restoration",INDEX(Stream_Nutrients[#All], MATCH("Default",Stream_Nutrients[[#All],[Stream Restoration - Protocol 1]],0),(COLUMN(Stream_Nutrients[TP (lbs/ft/yr)])-1))*UrbanBMPs[[#This Row],[lengthTreatedStream_ft]],NA())) -> 139.2 | AD16: =IF(UrbanBMPs[[#This Row],[TN_ReductionEfficiency_percent]]>0,UrbanBMPs[[#This Row],[TN_Load_lbPerY]]*UrbanBMPs[[#This Row],[TN_ReductionEfficiency_percent]], IF(UrbanBMPs[[#This Row],[BMP_type]]="Stream Restoration",INDEX(Stream_Nutrients[#All], MATCH("Default",Stream_Nutrients[[#All],[Stream Restoration - Protocol 1]],0),(COLUMN(Stream_Nutrients[TN (lbs/ft/yr)])-1))*UrbanBMPs[[#This Row],[lengthTreatedStream_ft]],NA())) -> 153.6
A17: BMP3 | B17: New project | C17: Permeable Pavement w/o Sand, Veg. - A/B soils, no underdrain | D17: Proposed | E17: 2022 | F17: 300000 | G17: =UrbanBMPs[[#This Row],[SquareFeet]]/43560 -> 6.8870523 | I17: Md_Mixed | J17: 100 | N17: =IFERROR(UrbanBMPs[[#This Row],[drainageArea_ac]]*UrbanBMPs[[#This Row],[impervFraction_percent]],NA()) -> 52 | O17: =IFERROR(UrbanBMPs[[#This Row],[impervArea_ac]]/UrbanBMPs[[#This Row],[Acres]],NA()) -> 7.5504 | P17: =IF(UrbanBMPs[[#This Row],[BMP_type]]="RR",NA(),IF(UrbanBMPs[[#This Row],[BMP_type]]="ST",NA(), IF(ISNUMBER(UrbanBMPs[[#This Row],[LoadRatio1]]),NA(), IFERROR(UrbanBMPs[[#This Row],[CubicFeet]]/(0.208*UrbanBMPs[[#This Row],[impervArea_ac]]*43560),NA())))) -> #N/A | Q17: =IFERROR(MIN(UrbanBMPs[[#This Row],[treatmentDepth_in]]*UrbanBMPs[[#This Row],[drainageArea_ac]]/UrbanBMPs[[#This Row],[impervArea_ac]],2.5),NA()) -> 0 | S17: =IF(UrbanBMPs[[#This Row],[treatmentDepthNormalizedManual_inPerImpervAc]]>0,UrbanBMPs[[#This Row],[treatmentDepthNormalizedManual_inPerImpervAc]],IFERROR(UrbanBMPs[[#This Row],[treatmentDepthNormalized_inPerImpervAc]],NA())) -> 0 | T17: =IF(UrbanBMPs[[#This Row],[BMP_type]]="Stream Restoration",NA(),IFERROR(INDEX(Impervious[#All],MATCH(UrbanBMPs[[#This Row],[drainageLandCoverClass]],Impervious[[#All],[Source]],0),4),NA())) -> 0.52 | U17: =IF(ISNUMBER(SEARCH("Street Sweeping",UrbanBMPs[[#This Row],[BMP_type]])),UrbanBMPs[[#This Row],[lengthTreatedRoad_ft2]]*Street_Sweeping[Road Width (ft)]/43560*INDEX(LoadRates[#All],MATCH(UrbanBMPs[[#This Row],[drainageLandCoverClass]],LoadRates[[#All],[Source]],0),(COLUMN(LoadRates[TSS_LoadRateLand_lbPerAcPerY])-1))*UrbanBMPs[[#This Row],[impervFraction_percent]], IF(UrbanBMPs[[#This Row],[BMP_type]]="Stream Restoration",NA(), IF(UrbanBMPs[[#This Row],[BMP_type]]="Forest Buffer",INDEX(LoadRates[#All], MATCH(UrbanBMPs[[#This Row],[drainageLandCoverClass]],LoadRates[[#All],[Source]],0),(COLUMN(LoadRates[TSS_LoadRateLand_lbPerAcPerY])-1))*(UrbanBMPs[[#This Row],[Acres]])*2,INDEX(LoadRates[#All],MATCH(UrbanBMPs[[#This Row],[drainageLandCoverClass]],LoadRates[[#All],[Source]],0), (COLUMN(LoadRates[TSS_LoadRate_lbPerAcPerY])-1))* UrbanBMPs[[#This Row],[drainageArea_ac]]))) -> 218890.19 | V17: =IF(ISNUMBER(SEARCH("Street Sweeping",UrbanBMPs[[#This Row],[BMP_type]])),UrbanBMPs[[#This Row],[lengthTreatedRoad_ft2]]*Street_Sweeping[Road Width (ft)]/43560*INDEX(LoadRates[#All],MATCH(UrbanBMPs[[#This Row],[drainageLandCoverClass]],LoadRates[[#All],[Source]],0),(COLUMN(LoadRates[TP_LoadRateLand_lbPerAcPerY])-1))*UrbanBMPs[[#This Row],[impervFraction_percent]], IF(UrbanBMPs[[#This Row],[BMP_type]]="Stream Restoration",NA(), IF(UrbanBMPs[[#This Row],[BMP_type]]="Forest Buffer",INDEX(LoadRates[#All], MATCH(UrbanBMPs[[#This Row],[drainageLandCoverClass]],LoadRates[[#All],[Source]],0),(COLUMN(LoadRates[TP_LoadRateLand_lbPerAcPerY])-1))*(UrbanBMPs[[#This Row],[Acres]])*2,INDEX(LoadRates[#All],MATCH(UrbanBMPs[[#This Row],[drainageLandCoverClass]],LoadRates[[#All],[Source]],0), (COLUMN(LoadRates[TP_LoadRate_lbPerAcPerY])-1))* UrbanBMPs[[#This Row],[drainageArea_ac]]))) -> 67 | W17: =IF(ISNUMBER(SEARCH("Street Sweeping",UrbanBMPs[[#This Row],[BMP_type]])),UrbanBMPs[[#This Row],[lengthTreatedRoad_ft2]]*Street_Sweeping[Road Width (ft)]/43560*INDEX(LoadRates[#All],MATCH(UrbanBMPs[[#This Row],[drainageLandCoverClass]],LoadRates[[#All],[Source]],0),(COLUMN(LoadRates[TN_LoadRateLand_lbPerAcPerY])-1))*UrbanBMPs[[#This Row],[impervFraction_percent]], IF(UrbanBMPs[[#This Row],[BMP_type]]="Stream Restoration",NA(), IF(UrbanBMPs[[#This Row],[BMP_type]]="Forest Buffer",INDEX(LoadRates[#All], MATCH(UrbanBMPs[[#This Row],[drainageLandCoverClass]],LoadRates[[#All],[Source]],0),(COLUMN(LoadRates[TN_LoadRateLand_lbPerAcPerY])-1))*(UrbanBMPs[[#This Row],[Acres]])*4,INDEX(LoadRates[#All],MATCH(UrbanBMPs[[#This Row],[drainageLandCoverClass]],LoadRates[[#All],[Source]],0), (COLUMN(LoadRates[TN_LoadRate_lbPerAcPerY])-1))* UrbanBMPs[[#This Row],[drainageArea_ac]]))) -> 308 | X17: =_xlfn.IFNA(INDEX(UrbBMPCoeffs[#All], MATCH(UrbanBMPs[[#This Row],[BMP_type]],UrbBMPCoeffs[[#All],[Type]],0),3), IF(UrbanBMPs[[#This Row],[BMP_type]]="RR",0.0326*UrbanBMPs[[#This Row],[treatmentDepthNormalizedEffective_inPerImpervAc]]^5-0.2806*UrbanBMPs[[#This Row],[treatmentDepthNormalizedEffective_inPerImpervAc]]^4+0.9816*UrbanBMPs[[#This Row],[treatmentDepthNormalizedEffective_inPerImpervAc]]^3-1.8039*UrbanBMPs[[#This Row],[treatmentDepthNormalizedEffective_inPerImpervAc]]^2+1.8292*UrbanBMPs[[#This Row],[treatmentDepthNormalizedEffective_inPerImpervAc]]-0.0098, IF(UrbanBMPs[[#This Row],[BMP_type]]="ST",0.0304*UrbanBMPs[[#This Row],[treatmentDepthNormalizedEffective_inPerImpervAc]]^5-0.2619*UrbanBMPs[[#This Row],[treatmentDepthNormalizedEffective_inPerImpervAc]]^4+0.9161*UrbanBMPs[[#This Row],[treatmentDepthNormalizedEffective_inPerImpervAc]]^3-1.6837*UrbanBMPs[[#This Row],[treatmentDepthNormalizedEffective_inPerImpervAc]]^2+1.7072*UrbanBMPs[[#This Row],[treatmentDepthNormalizedEffective_inPerImpervAc]]-0.0091, IF(OR(UrbanBMPs[[#This Row],[BMP_type]]="Other",UrbanBMPs[[#This Row],[BMP_type]]="Stream Restoration"),0,NA())))) -> 0.85 | Y17: =_xlfn.IFNA(INDEX(UrbBMPCoeffs[#All], MATCH(UrbanBMPs[[#This Row],[BMP_type]],UrbBMPCoeffs[[#All],[Type]],0),4), IF(UrbanBMPs[[#This Row],[BMP_type]]="RR",0.0304*UrbanBMPs[[#This Row],[treatmentDepthNormalizedEffective_inPerImpervAc]]^5-0.2619*UrbanBMPs[[#This Row],[treatmentDepthNormalizedEffective_inPerImpervAc]]^4+0.9161*UrbanBMPs[[#This Row],[treatmentDepthNormalizedEffective_inPerImpervAc]]^3-1.6837*UrbanBMPs[[#This Row],[treatmentDepthNormalizedEffective_inPerImpervAc]]^2+1.7072*UrbanBMPs[[#This Row],[treatmentDepthNormalizedEffective_inPerImpervAc]]-0.0091, IF(UrbanBMPs[[#This Row],[BMP_type]]="ST",0.0239*UrbanBMPs[[#This Row],[treatmentDepthNormalizedEffective_inPerImpervAc]]^5-0.2058*UrbanBMPs[[#This Row],[treatmentDepthNormalizedEffective_inPerImpervAc]]^4+0.7198*UrbanBMPs[[#This Row],[treatmentDepthNormalizedEffective_inPerImpervAc]]^3-1.3229*UrbanBMPs[[#This Row],[treatmentDepthNormalizedEffective_inPerImpervAc]]^2+1.3414*UrbanBMPs[[#This Row],[treatmentDepthNormalizedEffective_inPerImpervAc]]-0.0072, IF(OR(UrbanBMPs[[#This Row],[BMP_type]]="Other",UrbanBMPs[[#This Row],[BMP_type]]="Stream Restoration"),0,NA())))) -> 0.8 | Z17: =_xlfn.IFNA(INDEX(UrbBMPCoeffs[#All], MATCH(UrbanBMPs[[#This Row],[BMP_type]],UrbBMPCoeffs[[#All],[Type]],0),5), IF(UrbanBMPs[[#This Row],[BMP_type]]="RR",0.0308*UrbanBMPs[[#This Row],[treatmentDepthNormalizedEffective_inPerImpervAc]]^5-0.2562*UrbanBMPs[[#This Row],[treatmentDepthNormalizedEffective_inPerImpervAc]]^4+0.8634*UrbanBMPs[[#This Row],[treatmentDepthNormalizedEffective_inPerImpervAc]]^3-1.5285*UrbanBMPs[[#This Row],[treatmentDepthNormalizedEffective_inPerImpervAc]]^2+1.501*UrbanBMPs[[#This Row],[treatmentDepthNormalizedEffective_inPerImpervAc]]-0.013,IF(UrbanBMPs[[#This Row],[BMP_type]]="ST",0.0152*UrbanBMPs[[#This Row],[treatmentDepthNormalizedEffective_inPerImpervAc]]^5-0.131*UrbanBMPs[[#This Row],[treatmentDepthNormalizedEffective_inPerImpervAc]]^4+0.4581*UrbanBMPs[[#This Row],[treatmentDepthNormalizedEffective_inPerImpervAc]]^3-0.8418*UrbanBMPs[[#This Row],[treatmentDepthNormalizedEffective_inPerImpervAc]]^2+0.8536*UrbanBMPs[[#This Row],[treatmentDepthNormalizedEffective_inPerImpervAc]]-0.0046, IF(OR(UrbanBMPs[[#This Row],[BMP_type]]="Other",UrbanBMPs[[#This Row],[BMP_type]]="Stream Restoration"),0,NA())))) -> 0.75 | AA17: =IF(UrbanBMPs[[#This Row],[TSS_ReductionEfficiency_percent]]>0,UrbanBMPs[[#This Row],[TSS_Load_lbPerY]]*UrbanBMPs[[#This Row],[TSS_ReductionEfficiency_percent]], IF(UrbanBMPs[[#This Row],[BMP_type]]="Stream Restoration",INDEX(Stream_Nutrients[#All], MATCH("Default",Stream_Nutrients[[#All],[Stream Restoration - Protocol 1]],0),(COLUMN(Stream_Nutrients[TSS (lbs/ft/yr)])-1))*UrbanBMPs[[#This Row],[lengthTreatedStream_ft]],NA())) -> 186056.66 | AB17: =IFERROR(UrbanBMPs[[#This Row],[TSS_Reduction_lbPerY]]/2000,NA()) -> 93.028329 | AC17: =IF(UrbanBMPs[[#This Row],[TP_ReductionEfficiency_percent]]>0,UrbanBMPs[[#This Row],[TP_Load_lbPerY]]*UrbanBMPs[[#This Row],[TP_ReductionEfficiency_percent]], IF(UrbanBMPs[[#This Row],[BMP_type]]="Stream Restoration",INDEX(Stream_Nutrients[#All], MATCH("Default",Stream_Nutrients[[#All],[Stream Restoration - Protocol 1]],0),(COLUMN(Stream_Nutrients[TP (lbs/ft/yr)])-1))*UrbanBMPs[[#This Row],[lengthTreatedStream_ft]],NA())) -> 53.6 | AD17: =IF(UrbanBMPs[[#This Row],[TN_ReductionEfficiency_percent]]>0,UrbanBMPs[[#This Row],[TN_Load_lbPerY]]*UrbanBMPs[[#This Row],[TN_ReductionEfficiency_percent]], IF(UrbanBMPs[[#This Row],[BMP_type]]="Stream Restoration",INDEX(Stream_Nutrients[#All], MATCH("Default",Stream_Nutrients[[#All],[Stream Restoration - Protocol 1]],0),(COLUMN(Stream_Nutrients[TN (lbs/ft/yr)])-1))*UrbanBMPs[[#This Row],[lengthTreatedStream_ft]],NA())) -> 231
A18: BMP4 | B18: New project | C18: Dry Extended Detention Ponds | D18: Proposed | E18: 2022 | G18: =UrbanBMPs[[#This Row],[SquareFeet]]/43560 -> 0 | H18: 530000 | I18: Hd_Mixed | J18: 75 | N18: =IFERROR(UrbanBMPs[[#This Row],[drainageArea_ac]]*UrbanBMPs[[#This Row],[impervFraction_percent]],NA()) -> 65.25 | O18: =IFERROR(UrbanBMPs[[#This Row],[impervArea_ac]]/UrbanBMPs[[#This Row],[Acres]],NA()) -> #N/A | P18: =IF(UrbanBMPs[[#This Row],[BMP_type]]="RR",NA(),IF(UrbanBMPs[[#This Row],[BMP_type]]="ST",NA(), IF(ISNUMBER(UrbanBMPs[[#This Row],[LoadRatio1]]),NA(), IFERROR(UrbanBMPs[[#This Row],[CubicFeet]]/(0.208*UrbanBMPs[[#This Row],[impervArea_ac]]*43560),NA())))) -> 0.89648731 | Q18: =IFERROR(MIN(UrbanBMPs[[#This Row],[treatmentDepth_in]]*UrbanBMPs[[#This Row],[drainageArea_ac]]/UrbanBMPs[[#This Row],[impervArea_ac]],2.5),NA()) -> 0 | S18: =IF(UrbanBMPs[[#This Row],[treatmentDepthNormalizedManual_inPerImpervAc]]>0,UrbanBMPs[[#This Row],[treatmentDepthNormalizedManual_inPerImpervAc]],IFERROR(UrbanBMPs[[#This Row],[treatmentDepthNormalized_inPerImpervAc]],NA())) -> 0 | T18: =IF(UrbanBMPs[[#This Row],[BMP_type]]="Stream Restoration",NA(),IFERROR(INDEX(Impervious[#All],MATCH(UrbanBMPs[[#This Row],[drainageLandCoverClass]],Impervious[[#All],[Source]],0),4),NA())) -> 0.87 | U18: =IF(ISNUMBER(SEARCH("Street Sweeping",UrbanBMPs[[#This Row],[BMP_type]])),UrbanBMPs[[#This Row],[lengthTreatedRoad_ft2]]*Street_Sweeping[Road Width (ft)]/43560*INDEX(LoadRates[#All],MATCH(UrbanBMPs[[#This Row],[drainageLandCoverClass]],LoadRates[[#All],[Source]],0),(COLUMN(LoadRates[TSS_LoadRateLand_lbPerAcPerY])-1))*UrbanBMPs[[#This Row],[impervFraction_percent]], IF(UrbanBMPs[[#This Row],[BMP_type]]="Stream Restoration",NA(), IF(UrbanBMPs[[#This Row],[BMP_type]]="Forest Buffer",INDEX(LoadRates[#All], MATCH(UrbanBMPs[[#This Row],[drainageLandCoverClass]],LoadRates[[#All],[Source]],0),(COLUMN(LoadRates[TSS_LoadRateLand_lbPerAcPerY])-1))*(UrbanBMPs[[#This Row],[Acres]])*2,INDEX(LoadRates[#All],MATCH(UrbanBMPs[[#This Row],[drainageLandCoverClass]],LoadRates[[#All],[Source]],0), (COLUMN(LoadRates[TSS_LoadRate_lbPerAcPerY])-1))* UrbanBMPs[[#This Row],[drainageArea_ac]]))) -> 221512 | V18: =IF(ISNUMBER(SEARCH("Street Sweeping",UrbanBMPs[[#This Row],[BMP_type]])),UrbanBMPs[[#This Row],[lengthTreatedRoad_ft2]]*Street_Sweeping[Road Width (ft)]/43560*INDEX(LoadRates[#All],MATCH(UrbanBMPs[[#This Row],[drainageLandCoverClass]],LoadRates[[#All],[Source]],0),(COLUMN(LoadRates[TP_LoadRateLand_lbPerAcPerY])-1))*UrbanBMPs[[#This Row],[impervFraction_percent]], IF(UrbanBMPs[[#This Row],[BMP_type]]="Stream Restoration",NA(), IF(UrbanBMPs[[#This Row],[BMP_type]]="Forest Buffer",INDEX(LoadRates[#All], MATCH(UrbanBMPs[[#This Row],[drainageLandCoverClass]],LoadRates[[#All],[Source]],0),(COLUMN(LoadRates[TP_LoadRateLand_lbPerAcPerY])-1))*(UrbanBMPs[[#This Row],[Acres]])*2,INDEX(LoadRates[#All],MATCH(UrbanBMPs[[#This Row],[drainageLandCoverClass]],LoadRates[[#All],[Source]],0), (COLUMN(LoadRates[TP_LoadRate_lbPerAcPerY])-1))* UrbanBMPs[[#This Row],[drainageArea_ac]]))) -> 64.5 | W18: =IF(ISNUMBER(SEARCH("Street Sweeping",UrbanBMPs[[#This Row],[BMP_type]])),UrbanBMPs[[#This Row],[lengthTreatedRoad_ft2]]*Street_Sweeping[Road Width (ft)]/43560*INDEX(LoadRates[#All],MATCH(UrbanBMPs[[#This Row],[drainageLandCoverClass]],LoadRates[[#All],[Source]],0),(COLUMN(LoadRates[TN_LoadRateLand_lbPerAcPerY])-1))*UrbanBMPs[[#This Row],[impervFraction_percent]], IF(UrbanBMPs[[#This Row],[BMP_type]]="Stream Restoration",NA(), IF(UrbanBMPs[[#This Row],[BMP_type]]="Forest Buffer",INDEX(LoadRates[#All], MATCH(UrbanBMPs[[#This Row],[drainageLandCoverClass]],LoadRates[[#All],[Source]],0),(COLUMN(LoadRates[TN_LoadRateLand_lbPerAcPerY])-1))*(UrbanBMPs[[#This Row],[Acres]])*4,INDEX(LoadRates[#All],MATCH(UrbanBMPs[[#This Row],[drainageLandCoverClass]],LoadRates[[#All],[Source]],0), (COLUMN(LoadRates[TN_LoadRate_lbPerAcPerY])-1))* UrbanBMPs[[#This Row],[drainageArea_ac]]))) -> 304.5 | X18: =_xlfn.IFNA(INDEX(UrbBMPCoeffs[#All], MATCH(UrbanBMPs[[#This Row],[BMP_type]],UrbBMPCoeffs[[#All],[Type]],0),3), IF(UrbanBMPs[[#This Row],[BMP_type]]="RR",0.0326*UrbanBMPs[[#This Row],[treatmentDepthNormalizedEffective_inPerImpervAc]]^5-0.2806*UrbanBMPs[[#This Row],[treatmentDepthNormalizedEffective_inPerImpervAc]]^4+0.9816*UrbanBMPs[[#This Row],[treatmentDepthNormalizedEffective_inPerImpervAc]]^3-1.8039*UrbanBMPs[[#This Row],[treatmentDepthNormalizedEffective_inPerImpervAc]]^2+1.8292*UrbanBMPs[[#This Row],[treatmentDepthNormalizedEffective_inPerImpervAc]]-0.0098, IF(UrbanBMPs[[#This Row],[BMP_type]]="ST",0.0304*UrbanBMPs[[#This Row],[treatmentDepthNormalizedEffective_inPerImpervAc]]^5-0.2619*UrbanBMPs[[#This Row],[treatmentDepthNormalizedEffective_inPerImpervAc]]^4+0.9161*UrbanBMPs[[#This Row],[treatmentDepthNormalizedEffective_inPerImpervAc]]^3-1.6837*UrbanBMPs[[#This Row],[treatmentDepthNormalizedEffective_inPerImpervAc]]^2+1.7072*UrbanBMPs[[#This Row],[treatmentDepthNormalizedEffective_inPerImpervAc]]-0.0091, IF(OR(UrbanBMPs[[#This Row],[BMP_type]]="Other",UrbanBMPs[[#This Row],[BMP_type]]="Stream Restoration"),0,NA())))) -> 0.6 | Y18: =_xlfn.IFNA(INDEX(UrbBMPCoeffs[#All], MATCH(UrbanBMPs[[#This Row],[BMP_type]],UrbBMPCoeffs[[#All],[Type]],0),4), IF(UrbanBMPs[[#This Row],[BMP_type]]="RR",0.0304*UrbanBMPs[[#This Row],[treatmentDepthNormalizedEffective_inPerImpervAc]]^5-0.2619*UrbanBMPs[[#This Row],[treatmentDepthNormalizedEffective_inPerImpervAc]]^4+0.9161*UrbanBMPs[[#This Row],[treatmentDepthNormalizedEffective_inPerImpervAc]]^3-1.6837*UrbanBMPs[[#This Row],[treatmentDepthNormalizedEffective_inPerImpervAc]]^2+1.7072*UrbanBMPs[[#This Row],[treatmentDepthNormalizedEffective_inPerImpervAc]]-0.0091, IF(UrbanBMPs[[#This Row],[BMP_type]]="ST",0.0239*UrbanBMPs[[#This Row],[treatmentDepthNormalizedEffective_inPerImpervAc]]^5-0.2058*UrbanBMPs[[#This Row],[treatmentDepthNormalizedEffective_inPerImpervAc]]^4+0.7198*UrbanBMPs[[#This Row],[treatmentDepthNormalizedEffective_inPerImpervAc]]^3-1.3229*UrbanBMPs[[#This Row],[treatmentDepthNormalizedEffective_inPerImpervAc]]^2+1.3414*UrbanBMPs[[#This Row],[treatmentDepthNormalizedEffective_inPerImpervAc]]-0.0072, IF(OR(UrbanBMPs[[#This Row],[BMP_type]]="Other",UrbanBMPs[[#This Row],[BMP_type]]="Stream Restoration"),0,NA())))) -> 0.2 | Z18: =_xlfn.IFNA(INDEX(UrbBMPCoeffs[#All], MATCH(UrbanBMPs[[#This Row],[BMP_type]],UrbBMPCoeffs[[#All],[Type]],0),5), IF(UrbanBMPs[[#This Row],[BMP_type]]="RR",0.0308*UrbanBMPs[[#This Row],[treatmentDepthNormalizedEffective_inPerImpervAc]]^5-0.2562*UrbanBMPs[[#This Row],[treatmentDepthNormalizedEffective_inPerImpervAc]]^4+0.8634*UrbanBMPs[[#This Row],[treatmentDepthNormalizedEffective_inPerImpervAc]]^3-1.5285*UrbanBMPs[[#This Row],[treatmentDepthNormalizedEffective_inPerImpervAc]]^2+1.501*UrbanBMPs[[#This Row],[treatmentDepthNormalizedEffective_inPerImpervAc]]-0.013,IF(UrbanBMPs[[#This Row],[BMP_type]]="ST",0.0152*UrbanBMPs[[#This Row],[treatmentDepthNormalizedEffective_inPerImpervAc]]^5-0.131*UrbanBMPs[[#This Row],[treatmentDepthNormalizedEffective_inPerImpervAc]]^4+0.4581*UrbanBMPs[[#This Row],[treatmentDepthNormalizedEffective_inPerImpervAc]]^3-0.8418*UrbanBMPs[[#This Row],[treatmentDepthNormalizedEffective_inPerImpervAc]]^2+0.8536*UrbanBMPs[[#This Row],[treatmentDepthNormalizedEffective_inPerImpervAc]]-0.0046, IF(OR(UrbanBMPs[[#This Row],[BMP_type]]="Other",UrbanBMPs[[#This Row],[BMP_type]]="Stream Restoration"),0,NA())))) -> 0.2 | AA18: =IF(UrbanBMPs[[#This Row],[TSS_ReductionEfficiency_percent]]>0,UrbanBMPs[[#This Row],[TSS_Load_lbPerY]]*UrbanBMPs[[#This Row],[TSS_ReductionEfficiency_percent]], IF(UrbanBMPs[[#This Row],[BMP_type]]="Stream Restoration",INDEX(Stream_Nutrients[#All], MATCH("Default",Stream_Nutrients[[#All],[Stream Restoration - Protocol 1]],0),(COLUMN(Stream_Nutrients[TSS (lbs/ft/yr)])-1))*UrbanBMPs[[#This Row],[lengthTreatedStream_ft]],NA())) -> 132907.2 | AB18: =IFERROR(UrbanBMPs[[#This Row],[TSS_Reduction_lbPerY]]/2000,NA()) -> 66.453601 | AC18: =IF(UrbanBMPs[[#This Row],[TP_ReductionEfficiency_percent]]>0,UrbanBMPs[[#This Row],[TP_Load_lbPerY]]*UrbanBMPs[[#This Row],[TP_ReductionEfficiency_percent]], IF(UrbanBMPs[[#This Row],[BMP_type]]="Stream Restoration",INDEX(Stream_Nutrients[#All], MATCH("Default",Stream_Nutrients[[#All],[Stream Restoration - Protocol 1]],0),(COLUMN(Stream_Nutrients[TP (lbs/ft/yr)])-1))*UrbanBMPs[[#This Row],[lengthTreatedStream_ft]],NA())) -> 12.9 | AD18: =IF(UrbanBMPs[[#This Row],[TN_ReductionEfficiency_percent]]>0,UrbanBMPs[[#This Row],[TN_Load_lbPerY]]*UrbanBMPs[[#This Row],[TN_ReductionEfficiency_percent]], IF(UrbanBMPs[[#This Row],[BMP_type]]="Stream Restoration",INDEX(Stream_Nutrients[#All], MATCH("Default",Stream_Nutrients[[#All],[Stream Restoration - Protocol 1]],0),(COLUMN(Stream_Nutrients[TN (lbs/ft/yr)])-1))*UrbanBMPs[[#This Row],[lengthTreatedStream_ft]],NA())) -> 60.9
A19: BMP5 | B19: New project | C19: Street Sweeping, SCP-1 | D19: Existing | E19: 2022 | G19: =UrbanBMPs[[#This Row],[SquareFeet]]/43560 -> 0 | I19: Md_Mixed | M19: 52000 | N19: =IFERROR(UrbanBMPs[[#This Row],[drainageArea_ac]]*UrbanBMPs[[#This Row],[impervFraction_percent]],NA()) -> 0 | O19: =IFERROR(UrbanBMPs[[#This Row],[impervArea_ac]]/UrbanBMPs[[#This Row],[Acres]],NA()) -> #N/A | P19: =IF(UrbanBMPs[[#This Row],[BMP_type]]="RR",NA(),IF(UrbanBMPs[[#This Row],[BMP_type]]="ST",NA(), IF(ISNUMBER(UrbanBMPs[[#This Row],[LoadRatio1]]),NA(), IFERROR(UrbanBMPs[[#This Row],[CubicFeet]]/(0.208*UrbanBMPs[[#This Row],[impervArea_ac]]*43560),NA())))) -> #N/A | Q19: =IFERROR(MIN(UrbanBMPs[[#This Row],[treatmentDepth_in]]*UrbanBMPs[[#This Row],[drainageArea_ac]]/UrbanBMPs[[#This Row],[impervArea_ac]],2.5),NA()) -> #N/A | S19: =IF(UrbanBMPs[[#This Row],[treatmentDepthNormalizedManual_inPerImpervAc]]>0,UrbanBMPs[[#This Row],[treatmentDepthNormalizedManual_inPerImpervAc]],IFERROR(UrbanBMPs[[#This Row],[treatmentDepthNormalized_inPerImpervAc]],NA())) -> #N/A | T19: =IF(UrbanBMPs[[#This Row],[BMP_type]]="Stream Restoration",NA(),IFERROR(INDEX(Impervious[#All],MATCH(UrbanBMPs[[#This Row],[drainageLandCoverClass]],Impervious[[#All],[Source]],0),4),NA())) -> 0.52 | U19: =IF(ISNUMBER(SEARCH("Street Sweeping",UrbanBMPs[[#This Row],[BMP_type]])),UrbanBMPs[[#This Row],[lengthTreatedRoad_ft2]]*Street_Sweeping[Road Width (ft)]/43560*INDEX(LoadRates[#All],MATCH(UrbanBMPs[[#This Row],[drainageLandCoverClass]],LoadRates[[#All],[Source]],0),(COLUMN(LoadRates[TSS_LoadRateLand_lbPerAcPerY])-1))*UrbanBMPs[[#This Row],[impervFraction_percent]], IF(UrbanBMPs[[#This Row],[BMP_type]]="Stream Restoration",NA(), IF(UrbanBMPs[[#This Row],[BMP_type]]="Forest Buffer",INDEX(LoadRates[#All], MATCH(UrbanBMPs[[#This Row],[drainageLandCoverClass]],LoadRates[[#All],[Source]],0),(COLUMN(LoadRates[TSS_LoadRateLand_lbPerAcPerY])-1))*(UrbanBMPs[[#This Row],[Acres]])*2,INDEX(LoadRates[#All],MATCH(UrbanBMPs[[#This Row],[drainageLandCoverClass]],LoadRates[[#All],[Source]],0), (COLUMN(LoadRates[TSS_LoadRate_lbPerAcPerY])-1))* UrbanBMPs[[#This Row],[drainageArea_ac]]))) -> 816.05499 | V19: =IF(ISNUMBER(SEARCH("Street Sweeping",UrbanBMPs[[#This Row],[BMP_type]])),UrbanBMPs[[#This Row],[lengthTreatedRoad_ft2]]*Street_Sweeping[Road Width (ft)]/43560*INDEX(LoadRates[#All],MATCH(UrbanBMPs[[#This Row],[drainageLandCoverClass]],LoadRates[[#All],[Source]],0),(COLUMN(LoadRates[TP_LoadRateLand_lbPerAcPerY])-1))*UrbanBMPs[[#This Row],[impervFraction_percent]], IF(UrbanBMPs[[#This Row],[BMP_type]]="Stream Restoration",NA(), IF(UrbanBMPs[[#This Row],[BMP_type]]="Forest Buffer",INDEX(LoadRates[#All], MATCH(UrbanBMPs[[#This Row],[drainageLandCoverClass]],LoadRates[[#All],[Source]],0),(COLUMN(LoadRates[TP_LoadRateLand_lbPerAcPerY])-1))*(UrbanBMPs[[#This Row],[Acres]])*2,INDEX(LoadRates[#All],MATCH(UrbanBMPs[[#This Row],[drainageLandCoverClass]],LoadRates[[#All],[Source]],0), (COLUMN(LoadRates[TP_LoadRate_lbPerAcPerY])-1))* UrbanBMPs[[#This Row],[drainageArea_ac]]))) -> 1.7381084 | W19: =IF(ISNUMBER(SEARCH("Street Sweeping",UrbanBMPs[[#This Row],[BMP_type]])),UrbanBMPs[[#This Row],[lengthTreatedRoad_ft2]]*Street_Sweeping[Road Width (ft)]/43560*INDEX(LoadRates[#All],MATCH(UrbanBMPs[[#This Row],[drainageLandCoverClass]],LoadRates[[#All],[Source]],0),(COLUMN(LoadRates[TN_LoadRateLand_lbPerAcPerY])-1))*UrbanBMPs[[#This Row],[impervFraction_percent]], IF(UrbanBMPs[[#This Row],[BMP_type]]="Stream Restoration",NA(), IF(UrbanBMPs[[#This Row],[BMP_type]]="Forest Buffer",INDEX(LoadRates[#All], MATCH(UrbanBMPs[[#This Row],[drainageLandCoverClass]],LoadRates[[#All],[Source]],0),(COLUMN(LoadRates[TN_LoadRateLand_lbPerAcPerY])-1))*(UrbanBMPs[[#This Row],[Acres]])*4,INDEX(LoadRates[#All],MATCH(UrbanBMPs[[#This Row],[drainageLandCoverClass]],LoadRates[[#All],[Source]],0), (COLUMN(LoadRates[TN_LoadRate_lbPerAcPerY])-1))* UrbanBMPs[[#This Row],[drainageArea_ac]]))) -> 16.512029 | X19: =_xlfn.IFNA(INDEX(UrbBMPCoeffs[#All], MATCH(UrbanBMPs[[#This Row],[BMP_type]],UrbBMPCoeffs[[#All],[Type]],0),3), IF(UrbanBMPs[[#This Row],[BMP_type]]="RR",0.0326*UrbanBMPs[[#This Row],[treatmentDepthNormalizedEffective_inPerImpervAc]]^5-0.2806*UrbanBMPs[[#This Row],[treatmentDepthNormalizedEffective_inPerImpervAc]]^4+0.9816*UrbanBMPs[[#This Row],[treatmentDepthNormalizedEffective_inPerImpervAc]]^3-1.8039*UrbanBMPs[[#This Row],[treatmentDepthNormalizedEffective_inPerImpervAc]]^2+1.8292*UrbanBMPs[[#This Row],[treatmentDepthNormalizedEffective_inPerImpervAc]]-0.0098, IF(UrbanBMPs[[#This Row],[BMP_type]]="ST",0.0304*UrbanBMPs[[#This Row],[treatmentDepthNormalizedEffective_inPerImpervAc]]^5-0.2619*UrbanBMPs[[#This Row],[treatmentDepthNormalizedEffective_inPerImpervAc]]^4+0.9161*UrbanBMPs[[#This Row],[treatmentDepthNormalizedEffective_inPerImpervAc]]^3-1.6837*UrbanBMPs[[#This Row],[treatmentDepthNormalizedEffective_inPerImpervAc]]^2+1.7072*UrbanBMPs[[#This Row],[treatmentDepthNormalizedEffective_inPerImpervAc]]-0.0091, IF(OR(UrbanBMPs[[#This Row],[BMP_type]]="Other",UrbanBMPs[[#This Row],[BMP_type]]="Stream Restoration"),0,NA())))) -> 0.21 | Y19: =_xlfn.IFNA(INDEX(UrbBMPCoeffs[#All], MATCH(UrbanBMPs[[#This Row],[BMP_type]],UrbBMPCoeffs[[#All],[Type]],0),4), IF(UrbanBMPs[[#This Row],[BMP_type]]="RR",0.0304*UrbanBMPs[[#This Row],[treatmentDepthNormalizedEffective_inPerImpervAc]]^5-0.2619*UrbanBMPs[[#This Row],[treatmentDepthNormalizedEffective_inPerImpervAc]]^4+0.9161*UrbanBMPs[[#This Row],[treatmentDepthNormalizedEffective_inPerImpervAc]]^3-1.6837*UrbanBMPs[[#This Row],[treatmentDepthNormalizedEffective_inPerImpervAc]]^2+1.7072*UrbanBMPs[[#This Row],[treatmentDepthNormalizedEffective_inPerImpervAc]]-0.0091, IF(UrbanBMPs[[#This Row],[BMP_type]]="ST",0.0239*UrbanBMPs[[#This Row],[treatmentDepthNormalizedEffective_inPerImpervAc]]^5-0.2058*UrbanBMPs[[#This Row],[treatmentDepthNormalizedEffective_inPerImpervAc]]^4+0.7198*UrbanBMPs[[#This Row],[treatmentDepthNormalizedEffective_inPerImpervAc]]^3-1.3229*UrbanBMPs[[#This Row],[treatmentDepthNormalizedEffective_inPerImpervAc]]^2+1.3414*UrbanBMPs[[#This Row],[treatmentDepthNormalizedEffective_inPerImpervAc]]-0.0072, IF(OR(UrbanBMPs[[#This Row],[BMP_type]]="Other",UrbanBMPs[[#This Row],[BMP_type]]="Stream Restoration"),0,NA())))) -> 0.1 | Z19: =_xlfn.IFNA(INDEX(UrbBMPCoeffs[#All], MATCH(UrbanBMPs[[#This Row],[BMP_type]],UrbBMPCoeffs[[#All],[Type]],0),5), IF(UrbanBMPs[[#This Row],[BMP_type]]="RR",0.0308*UrbanBMPs[[#This Row],[treatmentDepthNormalizedEffective_inPerImpervAc]]^5-0.2562*UrbanBMPs[[#This Row],[treatmentDepthNormalizedEffective_inPerImpervAc]]^4+0.8634*UrbanBMPs[[#This Row],[treatmentDepthNormalizedEffective_inPerImpervAc]]^3-1.5285*UrbanBMPs[[#This Row],[treatmentDepthNormalizedEffective_inPerImpervAc]]^2+1.501*UrbanBMPs[[#This Row],[treatmentDepthNormalizedEffective_inPerImpervAc]]-0.013,IF(UrbanBMPs[[#This Row],[BMP_type]]="ST",0.0152*UrbanBMPs[[#This Row],[treatmentDepthNormalizedEffective_inPerImpervAc]]^5-0.131*UrbanBMPs[[#This Row],[treatmentDepthNormalizedEffective_inPerImpervAc]]^4+0.4581*UrbanBMPs[[#This Row],[treatmentDepthNormalizedEffective_inPerImpervAc]]^3-0.8418*UrbanBMPs[[#This Row],[treatmentDepthNormalizedEffective_inPerImpervAc]]^2+0.8536*UrbanBMPs[[#This Row],[treatmentDepthNormalizedEffective_inPerImpervAc]]-0.0046, IF(OR(UrbanBMPs[[#This Row],[BMP_type]]="Other",UrbanBMPs[[#This Row],[BMP_type]]="Stream Restoration"),0,NA())))) -> 0.04 | AA19: =IF(UrbanBMPs[[#This Row],[TSS_ReductionEfficiency_percent]]>0,UrbanBMPs[[#This Row],[TSS_Load_lbPerY]]*UrbanBMPs[[#This Row],[TSS_ReductionEfficiency_percent]], IF(UrbanBMPs[[#This Row],[BMP_type]]="Stream Restoration",INDEX(Stream_Nutrients[#All], MATCH("Default",Stream_Nutrients[[#All],[Stream Restoration - Protocol 1]],0),(COLUMN(Stream_Nutrients[TSS (lbs/ft/yr)])-1))*UrbanBMPs[[#This Row],[lengthTreatedStream_ft]],NA())) -> 171.37155 | AB19: =IFERROR(UrbanBMPs[[#This Row],[TSS_Reduction_lbPerY]]/2000,NA()) -> 0.085685774 | AC19: =IF(UrbanBMPs[[#This Row],[TP_ReductionEfficiency_percent]]>0,UrbanBMPs[[#This Row],[TP_Load_lbPerY]]*UrbanBMPs[[#This Row],[TP_ReductionEfficiency_percent]], IF(UrbanBMPs[[#This Row],[BMP_type]]="Stream Restoration",INDEX(Stream_Nutrients[#All], MATCH("Default",Stream_Nutrients[[#All],[Stream Restoration - Protocol 1]],0),(COLUMN(Stream_Nutrients[TP (lbs/ft/yr)])-1))*UrbanBMPs[[#This Row],[lengthTreatedStream_ft]],NA())) -> 0.17381084 | AD19: =IF(UrbanBMPs[[#This Row],[TN_ReductionEfficiency_percent]]>0,UrbanBMPs[[#This Row],[TN_Load_lbPerY]]*UrbanBMPs[[#This Row],[TN_ReductionEfficiency_percent]], IF(UrbanBMPs[[#This Row],[BMP_type]]="Stream Restoration",INDEX(Stream_Nutrients[#All], MATCH("Default",Stream_Nutrients[[#All],[Stream Restoration - Protocol 1]],0),(COLUMN(Stream_Nutrients[TN (lbs/ft/yr)])-1))*UrbanBMPs[[#This Row],[lengthTreatedStream_ft]],NA())) -> 0.66048118
A20: BMP6 | B20: New project | C20: Forest Buffer | D20: Proposed | E20: 2022 | F20: 12000 | G20: =UrbanBMPs[[#This Row],[SquareFeet]]/43560 -> 0.27548209 | I20: Md_Mixed | N20: =IFERROR(UrbanBMPs[[#This Row],[drainageArea_ac]]*UrbanBMPs[[#This Row],[impervFraction_percent]],NA()) -> 0 | O20: =IFERROR(UrbanBMPs[[#This Row],[impervArea_ac]]/UrbanBMPs[[#This Row],[Acres]],NA()) -> 0 | P20: =IF(UrbanBMPs[[#This Row],[BMP_type]]="RR",NA(),IF(UrbanBMPs[[#This Row],[BMP_type]]="ST",NA(), IF(ISNUMBER(UrbanBMPs[[#This Row],[LoadRatio1]]),NA(), IFERROR(UrbanBMPs[[#This Row],[CubicFeet]]/(0.208*UrbanBMPs[[#This Row],[impervArea_ac]]*43560),NA())))) -> #N/A | Q20: =IFERROR(MIN(UrbanBMPs[[#This Row],[treatmentDepth_in]]*UrbanBMPs[[#This Row],[drainageArea_ac]]/UrbanBMPs[[#This Row],[impervArea_ac]],2.5),NA()) -> #N/A | S20: =IF(UrbanBMPs[[#This Row],[treatmentDepthNormalizedManual_inPerImpervAc]]>0,UrbanBMPs[[#This Row],[treatmentDepthNormalizedManual_inPerImpervAc]],IFERROR(UrbanBMPs[[#This Row],[treatmentDepthNormalized_inPerImpervAc]],NA())) -> #N/A | T20: =IF(UrbanBMPs[[#This Row],[BMP_type]]="Stream Restoration",NA(),IFERROR(INDEX(Impervious[#All],MATCH(UrbanBMPs[[#This Row],[drainageLandCoverClass]],Impervious[[#All],[Source]],0),4),NA())) -> 0.52 | U20: =IF(ISNUMBER(SEARCH("Street Sweeping",UrbanBMPs[[#This Row],[BMP_type]])),UrbanBMPs[[#This Row],[lengthTreatedRoad_ft2]]*Street_Sweeping[Road Width (ft)]/43560*INDEX(LoadRates[#All],MATCH(UrbanBMPs[[#This Row],[drainageLandCoverClass]],LoadRates[[#All],[Source]],0),(COLUMN(LoadRates[TSS_LoadRateLand_lbPerAcPerY])-1))*UrbanBMPs[[#This Row],[impervFraction_percent]], IF(UrbanBMPs[[#This Row],[BMP_type]]="Stream Restoration",NA(), IF(UrbanBMPs[[#This Row],[BMP_type]]="Forest Buffer",INDEX(LoadRates[#All], MATCH(UrbanBMPs[[#This Row],[drainageLandCoverClass]],LoadRates[[#All],[Source]],0),(COLUMN(LoadRates[TSS_LoadRateLand_lbPerAcPerY])-1))*(UrbanBMPs[[#This Row],[Acres]])*2,INDEX(LoadRates[#All],MATCH(UrbanBMPs[[#This Row],[drainageLandCoverClass]],LoadRates[[#All],[Source]],0), (COLUMN(LoadRates[TSS_LoadRate_lbPerAcPerY])-1))* UrbanBMPs[[#This Row],[drainageArea_ac]]))) -> 36.215458 | V20: =IF(ISNUMBER(SEARCH("Street Sweeping",UrbanBMPs[[#This Row],[BMP_type]])),UrbanBMPs[[#This Row],[lengthTreatedRoad_ft2]]*Street_Sweeping[Road Width (ft)]/43560*INDEX(LoadRates[#All],MATCH(UrbanBMPs[[#This Row],[drainageLandCoverClass]],LoadRates[[#All],[Source]],0),(COLUMN(LoadRates[TP_LoadRateLand_lbPerAcPerY])-1))*UrbanBMPs[[#This Row],[impervFraction_percent]], IF(UrbanBMPs[[#This Row],[BMP_type]]="Stream Restoration",NA(), IF(UrbanBMPs[[#This Row],[BMP_type]]="Forest Buffer",INDEX(LoadRates[#All], MATCH(UrbanBMPs[[#This Row],[drainageLandCoverClass]],LoadRates[[#All],[Source]],0),(COLUMN(LoadRates[TP_LoadRateLand_lbPerAcPerY])-1))*(UrbanBMPs[[#This Row],[Acres]])*2,INDEX(LoadRates[#All],MATCH(UrbanBMPs[[#This Row],[drainageLandCoverClass]],LoadRates[[#All],[Source]],0), (COLUMN(LoadRates[TP_LoadRate_lbPerAcPerY])-1))* UrbanBMPs[[#This Row],[drainageArea_ac]]))) -> 0.077134986 | W20: =IF(ISNUMBER(SEARCH("Street Sweeping",UrbanBMPs[[#This Row],[BMP_type]])),UrbanBMPs[[#This Row],[lengthTreatedRoad_ft2]]*Street_Sweeping[Road Width (ft)]/43560*INDEX(LoadRates[#All],MATCH(UrbanBMPs[[#This Row],[drainageLandCoverClass]],LoadRates[[#All],[Source]],0),(COLUMN(LoadRates[TN_LoadRateLand_lbPerAcPerY])-1))*UrbanBMPs[[#This Row],[impervFraction_percent]], IF(UrbanBMPs[[#This Row],[BMP_type]]="Stream Restoration",NA(), IF(UrbanBMPs[[#This Row],[BMP_type]]="Forest Buffer",INDEX(LoadRates[#All], MATCH(UrbanBMPs[[#This Row],[drainageLandCoverClass]],LoadRates[[#All],[Source]],0),(COLUMN(LoadRates[TN_LoadRateLand_lbPerAcPerY])-1))*(UrbanBMPs[[#This Row],[Acres]])*4,INDEX(LoadRates[#All],MATCH(UrbanBMPs[[#This Row],[drainageLandCoverClass]],LoadRates[[#All],[Source]],0), (COLUMN(LoadRates[TN_LoadRate_lbPerAcPerY])-1))* UrbanBMPs[[#This Row],[drainageArea_ac]]))) -> 1.4655647 | X20: =_xlfn.IFNA(INDEX(UrbBMPCoeffs[#All], MATCH(UrbanBMPs[[#This Row],[BMP_type]],UrbBMPCoeffs[[#All],[Type]],0),3), IF(UrbanBMPs[[#This Row],[BMP_type]]="RR",0.0326*UrbanBMPs[[#This Row],[treatmentDepthNormalizedEffective_inPerImpervAc]]^5-0.2806*UrbanBMPs[[#This Row],[treatmentDepthNormalizedEffective_inPerImpervAc]]^4+0.9816*UrbanBMPs[[#This Row],[treatmentDepthNormalizedEffective_inPerImpervAc]]^3-1.8039*UrbanBMPs[[#This Row],[treatmentDepthNormalizedEffective_inPerImpervAc]]^2+1.8292*UrbanBMPs[[#This Row],[treatmentDepthNormalizedEffective_inPerImpervAc]]-0.0098, IF(UrbanBMPs[[#This Row],[BMP_type]]="ST",0.0304*UrbanBMPs[[#This Row],[treatmentDepthNormalizedEffective_inPerImpervAc]]^5-0.2619*UrbanBMPs[[#This Row],[treatmentDepthNormalizedEffective_inPerImpervAc]]^4+0.9161*UrbanBMPs[[#This Row],[treatmentDepthNormalizedEffective_inPerImpervAc]]^3-1.6837*UrbanBMPs[[#This Row],[treatmentDepthNormalizedEffective_inPerImpervAc]]^2+1.7072*UrbanBMPs[[#This Row],[treatmentDepthNormalizedEffective_inPerImpervAc]]-0.0091, IF(OR(UrbanBMPs[[#This Row],[BMP_type]]="Other",UrbanBMPs[[#This Row],[BMP_type]]="Stream Restoration"),0,NA())))) -> 0.5 | Y20: =_xlfn.IFNA(INDEX(UrbBMPCoeffs[#All], MATCH(UrbanBMPs[[#This Row],[BMP_type]],UrbBMPCoeffs[[#All],[Type]],0),4), IF(UrbanBMPs[[#This Row],[BMP_type]]="RR",0.0304*UrbanBMPs[[#This Row],[treatmentDepthNormalizedEffective_inPerImpervAc]]^5-0.2619*UrbanBMPs[[#This Row],[treatmentDepthNormalizedEffective_inPerImpervAc]]^4+0.9161*UrbanBMPs[[#This Row],[treatmentDepthNormalizedEffective_inPerImpervAc]]^3-1.6837*UrbanBMPs[[#This Row],[treatmentDepthNormalizedEffective_inPerImpervAc]]^2+1.7072*UrbanBMPs[[#This Row],[treatmentDepthNormalizedEffective_inPerImpervAc]]-0.0091, IF(UrbanBMPs[[#This Row],[BMP_type]]="ST",0.0239*UrbanBMPs[[#This Row],[treatmentDepthNormalizedEffective_inPerImpervAc]]^5-0.2058*UrbanBMPs[[#This Row],[treatmentDepthNormalizedEffective_inPerImpervAc]]^4+0.7198*UrbanBMPs[[#This Row],[treatmentDepthNormalizedEffective_inPerImpervAc]]^3-1.3229*UrbanBMPs[[#This Row],[treatmentDepthNormalizedEffective_inPerImpervAc]]^2+1.3414*UrbanBMPs[[#This Row],[treatmentDepthNormalizedEffective_inPerImpervAc]]-0.0072, IF(OR(UrbanBMPs[[#This Row],[BMP_type]]="Other",UrbanBMPs[[#This Row],[BMP_type]]="Stream Restoration"),0,NA())))) -> 0.5 | Z20: =_xlfn.IFNA(INDEX(UrbBMPCoeffs[#All], MATCH(UrbanBMPs[[#This Row],[BMP_type]],UrbBMPCoeffs[[#All],[Type]],0),5), IF(UrbanBMPs[[#This Row],[BMP_type]]="RR",0.0308*UrbanBMPs[[#This Row],[treatmentDepthNormalizedEffective_inPerImpervAc]]^5-0.2562*UrbanBMPs[[#This Row],[treatmentDepthNormalizedEffective_inPerImpervAc]]^4+0.8634*UrbanBMPs[[#This Row],[treatmentDepthNormalizedEffective_inPerImpervAc]]^3-1.5285*UrbanBMPs[[#This Row],[treatmentDepthNormalizedEffective_inPerImpervAc]]^2+1.501*UrbanBMPs[[#This Row],[treatmentDepthNormalizedEffective_inPerImpervAc]]-0.013,IF(UrbanBMPs[[#This Row],[BMP_type]]="ST",0.0152*UrbanBMPs[[#This Row],[treatmentDepthNormalizedEffective_inPerImpervAc]]^5-0.131*UrbanBMPs[[#This Row],[treatmentDepthNormalizedEffective_inPerImpervAc]]^4+0.4581*UrbanBMPs[[#This Row],[treatmentDepthNormalizedEffective_inPerImpervAc]]^3-0.8418*UrbanBMPs[[#This Row],[treatmentDepthNormalizedEffective_inPerImpervAc]]^2+0.8536*UrbanBMPs[[#This Row],[treatmentDepthNormalizedEffective_inPerImpervAc]]-0.0046, IF(OR(UrbanBMPs[[#This Row],[BMP_type]]="Other",UrbanBMPs[[#This Row],[BMP_type]]="Stream Restoration"),0,NA())))) -> 0.25 | AA20: =IF(UrbanBMPs[[#This Row],[TSS_ReductionEfficiency_percent]]>0,UrbanBMPs[[#This Row],[TSS_Load_lbPerY]]*UrbanBMPs[[#This Row],[TSS_ReductionEfficiency_percent]], IF(UrbanBMPs[[#This Row],[BMP_type]]="Stream Restoration",INDEX(Stream_Nutrients[#All], MATCH("Default",Stream_Nutrients[[#All],[Stream Restoration - Protocol 1]],0),(COLUMN(Stream_Nutrients[TSS (lbs/ft/yr)])-1))*UrbanBMPs[[#This Row],[lengthTreatedStream_ft]],NA())) -> 18.107729 | AB20: =IFERROR(UrbanBMPs[[#This Row],[TSS_Reduction_lbPerY]]/2000,NA()) -> 0.0090538645 | AC20: =IF(UrbanBMPs[[#This Row],[TP_ReductionEfficiency_percent]]>0,UrbanBMPs[[#This Row],[TP_Load_lbPerY]]*UrbanBMPs[[#This Row],[TP_ReductionEfficiency_percent]], IF(UrbanBMPs[[#This Row],[BMP_type]]="Stream Restoration",INDEX(Stream_Nutrients[#All], MATCH("Default",Stream_Nutrients[[#All],[Stream Restoration - Protocol 1]],0),(COLUMN(Stream_Nutrients[TP (lbs/ft/yr)])-1))*UrbanBMPs[[#This Row],[lengthTreatedStream_ft]],NA())) -> 0.038567493 | AD20: =IF(UrbanBMPs[[#This Row],[TN_ReductionEfficiency_percent]]>0,UrbanBMPs[[#This Row],[TN_Load_lbPerY]]*UrbanBMPs[[#This Row],[TN_ReductionEfficiency_percent]], IF(UrbanBMPs[[#This Row],[BMP_type]]="Stream Restoration",INDEX(Stream_Nutrients[#All], MATCH("Default",Stream_Nutrients[[#All],[Stream Restoration - Protocol 1]],0),(COLUMN(Stream_Nutrients[TN (lbs/ft/yr)])-1))*UrbanBMPs[[#This Row],[lengthTreatedStream_ft]],NA())) -> 0.36639118
G21: =UrbanBMPs[[#This Row],[SquareFeet]]/43560 -> 0 | N21: =IFERROR(UrbanBMPs[[#This Row],[drainageArea_ac]]*UrbanBMPs[[#This Row],[impervFraction_percent]],NA()) -> #N/A | O21: =IFERROR(UrbanBMPs[[#This Row],[impervArea_ac]]/UrbanBMPs[[#This Row],[Acres]],NA()) -> #N/A | P21: =IF(UrbanBMPs[[#This Row],[BMP_type]]="RR",NA(),IF(UrbanBMPs[[#This Row],[BMP_type]]="ST",NA(), IF(ISNUMBER(UrbanBMPs[[#This Row],[LoadRatio1]]),NA(), IFERROR(UrbanBMPs[[#This Row],[CubicFeet]]/(0.208*UrbanBMPs[[#This Row],[impervArea_ac]]*43560),NA())))) -> #N/A | Q21: =IFERROR(MIN(UrbanBMPs[[#This Row],[treatmentDepth_in]]*UrbanBMPs[[#This Row],[drainageArea_ac]]/UrbanBMPs[[#This Row],[impervArea_ac]],2.5),NA()) -> #N/A | S21: =IF(UrbanBMPs[[#This Row],[treatmentDepthNormalizedManual_inPerImpervAc]]>0,UrbanBMPs[[#This Row],[treatmentDepthNormalizedManual_inPerImpervAc]],IFERROR(UrbanBMPs[[#This Row],[treatmentDepthNormalized_inPerImpervAc]],NA())) -> #N/A | T21: =IF(UrbanBMPs[[#This Row],[BMP_type]]="Stream Restoration",NA(),IFERROR(INDEX(Impervious[#All],MATCH(UrbanBMPs[[#This Row],[drainageLandCoverClass]],Impervious[[#All],[Source]],0),4),NA())) -> #N/A | U21: =IF(ISNUMBER(SEARCH("Street Sweeping",UrbanBMPs[[#This Row],[BMP_type]])),UrbanBMPs[[#This Row],[lengthTreatedRoad_ft2]]*Street_Sweeping[Road Width (ft)]/43560*INDEX(LoadRates[#All],MATCH(UrbanBMPs[[#This Row],[drainageLandCoverClass]],LoadRates[[#All],[Source]],0),(COLUMN(LoadRates[TSS_LoadRateLand_lbPerAcPerY])-1))*UrbanBMPs[[#This Row],[impervFraction_percent]], IF(UrbanBMPs[[#This Row],[BMP_type]]="Stream Restoration",NA(), IF(UrbanBMPs[[#This Row],[BMP_type]]="Forest Buffer",INDEX(LoadRates[#All], MATCH(UrbanBMPs[[#This Row],[drainageLandCoverClass]],LoadRates[[#All],[Source]],0),(COLUMN(LoadRates[TSS_LoadRateLand_lbPerAcPerY])-1))*(UrbanBMPs[[#This Row],[Acres]])*2,INDEX(LoadRates[#All],MATCH(UrbanBMPs[[#This Row],[drainageLandCoverClass]],LoadRates[[#All],[Source]],0), (COLUMN(LoadRates[TSS_LoadRate_lbPerAcPerY])-1))* UrbanBMPs[[#This Row],[drainageArea_ac]]))) -> #N/A | V21: =IF(ISNUMBER(SEARCH("Street Sweeping",UrbanBMPs[[#This Row],[BMP_type]])),UrbanBMPs[[#This Row],[lengthTreatedRoad_ft2]]*Street_Sweeping[Road Width (ft)]/43560*INDEX(LoadRates[#All],MATCH(UrbanBMPs[[#This Row],[drainageLandCoverClass]],LoadRates[[#All],[Source]],0),(COLUMN(LoadRates[TP_LoadRateLand_lbPerAcPerY])-1))*UrbanBMPs[[#This Row],[impervFraction_percent]], IF(UrbanBMPs[[#This Row],[BMP_type]]="Stream Restoration",NA(), IF(UrbanBMPs[[#This Row],[BMP_type]]="Forest Buffer",INDEX(LoadRates[#All], MATCH(UrbanBMPs[[#This Row],[drainageLandCoverClass]],LoadRates[[#All],[Source]],0),(COLUMN(LoadRates[TP_LoadRateLand_lbPerAcPerY])-1))*(UrbanBMPs[[#This Row],[Acres]])*2,INDEX(LoadRates[#All],MATCH(UrbanBMPs[[#This Row],[drainageLandCoverClass]],LoadRates[[#All],[Source]],0), (COLUMN(LoadRates[TP_LoadRate_lbPerAcPerY])-1))* UrbanBMPs[[#This Row],[drainageArea_ac]]))) -> #N/A | W21: =IF(ISNUMBER(SEARCH("Street Sweeping",UrbanBMPs[[#This Row],[BMP_type]])),UrbanBMPs[[#This Row],[lengthTreatedRoad_ft2]]*Street_Sweeping[Road Width (ft)]/43560*INDEX(LoadRates[#All],MATCH(UrbanBMPs[[#This Row],[drainageLandCoverClass]],LoadRates[[#All],[Source]],0),(COLUMN(LoadRates[TN_LoadRateLand_lbPerAcPerY])-1))*UrbanBMPs[[#This Row],[impervFraction_percent]], IF(UrbanBMPs[[#This Row],[BMP_type]]="Stream Restoration",NA(), IF(UrbanBMPs[[#This Row],[BMP_type]]="Forest Buffer",INDEX(LoadRates[#All], MATCH(UrbanBMPs[[#This Row],[drainageLandCoverClass]],LoadRates[[#All],[Source]],0),(COLUMN(LoadRates[TN_LoadRateLand_lbPerAcPerY])-1))*(UrbanBMPs[[#This Row],[Acres]])*4,INDEX(LoadRates[#All],MATCH(UrbanBMPs[[#This Row],[drainageLandCoverClass]],LoadRates[[#All],[Source]],0), (COLUMN(LoadRates[TN_LoadRate_lbPerAcPerY])-1))* UrbanBMPs[[#This Row],[drainageArea_ac]]))) -> #N/A | X21: =_xlfn.IFNA(INDEX(UrbBMPCoeffs[#All], MATCH(UrbanBMPs[[#This Row],[BMP_type]],UrbBMPCoeffs[[#All],[Type]],0),3), IF(UrbanBMPs[[#This Row],[BMP_type]]="RR",0.0326*UrbanBMPs[[#This Row],[treatmentDepthNormalizedEffective_inPerImpervAc]]^5-0.2806*UrbanBMPs[[#This Row],[treatmentDepthNormalizedEffective_inPerImpervAc]]^4+0.9816*UrbanBMPs[[#This Row],[treatmentDepthNormalizedEffective_inPerImpervAc]]^3-1.8039*UrbanBMPs[[#This Row],[treatmentDepthNormalizedEffective_inPerImpervAc]]^2+1.8292*UrbanBMPs[[#This Row],[treatmentDepthNormalizedEffective_inPerImpervAc]]-0.0098, IF(UrbanBMPs[[#This Row],[BMP_type]]="ST",0.0304*UrbanBMPs[[#This Row],[treatmentDepthNormalizedEffective_inPerImpervAc]]^5-0.2619*UrbanBMPs[[#This Row],[treatmentDepthNormalizedEffective_inPerImpervAc]]^4+0.9161*UrbanBMPs[[#This Row],[treatmentDepthNormalizedEffective_inPerImpervAc]]^3-1.6837*UrbanBMPs[[#This Row],[treatmentDepthNormalizedEffective_inPerImpervAc]]^2+1.7072*UrbanBMPs[[#This Row],[treatmentDepthNormalizedEffective_inPerImpervAc]]-0.0091, IF(OR(UrbanBMPs[[#This Row],[BMP_type]]="Other",UrbanBMPs[[#This Row],[BMP_type]]="Stream Restoration"),0,NA())))) -> #N/A | Y21: =_xlfn.IFNA(INDEX(UrbBMPCoeffs[#All], MATCH(UrbanBMPs[[#This Row],[BMP_type]],UrbBMPCoeffs[[#All],[Type]],0),4), IF(UrbanBMPs[[#This Row],[BMP_type]]="RR",0.0304*UrbanBMPs[[#This Row],[treatmentDepthNormalizedEffective_inPerImpervAc]]^5-0.2619*UrbanBMPs[[#This Row],[treatmentDepthNormalizedEffective_inPerImpervAc]]^4+0.9161*UrbanBMPs[[#This Row],[treatmentDepthNormalizedEffective_inPerImpervAc]]^3-1.6837*UrbanBMPs[[#This Row],[treatmentDepthNormalizedEffective_inPerImpervAc]]^2+1.7072*UrbanBMPs[[#This Row],[treatmentDepthNormalizedEffective_inPerImpervAc]]-0.0091, IF(UrbanBMPs[[#This Row],[BMP_type]]="ST",0.0239*UrbanBMPs[[#This Row],[treatmentDepthNormalizedEffective_inPerImpervAc]]^5-0.2058*UrbanBMPs[[#This Row],[treatmentDepthNormalizedEffective_inPerImpervAc]]^4+0.7198*UrbanBMPs[[#This Row],[treatmentDepthNormalizedEffective_inPerImpervAc]]^3-1.3229*UrbanBMPs[[#This Row],[treatmentDepthNormalizedEffective_inPerImpervAc]]^2+1.3414*UrbanBMPs[[#This Row],[treatmentDepthNormalizedEffective_inPerImpervAc]]-0.0072, IF(OR(UrbanBMPs[[#This Row],[BMP_type]]="Other",UrbanBMPs[[#This Row],[BMP_type]]="Stream Restoration"),0,NA())))) -> #N/A | Z21: =_xlfn.IFNA(INDEX(UrbBMPCoeffs[#All], MATCH(UrbanBMPs[[#This Row],[BMP_type]],UrbBMPCoeffs[[#All],[Type]],0),5), IF(UrbanBMPs[[#This Row],[BMP_type]]="RR",0.0308*UrbanBMPs[[#This Row],[treatmentDepthNormalizedEffective_inPerImpervAc]]^5-0.2562*UrbanBMPs[[#This Row],[treatmentDepthNormalizedEffective_inPerImpervAc]]^4+0.8634*UrbanBMPs[[#This Row],[treatmentDepthNormalizedEffective_inPerImpervAc]]^3-1.5285*UrbanBMPs[[#This Row],[treatmentDepthNormalizedEffective_inPerImpervAc]]^2+1.501*UrbanBMPs[[#This Row],[treatmentDepthNormalizedEffective_inPerImpervAc]]-0.013,IF(UrbanBMPs[[#This Row],[BMP_type]]="ST",0.0152*UrbanBMPs[[#This Row],[treatmentDepthNormalizedEffective_inPerImpervAc]]^5-0.131*UrbanBMPs[[#This Row],[treatmentDepthNormalizedEffective_inPerImpervAc]]^4+0.4581*UrbanBMPs[[#This Row],[treatmentDepthNormalizedEffective_inPerImpervAc]]^3-0.8418*UrbanBMPs[[#This Row],[treatmentDepthNormalizedEffective_inPerImpervAc]]^2+0.8536*UrbanBMPs[[#This Row],[treatmentDepthNormalizedEffective_inPerImpervAc]]-0.0046, IF(OR(UrbanBMPs[[#This Row],[BMP_type]]="Other",UrbanBMPs[[#This Row],[BMP_type]]="Stream Restoration"),0,NA())))) -> #N/A | AA21: =IF(UrbanBMPs[[#This Row],[TSS_ReductionEfficiency_percent]]>0,UrbanBMPs[[#This Row],[TSS_Load_lbPerY]]*UrbanBMPs[[#This Row],[TSS_ReductionEfficiency_percent]], IF(UrbanBMPs[[#This Row],[BMP_type]]="Stream Restoration",INDEX(Stream_Nutrients[#All], MATCH("Default",Stream_Nutrients[[#All],[Stream Restoration - Protocol 1]],0),(COLUMN(Stream_Nutrients[TSS (lbs/ft/yr)])-1))*UrbanBMPs[[#This Row],[lengthTreatedStream_ft]],NA())) -> #N/A | AB21: =IFERROR(UrbanBMPs[[#This Row],[TSS_Reduction_lbPerY]]/2000,NA()) -> #N/A | AC21: =IF(UrbanBMPs[[#This Row],[TP_ReductionEfficiency_percent]]>0,UrbanBMPs[[#This Row],[TP_Load_lbPerY]]*UrbanBMPs[[#This Row],[TP_ReductionEfficiency_percent]], IF(UrbanBMPs[[#This Row],[BMP_type]]="Stream Restoration",INDEX(Stream_Nutrients[#All], MATCH("Default",Stream_Nutrients[[#All],[Stream Restoration - Protocol 1]],0),(COLUMN(Stream_Nutrients[TP (lbs/ft/yr)])-1))*UrbanBMPs[[#This Row],[lengthTreatedStream_ft]],NA())) -> #N/A | AD21: =IF(UrbanBMPs[[#This Row],[TN_ReductionEfficiency_percent]]>0,UrbanBMPs[[#This Row],[TN_Load_lbPerY]]*UrbanBMPs[[#This Row],[TN_ReductionEfficiency_percent]], IF(UrbanBMPs[[#This Row],[BMP_type]]="Stream Restoration",INDEX(Stream_Nutrients[#All], MATCH("Default",Stream_Nutrients[[#All],[Stream Restoration - Protocol 1]],0),(COLUMN(Stream_Nutrients[TN (lbs/ft/yr)])-1))*UrbanBMPs[[#This Row],[lengthTreatedStream_ft]],NA())) -> #N/A
