Workbook

Sheet ScoreMatrix
B1: =IFERROR(__xludf.DUMMYFUNCTION("if(Input!B$1="""",,if(len(Input!B$1)<30,offset(Input!$A$1,0,column()-1,51),importrange(Input!B$1,""Sheet1!a1:a51"")))"),"Greddit2") -> Greddit2 | C1: =IFERROR(__xludf.DUMMYFUNCTION("if(Input!C$1="""",,if(len(Input!C$1)<30,offset(Input!$A$1,0,column()-1,51),importrange(Input!C$1,""Sheet1!a1:a51"")))"),"NORTH") -> NORTH | D1: =IFERROR(__xludf.DUMMYFUNCTION("if(Input!D$1="""",,if(len(Input!D$1)<30,offset(Input!$A$1,0,column()-1,51),importrange(Input!D$1,""Sheet1!a1:a51"")))"),"pl") -> pl | E1: =IFERROR(__xludf.DUMMYFUNCTION("if(Input!E$1="""",,if(len(Input!E$1)<30,offset(Input!$A$1,0,column()-1,51),importrange(Input!E$1,""Sheet1!a1:a51"")))"),"sebg") -> sebg | F1: =IFERROR(__xludf.DUMMYFUNCTION("if(Input!F$1="""",,if(len(Input!F$1)<30,offset(Input!$A$1,0,column()-1,51),importrange(Input!F$1,""Sheet1!a1:a51"")))"),"") | G1: =IFERROR(__xludf.DUMMYFUNCTION("if(Input!G$1="""",,if(len(Input!G$1)<30,offset(Input!$A$1,0,column()-1,51),importrange(Input!G$1,""Sheet1!a1:a51"")))"),"") | H1: =IFERROR(__xludf.DUMMYFUNCTION("if(Input!H$1="""",,if(len(Input!H$1)<30,offset(Input!$A$1,0,column()-1,51),importrange(Input!H$1,""Sheet1!a1:a51"")))"),"") | I1: =IFERROR(__xludf.DUMMYFUNCTION("if(Input!I$1="""",,if(len(Input!I$1)<30,offset(Input!$A$1,0,column()-1,51),importrange(Input!I$1,""Sheet1!a1:a51"")))"),"") | J1: =IFERROR(__xludf.DUMMYFUNCTION("if(Input!J$1="""",,if(len(Input!J$1)<30,offset(Input!$A$1,0,column()-1,51),importrange(Input!J$1,""Sheet1!a1:a51"")))"),"") | K1: =IFERROR(__xludf.DUMMYFUNCTION("if(Input!K$1="""",,if(len(Input!K$1)<30,offset(Input!$A$1,0,column()-1,51),importrange(Input!K$1,""Sheet1!a1:a51"")))"),"") | L1: =IFERROR(__xludf.DUMMYFUNCTION("if(Input!L$1="""",,if(len(Input!L$1)<30,offset(Input!$A$1,0,column()-1,51),importrange(Input!L$1,""Sheet1!a1:a51"")))"),"") | M1: =IFERROR(__xludf.DUMMYFUNCTION("if(Input!M$1="""",,if(len(Input!M$1)<30,offset(Input!$A$1,0,column()-1,51),importrange(Input!M$1,""Sheet1!a1:a51"")))"),"") | N1: =IFERROR(__xludf.DUMMYFUNCTION("if(Input!N$1="""",,if(len(Input!N$1)<30,offset(Input!$A$1,0,column()-1,51),importrange(Input!N$1,""Sheet1!a1:a51"")))"),"") | O1: =IFERROR(__xludf.DUMMYFUNCTION("if(Input!O$1="""",,if(len(Input!O$1)<30,offset(Input!$A$1,0,column()-1,51),importrange(Input!O$1,""Sheet1!a1:a51"")))"),"") | P1: =IFERROR(__xludf.DUMMYFUNCTION("if(Input!P$1="""",,if(len(Input!P$1)<30,offset(Input!$A$1,0,column()-1,51),importrange(Input!P$1,""Sheet1!a1:a51"")))"),"") | Q1: =IFERROR(__xludf.DUMMYFUNCTION("if(Input!Q$1="""",,if(len(Input!Q$1)<30,offset(Input!$A$1,0,column()-1,51),importrange(Input!Q$1,""Sheet1!a1:a51"")))"),"") | R1: =IFERROR(__xludf.DUMMYFUNCTION("if(Input!R$1="""",,if(len(Input!R$1)<30,offset(Input!$A$1,0,column()-1,51),importrange(Input!R$1,""Sheet1!a1:a51"")))"),"") | S1: =IFERROR(__xludf.DUMMYFUNCTION("if(Input!S$1="""",,if(len(Input!S$1)<30,offset(Input!$A$1,0,column()-1,51),importrange(Input!S$1,""Sheet1!a1:a51"")))"),"") | T1: =IFERROR(__xludf.DUMMYFUNCTION("if(Input!T$1="""",,if(len(Input!T$1)<30,offset(Input!$A$1,0,column()-1,51),importrange(Input!T$1,""Sheet1!a1:a51"")))"),"") | U1: =IFERROR(__xludf.DUMMYFUNCTION("if(Input!U$1="""",,if(len(Input!U$1)<30,offset(Input!$A$1,0,column()-1,51),importrange(Input!U$1,""Sheet1!a1:a51"")))"),"") | V1: =IFERROR(__xludf.DUMMYFUNCTION("if(Input!V$1="""",,if(len(Input!V$1)<30,offset(Input!$A$1,0,column()-1,51),importrange(Input!V$1,""Sheet1!a1:a51"")))"),"") | W1: =IFERROR(__xludf.DUMMYFUNCTION("if(Input!W$1="""",,if(len(Input!W$1)<30,offset(Input!$A$1,0,column()-1,51),importrange(Input!W$1,""Sheet1!a1:a51"")))"),"") | X1: =IFERROR(__xludf.DUMMYFUNCTION("if(Input!X$1="""",,if(len(Input!X$1)<30,offset(Input!$A$1,0,column()-1,51),importrange(Input!X$1,""Sheet1!a1:a51"")))"),"") | Y1: =IFERROR(__xludf.DUMMYFUNCTION("if(Input!Y$1="""",,if(len(Input!Y$1)<30,offset(Input!$A$1,0,column()-1,51),importrange(Input!Y$1,""Sheet1!a1:a51"")))"),"") | Z1: =IFERROR(__xludf.DUMMYFUNCTION("if(Input!Z$1="""",,if(len(Input!Z$1)<30,offset(Input!$A$1,0,column()-1,51),importrange(Input!Z$1,""Sheet1!a1:a51"")))"),"") | AA1: =IFERROR(__xludf.DUMMYFUNCTION("if(Input!AA$1="""",,if(len(Input!AA$1)<30,offset(Input!$A$1,0,column()-1,51),importrange(Input!AA$1,""Sheet1!a1:a51"")))"),"")
B2: =IFERROR(__xludf.DUMMYFUNCTION("""COMPUTED_VALUE"""),37750.0) -> 37750 | C2: =IFERROR(__xludf.DUMMYFUNCTION("""COMPUTED_VALUE"""),38399.0) -> 38399 | D2: =IFERROR(__xludf.DUMMYFUNCTION("""COMPUTED_VALUE"""),42626.0) -> 42626 | E2: =IFERROR(__xludf.DUMMYFUNCTION("""COMPUTED_VALUE"""),41338.0) -> 41338
B3: =IFERROR(__xludf.DUMMYFUNCTION("""COMPUTED_VALUE"""),36340.0) -> 36340 | C3: =IFERROR(__xludf.DUMMYFUNCTION("""COMPUTED_VALUE"""),38021.0) -> 38021 | D3: =IFERROR(__xludf.DUMMYFUNCTION("""COMPUTED_VALUE"""),41118.0) -> 41118 | E3: =IFERROR(__xludf.DUMMYFUNCTION("""COMPUTED_VALUE"""),41153.0) -> 41153
B4: =IFERROR(__xludf.DUMMYFUNCTION("""COMPUTED_VALUE"""),36148.0) -> 36148 | C4: =IFERROR(__xludf.DUMMYFUNCTION("""COMPUTED_VALUE"""),37631.0) -> 37631 | D4: =IFERROR(__xludf.DUMMYFUNCTION("""COMPUTED_VALUE"""),41042.0) -> 41042 | E4: =IFERROR(__xludf.DUMMYFUNCTION("""COMPUTED_VALUE"""),40912.0) -> 40912
B5: =IFERROR(__xludf.DUMMYFUNCTION("""COMPUTED_VALUE"""),35606.0) -> 35606 | C5: =IFERROR(__xludf.DUMMYFUNCTION("""COMPUTED_VALUE"""),36965.0) -> 36965 | D5: =IFERROR(__xludf.DUMMYFUNCTION("""COMPUTED_VALUE"""),40807.0) -> 40807 | E5: =IFERROR(__xludf.DUMMYFUNCTION("""COMPUTED_VALUE"""),40742.0) -> 40742
B6: =IFERROR(__xludf.DUMMYFUNCTION("""COMPUTED_VALUE"""),34977.0) -> 34977 | C6: =IFERROR(__xludf.DUMMYFUNCTION("""COMPUTED_VALUE"""),36944.0) -> 36944 | D6: =IFERROR(__xludf.DUMMYFUNCTION("""COMPUTED_VALUE"""),40750.0) -> 40750 | E6: =IFERROR(__xludf.DUMMYFUNCTION("""COMPUTED_VALUE"""),40581.0) -> 40581
B7: =IFERROR(__xludf.DUMMYFUNCTION("""COMPUTED_VALUE"""),34868.0) -> 34868 | C7: =IFERROR(__xludf.DUMMYFUNCTION("""COMPUTED_VALUE"""),36620.0) -> 36620 | D7: =IFERROR(__xludf.DUMMYFUNCTION("""COMPUTED_VALUE"""),40655.0) -> 40655 | E7: =IFERROR(__xludf.DUMMYFUNCTION("""COMPUTED_VALUE"""),40522.0) -> 40522
B8: =IFERROR(__xludf.DUMMYFUNCTION("""COMPUTED_VALUE"""),34771.0) -> 34771 | C8: =IFERROR(__xludf.DUMMYFUNCTION("""COMPUTED_VALUE"""),36554.0) -> 36554 | D8: =IFERROR(__xludf.DUMMYFUNCTION("""COMPUTED_VALUE"""),40576.0) -> 40576 | E8: =IFERROR(__xludf.DUMMYFUNCTION("""COMPUTED_VALUE"""),40504.0) -> 40504
B9: =IFERROR(__xludf.DUMMYFUNCTION("""COMPUTED_VALUE"""),34706.0) -> 34706 | C9: =IFERROR(__xludf.DUMMYFUNCTION("""COMPUTED_VALUE"""),36175.0) -> 36175 | D9: =IFERROR(__xludf.DUMMYFUNCTION("""COMPUTED_VALUE"""),40392.0) -> 40392 | E9: =IFERROR(__xludf.DUMMYFUNCTION("""COMPUTED_VALUE"""),40489.0) -> 40489
B10: =IFERROR(__xludf.DUMMYFUNCTION("""COMPUTED_VALUE"""),34326.0) -> 34326 | C10: =IFERROR(__xludf.DUMMYFUNCTION("""COMPUTED_VALUE"""),35857.0) -> 35857 | D10: =IFERROR(__xludf.DUMMYFUNCTION("""COMPUTED_VALUE"""),40209.0) -> 40209 | E10: =IFERROR(__xludf.DUMMYFUNCTION("""COMPUTED_VALUE"""),40405.0) -> 40405
B11: =IFERROR(__xludf.DUMMYFUNCTION("""COMPUTED_VALUE"""),33276.0) -> 33276 | C11: =IFERROR(__xludf.DUMMYFUNCTION("""COMPUTED_VALUE"""),35783.0) -> 35783 | D11: =IFERROR(__xludf.DUMMYFUNCTION("""COMPUTED_VALUE"""),40078.0) -> 40078 | E11: =IFERROR(__xludf.DUMMYFUNCTION("""COMPUTED_VALUE"""),39935.0) -> 39935
B12: =IFERROR(__xludf.DUMMYFUNCTION("""COMPUTED_VALUE"""),33091.0) -> 33091 | C12: =IFERROR(__xludf.DUMMYFUNCTION("""COMPUTED_VALUE"""),35463.0) -> 35463 | D12: =IFERROR(__xludf.DUMMYFUNCTION("""COMPUTED_VALUE"""),40059.0) -> 40059 | E12: =IFERROR(__xludf.DUMMYFUNCTION("""COMPUTED_VALUE"""),39896.0) -> 39896
B13: =IFERROR(__xludf.DUMMYFUNCTION("""COMPUTED_VALUE"""),32689.0) -> 32689 | C13: =IFERROR(__xludf.DUMMYFUNCTION("""COMPUTED_VALUE"""),35391.0) -> 35391 | D13: =IFERROR(__xludf.DUMMYFUNCTION("""COMPUTED_VALUE"""),40038.0) -> 40038 | E13: =IFERROR(__xludf.DUMMYFUNCTION("""COMPUTED_VALUE"""),39882.0) -> 39882
B14: =IFERROR(__xludf.DUMMYFUNCTION("""COMPUTED_VALUE"""),32649.0) -> 32649 | C14: =IFERROR(__xludf.DUMMYFUNCTION("""COMPUTED_VALUE"""),35365.0) -> 35365 | D14: =IFERROR(__xludf.DUMMYFUNCTION("""COMPUTED_VALUE"""),39942.0) -> 39942 | E14: =IFERROR(__xludf.DUMMYFUNCTION("""COMPUTED_VALUE"""),39845.0) -> 39845
B15: =IFERROR(__xludf.DUMMYFUNCTION("""COMPUTED_VALUE"""),32339.0) -> 32339 | C15: =IFERROR(__xludf.DUMMYFUNCTION("""COMPUTED_VALUE"""),35287.0) -> 35287 | D15: =IFERROR(__xludf.DUMMYFUNCTION("""COMPUTED_VALUE"""),39931.0) -> 39931 | E15: =IFERROR(__xludf.DUMMYFUNCTION("""COMPUTED_VALUE"""),39809.0) -> 39809
B16: =IFERROR(__xludf.DUMMYFUNCTION("""COMPUTED_VALUE"""),32251.0) -> 32251 | C16: =IFERROR(__xludf.DUMMYFUNCTION("""COMPUTED_VALUE"""),35245.0) -> 35245 | D16: =IFERROR(__xludf.DUMMYFUNCTION("""COMPUTED_VALUE"""),39843.0) -> 39843 | E16: =IFERROR(__xludf.DUMMYFUNCTION("""COMPUTED_VALUE"""),39611.0) -> 39611
B17: =IFERROR(__xludf.DUMMYFUNCTION("""COMPUTED_VALUE"""),32135.0) -> 32135 | C17: =IFERROR(__xludf.DUMMYFUNCTION("""COMPUTED_VALUE"""),35061.0) -> 35061 | D17: =IFERROR(__xludf.DUMMYFUNCTION("""COMPUTED_VALUE"""),39705.0) -> 39705 | E17: =IFERROR(__xludf.DUMMYFUNCTION("""COMPUTED_VALUE"""),39589.0) -> 39589
B18: =IFERROR(__xludf.DUMMYFUNCTION("""COMPUTED_VALUE"""),31931.0) -> 31931 | C18: =IFERROR(__xludf.DUMMYFUNCTION("""COMPUTED_VALUE"""),34992.0) -> 34992 | D18: =IFERROR(__xludf.DUMMYFUNCTION("""COMPUTED_VALUE"""),39669.0) -> 39669 | E18: =IFERROR(__xludf.DUMMYFUNCTION("""COMPUTED_VALUE"""),39588.0) -> 39588
B19: =IFERROR(__xludf.DUMMYFUNCTION("""COMPUTED_VALUE"""),31865.0) -> 31865 | C19: =IFERROR(__xludf.DUMMYFUNCTION("""COMPUTED_VALUE"""),34978.0) -> 34978 | D19: =IFERROR(__xludf.DUMMYFUNCTION("""COMPUTED_VALUE"""),39563.0) -> 39563 | E19: =IFERROR(__xludf.DUMMYFUNCTION("""COMPUTED_VALUE"""),39502.0) -> 39502
B20: =IFERROR(__xludf.DUMMYFUNCTION("""COMPUTED_VALUE"""),31836.0) -> 31836 | C20: =IFERROR(__xludf.DUMMYFUNCTION("""COMPUTED_VALUE"""),34802.0) -> 34802 | D20: =IFERROR(__xludf.DUMMYFUNCTION("""COMPUTED_VALUE"""),39277.0) -> 39277 | E20: =IFERROR(__xludf.DUMMYFUNCTION("""COMPUTED_VALUE"""),39387.0) -> 39387
B21: =IFERROR(__xludf.DUMMYFUNCTION("""COMPUTED_VALUE"""),31777.0) -> 31777 | C21: =IFERROR(__xludf.DUMMYFUNCTION("""COMPUTED_VALUE"""),34578.0) -> 34578 | D21: =IFERROR(__xludf.DUMMYFUNCTION("""COMPUTED_VALUE"""),39220.0) -> 39220 | E21: =IFERROR(__xludf.DUMMYFUNCTION("""COMPUTED_VALUE"""),39068.0) -> 39068
B22: =IFERROR(__xludf.DUMMYFUNCTION("""COMPUTED_VALUE"""),31572.0) -> 31572 | C22: =IFERROR(__xludf.DUMMYFUNCTION("""COMPUTED_VALUE"""),34575.0) -> 34575 | D22: =IFERROR(__xludf.DUMMYFUNCTION("""COMPUTED_VALUE"""),39203.0) -> 39203 | E22: =IFERROR(__xludf.DUMMYFUNCTION("""COMPUTED_VALUE"""),39040.0) -> 39040
B23: =IFERROR(__xludf.DUMMYFUNCTION("""COMPUTED_VALUE"""),31508.0) -> 31508 | C23: =IFERROR(__xludf.DUMMYFUNCTION("""COMPUTED_VALUE"""),34453.0) -> 34453 | D23: =IFERROR(__xludf.DUMMYFUNCTION("""COMPUTED_VALUE"""),39099.0) -> 39099 | E23: =IFERROR(__xludf.DUMMYFUNCTION("""COMPUTED_VALUE"""),38888.0) -> 38888
B24: =IFERROR(__xludf.DUMMYFUNCTION("""COMPUTED_VALUE"""),31410.0) -> 31410 | C24: =IFERROR(__xludf.DUMMYFUNCTION("""COMPUTED_VALUE"""),34312.0) -> 34312 | D24: =IFERROR(__xludf.DUMMYFUNCTION("""COMPUTED_VALUE"""),39000.0) -> 39000 | E24: =IFERROR(__xludf.DUMMYFUNCTION("""COMPUTED_VALUE"""),38696.0) -> 38696
B25: =IFERROR(__xludf.DUMMYFUNCTION("""COMPUTED_VALUE"""),31190.0) -> 31190 | C25: =IFERROR(__xludf.DUMMYFUNCTION("""COMPUTED_VALUE"""),34154.0) -> 34154 | D25: =IFERROR(__xludf.DUMMYFUNCTION("""COMPUTED_VALUE"""),38991.0) -> 38991 | E25: =IFERROR(__xludf.DUMMYFUNCTION("""COMPUTED_VALUE"""),38660.0) -> 38660
B26: =IFERROR(__xludf.DUMMYFUNCTION("""COMPUTED_VALUE"""),31107.0) -> 31107 | C26: =IFERROR(__xludf.DUMMYFUNCTION("""COMPUTED_VALUE"""),34050.0) -> 34050 | D26: =IFERROR(__xludf.DUMMYFUNCTION("""COMPUTED_VALUE"""),38925.0) -> 38925 | E26: =IFERROR(__xludf.DUMMYFUNCTION("""COMPUTED_VALUE"""),38615.0) -> 38615
B27: =IFERROR(__xludf.DUMMYFUNCTION("""COMPUTED_VALUE"""),30982.0) -> 30982 | C27: =IFERROR(__xludf.DUMMYFUNCTION("""COMPUTED_VALUE"""),33741.0) -> 33741 | D27: =IFERROR(__xludf.DUMMYFUNCTION("""COMPUTED_VALUE"""),38685.0) -> 38685 | E27: =IFERROR(__xludf.DUMMYFUNCTION("""COMPUTED_VALUE"""),38568.0) -> 38568
B28: =IFERROR(__xludf.DUMMYFUNCTION("""COMPUTED_VALUE"""),30980.0) -> 30980 | C28: =IFERROR(__xludf.DUMMYFUNCTION("""COMPUTED_VALUE"""),33568.0) -> 33568 | D28: =IFERROR(__xludf.DUMMYFUNCTION("""COMPUTED_VALUE"""),38653.0) -> 38653 | E28: =IFERROR(__xludf.DUMMYFUNCTION("""COMPUTED_VALUE"""),38567.0) -> 38567
B29: =IFERROR(__xludf.DUMMYFUNCTION("""COMPUTED_VALUE"""),30663.0) -> 30663 | C29: =IFERROR(__xludf.DUMMYFUNCTION("""COMPUTED_VALUE"""),33353.0) -> 33353 | D29: =IFERROR(__xludf.DUMMYFUNCTION("""COMPUTED_VALUE"""),38647.0) -> 38647 | E29: =IFERROR(__xludf.DUMMYFUNCTION("""COMPUTED_VALUE"""),38553.0) -> 38553
B30: =IFERROR(__xludf.DUMMYFUNCTION("""COMPUTED_VALUE"""),30571.0) -> 30571 | C30: =IFERROR(__xludf.DUMMYFUNCTION("""COMPUTED_VALUE"""),33174.0) -> 33174 | D30: =IFERROR(__xludf.DUMMYFUNCTION("""COMPUTED_VALUE"""),38474.0) -> 38474 | E30: =IFERROR(__xludf.DUMMYFUNCTION("""COMPUTED_VALUE"""),38549.0) -> 38549
B31: =IFERROR(__xludf.DUMMYFUNCTION("""COMPUTED_VALUE"""),30569.0) -> 30569 | C31: =IFERROR(__xludf.DUMMYFUNCTION("""COMPUTED_VALUE"""),33111.0) -> 33111 | D31: =IFERROR(__xludf.DUMMYFUNCTION("""COMPUTED_VALUE"""),38344.0) -> 38344 | E31: =IFERROR(__xludf.DUMMYFUNCTION("""COMPUTED_VALUE"""),38501.0) -> 38501
B32: =IFERROR(__xludf.DUMMYFUNCTION("""COMPUTED_VALUE"""),30495.0) -> 30495 | C32: =IFERROR(__xludf.DUMMYFUNCTION("""COMPUTED_VALUE"""),33104.0) -> 33104 | D32: =IFERROR(__xludf.DUMMYFUNCTION("""COMPUTED_VALUE"""),38321.0) -> 38321 | E32: =IFERROR(__xludf.DUMMYFUNCTION("""COMPUTED_VALUE"""),38493.0) -> 38493
B33: =IFERROR(__xludf.DUMMYFUNCTION("""COMPUTED_VALUE"""),30043.0) -> 30043 | C33: =IFERROR(__xludf.DUMMYFUNCTION("""COMPUTED_VALUE"""),33032.0) -> 33032 | D33: =IFERROR(__xludf.DUMMYFUNCTION("""COMPUTED_VALUE"""),38310.0) -> 38310 | E33: =IFERROR(__xludf.DUMMYFUNCTION("""COMPUTED_VALUE"""),38447.0) -> 38447
B34: =IFERROR(__xludf.DUMMYFUNCTION("""COMPUTED_VALUE"""),29764.0) -> 29764 | C34: =IFERROR(__xludf.DUMMYFUNCTION("""COMPUTED_VALUE"""),32816.0) -> 32816 | D34: =IFERROR(__xludf.DUMMYFUNCTION("""COMPUTED_VALUE"""),37896.0) -> 37896 | E34: =IFERROR(__xludf.DUMMYFUNCTION("""COMPUTED_VALUE"""),38394.0) -> 38394
B35: =IFERROR(__xludf.DUMMYFUNCTION("""COMPUTED_VALUE"""),29227.0) -> 29227 | C35: =IFERROR(__xludf.DUMMYFUNCTION("""COMPUTED_VALUE"""),32649.0) -> 32649 | D35: =IFERROR(__xludf.DUMMYFUNCTION("""COMPUTED_VALUE"""),37634.0) -> 37634 | E35: =IFERROR(__xludf.DUMMYFUNCTION("""COMPUTED_VALUE"""),38376.0) -> 38376
B36: =IFERROR(__xludf.DUMMYFUNCTION("""COMPUTED_VALUE"""),29157.0) -> 29157 | C36: =IFERROR(__xludf.DUMMYFUNCTION("""COMPUTED_VALUE"""),32595.0) -> 32595 | D36: =IFERROR(__xludf.DUMMYFUNCTION("""COMPUTED_VALUE"""),37584.0) -> 37584 | E36: =IFERROR(__xludf.DUMMYFUNCTION("""COMPUTED_VALUE"""),38363.0) -> 38363
B37: =IFERROR(__xludf.DUMMYFUNCTION("""COMPUTED_VALUE"""),28798.0) -> 28798 | C37: =IFERROR(__xludf.DUMMYFUNCTION("""COMPUTED_VALUE"""),32292.0) -> 32292 | D37: =IFERROR(__xludf.DUMMYFUNCTION("""COMPUTED_VALUE"""),37135.0) -> 37135 | E37: =IFERROR(__xludf.DUMMYFUNCTION("""COMPUTED_VALUE"""),38115.0) -> 38115
B38: =IFERROR(__xludf.DUMMYFUNCTION("""COMPUTED_VALUE"""),28796.0) -> 28796 | C38: =IFERROR(__xludf.DUMMYFUNCTION("""COMPUTED_VALUE"""),32216.0) -> 32216 | D38: =IFERROR(__xludf.DUMMYFUNCTION("""COMPUTED_VALUE"""),37060.0) -> 37060 | E38: =IFERROR(__xludf.DUMMYFUNCTION("""COMPUTED_VALUE"""),38076.0) -> 38076
B39: =IFERROR(__xludf.DUMMYFUNCTION("""COMPUTED_VALUE"""),28733.0) -> 28733 | C39: =IFERROR(__xludf.DUMMYFUNCTION("""COMPUTED_VALUE"""),32041.0) -> 32041 | D39: =IFERROR(__xludf.DUMMYFUNCTION("""COMPUTED_VALUE"""),37053.0) -> 37053 | E39: =IFERROR(__xludf.DUMMYFUNCTION("""COMPUTED_VALUE"""),38013.0) -> 38013
B40: =IFERROR(__xludf.DUMMYFUNCTION("""COMPUTED_VALUE"""),28663.0) -> 28663 | C40: =IFERROR(__xludf.DUMMYFUNCTION("""COMPUTED_VALUE"""),31701.0) -> 31701 | D40: =IFERROR(__xludf.DUMMYFUNCTION("""COMPUTED_VALUE"""),36989.0) -> 36989 | E40: =IFERROR(__xludf.DUMMYFUNCTION("""COMPUTED_VALUE"""),37944.0) -> 37944
B41: =IFERROR(__xludf.DUMMYFUNCTION("""COMPUTED_VALUE"""),28580.0) -> 28580 | C41: =IFERROR(__xludf.DUMMYFUNCTION("""COMPUTED_VALUE"""),31632.0) -> 31632 | D41: =IFERROR(__xludf.DUMMYFUNCTION("""COMPUTED_VALUE"""),36951.0) -> 36951 | E41: =IFERROR(__xludf.DUMMYFUNCTION("""COMPUTED_VALUE"""),37908.0) -> 37908
B42: =IFERROR(__xludf.DUMMYFUNCTION("""COMPUTED_VALUE"""),28556.0) -> 28556 | C42: =IFERROR(__xludf.DUMMYFUNCTION("""COMPUTED_VALUE"""),31551.0) -> 31551 | D42: =IFERROR(__xludf.DUMMYFUNCTION("""COMPUTED_VALUE"""),36862.0) -> 36862 | E42: =IFERROR(__xludf.DUMMYFUNCTION("""COMPUTED_VALUE"""),37784.0) -> 37784
B43: =IFERROR(__xludf.DUMMYFUNCTION("""COMPUTED_VALUE"""),28513.0) -> 28513 | C43: =IFERROR(__xludf.DUMMYFUNCTION("""COMPUTED_VALUE"""),31487.0) -> 31487 | D43: =IFERROR(__xludf.DUMMYFUNCTION("""COMPUTED_VALUE"""),36768.0) -> 36768 | E43: =IFERROR(__xludf.DUMMYFUNCTION("""COMPUTED_VALUE"""),37178.0) -> 37178
B44: =IFERROR(__xludf.DUMMYFUNCTION("""COMPUTED_VALUE"""),28259.0) -> 28259 | C44: =IFERROR(__xludf.DUMMYFUNCTION("""COMPUTED_VALUE"""),31428.0) -> 31428 | D44: =IFERROR(__xludf.DUMMYFUNCTION("""COMPUTED_VALUE"""),36675.0) -> 36675 | E44: =IFERROR(__xludf.DUMMYFUNCTION("""COMPUTED_VALUE"""),36046.0) -> 36046
B45: =IFERROR(__xludf.DUMMYFUNCTION("""COMPUTED_VALUE"""),27903.0) -> 27903 | C45: =IFERROR(__xludf.DUMMYFUNCTION("""COMPUTED_VALUE"""),31278.0) -> 31278 | D45: =IFERROR(__xludf.DUMMYFUNCTION("""COMPUTED_VALUE"""),36347.0) -> 36347 | E45: =IFERROR(__xludf.DUMMYFUNCTION("""COMPUTED_VALUE"""),35477.0) -> 35477
B46: =IFERROR(__xludf.DUMMYFUNCTION("""COMPUTED_VALUE"""),27257.0) -> 27257 | C46: =IFERROR(__xludf.DUMMYFUNCTION("""COMPUTED_VALUE"""),31135.0) -> 31135 | D46: =IFERROR(__xludf.DUMMYFUNCTION("""COMPUTED_VALUE"""),35999.0) -> 35999 | E46: =IFERROR(__xludf.DUMMYFUNCTION("""COMPUTED_VALUE"""),34722.0) -> 34722
B47: =IFERROR(__xludf.DUMMYFUNCTION("""COMPUTED_VALUE"""),25357.0) -> 25357 | C47: =IFERROR(__xludf.DUMMYFUNCTION("""COMPUTED_VALUE"""),30585.0) -> 30585 | D47: =IFERROR(__xludf.DUMMYFUNCTION("""COMPUTED_VALUE"""),35844.0) -> 35844 | E47: =IFERROR(__xludf.DUMMYFUNCTION("""COMPUTED_VALUE"""),34279.0) -> 34279
C48: =IFERROR(__xludf.DUMMYFUNCTION("""COMPUTED_VALUE"""),30555.0) -> 30555 | D48: =IFERROR(__xludf.DUMMYFUNCTION("""COMPUTED_VALUE"""),35109.0) -> 35109 | E48: =IFERROR(__xludf.DUMMYFUNCTION("""COMPUTED_VALUE"""),33424.0) -> 33424
C49: =IFERROR(__xludf.DUMMYFUNCTION("""COMPUTED_VALUE"""),29957.0) -> 29957 | D49: =IFERROR(__xludf.DUMMYFUNCTION("""COMPUTED_VALUE"""),34478.0) -> 34478 | E49: =IFERROR(__xludf.DUMMYFUNCTION("""COMPUTED_VALUE"""),31772.0) -> 31772
C50: =IFERROR(__xludf.DUMMYFUNCTION("""COMPUTED_VALUE"""),29847.0) -> 29847 | D50: =IFERROR(__xludf.DUMMYFUNCTION("""COMPUTED_VALUE"""),29651.0) -> 29651 | E50: =IFERROR(__xludf.DUMMYFUNCTION("""COMPUTED_VALUE"""),25816.0) -> 25816
E51: =IFERROR(__xludf.DUMMYFUNCTION("""COMPUTED_VALUE"""),0.0) -> 0

Sheet VirtualLeague
B1: Formatted for Discord | C1: Virtual League
A2: # | B2: __**Team Leaderboard**__ | C2: Team | D2: Score | E2: # | F2: Average | G2: Team | H2: Total | I2: =IFERROR(__xludf.DUMMYFUNCTION("Iferror(if(Input!B1="""",,if(len(Input!B1)<30,{Input!B1},importrange(Input!B1,""Sheet1!a1:a1""))),)"),"Greddit2") -> Greddit2 | J2: =IFERROR(__xludf.DUMMYFUNCTION("Iferror(if(Input!C1="""",,if(len(Input!C1)<30,{Input!C1},importrange(Input!C1,""Sheet1!a1:a1""))),)"),"NORTH") -> NORTH | K2: =IFERROR(__xludf.DUMMYFUNCTION("Iferror(if(Input!D1="""",,if(len(Input!D1)<30,{Input!D1},importrange(Input!D1,""Sheet1!a1:a1""))),)"),"pl") -> pl | L2: =IFERROR(__xludf.DUMMYFUNCTION("Iferror(if(Input!E1="""",,if(len(Input!E1)<30,{Input!E1},importrange(Input!E1,""Sheet1!a1:a1""))),)"),"sebg") -> sebg | M2: =IFERROR(__xludf.DUMMYFUNCTION("Iferror(if(Input!F1="""",,if(len(Input!F1)<30,{Input!F1},importrange(Input!F1,""Sheet1!a1:a1""))),)"),"") | N2: =IFERROR(__xludf.DUMMYFUNCTION("Iferror(if(Input!G1="""",,if(len(Input!G1)<30,{Input!G1},importrange(Input!G1,""Sheet1!a1:a1""))),)"),"") | O2: =IFERROR(__xludf.DUMMYFUNCTION("Iferror(if(Input!H1="""",,if(len(Input!H1)<30,{Input!H1},importrange(Input!H1,""Sheet1!a1:a1""))),)"),"") | P2: =IFERROR(__xludf.DUMMYFUNCTION("Iferror(if(Input!I1="""",,if(len(Input!I1)<30,{Input!I1},importrange(Input!I1,""Sheet1!a1:a1""))),)"),"") | Q2: =IFERROR(__xludf.DUMMYFUNCTION("Iferror(if(Input!J1="""",,if(len(Input!J1)<30,{Input!J1},importrange(Input!J1,""Sheet1!a1:a1""))),)"),"") | R2: =IFERROR(__xludf.DUMMYFUNCTION("Iferror(if(Input!K1="""",,if(len(Input!K1)<30,{Input!K1},importrange(Input!K1,""Sheet1!a1:a1""))),)"),"") | S2: =IFERROR(__xludf.DUMMYFUNCTION("Iferror(if(Input!L1="""",,if(len(Input!L1)<30,{Input!L1},importrange(Input!L1,""Sheet1!a1:a1""))),)"),"") | T2: =IFERROR(__xludf.DUMMYFUNCTION("Iferror(if(Input!M1="""",,if(len(Input!M1)<30,{Input!M1},importrange(Input!M1,""Sheet1!a1:a1""))),)"),"") | U2: =IFERROR(__xludf.DUMMYFUNCTION("Iferror(if(Input!N1="""",,if(len(Input!N1)<30,{Input!N1},importrange(Input!N1,""Sheet1!a1:a1""))),)"),"") | V2: =IFERROR(__xludf.DUMMYFUNCTION("Iferror(if(Input!O1="""",,if(len(Input!O1)<30,{Input!O1},importrange(Input!O1,""Sheet1!a1:a1""))),)"),"") | W2: =IFERROR(__xludf.DUMMYFUNCTION("Iferror(if(Input!P1="""",,if(len(Input!P1)<30,{Input!P1},importrange(Input!P1,""Sheet1!a1:a1""))),)"),"") | X2: =IFERROR(__xludf.DUMMYFUNCTION("Iferror(if(Input!Q1="""",,if(len(Input!Q1)<30,{Input!Q1},importrange(Input!Q1,""Sheet1!a1:a1""))),)"),"") | Y2: =IFERROR(__xludf.DUMMYFUNCTION("Iferror(if(Input!R1="""",,if(len(Input!R1)<30,{Input!R1},importrange(Input!R1,""Sheet1!a1:a1""))),)"),"") | Z2: =IFERROR(__xludf.DUMMYFUNCTION("Iferror(if(Input!S1="""",,if(len(Input!S1)<30,{Input!S1},importrange(Input!S1,""Sheet1!a1:a1""))),)"),"") | AA2: =IFERROR(__xludf.DUMMYFUNCTION("Iferror(if(Input!T1="""",,if(len(Input!T1)<30,{Input!T1},importrange(Input!T1,""Sheet1!a1:a1""))),)"),"") | AB2: =IFERROR(__xludf.DUMMYFUNCTION("Iferror(if(Input!U1="""",,if(len(Input!U1)<30,{Input!U1},importrange(Input!U1,""Sheet1!a1:a1""))),)"),"") | AC2: =IFERROR(__xludf.DUMMYFUNCTION("Iferror(if(Input!V1="""",,if(len(Input!V1)<30,{Input!V1},importrange(Input!V1,""Sheet1!a1:a1""))),)"),"") | AD2: =IFERROR(__xludf.DUMMYFUNCTION("Iferror(if(Input!W1="""",,if(len(Input!W1)<30,{Input!W1},importrange(Input!W1,""Sheet1!a1:a1""))),)"),"") | AE2: =IFERROR(__xludf.DUMMYFUNCTION("Iferror(if(Input!X1="""",,if(len(Input!X1)<30,{Input!X1},importrange(Input!X1,""Sheet1!a1:a1""))),)"),"") | AF2: =IFERROR(__xludf.DUMMYFUNCTION("Iferror(if(Input!Y1="""",,if(len(Input!Y1)<30,{Input!Y1},importrange(Input!Y1,""Sheet1!a1:a1""))),)"),"")
A3: 1 | B3: =if(isblank(VirtualLeague!D3),,"`"&VirtualLeague!C3&rept(" ",20-len(VirtualLeague!C3))& rept(" ",6-len(VirtualLeague!D3))&VirtualLeague!D3&"`" ) -> `pl 10947` | C3: {=sort(VirtualLeague!$G$3:$H$26, VirtualLeague!$H$3:$H$26,false)} -> pl | D3: 10947 | E3: {=if(G3="",,count(index(ScoreMatrix!$B$2:$AA$51,,$A3)))} -> 46 | F3: {=if(G3="",,average(index(ScoreMatrix!$B$2:$AA$51,,$A3)))} -> 31390.957 | G3: =index($I$2:$AF$2,A3) -> Greddit2 | H3: =if(G3="",,sum(I3:AF3)) -> 1582 | I3: {=if(and($G3<>I$2,$G3<>"",I$2<>""),sum(iferror(vlookup(rank(index(ScoreMatrix!$B$2:$AA$51,,$A3),{index(ScoreMatrix!$B$2:$AA$51,,$A3);ScoreMatrix!B$2:B$51},false),RankScores!$A$1:$C$100,3,false)),),)} | J3: {=if(and($G3<>J$2,$G3<>"",J$2<>""),sum(iferror(vlookup(rank(index(ScoreMatrix!$B$2:$AA$51,,$A3),{index(ScoreMatrix!$B$2:$AA$51,,$A3);ScoreMatrix!C$2:C$51},false),RankScores!$A$1:$C$100,3,false)),),)} -> 1158 | K3: {=if(and($G3<>K$2,$G3<>"",K$2<>""),sum(iferror(vlookup(rank(index(ScoreMatrix!$B$2:$AA$51,,$A3),{index(ScoreMatrix!$B$2:$AA$51,,$A3);ScoreMatrix!D$2:D$51},false),RankScores!$A$1:$C$100,3,false)),),)} -> 207 | L3: {=if(and($G3<>L$2,$G3<>"",L$2<>""),sum(iferror(vlookup(rank(index(ScoreMatrix!$B$2:$AA$51,,$A3),{index(ScoreMatrix!$B$2:$AA$51,,$A3);ScoreMatrix!E$2:E$51},false),RankScores!$A$1:$C$100,3,false)),),)} -> 217 | M3: {=if(and($G3<>M$2,$G3<>"",M$2<>""),sum(iferror(vlookup(rank(index(ScoreMatrix!$B$2:$AA$51,,$A3),{index(ScoreMatrix!$B$2:$AA$51,,$A3);ScoreMatrix!F$2:F$51},false),RankScores!$A$1:$C$100,3,false)),),)} | N3: {=if(and($G3<>N$2,$G3<>"",N$2<>""),sum(iferror(vlookup(rank(index(ScoreMatrix!$B$2:$AA$51,,$A3),{index(ScoreMatrix!$B$2:$AA$51,,$A3);ScoreMatrix!G$2:G$51},false),RankScores!$A$1:$C$100,3,false)),),)} | O3: {=if(and($G3<>O$2,$G3<>"",O$2<>""),sum(iferror(vlookup(rank(index(ScoreMatrix!$B$2:$AA$51,,$A3),{index(ScoreMatrix!$B$2:$AA$51,,$A3);ScoreMatrix!H$2:H$51},false),RankScores!$A$1:$C$100,3,false)),),)} | P3: {=if(and($G3<>P$2,$G3<>"",P$2<>""),sum(iferror(vlookup(rank(index(ScoreMatrix!$B$2:$AA$51,,$A3),{index(ScoreMatrix!$B$2:$AA$51,,$A3);ScoreMatrix!I$2:I$51},false),RankScores!$A$1:$C$100,3,false)),),)} | ... AF3: {=if(and($G3<>AF$2,$G3<>"",AF$2<>""),sum(iferror(vlookup(rank(index(ScoreMatrix!$B$2:$AA$51,,$A3),{index(ScoreMatrix!$B$2:$AA$51,,$A3);ScoreMatrix!Y$2:Y$51},false),RankScores!$A$1:$C$100,3,false)),),)}
A4: 2 | B4: =if(isblank(VirtualLeague!D4),,"`"&VirtualLeague!C4&rept(" ",20-len(VirtualLeague!C4))& rept(" ",6-len(VirtualLeague!D4))&VirtualLeague!D4&"`" ) -> `sebg 10713` | C4: sebg | D4: 10713 | E4: {=if(G4="",,count(index(ScoreMatrix!$B$2:$AA$51,,$A4)))} -> 49 | F4: {=if(G4="",,average(index(ScoreMatrix!$B$2:$AA$51,,$A4)))} -> 33887.816 | G4: =index($I$2:$AF$2,A4) -> NORTH | H4: =if(G4="",,sum(I4:AF4)) -> 3903 | I4: {=if(and($G4<>I$2,$G4<>"",I$2<>""),sum(iferror(vlookup(rank(index(ScoreMatrix!$B$2:$AA$51,,$A4),{index(ScoreMatrix!$B$2:$AA$51,,$A4);ScoreMatrix!B$2:B$51},false),RankScores!$A$1:$C$100,3,false)),),)} -> 3364 | J4: {=if(and($G4<>J$2,$G4<>"",J$2<>""),sum(iferror(vlookup(rank(index(ScoreMatrix!$B$2:$AA$51,,$A4),{index(ScoreMatrix!$B$2:$AA$51,,$A4);ScoreMatrix!C$2:C$51},false),RankScores!$A$1:$C$100,3,false)),),)} | K4: {=if(and($G4<>K$2,$G4<>"",K$2<>""),sum(iferror(vlookup(rank(index(ScoreMatrix!$B$2:$AA$51,,$A4),{index(ScoreMatrix!$B$2:$AA$51,,$A4);ScoreMatrix!D$2:D$51},false),RankScores!$A$1:$C$100,3,false)),),)} -> 275 | L4: {=if(and($G4<>L$2,$G4<>"",L$2<>""),sum(iferror(vlookup(rank(index(ScoreMatrix!$B$2:$AA$51,,$A4),{index(ScoreMatrix!$B$2:$AA$51,,$A4);ScoreMatrix!E$2:E$51},false),RankScores!$A$1:$C$100,3,false)),),)} -> 264 | M4: {=if(and($G4<>M$2,$G4<>"",M$2<>""),sum(iferror(vlookup(rank(index(ScoreMatrix!$B$2:$AA$51,,$A4),{index(ScoreMatrix!$B$2:$AA$51,,$A4);ScoreMatrix!F$2:F$51},false),RankScores!$A$1:$C$100,3,false)),),)} | N4: {=if(and($G4<>N$2,$G4<>"",N$2<>""),sum(iferror(vlookup(rank(index(ScoreMatrix!$B$2:$AA$51,,$A4),{index(ScoreMatrix!$B$2:$AA$51,,$A4);ScoreMatrix!G$2:G$51},false),RankScores!$A$1:$C$100,3,false)),),)} | O4: {=if(and($G4<>O$2,$G4<>"",O$2<>""),sum(iferror(vlookup(rank(index(ScoreMatrix!$B$2:$AA$51,,$A4),{index(ScoreMatrix!$B$2:$AA$51,,$A4);ScoreMatrix!H$2:H$51},false),RankScores!$A$1:$C$100,3,false)),),)} | P4: {=if(and($G4<>P$2,$G4<>"",P$2<>""),sum(iferror(vlookup(rank(index(ScoreMatrix!$B$2:$AA$51,,$A4),{index(ScoreMatrix!$B$2:$AA$51,,$A4);ScoreMatrix!I$2:I$51},false),RankScores!$A$1:$C$100,3,false)),),)} | ... AF4: {=if(and($G4<>AF$2,$G4<>"",AF$2<>""),sum(iferror(vlookup(rank(index(ScoreMatrix!$B$2:$AA$51,,$A4),{index(ScoreMatrix!$B$2:$AA$51,,$A4);ScoreMatrix!Y$2:Y$51},false),RankScores!$A$1:$C$100,3,false)),),)}
A5: 3 | B5: =if(isblank(VirtualLeague!D5),,"`"&VirtualLeague!C5&rept(" ",20-len(VirtualLeague!C5))& rept(" ",6-len(VirtualLeague!D5))&VirtualLeague!D5&"`" ) -> `NORTH 3903` | C5: NORTH | D5: 3903 | E5: {=if(G5="",,count(index(ScoreMatrix!$B$2:$AA$51,,$A5)))} -> 49 | F5: {=if(G5="",,average(index(ScoreMatrix!$B$2:$AA$51,,$A5)))} -> 38493.612 | G5: =index($I$2:$AF$2,A5) -> pl | H5: =if(G5="",,sum(I5:AF5)) -> 10947 | I5: {=if(and($G5<>I$2,$G5<>"",I$2<>""),sum(iferror(vlookup(rank(index(ScoreMatrix!$B$2:$AA$51,,$A5),{index(ScoreMatrix!$B$2:$AA$51,,$A5);ScoreMatrix!B$2:B$51},false),RankScores!$A$1:$C$100,3,false)),),)} -> 4314 | J5: {=if(and($G5<>J$2,$G5<>"",J$2<>""),sum(iferror(vlookup(rank(index(ScoreMatrix!$B$2:$AA$51,,$A5),{index(ScoreMatrix!$B$2:$AA$51,,$A5);ScoreMatrix!C$2:C$51},false),RankScores!$A$1:$C$100,3,false)),),)} -> 4249 | K5: {=if(and($G5<>K$2,$G5<>"",K$2<>""),sum(iferror(vlookup(rank(index(ScoreMatrix!$B$2:$AA$51,,$A5),{index(ScoreMatrix!$B$2:$AA$51,,$A5);ScoreMatrix!D$2:D$51},false),RankScores!$A$1:$C$100,3,false)),),)} | L5: {=if(and($G5<>L$2,$G5<>"",L$2<>""),sum(iferror(vlookup(rank(index(ScoreMatrix!$B$2:$AA$51,,$A5),{index(ScoreMatrix!$B$2:$AA$51,,$A5);ScoreMatrix!E$2:E$51},false),RankScores!$A$1:$C$100,3,false)),),)} -> 2384 | M5: {=if(and($G5<>M$2,$G5<>"",M$2<>""),sum(iferror(vlookup(rank(index(ScoreMatrix!$B$2:$AA$51,,$A5),{index(ScoreMatrix!$B$2:$AA$51,,$A5);ScoreMatrix!F$2:F$51},false),RankScores!$A$1:$C$100,3,false)),),)} | N5: {=if(and($G5<>N$2,$G5<>"",N$2<>""),sum(iferror(vlookup(rank(index(ScoreMatrix!$B$2:$AA$51,,$A5),{index(ScoreMatrix!$B$2:$AA$51,,$A5);ScoreMatrix!G$2:G$51},false),RankScores!$A$1:$C$100,3,false)),),)} | O5: {=if(and($G5<>O$2,$G5<>"",O$2<>""),sum(iferror(vlookup(rank(index(ScoreMatrix!$B$2:$AA$51,,$A5),{index(ScoreMatrix!$B$2:$AA$51,,$A5);ScoreMatrix!H$2:H$51},false),RankScores!$A$1:$C$100,3,false)),),)} | P5: {=if(and($G5<>P$2,$G5<>"",P$2<>""),sum(iferror(vlookup(rank(index(ScoreMatrix!$B$2:$AA$51,,$A5),{index(ScoreMatrix!$B$2:$AA$51,,$A5);ScoreMatrix!I$2:I$51},false),RankScores!$A$1:$C$100,3,false)),),)} | ... AF5: {=if(and($G5<>AF$2,$G5<>"",AF$2<>""),sum(iferror(vlookup(rank(index(ScoreMatrix!$B$2:$AA$51,,$A5),{index(ScoreMatrix!$B$2:$AA$51,,$A5);ScoreMatrix!Y$2:Y$51},false),RankScores!$A$1:$C$100,3,false)),),)}
A6: 4 | B6: =if(isblank(VirtualLeague!D6),,"`"&VirtualLeague!C6&rept(" ",20-len(VirtualLeague!C6))& rept(" ",6-len(VirtualLeague!D6))&VirtualLeague!D6&"`" ) -> `Greddit2 1582` | C6: Greddit2 | D6: 1582 | E6: {=if(G6="",,count(index(ScoreMatrix!$B$2:$AA$51,,$A6)))} -> 50 | F6: {=if(G6="",,average(index(ScoreMatrix!$B$2:$AA$51,,$A6)))} -> 37560.44 | G6: =index($I$2:$AF$2,A6) -> sebg | H6: =if(G6="",,sum(I6:AF6)) -> 10713 | I6: {=if(and($G6<>I$2,$G6<>"",I$2<>""),sum(iferror(vlookup(rank(index(ScoreMatrix!$B$2:$AA$51,,$A6),{index(ScoreMatrix!$B$2:$AA$51,,$A6);ScoreMatrix!B$2:B$51},false),RankScores!$A$1:$C$100,3,false)),),)} -> 4309 | J6: {=if(and($G6<>J$2,$G6<>"",J$2<>""),sum(iferror(vlookup(rank(index(ScoreMatrix!$B$2:$AA$51,,$A6),{index(ScoreMatrix!$B$2:$AA$51,,$A6);ScoreMatrix!C$2:C$51},false),RankScores!$A$1:$C$100,3,false)),),)} -> 4262 | K6: {=if(and($G6<>K$2,$G6<>"",K$2<>""),sum(iferror(vlookup(rank(index(ScoreMatrix!$B$2:$AA$51,,$A6),{index(ScoreMatrix!$B$2:$AA$51,,$A6);ScoreMatrix!D$2:D$51},false),RankScores!$A$1:$C$100,3,false)),),)} -> 2142 | L6: {=if(and($G6<>L$2,$G6<>"",L$2<>""),sum(iferror(vlookup(rank(index(ScoreMatrix!$B$2:$AA$51,,$A6),{index(ScoreMatrix!$B$2:$AA$51,,$A6);ScoreMatrix!E$2:E$51},false),RankScores!$A$1:$C$100,3,false)),),)} | M6: {=if(and($G6<>M$2,$G6<>"",M$2<>""),sum(iferror(vlookup(rank(index(ScoreMatrix!$B$2:$AA$51,,$A6),{index(ScoreMatrix!$B$2:$AA$51,,$A6);ScoreMatrix!F$2:F$51},false),RankScores!$A$1:$C$100,3,false)),),)} | N6: {=if(and($G6<>N$2,$G6<>"",N$2<>""),sum(iferror(vlookup(rank(index(ScoreMatrix!$B$2:$AA$51,,$A6),{index(ScoreMatrix!$B$2:$AA$51,,$A6);ScoreMatrix!G$2:G$51},false),RankScores!$A$1:$C$100,3,false)),),)} | O6: {=if(and($G6<>O$2,$G6<>"",O$2<>""),sum(iferror(vlookup(rank(index(ScoreMatrix!$B$2:$AA$51,,$A6),{index(ScoreMatrix!$B$2:$AA$51,,$A6);ScoreMatrix!H$2:H$51},false),RankScores!$A$1:$C$100,3,false)),),)} | P6: {=if(and($G6<>P$2,$G6<>"",P$2<>""),sum(iferror(vlookup(rank(index(ScoreMatrix!$B$2:$AA$51,,$A6),{index(ScoreMatrix!$B$2:$AA$51,,$A6);ScoreMatrix!I$2:I$51},false),RankScores!$A$1:$C$100,3,false)),),)} | ... AF6: {=if(and($G6<>AF$2,$G6<>"",AF$2<>""),sum(iferror(vlookup(rank(index(ScoreMatrix!$B$2:$AA$51,,$A6),{index(ScoreMatrix!$B$2:$AA$51,,$A6);ScoreMatrix!Y$2:Y$51},false),RankScores!$A$1:$C$100,3,false)),),)}
A7: 5 | B7: =if(isblank(VirtualLeague!D7),,"`"&VirtualLeague!C7&rept(" ",20-len(VirtualLeague!C7))& rept(" ",6-len(VirtualLeague!D7))&VirtualLeague!D7&"`" ) | E7: {=if(G7="",,count(index(ScoreMatrix!$B$2:$AA$51,,$A7)))} | F7: {=if(G7="",,average(index(ScoreMatrix!$B$2:$AA$51,,$A7)))} | G7: =index($I$2:$AF$2,A7) | H7: =if(G7="",,sum(I7:AF7)) | I7: {=if(and($G7<>I$2,$G7<>"",I$2<>""),sum(iferror(vlookup(rank(index(ScoreMatrix!$B$2:$AA$51,,$A7),{index(ScoreMatrix!$B$2:$AA$51,,$A7);ScoreMatrix!B$2:B$51},false),RankScores!$A$1:$C$100,3,false)),),)} | J7: {=if(and($G7<>J$2,$G7<>"",J$2<>""),sum(iferror(vlookup(rank(index(ScoreMatrix!$B$2:$AA$51,,$A7),{index(ScoreMatrix!$B$2:$AA$51,,$A7);ScoreMatrix!C$2:C$51},false),RankScores!$A$1:$C$100,3,false)),),)} | K7: {=if(and($G7<>K$2,$G7<>"",K$2<>""),sum(iferror(vlookup(rank(index(ScoreMatrix!$B$2:$AA$51,,$A7),{index(ScoreMatrix!$B$2:$AA$51,,$A7);ScoreMatrix!D$2:D$51},false),RankScores!$A$1:$C$100,3,false)),),)} | L7: {=if(and($G7<>L$2,$G7<>"",L$2<>""),sum(iferror(vlookup(rank(index(ScoreMatrix!$B$2:$AA$51,,$A7),{index(ScoreMatrix!$B$2:$AA$51,,$A7);ScoreMatrix!E$2:E$51},false),RankScores!$A$1:$C$100,3,false)),),)} | M7: {=if(and($G7<>M$2,$G7<>"",M$2<>""),sum(iferror(vlookup(rank(index(ScoreMatrix!$B$2:$AA$51,,$A7),{index(ScoreMatrix!$B$2:$AA$51,,$A7);ScoreMatrix!F$2:F$51},false),RankScores!$A$1:$C$100,3,false)),),)} | N7: {=if(and($G7<>N$2,$G7<>"",N$2<>""),sum(iferror(vlookup(rank(index(ScoreMatrix!$B$2:$AA$51,,$A7),{index(ScoreMatrix!$B$2:$AA$51,,$A7);ScoreMatrix!G$2:G$51},false),RankScores!$A$1:$C$100,3,false)),),)} | O7: {=if(and($G7<>O$2,$G7<>"",O$2<>""),sum(iferror(vlookup(rank(index(ScoreMatrix!$B$2:$AA$51,,$A7),{index(ScoreMatrix!$B$2:$AA$51,,$A7);ScoreMatrix!H$2:H$51},false),RankScores!$A$1:$C$100,3,false)),),)} | P7: {=if(and($G7<>P$2,$G7<>"",P$2<>""),sum(iferror(vlookup(rank(index(ScoreMatrix!$B$2:$AA$51,,$A7),{index(ScoreMatrix!$B$2:$AA$51,,$A7);ScoreMatrix!I$2:I$51},false),RankScores!$A$1:$C$100,3,false)),),)} | ... AF7: {=if(and($G7<>AF$2,$G7<>"",AF$2<>""),sum(iferror(vlookup(rank(index(ScoreMatrix!$B$2:$AA$51,,$A7),{index(ScoreMatrix!$B$2:$AA$51,,$A7);ScoreMatrix!Y$2:Y$51},false),RankScores!$A$1:$C$100,3,false)),),)}
A8: 6 | B8: =if(isblank(VirtualLeague!D8),,"`"&VirtualLeague!C8&rept(" ",20-len(VirtualLeague!C8))& rept(" ",6-len(VirtualLeague!D8))&VirtualLeague!D8&"`" ) | E8: {=if(G8="",,count(index(ScoreMatrix!$B$2:$AA$51,,$A8)))} | F8: {=if(G8="",,average(index(ScoreMatrix!$B$2:$AA$51,,$A8)))} | G8: =index($I$2:$AF$2,A8) | H8: =if(G8="",,sum(I8:AF8)) | I8: {=if(and($G8<>I$2,$G8<>"",I$2<>""),sum(iferror(vlookup(rank(index(ScoreMatrix!$B$2:$AA$51,,$A8),{index(ScoreMatrix!$B$2:$AA$51,,$A8);ScoreMatrix!B$2:B$51},false),RankScores!$A$1:$C$100,3,false)),),)} | J8: {=if(and($G8<>J$2,$G8<>"",J$2<>""),sum(iferror(vlookup(rank(index(ScoreMatrix!$B$2:$AA$51,,$A8),{index(ScoreMatrix!$B$2:$AA$51,,$A8);ScoreMatrix!C$2:C$51},false),RankScores!$A$1:$C$100,3,false)),),)} | K8: {=if(and($G8<>K$2,$G8<>"",K$2<>""),sum(iferror(vlookup(rank(index(ScoreMatrix!$B$2:$AA$51,,$A8),{index(ScoreMatrix!$B$2:$AA$51,,$A8);ScoreMatrix!D$2:D$51},false),RankScores!$A$1:$C$100,3,false)),),)} | L8: {=if(and($G8<>L$2,$G8<>"",L$2<>""),sum(iferror(vlookup(rank(index(ScoreMatrix!$B$2:$AA$51,,$A8),{index(ScoreMatrix!$B$2:$AA$51,,$A8);ScoreMatrix!E$2:E$51},false),RankScores!$A$1:$C$100,3,false)),),)} | M8: {=if(and($G8<>M$2,$G8<>"",M$2<>""),sum(iferror(vlookup(rank(index(ScoreMatrix!$B$2:$AA$51,,$A8),{index(ScoreMatrix!$B$2:$AA$51,,$A8);ScoreMatrix!F$2:F$51},false),RankScores!$A$1:$C$100,3,false)),),)} | N8: {=if(and($G8<>N$2,$G8<>"",N$2<>""),sum(iferror(vlookup(rank(index(ScoreMatrix!$B$2:$AA$51,,$A8),{index(ScoreMatrix!$B$2:$AA$51,,$A8);ScoreMatrix!G$2:G$51},false),RankScores!$A$1:$C$100,3,false)),),)} | O8: {=if(and($G8<>O$2,$G8<>"",O$2<>""),sum(iferror(vlookup(rank(index(ScoreMatrix!$B$2:$AA$51,,$A8),{index(ScoreMatrix!$B$2:$AA$51,,$A8);ScoreMatrix!H$2:H$51},false),RankScores!$A$1:$C$100,3,false)),),)} | P8: {=if(and($G8<>P$2,$G8<>"",P$2<>""),sum(iferror(vlookup(rank(index(ScoreMatrix!$B$2:$AA$51,,$A8),{index(ScoreMatrix!$B$2:$AA$51,,$A8);ScoreMatrix!I$2:I$51},false),RankScores!$A$1:$C$100,3,false)),),)} | ... AF8: {=if(and($G8<>AF$2,$G8<>"",AF$2<>""),sum(iferror(vlookup(rank(index(ScoreMatrix!$B$2:$AA$51,,$A8),{index(ScoreMatrix!$B$2:$AA$51,,$A8);ScoreMatrix!Y$2:Y$51},false),RankScores!$A$1:$C$100,3,false)),),)}
A9: 7 | B9: =if(isblank(VirtualLeague!D9),,"`"&VirtualLeague!C9&rept(" ",20-len(VirtualLeague!C9))& rept(" ",6-len(VirtualLeague!D9))&VirtualLeague!D9&"`" ) | E9: {=if(G9="",,count(index(ScoreMatrix!$B$2:$AA$51,,$A9)))} | F9: {=if(G9="",,average(index(ScoreMatrix!$B$2:$AA$51,,$A9)))} | G9: =index($I$2:$AF$2,A9) | H9: =if(G9="",,sum(I9:AF9)) | I9: {=if(and($G9<>I$2,$G9<>"",I$2<>""),sum(iferror(vlookup(rank(index(ScoreMatrix!$B$2:$AA$51,,$A9),{index(ScoreMatrix!$B$2:$AA$51,,$A9);ScoreMatrix!B$2:B$51},false),RankScores!$A$1:$C$100,3,false)),),)} | J9: {=if(and($G9<>J$2,$G9<>"",J$2<>""),sum(iferror(vlookup(rank(index(ScoreMatrix!$B$2:$AA$51,,$A9),{index(ScoreMatrix!$B$2:$AA$51,,$A9);ScoreMatrix!C$2:C$51},false),RankScores!$A$1:$C$100,3,false)),),)} | K9: {=if(and($G9<>K$2,$G9<>"",K$2<>""),sum(iferror(vlookup(rank(index(ScoreMatrix!$B$2:$AA$51,,$A9),{index(ScoreMatrix!$B$2:$AA$51,,$A9);ScoreMatrix!D$2:D$51},false),RankScores!$A$1:$C$100,3,false)),),)} | L9: {=if(and($G9<>L$2,$G9<>"",L$2<>""),sum(iferror(vlookup(rank(index(ScoreMatrix!$B$2:$AA$51,,$A9),{index(ScoreMatrix!$B$2:$AA$51,,$A9);ScoreMatrix!E$2:E$51},false),RankScores!$A$1:$C$100,3,false)),),)} | M9: {=if(and($G9<>M$2,$G9<>"",M$2<>""),sum(iferror(vlookup(rank(index(ScoreMatrix!$B$2:$AA$51,,$A9),{index(ScoreMatrix!$B$2:$AA$51,,$A9);ScoreMatrix!F$2:F$51},false),RankScores!$A$1:$C$100,3,false)),),)} | N9: {=if(and($G9<>N$2,$G9<>"",N$2<>""),sum(iferror(vlookup(rank(index(ScoreMatrix!$B$2:$AA$51,,$A9),{index(ScoreMatrix!$B$2:$AA$51,,$A9);ScoreMatrix!G$2:G$51},false),RankScores!$A$1:$C$100,3,false)),),)} | O9: {=if(and($G9<>O$2,$G9<>"",O$2<>""),sum(iferror(vlookup(rank(index(ScoreMatrix!$B$2:$AA$51,,$A9),{index(ScoreMatrix!$B$2:$AA$51,,$A9);ScoreMatrix!H$2:H$51},false),RankScores!$A$1:$C$100,3,false)),),)} | P9: {=if(and($G9<>P$2,$G9<>"",P$2<>""),sum(iferror(vlookup(rank(index(ScoreMatrix!$B$2:$AA$51,,$A9),{index(ScoreMatrix!$B$2:$AA$51,,$A9);ScoreMatrix!I$2:I$51},false),RankScores!$A$1:$C$100,3,false)),),)} | ... AF9: {=if(and($G9<>AF$2,$G9<>"",AF$2<>""),sum(iferror(vlookup(rank(index(ScoreMatrix!$B$2:$AA$51,,$A9),{index(ScoreMatrix!$B$2:$AA$51,,$A9);ScoreMatrix!Y$2:Y$51},false),RankScores!$A$1:$C$100,3,false)),),)}
A10: 8 | B10: =if(isblank(VirtualLeague!D10),,"`"&VirtualLeague!C10&rept(" ",20-len(VirtualLeague!C10))& rept(" ",6-len(VirtualLeague!D10))&VirtualLeague!D10&"`" ) | E10: {=if(G10="",,count(index(ScoreMatrix!$B$2:$AA$51,,$A10)))} | F10: {=if(G10="",,average(index(ScoreMatrix!$B$2:$AA$51,,$A10)))} | G10: =index($I$2:$AF$2,A10) | H10: =if(G10="",,sum(I10:AF10)) | I10: {=if(and($G10<>I$2,$G10<>"",I$2<>""),sum(iferror(vlookup(rank(index(ScoreMatrix!$B$2:$AA$51,,$A10),{index(ScoreMatrix!$B$2:$AA$51,,$A10);ScoreMatrix!B$2:B$51},false),RankScores!$A$1:$C$100,3,false)),),)} | J10: {=if(and($G10<>J$2,$G10<>"",J$2<>""),sum(iferror(vlookup(rank(index(ScoreMatrix!$B$2:$AA$51,,$A10),{index(ScoreMatrix!$B$2:$AA$51,,$A10);ScoreMatrix!C$2:C$51},false),RankScores!$A$1:$C$100,3,false)),),)} | K10: {=if(and($G10<>K$2,$G10<>"",K$2<>""),sum(iferror(vlookup(rank(index(ScoreMatrix!$B$2:$AA$51,,$A10),{index(ScoreMatrix!$B$2:$AA$51,,$A10);ScoreMatrix!D$2:D$51},false),RankScores!$A$1:$C$100,3,false)),),)} | L10: {=if(and($G10<>L$2,$G10<>"",L$2<>""),sum(iferror(vlookup(rank(index(ScoreMatrix!$B$2:$AA$51,,$A10),{index(ScoreMatrix!$B$2:$AA$51,,$A10);ScoreMatrix!E$2:E$51},false),RankScores!$A$1:$C$100,3,false)),),)} | M10: {=if(and($G10<>M$2,$G10<>"",M$2<>""),sum(iferror(vlookup(rank(index(ScoreMatrix!$B$2:$AA$51,,$A10),{index(ScoreMatrix!$B$2:$AA$51,,$A10);ScoreMatrix!F$2:F$51},false),RankScores!$A$1:$C$100,3,false)),),)} | N10: {=if(and($G10<>N$2,$G10<>"",N$2<>""),sum(iferror(vlookup(rank(index(ScoreMatrix!$B$2:$AA$51,,$A10),{index(ScoreMatrix!$B$2:$AA$51,,$A10);ScoreMatrix!G$2:G$51},false),RankScores!$A$1:$C$100,3,false)),),)} | O10: {=if(and($G10<>O$2,$G10<>"",O$2<>""),sum(iferror(vlookup(rank(index(ScoreMatrix!$B$2:$AA$51,,$A10),{index(ScoreMatrix!$B$2:$AA$51,,$A10);ScoreMatrix!H$2:H$51},false),RankScores!$A$1:$C$100,3,false)),),)} | P10: {=if(and($G10<>P$2,$G10<>"",P$2<>""),sum(iferror(vlookup(rank(index(ScoreMatrix!$B$2:$AA$51,,$A10),{index(ScoreMatrix!$B$2:$AA$51,,$A10);ScoreMatrix!I$2:I$51},false),RankScores!$A$1:$C$100,3,false)),),)} | ... AF10: {=if(and($G10<>AF$2,$G10<>"",AF$2<>""),sum(iferror(vlookup(rank(index(ScoreMatrix!$B$2:$AA$51,,$A10),{index(ScoreMatrix!$B$2:$AA$51,,$A10);ScoreMatrix!Y$2:Y$51},false),RankScores!$A$1:$C$100,3,false)),),)}
A11: 9 | B11: =if(isblank(VirtualLeague!D11),,"`"&VirtualLeague!C11&rept(" ",20-len(VirtualLeague!C11))& rept(" ",6-len(VirtualLeague!D11))&VirtualLeague!D11&"`" ) | E11: {=if(G11="",,count(index(ScoreMatrix!$B$2:$AA$51,,$A11)))} | F11: {=if(G11="",,average(index(ScoreMatrix!$B$2:$AA$51,,$A11)))} | G11: =index($I$2:$AF$2,A11) | H11: =if(G11="",,sum(I11:AF11)) | I11: {=if(and($G11<>I$2,$G11<>"",I$2<>""),sum(iferror(vlookup(rank(index(ScoreMatrix!$B$2:$AA$51,,$A11),{index(ScoreMatrix!$B$2:$AA$51,,$A11);ScoreMatrix!B$2:B$51},false),RankScores!$A$1:$C$100,3,false)),),)} | J11: {=if(and($G11<>J$2,$G11<>"",J$2<>""),sum(iferror(vlookup(rank(index(ScoreMatrix!$B$2:$AA$51,,$A11),{index(ScoreMatrix!$B$2:$AA$51,,$A11);ScoreMatrix!C$2:C$51},false),RankScores!$A$1:$C$100,3,false)),),)} | K11: {=if(and($G11<>K$2,$G11<>"",K$2<>""),sum(iferror(vlookup(rank(index(ScoreMatrix!$B$2:$AA$51,,$A11),{index(ScoreMatrix!$B$2:$AA$51,,$A11);ScoreMatrix!D$2:D$51},false),RankScores!$A$1:$C$100,3,false)),),)} | L11: {=if(and($G11<>L$2,$G11<>"",L$2<>""),sum(iferror(vlookup(rank(index(ScoreMatrix!$B$2:$AA$51,,$A11),{index(ScoreMatrix!$B$2:$AA$51,,$A11);ScoreMatrix!E$2:E$51},false),RankScores!$A$1:$C$100,3,false)),),)} | M11: {=if(and($G11<>M$2,$G11<>"",M$2<>""),sum(iferror(vlookup(rank(index(ScoreMatrix!$B$2:$AA$51,,$A11),{index(ScoreMatrix!$B$2:$AA$51,,$A11);ScoreMatrix!F$2:F$51},false),RankScores!$A$1:$C$100,3,false)),),)} | N11: {=if(and($G11<>N$2,$G11<>"",N$2<>""),sum(iferror(vlookup(rank(index(ScoreMatrix!$B$2:$AA$51,,$A11),{index(ScoreMatrix!$B$2:$AA$51,,$A11);ScoreMatrix!G$2:G$51},false),RankScores!$A$1:$C$100,3,false)),),)} | O11: {=if(and($G11<>O$2,$G11<>"",O$2<>""),sum(iferror(vlookup(rank(index(ScoreMatrix!$B$2:$AA$51,,$A11),{index(ScoreMatrix!$B$2:$AA$51,,$A11);ScoreMatrix!H$2:H$51},false),RankScores!$A$1:$C$100,3,false)),),)} | P11: {=if(and($G11<>P$2,$G11<>"",P$2<>""),sum(iferror(vlookup(rank(index(ScoreMatrix!$B$2:$AA$51,,$A11),{index(ScoreMatrix!$B$2:$AA$51,,$A11);ScoreMatrix!I$2:I$51},false),RankScores!$A$1:$C$100,3,false)),),)} | ... AF11: {=if(and($G11<>AF$2,$G11<>"",AF$2<>""),sum(iferror(vlookup(rank(index(ScoreMatrix!$B$2:$AA$51,,$A11),{index(ScoreMatrix!$B$2:$AA$51,,$A11);ScoreMatrix!Y$2:Y$51},false),RankScores!$A$1:$C$100,3,false)),),)}
A12: 10 | B12: =if(isblank(VirtualLeague!D12),,"`"&VirtualLeague!C12&rept(" ",20-len(VirtualLeague!C12))& rept(" ",6-len(VirtualLeague!D12))&VirtualLeague!D12&"`" ) | E12: {=if(G12="",,count(index(ScoreMatrix!$B$2:$AA$51,,$A12)))} | F12: {=if(G12="",,average(index(ScoreMatrix!$B$2:$AA$51,,$A12)))} | G12: =index($I$2:$AF$2,A12) | H12: =if(G12="",,sum(I12:AF12)) | I12: {=if(and($G12<>I$2,$G12<>"",I$2<>""),sum(iferror(vlookup(rank(index(ScoreMatrix!$B$2:$AA$51,,$A12),{index(ScoreMatrix!$B$2:$AA$51,,$A12);ScoreMatrix!B$2:B$51},false),RankScores!$A$1:$C$100,3,false)),),)} | J12: {=if(and($G12<>J$2,$G12<>"",J$2<>""),sum(iferror(vlookup(rank(index(ScoreMatrix!$B$2:$AA$51,,$A12),{index(ScoreMatrix!$B$2:$AA$51,,$A12);ScoreMatrix!C$2:C$51},false),RankScores!$A$1:$C$100,3,false)),),)} | K12: {=if(and($G12<>K$2,$G12<>"",K$2<>""),sum(iferror(vlookup(rank(index(ScoreMatrix!$B$2:$AA$51,,$A12),{index(ScoreMatrix!$B$2:$AA$51,,$A12);ScoreMatrix!D$2:D$51},false),RankScores!$A$1:$C$100,3,false)),),)} | L12: {=if(and($G12<>L$2,$G12<>"",L$2<>""),sum(iferror(vlookup(rank(index(ScoreMatrix!$B$2:$AA$51,,$A12),{index(ScoreMatrix!$B$2:$AA$51,,$A12);ScoreMatrix!E$2:E$51},false),RankScores!$A$1:$C$100,3,false)),),)} | M12: {=if(and($G12<>M$2,$G12<>"",M$2<>""),sum(iferror(vlookup(rank(index(ScoreMatrix!$B$2:$AA$51,,$A12),{index(ScoreMatrix!$B$2:$AA$51,,$A12);ScoreMatrix!F$2:F$51},false),RankScores!$A$1:$C$100,3,false)),),)} | N12: {=if(and($G12<>N$2,$G12<>"",N$2<>""),sum(iferror(vlookup(rank(index(ScoreMatrix!$B$2:$AA$51,,$A12),{index(ScoreMatrix!$B$2:$AA$51,,$A12);ScoreMatrix!G$2:G$51},false),RankScores!$A$1:$C$100,3,false)),),)} | O12: {=if(and($G12<>O$2,$G12<>"",O$2<>""),sum(iferror(vlookup(rank(index(ScoreMatrix!$B$2:$AA$51,,$A12),{index(ScoreMatrix!$B$2:$AA$51,,$A12);ScoreMatrix!H$2:H$51},false),RankScores!$A$1:$C$100,3,false)),),)} | P12: {=if(and($G12<>P$2,$G12<>"",P$2<>""),sum(iferror(vlookup(rank(index(ScoreMatrix!$B$2:$AA$51,,$A12),{index(ScoreMatrix!$B$2:$AA$51,,$A12);ScoreMatrix!I$2:I$51},false),RankScores!$A$1:$C$100,3,false)),),)} | ... AF12: {=if(and($G12<>AF$2,$G12<>"",AF$2<>""),sum(iferror(vlookup(rank(index(ScoreMatrix!$B$2:$AA$51,,$A12),{index(ScoreMatrix!$B$2:$AA$51,,$A12);ScoreMatrix!Y$2:Y$51},false),RankScores!$A$1:$C$100,3,false)),),)}
A13: 11 | B13: =if(isblank(VirtualLeague!D13),,"`"&VirtualLeague!C13&rept(" ",20-len(VirtualLeague!C13))& rept(" ",6-len(VirtualLeague!D13))&VirtualLeague!D13&"`" ) | E13: {=if(G13="",,count(index(ScoreMatrix!$B$2:$AA$51,,$A13)))} | F13: {=if(G13="",,average(index(ScoreMatrix!$B$2:$AA$51,,$A13)))} | G13: =index($I$2:$AF$2,A13) | H13: =if(G13="",,sum(I13:AF13)) | I13: {=if(and($G13<>I$2,$G13<>"",I$2<>""),sum(iferror(vlookup(rank(index(ScoreMatrix!$B$2:$AA$51,,$A13),{index(ScoreMatrix!$B$2:$AA$51,,$A13);ScoreMatrix!B$2:B$51},false),RankScores!$A$1:$C$100,3,false)),),)} | J13: {=if(and($G13<>J$2,$G13<>"",J$2<>""),sum(iferror(vlookup(rank(index(ScoreMatrix!$B$2:$AA$51,,$A13),{index(ScoreMatrix!$B$2:$AA$51,,$A13);ScoreMatrix!C$2:C$51},false),RankScores!$A$1:$C$100,3,false)),),)} | K13: {=if(and($G13<>K$2,$G13<>"",K$2<>""),sum(iferror(vlookup(rank(index(ScoreMatrix!$B$2:$AA$51,,$A13),{index(ScoreMatrix!$B$2:$AA$51,,$A13);ScoreMatrix!D$2:D$51},false),RankScores!$A$1:$C$100,3,false)),),)} | L13: {=if(and($G13<>L$2,$G13<>"",L$2<>""),sum(iferror(vlookup(rank(index(ScoreMatrix!$B$2:$AA$51,,$A13),{index(ScoreMatrix!$B$2:$AA$51,,$A13);ScoreMatrix!E$2:E$51},false),RankScores!$A$1:$C$100,3,false)),),)} | M13: {=if(and($G13<>M$2,$G13<>"",M$2<>""),sum(iferror(vlookup(rank(index(ScoreMatrix!$B$2:$AA$51,,$A13),{index(ScoreMatrix!$B$2:$AA$51,,$A13);ScoreMatrix!F$2:F$51},false),RankScores!$A$1:$C$100,3,false)),),)} | N13: {=if(and($G13<>N$2,$G13<>"",N$2<>""),sum(iferror(vlookup(rank(index(ScoreMatrix!$B$2:$AA$51,,$A13),{index(ScoreMatrix!$B$2:$AA$51,,$A13);ScoreMatrix!G$2:G$51},false),RankScores!$A$1:$C$100,3,false)),),)} | O13: {=if(and($G13<>O$2,$G13<>"",O$2<>""),sum(iferror(vlookup(rank(index(ScoreMatrix!$B$2:$AA$51,,$A13),{index(ScoreMatrix!$B$2:$AA$51,,$A13);ScoreMatrix!H$2:H$51},false),RankScores!$A$1:$C$100,3,false)),),)} | P13: {=if(and($G13<>P$2,$G13<>"",P$2<>""),sum(iferror(vlookup(rank(index(ScoreMatrix!$B$2:$AA$51,,$A13),{index(ScoreMatrix!$B$2:$AA$51,,$A13);ScoreMatrix!I$2:I$51},false),RankScores!$A$1:$C$100,3,false)),),)} | ... AF13: {=if(and($G13<>AF$2,$G13<>"",AF$2<>""),sum(iferror(vlookup(rank(index(ScoreMatrix!$B$2:$AA$51,,$A13),{index(ScoreMatrix!$B$2:$AA$51,,$A13);ScoreMatrix!Y$2:Y$51},false),RankScores!$A$1:$C$100,3,false)),),)}
A14: 12 | B14: =if(isblank(VirtualLeague!D14),,"`"&VirtualLeague!C14&rept(" ",20-len(VirtualLeague!C14))& rept(" ",6-len(VirtualLeague!D14))&VirtualLeague!D14&"`" ) | E14: {=if(G14="",,count(index(ScoreMatrix!$B$2:$AA$51,,$A14)))} | F14: {=if(G14="",,average(index(ScoreMatrix!$B$2:$AA$51,,$A14)))} | G14: =index($I$2:$AF$2,A14) | H14: =if(G14="",,sum(I14:AF14)) | I14: {=if(and($G14<>I$2,$G14<>"",I$2<>""),sum(iferror(vlookup(rank(index(ScoreMatrix!$B$2:$AA$51,,$A14),{index(ScoreMatrix!$B$2:$AA$51,,$A14);ScoreMatrix!B$2:B$51},false),RankScores!$A$1:$C$100,3,false)),),)} | J14: {=if(and($G14<>J$2,$G14<>"",J$2<>""),sum(iferror(vlookup(rank(index(ScoreMatrix!$B$2:$AA$51,,$A14),{index(ScoreMatrix!$B$2:$AA$51,,$A14);ScoreMatrix!C$2:C$51},false),RankScores!$A$1:$C$100,3,false)),),)} | K14: {=if(and($G14<>K$2,$G14<>"",K$2<>""),sum(iferror(vlookup(rank(index(ScoreMatrix!$B$2:$AA$51,,$A14),{index(ScoreMatrix!$B$2:$AA$51,,$A14);ScoreMatrix!D$2:D$51},false),RankScores!$A$1:$C$100,3,false)),),)} | L14: {=if(and($G14<>L$2,$G14<>"",L$2<>""),sum(iferror(vlookup(rank(index(ScoreMatrix!$B$2:$AA$51,,$A14),{index(ScoreMatrix!$B$2:$AA$51,,$A14);ScoreMatrix!E$2:E$51},false),RankScores!$A$1:$C$100,3,false)),),)} | M14: {=if(and($G14<>M$2,$G14<>"",M$2<>""),sum(iferror(vlookup(rank(index(ScoreMatrix!$B$2:$AA$51,,$A14),{index(ScoreMatrix!$B$2:$AA$51,,$A14);ScoreMatrix!F$2:F$51},false),RankScores!$A$1:$C$100,3,false)),),)} | N14: {=if(and($G14<>N$2,$G14<>"",N$2<>""),sum(iferror(vlookup(rank(index(ScoreMatrix!$B$2:$AA$51,,$A14),{index(ScoreMatrix!$B$2:$AA$51,,$A14);ScoreMatrix!G$2:G$51},false),RankScores!$A$1:$C$100,3,false)),),)} | O14: {=if(and($G14<>O$2,$G14<>"",O$2<>""),sum(iferror(vlookup(rank(index(ScoreMatrix!$B$2:$AA$51,,$A14),{index(ScoreMatrix!$B$2:$AA$51,,$A14);ScoreMatrix!H$2:H$51},false),RankScores!$A$1:$C$100,3,false)),),)} | P14: {=if(and($G14<>P$2,$G14<>"",P$2<>""),sum(iferror(vlookup(rank(index(ScoreMatrix!$B$2:$AA$51,,$A14),{index(ScoreMatrix!$B$2:$AA$51,,$A14);ScoreMatrix!I$2:I$51},false),RankScores!$A$1:$C$100,3,false)),),)} | ... AF14: {=if(and($G14<>AF$2,$G14<>"",AF$2<>""),sum(iferror(vlookup(rank(index(ScoreMatrix!$B$2:$AA$51,,$A14),{index(ScoreMatrix!$B$2:$AA$51,,$A14);ScoreMatrix!Y$2:Y$51},false),RankScores!$A$1:$C$100,3,false)),),)}
A15: 13 | B15: =if(isblank(VirtualLeague!D15),,"`"&VirtualLeague!C15&rept(" ",20-len(VirtualLeague!C15))& rept(" ",6-len(VirtualLeague!D15))&VirtualLeague!D15&"`" ) | E15: {=if(G15="",,count(index(ScoreMatrix!$B$2:$AA$51,,$A15)))} | F15: {=if(G15="",,average(index(ScoreMatrix!$B$2:$AA$51,,$A15)))} | G15: =index($I$2:$AF$2,A15) | H15: =if(G15="",,sum(I15:AF15)) | I15: {=if(and($G15<>I$2,$G15<>"",I$2<>""),sum(iferror(vlookup(rank(index(ScoreMatrix!$B$2:$AA$51,,$A15),{index(ScoreMatrix!$B$2:$AA$51,,$A15);ScoreMatrix!B$2:B$51},false),RankScores!$A$1:$C$100,3,false)),),)} | J15: {=if(and($G15<>J$2,$G15<>"",J$2<>""),sum(iferror(vlookup(rank(index(ScoreMatrix!$B$2:$AA$51,,$A15),{index(ScoreMatrix!$B$2:$AA$51,,$A15);ScoreMatrix!C$2:C$51},false),RankScores!$A$1:$C$100,3,false)),),)} | K15: {=if(and($G15<>K$2,$G15<>"",K$2<>""),sum(iferror(vlookup(rank(index(ScoreMatrix!$B$2:$AA$51,,$A15),{index(ScoreMatrix!$B$2:$AA$51,,$A15);ScoreMatrix!D$2:D$51},false),RankScores!$A$1:$C$100,3,false)),),)} | L15: {=if(and($G15<>L$2,$G15<>"",L$2<>""),sum(iferror(vlookup(rank(index(ScoreMatrix!$B$2:$AA$51,,$A15),{index(ScoreMatrix!$B$2:$AA$51,,$A15);ScoreMatrix!E$2:E$51},false),RankScores!$A$1:$C$100,3,false)),),)} | M15: {=if(and($G15<>M$2,$G15<>"",M$2<>""),sum(iferror(vlookup(rank(index(ScoreMatrix!$B$2:$AA$51,,$A15),{index(ScoreMatrix!$B$2:$AA$51,,$A15);ScoreMatrix!F$2:F$51},false),RankScores!$A$1:$C$100,3,false)),),)} | N15: {=if(and($G15<>N$2,$G15<>"",N$2<>""),sum(iferror(vlookup(rank(index(ScoreMatrix!$B$2:$AA$51,,$A15),{index(ScoreMatrix!$B$2:$AA$51,,$A15);ScoreMatrix!G$2:G$51},false),RankScores!$A$1:$C$100,3,false)),),)} | O15: {=if(and($G15<>O$2,$G15<>"",O$2<>""),sum(iferror(vlookup(rank(index(ScoreMatrix!$B$2:$AA$51,,$A15),{index(ScoreMatrix!$B$2:$AA$51,,$A15);ScoreMatrix!H$2:H$51},false),RankScores!$A$1:$C$100,3,false)),),)} | P15: {=if(and($G15<>P$2,$G15<>"",P$2<>""),sum(iferror(vlookup(rank(index(ScoreMatrix!$B$2:$AA$51,,$A15),{index(ScoreMatrix!$B$2:$AA$51,,$A15);ScoreMatrix!I$2:I$51},false),RankScores!$A$1:$C$100,3,false)),),)} | ... AF15: {=if(and($G15<>AF$2,$G15<>"",AF$2<>""),sum(iferror(vlookup(rank(index(ScoreMatrix!$B$2:$AA$51,,$A15),{index(ScoreMatrix!$B$2:$AA$51,,$A15);ScoreMatrix!Y$2:Y$51},false),RankScores!$A$1:$C$100,3,false)),),)}
A16: 14 | B16: =if(isblank(VirtualLeague!D16),,"`"&VirtualLeague!C16&rept(" ",20-len(VirtualLeague!C16))& rept(" ",6-len(VirtualLeague!D16))&VirtualLeague!D16&"`" ) | E16: {=if(G16="",,count(index(ScoreMatrix!$B$2:$AA$51,,$A16)))} | F16: {=if(G16="",,average(index(ScoreMatrix!$B$2:$AA$51,,$A16)))} | G16: =index($I$2:$AF$2,A16) | H16: =if(G16="",,sum(I16:AF16)) | I16: {=if(and($G16<>I$2,$G16<>"",I$2<>""),sum(iferror(vlookup(rank(index(ScoreMatrix!$B$2:$AA$51,,$A16),{index(ScoreMatrix!$B$2:$AA$51,,$A16);ScoreMatrix!B$2:B$51},false),RankScores!$A$1:$C$100,3,false)),),)} | J16: {=if(and($G16<>J$2,$G16<>"",J$2<>""),sum(iferror(vlookup(rank(index(ScoreMatrix!$B$2:$AA$51,,$A16),{index(ScoreMatrix!$B$2:$AA$51,,$A16);ScoreMatrix!C$2:C$51},false),RankScores!$A$1:$C$100,3,false)),),)} | K16: {=if(and($G16<>K$2,$G16<>"",K$2<>""),sum(iferror(vlookup(rank(index(ScoreMatrix!$B$2:$AA$51,,$A16),{index(ScoreMatrix!$B$2:$AA$51,,$A16);ScoreMatrix!D$2:D$51},false),RankScores!$A$1:$C$100,3,false)),),)} | L16: {=if(and($G16<>L$2,$G16<>"",L$2<>""),sum(iferror(vlookup(rank(index(ScoreMatrix!$B$2:$AA$51,,$A16),{index(ScoreMatrix!$B$2:$AA$51,,$A16);ScoreMatrix!E$2:E$51},false),RankScores!$A$1:$C$100,3,false)),),)} | M16: {=if(and($G16<>M$2,$G16<>"",M$2<>""),sum(iferror(vlookup(rank(index(ScoreMatrix!$B$2:$AA$51,,$A16),{index(ScoreMatrix!$B$2:$AA$51,,$A16);ScoreMatrix!F$2:F$51},false),RankScores!$A$1:$C$100,3,false)),),)} | N16: {=if(and($G16<>N$2,$G16<>"",N$2<>""),sum(iferror(vlookup(rank(index(ScoreMatrix!$B$2:$AA$51,,$A16),{index(ScoreMatrix!$B$2:$AA$51,,$A16);ScoreMatrix!G$2:G$51},false),RankScores!$A$1:$C$100,3,false)),),)} | O16: {=if(and($G16<>O$2,$G16<>"",O$2<>""),sum(iferror(vlookup(rank(index(ScoreMatrix!$B$2:$AA$51,,$A16),{index(ScoreMatrix!$B$2:$AA$51,,$A16);ScoreMatrix!H$2:H$51},false),RankScores!$A$1:$C$100,3,false)),),)} | P16: {=if(and($G16<>P$2,$G16<>"",P$2<>""),sum(iferror(vlookup(rank(index(ScoreMatrix!$B$2:$AA$51,,$A16),{index(ScoreMatrix!$B$2:$AA$51,,$A16);ScoreMatrix!I$2:I$51},false),RankScores!$A$1:$C$100,3,false)),),)} | ... AF16: {=if(and($G16<>AF$2,$G16<>"",AF$2<>""),sum(iferror(vlookup(rank(index(ScoreMatrix!$B$2:$AA$51,,$A16),{index(ScoreMatrix!$B$2:$AA$51,,$A16);ScoreMatrix!Y$2:Y$51},false),RankScores!$A$1:$C$100,3,false)),),)}
A17: 15 | B17: =if(isblank(VirtualLeague!D17),,"`"&VirtualLeague!C17&rept(" ",20-len(VirtualLeague!C17))& rept(" ",6-len(VirtualLeague!D17))&VirtualLeague!D17&"`" ) | E17: {=if(G17="",,count(index(ScoreMatrix!$B$2:$AA$51,,$A17)))} | F17: {=if(G17="",,average(index(ScoreMatrix!$B$2:$AA$51,,$A17)))} | G17: =index($I$2:$AF$2,A17) | H17: =if(G17="",,sum(I17:AF17)) | I17: {=if(and($G17<>I$2,$G17<>"",I$2<>""),sum(iferror(vlookup(rank(index(ScoreMatrix!$B$2:$AA$51,,$A17),{index(ScoreMatrix!$B$2:$AA$51,,$A17);ScoreMatrix!B$2:B$51},false),RankScores!$A$1:$C$100,3,false)),),)} | J17: {=if(and($G17<>J$2,$G17<>"",J$2<>""),sum(iferror(vlookup(rank(index(ScoreMatrix!$B$2:$AA$51,,$A17),{index(ScoreMatrix!$B$2:$AA$51,,$A17);ScoreMatrix!C$2:C$51},false),RankScores!$A$1:$C$100,3,false)),),)} | K17: {=if(and($G17<>K$2,$G17<>"",K$2<>""),sum(iferror(vlookup(rank(index(ScoreMatrix!$B$2:$AA$51,,$A17),{index(ScoreMatrix!$B$2:$AA$51,,$A17);ScoreMatrix!D$2:D$51},false),RankScores!$A$1:$C$100,3,false)),),)} | L17: {=if(and($G17<>L$2,$G17<>"",L$2<>""),sum(iferror(vlookup(rank(index(ScoreMatrix!$B$2:$AA$51,,$A17),{index(ScoreMatrix!$B$2:$AA$51,,$A17);ScoreMatrix!E$2:E$51},false),RankScores!$A$1:$C$100,3,false)),),)} | M17: {=if(and($G17<>M$2,$G17<>"",M$2<>""),sum(iferror(vlookup(rank(index(ScoreMatrix!$B$2:$AA$51,,$A17),{index(ScoreMatrix!$B$2:$AA$51,,$A17);ScoreMatrix!F$2:F$51},false),RankScores!$A$1:$C$100,3,false)),),)} | N17: {=if(and($G17<>N$2,$G17<>"",N$2<>""),sum(iferror(vlookup(rank(index(ScoreMatrix!$B$2:$AA$51,,$A17),{index(ScoreMatrix!$B$2:$AA$51,,$A17);ScoreMatrix!G$2:G$51},false),RankScores!$A$1:$C$100,3,false)),),)} | O17: {=if(and($G17<>O$2,$G17<>"",O$2<>""),sum(iferror(vlookup(rank(index(ScoreMatrix!$B$2:$AA$51,,$A17),{index(ScoreMatrix!$B$2:$AA$51,,$A17);ScoreMatrix!H$2:H$51},false),RankScores!$A$1:$C$100,3,false)),),)} | P17: {=if(and($G17<>P$2,$G17<>"",P$2<>""),sum(iferror(vlookup(rank(index(ScoreMatrix!$B$2:$AA$51,,$A17),{index(ScoreMatrix!$B$2:$AA$51,,$A17);ScoreMatrix!I$2:I$51},false),RankScores!$A$1:$C$100,3,false)),),)} | ... AF17: {=if(and($G17<>AF$2,$G17<>"",AF$2<>""),sum(iferror(vlookup(rank(index(ScoreMatrix!$B$2:$AA$51,,$A17),{index(ScoreMatrix!$B$2:$AA$51,,$A17);ScoreMatrix!Y$2:Y$51},false),RankScores!$A$1:$C$100,3,false)),),)}
A18: 16 | B18: =if(isblank(VirtualLeague!D18),,"`"&VirtualLeague!C18&rept(" ",20-len(VirtualLeague!C18))& rept(" ",6-len(VirtualLeague!D18))&VirtualLeague!D18&"`" ) | E18: {=if(G18="",,count(index(ScoreMatrix!$B$2:$AA$51,,$A18)))} | F18: {=if(G18="",,average(index(ScoreMatrix!$B$2:$AA$51,,$A18)))} | G18: =index($I$2:$AF$2,A18) | H18: =if(G18="",,sum(I18:AF18)) | I18: {=if(and($G18<>I$2,$G18<>"",I$2<>""),sum(iferror(vlookup(rank(index(ScoreMatrix!$B$2:$AA$51,,$A18),{index(ScoreMatrix!$B$2:$AA$51,,$A18);ScoreMatrix!B$2:B$51},false),RankScores!$A$1:$C$100,3,false)),),)} | J18: {=if(and($G18<>J$2,$G18<>"",J$2<>""),sum(iferror(vlookup(rank(index(ScoreMatrix!$B$2:$AA$51,,$A18),{index(ScoreMatrix!$B$2:$AA$51,,$A18);ScoreMatrix!C$2:C$51},false),RankScores!$A$1:$C$100,3,false)),),)} | K18: {=if(and($G18<>K$2,$G18<>"",K$2<>""),sum(iferror(vlookup(rank(index(ScoreMatrix!$B$2:$AA$51,,$A18),{index(ScoreMatrix!$B$2:$AA$51,,$A18);ScoreMatrix!D$2:D$51},false),RankScores!$A$1:$C$100,3,false)),),)} | L18: {=if(and($G18<>L$2,$G18<>"",L$2<>""),sum(iferror(vlookup(rank(index(ScoreMatrix!$B$2:$AA$51,,$A18),{index(ScoreMatrix!$B$2:$AA$51,,$A18);ScoreMatrix!E$2:E$51},false),RankScores!$A$1:$C$100,3,false)),),)} | M18: {=if(and($G18<>M$2,$G18<>"",M$2<>""),sum(iferror(vlookup(rank(index(ScoreMatrix!$B$2:$AA$51,,$A18),{index(ScoreMatrix!$B$2:$AA$51,,$A18);ScoreMatrix!F$2:F$51},false),RankScores!$A$1:$C$100,3,false)),),)} | N18: {=if(and($G18<>N$2,$G18<>"",N$2<>""),sum(iferror(vlookup(rank(index(ScoreMatrix!$B$2:$AA$51,,$A18),{index(ScoreMatrix!$B$2:$AA$51,,$A18);ScoreMatrix!G$2:G$51},false),RankScores!$A$1:$C$100,3,false)),),)} | O18: {=if(and($G18<>O$2,$G18<>"",O$2<>""),sum(iferror(vlookup(rank(index(ScoreMatrix!$B$2:$AA$51,,$A18),{index(ScoreMatrix!$B$2:$AA$51,,$A18);ScoreMatrix!H$2:H$51},false),RankScores!$A$1:$C$100,3,false)),),)} | P18: {=if(and($G18<>P$2,$G18<>"",P$2<>""),sum(iferror(vlookup(rank(index(ScoreMatrix!$B$2:$AA$51,,$A18),{index(ScoreMatrix!$B$2:$AA$51,,$A18);ScoreMatrix!I$2:I$51},false),RankScores!$A$1:$C$100,3,false)),),)} | ... AF18: {=if(and($G18<>AF$2,$G18<>"",AF$2<>""),sum(iferror(vlookup(rank(index(ScoreMatrix!$B$2:$AA$51,,$A18),{index(ScoreMatrix!$B$2:$AA$51,,$A18);ScoreMatrix!Y$2:Y$51},false),RankScores!$A$1:$C$100,3,false)),),)}
... A26: 24 | B26: =if(isblank(VirtualLeague!D26),,"`"&VirtualLeague!C26&rept(" ",20-len(VirtualLeague!C26))& rept(" ",6-len(VirtualLeague!D26))&VirtualLeague!D26&"`" ) | E26: {=if(G26="",,count(index(ScoreMatrix!$B$2:$AA$51,,$A26)))} | F26: {=if(G26="",,average(index(ScoreMatrix!$B$2:$AA$51,,$A26)))} | G26: =index($I$2:$AF$2,A26) | H26: =if(G26="",,sum(I26:AF26)) | I26: {=if(and($G26<>I$2,$G26<>"",I$2<>""),sum(iferror(vlookup(rank(index(ScoreMatrix!$B$2:$AA$51,,$A26),{index(ScoreMatrix!$B$2:$AA$51,,$A26);ScoreMatrix!B$2:B$51},false),RankScores!$A$1:$C$100,3,false)),),)} | J26: {=if(and($G26<>J$2,$G26<>"",J$2<>""),sum(iferror(vlookup(rank(index(ScoreMatrix!$B$2:$AA$51,,$A26),{index(ScoreMatrix!$B$2:$AA$51,,$A26);ScoreMatrix!C$2:C$51},false),RankScores!$A$1:$C$100,3,false)),),)} | K26: {=if(and($G26<>K$2,$G26<>"",K$2<>""),sum(iferror(vlookup(rank(index(ScoreMatrix!$B$2:$AA$51,,$A26),{index(ScoreMatrix!$B$2:$AA$51,,$A26);ScoreMatrix!D$2:D$51},false),RankScores!$A$1:$C$100,3,false)),),)} | L26: {=if(and($G26<>L$2,$G26<>"",L$2<>""),sum(iferror(vlookup(rank(index(ScoreMatrix!$B$2:$AA$51,,$A26),{index(ScoreMatrix!$B$2:$AA$51,,$A26);ScoreMatrix!E$2:E$51},false),RankScores!$A$1:$C$100,3,false)),),)} | M26: {=if(and($G26<>M$2,$G26<>"",M$2<>""),sum(iferror(vlookup(rank(index(ScoreMatrix!$B$2:$AA$51,,$A26),{index(ScoreMatrix!$B$2:$AA$51,,$A26);ScoreMatrix!F$2:F$51},false),RankScores!$A$1:$C$100,3,false)),),)} | N26: {=if(and($G26<>N$2,$G26<>"",N$2<>""),sum(iferror(vlookup(rank(index(ScoreMatrix!$B$2:$AA$51,,$A26),{index(ScoreMatrix!$B$2:$AA$51,,$A26);ScoreMatrix!G$2:G$51},false),RankScores!$A$1:$C$100,3,false)),),)} | O26: {=if(and($G26<>O$2,$G26<>"",O$2<>""),sum(iferror(vlookup(rank(index(ScoreMatrix!$B$2:$AA$51,,$A26),{index(ScoreMatrix!$B$2:$AA$51,,$A26);ScoreMatrix!H$2:H$51},false),RankScores!$A$1:$C$100,3,false)),),)} | P26: {=if(and($G26<>P$2,$G26<>"",P$2<>""),sum(iferror(vlookup(rank(index(ScoreMatrix!$B$2:$AA$51,,$A26),{index(ScoreMatrix!$B$2:$AA$51,,$A26);ScoreMatrix!I$2:I$51},false),RankScores!$A$1:$C$100,3,false)),),)} | ... AF26: {=if(and($G26<>AF$2,$G26<>"",AF$2<>""),sum(iferror(vlookup(rank(index(ScoreMatrix!$B$2:$AA$51,,$A26),{index(ScoreMatrix!$B$2:$AA$51,,$A26);ScoreMatrix!Y$2:Y$51},false),RankScores!$A$1:$C$100,3,false)),),)}

Sheet VirtualMatch
C1: =Match(C3,VirtualLeague!$G$3:$G$26,0) -> 2 | D1: =Match(D3,VirtualLeague!$G$3:$G$26,0) -> 1 | G1: Player Scores | I1: Ranks | K1: Team Score Contribution | M1: Combined | O1: Sorted
G2: Team 1 | H2: Team 2 | I2: Team 1 | J2: Team 2 | K2: Team 1 | L2: Team 2 | M2: Team | N2: Score | O2: Team | P2: Score
C3: NORTH | D3: Greddit2 | F3: 1 | G3: {=index(ScoreMatrix!$B$2:$AA$51,0,C$1)} -> 38399 | H3: {=index(ScoreMatrix!$B$2:$AA$51,0,D$1)} -> 37750 | I3: =rank(G3,$G$3:$H$52,false) -> 1 | J3: =rank(H3,$G$3:$H$52,false) -> 3 | K3: {=iferror(index(RankScores!$C$1:$C$100,I3),)} -> 300 | L3: {=iferror(index(RankScores!$C$1:$C$100,J3),)} -> 262 | M3: 1 | N3: =G3 -> 38399 | O3: {=sort(M3:N102, N3:N102,false)} -> 1 | P3: 38399
C4: =sum(K:K) -> 3364 | D4: =sum(L:L) -> 1158 | F4: =F3+1 -> 2 | G4: 38021 | H4: 36340 | I4: =rank(G4,$G$3:$H$52,false) -> 2 | J4: =rank(H4,$G$3:$H$52,false) -> 9 | K4: {=iferror(index(RankScores!$C$1:$C$100,I4),)} -> 280 | L4: {=iferror(index(RankScores!$C$1:$C$100,J4),)} -> 173 | M4: =M3 -> 1 | N4: =G4 -> 38021 | O4: 1 | P4: 38021
F5: =F4+1 -> 3 | G5: 37631 | H5: 36148 | I5: =rank(G5,$G$3:$H$52,false) -> 4 | J5: =rank(H5,$G$3:$H$52,false) -> 11 | K5: {=iferror(index(RankScores!$C$1:$C$100,I5),)} -> 244 | L5: {=iferror(index(RankScores!$C$1:$C$100,J5),)} -> 150 | M5: =M4 -> 1 | N5: =G5 -> 37631 | O5: 2 | P5: 37750
D6: ``` | F6: =F5+1 -> 4 | G6: 36965 | H6: 35606 | I6: =rank(G6,$G$3:$H$52,false) -> 5 | J6: =rank(H6,$G$3:$H$52,false) -> 14 | K6: {=iferror(index(RankScores!$C$1:$C$100,I6),)} -> 228 | L6: {=iferror(index(RankScores!$C$1:$C$100,J6),)} -> 122 | M6: =M5 -> 1 | N6: =G6 -> 36965 | O6: 1 | P6: 37631
B7: =15-len(C3) -> 10 | C7: ="`"&$C$3& rept(" ",B7)&rept(" ",6-len(C4))&C4&"`" -> `NORTH 3364` | D7: =mid(C8,2,len(C8)-2)&" " -> Greddit2 1158 | F7: =F6+1 -> 5 | G7: 36944 | H7: 34977 | I7: =rank(G7,$G$3:$H$52,false) -> 6 | J7: =rank(H7,$G$3:$H$52,false) -> 23 | K7: {=iferror(index(RankScores!$C$1:$C$100,I7),)} -> 213 | L7: {=iferror(index(RankScores!$C$1:$C$100,J7),)} -> 66 | M7: =M6 -> 1 | N7: =G7 -> 36944 | O7: 1 | P7: 36965
B8: =15-len(D3) -> 7 | C8: ="`"&$D$3& rept(" ",B8)&rept(" ",6-len(D4))&D4&"`" -> `Greddit2 1158` | D8: =mid(C7,2,len(C7)-2)&" " -> NORTH 3364 | F8: =F7+1 -> 6 | G8: 36620 | H8: 34868 | I8: =rank(G8,$G$3:$H$52,false) -> 7 | J8: =rank(H8,$G$3:$H$52,false) -> 24 | K8: {=iferror(index(RankScores!$C$1:$C$100,I8),)} -> 198 | L8: {=iferror(index(RankScores!$C$1:$C$100,J8),)} -> 61 | M8: =M7 -> 1 | N8: =G8 -> 36620 | O8: 1 | P8: 36944
F9: =F8+1 -> 7 | G9: 36554 | H9: 34771 | I9: =rank(G9,$G$3:$H$52,false) -> 8 | J9: =rank(H9,$G$3:$H$52,false) -> 26 | K9: {=iferror(index(RankScores!$C$1:$C$100,I9),)} -> 185 | L9: {=iferror(index(RankScores!$C$1:$C$100,J9),)} -> 54 | M9: =M8 -> 1 | N9: =G9 -> 36554 | O9: 1 | P9: 36620
C10: **LEADERBOARD** | D10: =C10&" " -> **LEADERBOARD** | F10: =F9+1 -> 8 | G10: 36175 | H10: 34706 | I10: =rank(G10,$G$3:$H$52,false) -> 10 | J10: =rank(H10,$G$3:$H$52,false) -> 27 | K10: {=iferror(index(RankScores!$C$1:$C$100,I10),)} -> 161 | L10: {=iferror(index(RankScores!$C$1:$C$100,J10),)} -> 50 | M10: =M9 -> 1 | N10: =G10 -> 36175 | O10: 1 | P10: 36554
C11: =if(isblank(P3),"-","`"&CHOOSE(O3,$C$3&rept(" ",$B$7),$D$3& rept(" ",$B$8))& rept(" ",6-len(P3))&P3&"`" ) -> `NORTH 38399` | D11: =iferror(mid(C11,2,len(C11)-2)&" ",) -> NORTH 38399 | F11: =F10+1 -> 9 | G11: 35857 | H11: 34326 | I11: =rank(G11,$G$3:$H$52,false) -> 12 | J11: =rank(H11,$G$3:$H$52,false) -> 31 | K11: {=iferror(index(RankScores!$C$1:$C$100,I11),)} -> 140 | L11: {=iferror(index(RankScores!$C$1:$C$100,J11),)} -> 38 | M11: =M10 -> 1 | N11: =G11 -> 35857 | O11: 2 | P11: 36340
C12: =if(isblank(P4),"-","`"&CHOOSE(O4,$C$3&rept(" ",$B$7),$D$3& rept(" ",$B$8))& rept(" ",6-len(P4))&P4&"`" ) -> `NORTH 38021` | D12: =iferror(mid(C12,2,len(C12)-2)&" ",) -> NORTH 38021 | F12: =F11+1 -> 10 | G12: 35783 | H12: 33276 | I12: =rank(G12,$G$3:$H$52,false) -> 13 | J12: =rank(H12,$G$3:$H$52,false) -> 38 | K12: {=iferror(index(RankScores!$C$1:$C$100,I12),)} -> 131 | L12: {=iferror(index(RankScores!$C$1:$C$100,J12),)} -> 24 | M12: =M11 -> 1 | N12: =G12 -> 35783 | O12: 1 | P12: 36175
C13: =if(isblank(P5),"-","`"&CHOOSE(O5,$C$3&rept(" ",$B$7),$D$3& rept(" ",$B$8))& rept(" ",6-len(P5))&P5&"`" ) -> `Greddit2 37750` | D13: =iferror(mid(C13,2,len(C13)-2)&" ",) -> Greddit2 37750 | F13: =F12+1 -> 11 | G13: 35463 | H13: 33091 | I13: =rank(G13,$G$3:$H$52,false) -> 15 | J13: =rank(H13,$G$3:$H$52,false) -> 42 | K13: {=iferror(index(RankScores!$C$1:$C$100,I13),)} -> 114 | L13: {=iferror(index(RankScores!$C$1:$C$100,J13),)} -> 18 | M13: =M12 -> 1 | N13: =G13 -> 35463 | O13: 2 | P13: 36148
C14: =if(isblank(P6),"-","`"&CHOOSE(O6,$C$3&rept(" ",$B$7),$D$3& rept(" ",$B$8))& rept(" ",6-len(P6))&P6&"`" ) -> `NORTH 37631` | D14: =iferror(mid(C14,2,len(C14)-2)&" ",) -> NORTH 37631 | F14: =F13+1 -> 12 | G14: 35391 | H14: 32689 | I14: =rank(G14,$G$3:$H$52,false) -> 16 | J14: =rank(H14,$G$3:$H$52,false) -> 45 | K14: {=iferror(index(RankScores!$C$1:$C$100,I14),)} -> 107 | L14: {=iferror(index(RankScores!$C$1:$C$100,J14),)} -> 15 | M14: =M13 -> 1 | N14: =G14 -> 35391 | O14: 1 | P14: 35857
C15: =if(isblank(P7),"-","`"&CHOOSE(O7,$C$3&rept(" ",$B$7),$D$3& rept(" ",$B$8))& rept(" ",6-len(P7))&P7&"`" ) -> `NORTH 36965` | D15: =iferror(mid(C15,2,len(C15)-2)&" ",) -> NORTH 36965 | F15: =F14+1 -> 13 | G15: 35365 | H15: 32649 | I15: =rank(G15,$G$3:$H$52,false) -> 17 | J15: =rank(H15,$G$3:$H$52,false) -> 46 | K15: {=iferror(index(RankScores!$C$1:$C$100,I15),)} -> 99 | L15: {=iferror(index(RankScores!$C$1:$C$100,J15),)} -> 14 | M15: =M14 -> 1 | N15: =G15 -> 35365 | O15: 1 | P15: 35783
C16: =if(isblank(P8),"-","`"&CHOOSE(O8,$C$3&rept(" ",$B$7),$D$3& rept(" ",$B$8))& rept(" ",6-len(P8))&P8&"`" ) -> `NORTH 36944` | D16: =iferror(mid(C16,2,len(C16)-2)&" ",) -> NORTH 36944 | F16: =F29+1 -> 15 | G16: 35287 | H16: 32339 | I16: =rank(G16,$G$3:$H$52,false) -> 18 | J16: =rank(H16,$G$3:$H$52,false) -> 49 | K16: {=iferror(index(RankScores!$C$1:$C$100,I16),)} -> 93 | L16: {=iferror(index(RankScores!$C$1:$C$100,J16),)} -> 11 | M16: =M29 -> 1 | N16: =G16 -> 35287 | O16: 2 | P16: 35606
C17: =if(isblank(P9),"-","`"&CHOOSE(O9,$C$3&rept(" ",$B$7),$D$3& rept(" ",$B$8))& rept(" ",6-len(P9))&P9&"`" ) -> `NORTH 36620` | D17: =iferror(mid(C17,2,len(C17)-2)&" ",) -> NORTH 36620 | F17: =F16+1 -> 16 | G17: 35245 | H17: 32251 | I17: =rank(G17,$G$3:$H$52,false) -> 19 | J17: =rank(H17,$G$3:$H$52,false) -> 51 | K17: {=iferror(index(RankScores!$C$1:$C$100,I17),)} -> 87 | L17: {=iferror(index(RankScores!$C$1:$C$100,J17),)} -> 10 | M17: =M16 -> 1 | N17: =G17 -> 35245 | O17: 1 | P17: 35463
C18: =if(isblank(P10),"-","`"&CHOOSE(O10,$C$3&rept(" ",$B$7),$D$3& rept(" ",$B$8))& rept(" ",6-len(P10))&P10&"`" ) -> `NORTH 36554` | D18: =iferror(mid(C18,2,len(C18)-2)&" ",) -> NORTH 36554 | F18: =F17+1 -> 17 | G18: 35061 | H18: 32135 | I18: =rank(G18,$G$3:$H$52,false) -> 20 | J18: =rank(H18,$G$3:$H$52,false) -> 53 | K18: {=iferror(index(RankScores!$C$1:$C$100,I18),)} -> 81 | L18: {=iferror(index(RankScores!$C$1:$C$100,J18),)} -> 9 | M18: =M17 -> 1 | N18: =G18 -> 35061 | O18: 1 | P18: 35391
C19: =if(isblank(P11),"-","`"&CHOOSE(O11,$C$3&rept(" ",$B$7),$D$3& rept(" ",$B$8))& rept(" ",6-len(P11))&P11&"`" ) -> `Greddit2 36340` | D19: =iferror(mid(C19,2,len(C19)-2)&" ",) -> Greddit2 36340 | F19: =F18+1 -> 18 | G19: 34992 | H19: 31931 | I19: =rank(G19,$G$3:$H$52,false) -> 21 | J19: =rank(H19,$G$3:$H$52,false) -> 55 | K19: {=iferror(index(RankScores!$C$1:$C$100,I19),)} -> 75 | L19: {=iferror(index(RankScores!$C$1:$C$100,J19),)} -> 8 | M19: =M18 -> 1 | N19: =G19 -> 34992 | O19: 1 | P19: 35365
C20: =if(isblank(P12),"-","`"&CHOOSE(O12,$C$3&rept(" ",$B$7),$D$3& rept(" ",$B$8))& rept(" ",6-len(P12))&P12&"`" ) -> `NORTH 36175` | D20: =iferror(mid(C20,2,len(C20)-2)&" ",) -> NORTH 36175 | F20: =F19+1 -> 19 | G20: 34978 | H20: 31865 | I20: =rank(G20,$G$3:$H$52,false) -> 22 | J20: =rank(H20,$G$3:$H$52,false) -> 56 | K20: {=iferror(index(RankScores!$C$1:$C$100,I20),)} -> 70 | L20: {=iferror(index(RankScores!$C$1:$C$100,J20),)} -> 7 | M20: =M19 -> 1 | N20: =G20 -> 34978 | O20: 1 | P20: 35287
C21: =if(isblank(P13),"-","`"&CHOOSE(O13,$C$3&rept(" ",$B$7),$D$3& rept(" ",$B$8))& rept(" ",6-len(P13))&P13&"`" ) -> `Greddit2 36148` | D21: =iferror(mid(C21,2,len(C21)-2)&" ",) -> Greddit2 36148 | F21: =F20+1 -> 20 | G21: 34802 | H21: 31836 | I21: =rank(G21,$G$3:$H$52,false) -> 25 | J21: =rank(H21,$G$3:$H$52,false) -> 57 | K21: {=iferror(index(RankScores!$C$1:$C$100,I21),)} -> 57 | L21: {=iferror(index(RankScores!$C$1:$C$100,J21),)} -> 7 | M21: =M20 -> 1 | N21: =G21 -> 34802 | O21: 1 | P21: 35245
C22: =if(isblank(P14),"-","`"&CHOOSE(O14,$C$3&rept(" ",$B$7),$D$3& rept(" ",$B$8))& rept(" ",6-len(P14))&P14&"`" ) -> `NORTH 35857` | D22: =iferror(mid(C22,2,len(C22)-2)&" ",) -> NORTH 35857 | F22: =F21+1 -> 21 | G22: 34578 | H22: 31777 | I22: =rank(G22,$G$3:$H$52,false) -> 28 | J22: =rank(H22,$G$3:$H$52,false) -> 58 | K22: {=iferror(index(RankScores!$C$1:$C$100,I22),)} -> 47 | L22: {=iferror(index(RankScores!$C$1:$C$100,J22),)} -> 6 | M22: =M21 -> 1 | N22: =G22 -> 34578 | O22: 1 | P22: 35061
C23: =if(isblank(P15),"-","`"&CHOOSE(O15,$C$3&rept(" ",$B$7),$D$3& rept(" ",$B$8))& rept(" ",6-len(P15))&P15&"`" ) -> `NORTH 35783` | D23: =iferror(mid(C23,2,len(C23)-2)&" ",) -> NORTH 35783 | F23: =F22+1 -> 22 | G23: 34575 | H23: 31572 | I23: =rank(G23,$G$3:$H$52,false) -> 29 | J23: =rank(H23,$G$3:$H$52,false) -> 61 | K23: {=iferror(index(RankScores!$C$1:$C$100,I23),)} -> 44 | L23: {=iferror(index(RankScores!$C$1:$C$100,J23),)} -> 5 | M23: =M22 -> 1 | N23: =G23 -> 34575 | O23: 1 | P23: 34992
C24: =if(isblank(P16),"-","`"&CHOOSE(O16,$C$3&rept(" ",$B$7),$D$3& rept(" ",$B$8))& rept(" ",6-len(P16))&P16&"`" ) -> `Greddit2 35606` | D24: =iferror(mid(C24,2,len(C24)-2)&" ",) -> Greddit2 35606 | F24: =F23+1 -> 23 | G24: 34453 | H24: 31508 | I24: =rank(G24,$G$3:$H$52,false) -> 30 | J24: =rank(H24,$G$3:$H$52,false) -> 63 | K24: {=iferror(index(RankScores!$C$1:$C$100,I24),)} -> 41 | L24: {=iferror(index(RankScores!$C$1:$C$100,J24),)} -> 5 | M24: =M23 -> 1 | N24: =G24 -> 34453 | O24: 1 | P24: 34978
C25: =if(isblank(P17),"-","`"&CHOOSE(O17,$C$3&rept(" ",$B$7),$D$3& rept(" ",$B$8))& rept(" ",6-len(P17))&P17&"`" ) -> `NORTH 35463` | D25: =iferror(mid(C25,2,len(C25)-2)&" ",) -> NORTH 35463 | F25: =F24+1 -> 24 | G25: 34312 | H25: 31410 | I25: =rank(G25,$G$3:$H$52,false) -> 32 | J25: =rank(H25,$G$3:$H$52,false) -> 66 | K25: {=iferror(index(RankScores!$C$1:$C$100,I25),)} -> 35 | L25: {=iferror(index(RankScores!$C$1:$C$100,J25),)} -> 4 | M25: =M24 -> 1 | N25: =G25 -> 34312 | O25: 2 | P25: 34977
C26: =if(isblank(P18),"-","`"&CHOOSE(O18,$C$3&rept(" ",$B$7),$D$3& rept(" ",$B$8))& rept(" ",6-len(P18))&P18&"`" ) -> `NORTH 35391` | D26: =iferror(mid(C26,2,len(C26)-2)&" ",) -> NORTH 35391 | F26: =F25+1 -> 25 | G26: 34154 | H26: 31190 | I26: =rank(G26,$G$3:$H$52,false) -> 33 | J26: =rank(H26,$G$3:$H$52,false) -> 68 | K26: {=iferror(index(RankScores!$C$1:$C$100,I26),)} -> 33 | L26: {=iferror(index(RankScores!$C$1:$C$100,J26),)} -> 3 | M26: =M25 -> 1 | N26: =G26 -> 34154 | O26: 2 | P26: 34868
C27: =if(isblank(P19),"-","`"&CHOOSE(O19,$C$3&rept(" ",$B$7),$D$3& rept(" ",$B$8))& rept(" ",6-len(P19))&P19&"`" ) -> `NORTH 35365` | D27: =iferror(mid(C27,2,len(C27)-2)&" ",) -> NORTH 35365 | F27: =F26+1 -> 26 | G27: 34050 | H27: 31107 | I27: =rank(G27,$G$3:$H$52,false) -> 34 | J27: =rank(H27,$G$3:$H$52,false) -> 70 | K27: {=iferror(index(RankScores!$C$1:$C$100,I27),)} -> 31 | L27: {=iferror(index(RankScores!$C$1:$C$100,J27),)} -> 3 | M27: =M26 -> 1 | N27: =G27 -> 34050 | O27: 1 | P27: 34802
C28: =if(isblank(P20),"-","`"&CHOOSE(O20,$C$3&rept(" ",$B$7),$D$3& rept(" ",$B$8))& rept(" ",6-len(P20))&P20&"`" ) -> `NORTH 35287` | D28: =iferror(mid(C28,2,len(C28)-2)&" ",) -> NORTH 35287 | F28: =F27+1 -> 27 | G28: 33741 | H28: 30982 | I28: =rank(G28,$G$3:$H$52,false) -> 35 | J28: =rank(H28,$G$3:$H$52,false) -> 71 | K28: {=iferror(index(RankScores!$C$1:$C$100,I28),)} -> 29 | L28: {=iferror(index(RankScores!$C$1:$C$100,J28),)} -> 3 | M28: =M27 -> 1 | N28: =G28 -> 33741 | O28: 2 | P28: 34771
C29: =if(isblank(P21),"-","`"&CHOOSE(O21,$C$3&rept(" ",$B$7),$D$3& rept(" ",$B$8))& rept(" ",6-len(P21))&P21&"`" ) -> `NORTH 35245` | D29: =iferror(mid(C29,2,len(C29)-2)&" ",) -> NORTH 35245 | F29: =F15+1 -> 14 | G29: 33568 | H29: 30980 | I29: =rank(G29,$G$3:$H$52,false) -> 36 | J29: =rank(H29,$G$3:$H$52,false) -> 72 | K29: {=iferror(index(RankScores!$C$1:$C$100,I29),)} -> 27 | L29: {=iferror(index(RankScores!$C$1:$C$100,J29),)} -> 3 | M29: =M15 -> 1 | N29: =G29 -> 33568 | O29: 2 | P29: 34706
C30: =if(isblank(P22),"-","`"&CHOOSE(O22,$C$3&rept(" ",$B$7),$D$3& rept(" ",$B$8))& rept(" ",6-len(P22))&P22&"`" ) -> `NORTH 35061` | D30: =iferror(mid(C30,2,len(C30)-2)&" ",) -> NORTH 35061 | F30: =F28+1 -> 28 | G30: 33353 | H30: 30663 | I30: =rank(G30,$G$3:$H$52,false) -> 37 | J30: =rank(H30,$G$3:$H$52,false) -> 73 | K30: {=iferror(index(RankScores!$C$1:$C$100,I30),)} -> 25 | L30: {=iferror(index(RankScores!$C$1:$C$100,J30),)} -> 3 | M30: =M28 -> 1 | N30: =G30 -> 33353 | O30: 1 | P30: 34578
C31: =if(isblank(P23),"-","`"&CHOOSE(O23,$C$3&rept(" ",$B$7),$D$3& rept(" ",$B$8))& rept(" ",6-len(P23))&P23&"`" ) -> `NORTH 34992` | D31: =iferror(mid(C31,2,len(C31)-2)&" ",) -> NORTH 34992 | F31: =F30+1 -> 29 | G31: 33174 | H31: 30571 | I31: =rank(G31,$G$3:$H$52,false) -> 39 | J31: =rank(H31,$G$3:$H$52,false) -> 75 | K31: {=iferror(index(RankScores!$C$1:$C$100,I31),)} -> 22 | L31: {=iferror(index(RankScores!$C$1:$C$100,J31),)} -> 2 | M31: =M30 -> 1 | N31: =G31 -> 33174 | O31: 1 | P31: 34575
C32: =if(isblank(P24),"-","`"&CHOOSE(O24,$C$3&rept(" ",$B$7),$D$3& rept(" ",$B$8))& rept(" ",6-len(P24))&P24&"`" ) -> `NORTH 34978` | D32: =iferror(mid(C32,2,len(C32)-2)&" ",) -> NORTH 34978 | F32: =F31+1 -> 30 | G32: 33111 | H32: 30569 | I32: =rank(G32,$G$3:$H$52,false) -> 40 | J32: =rank(H32,$G$3:$H$52,false) -> 76 | K32: {=iferror(index(RankScores!$C$1:$C$100,I32),)} -> 21 | L32: {=iferror(index(RankScores!$C$1:$C$100,J32),)} -> 2 | M32: =M31 -> 1 | N32: =G32 -> 33111 | O32: 1 | P32: 34453
C33: =if(isblank(P25),"-","`"&CHOOSE(O25,$C$3&rept(" ",$B$7),$D$3& rept(" ",$B$8))& rept(" ",6-len(P25))&P25&"`" ) -> `Greddit2 34977` | D33: =iferror(mid(C33,2,len(C33)-2)&" ",) -> Greddit2 34977 | F33: =F32+1 -> 31 | G33: 33104 | H33: 30495 | I33: =rank(G33,$G$3:$H$52,false) -> 41 | J33: =rank(H33,$G$3:$H$52,false) -> 78 | K33: {=iferror(index(RankScores!$C$1:$C$100,I33),)} -> 19 | L33: {=iferror(index(RankScores!$C$1:$C$100,J33),)} -> 2 | M33: =M32 -> 1 | N33: =G33 -> 33104 | O33: 2 | P33: 34326
C34: =if(isblank(P26),"-","`"&CHOOSE(O26,$C$3&rept(" ",$B$7),$D$3& rept(" ",$B$8))& rept(" ",6-len(P26))&P26&"`" ) -> `Greddit2 34868` | D34: =iferror(mid(C34,2,len(C34)-2)&" ",) -> Greddit2 34868 | F34: =F33+1 -> 32 | G34: 33032 | H34: 30043 | I34: =rank(G34,$G$3:$H$52,false) -> 43 | J34: =rank(H34,$G$3:$H$52,false) -> 79 | K34: {=iferror(index(RankScores!$C$1:$C$100,I34),)} -> 17 | L34: {=iferror(index(RankScores!$C$1:$C$100,J34),)} -> 2 | M34: =M33 -> 1 | N34: =G34 -> 33032 | O34: 1 | P34: 34312
C35: =if(isblank(P27),"-","`"&CHOOSE(O27,$C$3&rept(" ",$B$7),$D$3& rept(" ",$B$8))& rept(" ",6-len(P27))&P27&"`" ) -> `NORTH 34802` | D35: =iferror(mid(C35,2,len(C35)-2)&" ",) -> NORTH 34802 | F35: =F34+1 -> 33 | G35: 32816 | H35: 29764 | I35: =rank(G35,$G$3:$H$52,false) -> 44 | J35: =rank(H35,$G$3:$H$52,false) -> 82 | K35: {=iferror(index(RankScores!$C$1:$C$100,I35),)} -> 16 | L35: {=iferror(index(RankScores!$C$1:$C$100,J35),)} -> 2 | M35: =M34 -> 1 | N35: =G35 -> 32816 | O35: 1 | P35: 34154
C36: =if(isblank(P28),"-","`"&CHOOSE(O28,$C$3&rept(" ",$B$7),$D$3& rept(" ",$B$8))& rept(" ",6-len(P28))&P28&"`" ) -> `Greddit2 34771` | D36: =iferror(mid(C36,2,len(C36)-2)&" ",) -> Greddit2 34771 | F36: =F35+1 -> 34 | G36: 32649 | H36: 29227 | I36: =rank(G36,$G$3:$H$52,false) -> 46 | J36: =rank(H36,$G$3:$H$52,false) -> 83 | K36: {=iferror(index(RankScores!$C$1:$C$100,I36),)} -> 14 | L36: {=iferror(index(RankScores!$C$1:$C$100,J36),)} -> 2 | M36: =M35 -> 1 | N36: =G36 -> 32649 | O36: 1 | P36: 34050
C37: =if(isblank(P29),"-","`"&CHOOSE(O29,$C$3&rept(" ",$B$7),$D$3& rept(" ",$B$8))& rept(" ",6-len(P29))&P29&"`" ) -> `Greddit2 34706` | D37: =iferror(mid(C37,2,len(C37)-2)&" ",) -> Greddit2 34706 | F37: =F36+1 -> 35 | G37: 32595 | H37: 29157 | I37: =rank(G37,$G$3:$H$52,false) -> 48 | J37: =rank(H37,$G$3:$H$52,false) -> 84 | K37: {=iferror(index(RankScores!$C$1:$C$100,I37),)} -> 12 | L37: {=iferror(index(RankScores!$C$1:$C$100,J37),)} -> 1 | M37: =M36 -> 1 | N37: =G37 -> 32595 | O37: 1 | P37: 33741
C38: =if(isblank(P30),"-","`"&CHOOSE(O30,$C$3&rept(" ",$B$7),$D$3& rept(" ",$B$8))& rept(" ",6-len(P30))&P30&"`" ) -> `NORTH 34578` | D38: =iferror(mid(C38,2,len(C38)-2)&" ",) -> NORTH 34578 | F38: =F37+1 -> 36 | G38: 32292 | H38: 28798 | I38: =rank(G38,$G$3:$H$52,false) -> 50 | J38: =rank(H38,$G$3:$H$52,false) -> 85 | K38: {=iferror(index(RankScores!$C$1:$C$100,I38),)} -> 11 | L38: {=iferror(index(RankScores!$C$1:$C$100,J38),)} -> 1 | M38: =M37 -> 1 | N38: =G38 -> 32292 | O38: 1 | P38: 33568
C39: =if(isblank(P31),"-","`"&CHOOSE(O31,$C$3&rept(" ",$B$7),$D$3& rept(" ",$B$8))& rept(" ",6-len(P31))&P31&"`" ) -> `NORTH 34575` | D39: =iferror(mid(C39,2,len(C39)-2)&" ",) -> NORTH 34575 | F39: =F38+1 -> 37 | G39: 32216 | H39: 28796 | I39: =rank(G39,$G$3:$H$52,false) -> 52 | J39: =rank(H39,$G$3:$H$52,false) -> 86 | K39: {=iferror(index(RankScores!$C$1:$C$100,I39),)} -> 9 | L39: {=iferror(index(RankScores!$C$1:$C$100,J39),)} -> 1 | M39: =M38 -> 1 | N39: =G39 -> 32216 | O39: 1 | P39: 33353
C40: =if(isblank(P32),"-","`"&CHOOSE(O32,$C$3&rept(" ",$B$7),$D$3& rept(" ",$B$8))& rept(" ",6-len(P32))&P32&"`" ) -> `NORTH 34453` | D40: =iferror(mid(C40,2,len(C40)-2)&" ",) -> NORTH 34453 | F40: =F39+1 -> 38 | G40: 32041 | H40: 28733 | I40: =rank(G40,$G$3:$H$52,false) -> 54 | J40: =rank(H40,$G$3:$H$52,false) -> 87 | K40: {=iferror(index(RankScores!$C$1:$C$100,I40),)} -> 8 | L40: {=iferror(index(RankScores!$C$1:$C$100,J40),)} -> 1 | M40: =M39 -> 1 | N40: =G40 -> 32041 | O40: 2 | P40: 33276
C41: =if(isblank(P33),"-","`"&CHOOSE(O33,$C$3&rept(" ",$B$7),$D$3& rept(" ",$B$8))& rept(" ",6-len(P33))&P33&"`" ) -> `Greddit2 34326` | D41: =iferror(mid(C41,2,len(C41)-2)&" ",) -> Greddit2 34326 | F41: =F40+1 -> 39 | G41: 31701 | H41: 28663 | I41: =rank(G41,$G$3:$H$52,false) -> 59 | J41: =rank(H41,$G$3:$H$52,false) -> 88 | K41: {=iferror(index(RankScores!$C$1:$C$100,I41),)} -> 6 | L41: {=iferror(index(RankScores!$C$1:$C$100,J41),)} -> 1 | M41: =M40 -> 1 | N41: =G41 -> 31701 | O41: 1 | P41: 33174
C42: =if(isblank(P34),"-","`"&CHOOSE(O34,$C$3&rept(" ",$B$7),$D$3& rept(" ",$B$8))& rept(" ",6-len(P34))&P34&"`" ) -> `NORTH 34312` | D42: =iferror(mid(C42,2,len(C42)-2)&" ",) -> NORTH 34312 | F42: =F41+1 -> 40 | G42: 31632 | H42: 28580 | I42: =rank(G42,$G$3:$H$52,false) -> 60 | J42: =rank(H42,$G$3:$H$52,false) -> 89 | K42: {=iferror(index(RankScores!$C$1:$C$100,I42),)} -> 6 | L42: {=iferror(index(RankScores!$C$1:$C$100,J42),)} -> 1 | M42: =M41 -> 1 | N42: =G42 -> 31632 | O42: 1 | P42: 33111
... C48: =if(isblank(P40),"-","`"&CHOOSE(O40,$C$3&rept(" ",$B$7),$D$3& rept(" ",$B$8))& rept(" ",6-len(P40))&P40&"`" ) -> `Greddit2 33276` | D48: =iferror(mid(C48,2,len(C48)-2)&" ",) -> Greddit2 33276 | F48: =F47+1 -> 46 | G48: 30585 | H48: 25357 | I48: =rank(G48,$G$3:$H$52,false) -> 74 | J48: =rank(H48,$G$3:$H$52,false) -> 95 | K48: {=iferror(index(RankScores!$C$1:$C$100,I48),)} -> 2 | L48: {=iferror(index(RankScores!$C$1:$C$100,J48),)} -> 1 | M48: =M47 -> 1 | N48: =G48 -> 30585 | O48: 1 | P48: 32649
C49: =if(isblank(P41),"-","`"&CHOOSE(O41,$C$3&rept(" ",$B$7),$D$3& rept(" ",$B$8))& rept(" ",6-len(P41))&P41&"`" ) -> `NORTH 33174` | D49: =iferror(mid(C49,2,len(C49)-2)&" ",) -> NORTH 33174 | F49: =F48+1 -> 47 | G49: 30555 | I49: =rank(G49,$G$3:$H$52,false) -> 77 | J49: =rank(H49,$G$3:$H$52,false) -> #N/A | K49: {=iferror(index(RankScores!$C$1:$C$100,I49),)} -> 2 | L49: {=iferror(index(RankScores!$C$1:$C$100,J49),)} | M49: =M48 -> 1 | N49: =G49 -> 30555 | O49: 2 | P49: 32649
C50: =if(isblank(P42),"-","`"&CHOOSE(O42,$C$3&rept(" ",$B$7),$D$3& rept(" ",$B$8))& rept(" ",6-len(P42))&P42&"`" ) -> `NORTH 33111` | D50: =iferror(mid(C50,2,len(C50)-2)&" ",) -> NORTH 33111 | F50: =F49+1 -> 48 | G50: 29957 | I50: =rank(G50,$G$3:$H$52,false) -> 80 | J50: =rank(H50,$G$3:$H$52,false) -> #N/A | K50: {=iferror(index(RankScores!$C$1:$C$100,I50),)} -> 2 | L50: {=iferror(index(RankScores!$C$1:$C$100,J50),)} | M50: =M49 -> 1 | N50: =G50 -> 29957 | O50: 1 | P50: 32595
C51: =if(isblank(P43),"-","`"&CHOOSE(O43,$C$3&rept(" ",$B$7),$D$3& rept(" ",$B$8))& rept(" ",6-len(P43))&P43&"`" ) -> `NORTH 33104` | D51: =iferror(mid(C51,2,len(C51)-2)&" ",) -> NORTH 33104 | F51: =F50+1 -> 49 | G51: 29847 | I51: =rank(G51,$G$3:$H$52,false) -> 81 | J51: =rank(H51,$G$3:$H$52,false) -> #N/A | K51: {=iferror(index(RankScores!$C$1:$C$100,I51),)} -> 2 | L51: {=iferror(index(RankScores!$C$1:$C$100,J51),)} | M51: =M50 -> 1 | N51: =G51 -> 29847 | O51: 2 | P51: 32339
C52: =if(isblank(P44),"-","`"&CHOOSE(O44,$C$3&rept(" ",$B$7),$D$3& rept(" ",$B$8))& rept(" ",6-len(P44))&P44&"`" ) -> `Greddit2 33091` | D52: =iferror(mid(C52,2,len(C52)-2)&" ",) -> Greddit2 33091 | F52: =F51+1 -> 50 | I52: =rank(G52,$G$3:$H$52,false) -> #N/A | J52: =rank(H52,$G$3:$H$52,false) -> #N/A | K52: {=iferror(index(RankScores!$C$1:$C$100,I52),)} | L52: {=iferror(index(RankScores!$C$1:$C$100,J52),)} | M52: =M51 -> 1 | N52: =G52 | O52: 1 | P52: 32292
C53: =if(isblank(P45),"-","`"&CHOOSE(O45,$C$3&rept(" ",$B$7),$D$3& rept(" ",$B$8))& rept(" ",6-len(P45))&P45&"`" ) -> `NORTH 33032` | D53: =iferror(mid(C53,2,len(C53)-2)&" ",) -> NORTH 33032 | M53: 2 | N53: =H3 -> 37750 | O53: 2 | P53: 32251
C54: =if(isblank(P46),"-","`"&CHOOSE(O46,$C$3&rept(" ",$B$7),$D$3& rept(" ",$B$8))& rept(" ",6-len(P46))&P46&"`" ) -> `NORTH 32816` | D54: =iferror(mid(C54,2,len(C54)-2)&" ",) -> NORTH 32816 | M54: =M53 -> 2 | N54: =H4 -> 36340 | O54: 1 | P54: 32216
C55: =if(isblank(P47),"-","`"&CHOOSE(O47,$C$3&rept(" ",$B$7),$D$3& rept(" ",$B$8))& rept(" ",6-len(P47))&P47&"`" ) -> `Greddit2 32689` | D55: =iferror(mid(C55,2,len(C55)-2)&" ",) -> Greddit2 32689 | M55: =M54 -> 2 | N55: =H5 -> 36148 | O55: 2 | P55: 32135
C56: =if(isblank(P48),"-","`"&CHOOSE(O48,$C$3&rept(" ",$B$7),$D$3& rept(" ",$B$8))& rept(" ",6-len(P48))&P48&"`" ) -> `NORTH 32649` | D56: =iferror(mid(C56,2,len(C56)-2)&" ",) -> NORTH 32649 | M56: =M55 -> 2 | N56: =H6 -> 35606 | O56: 1 | P56: 32041
C57: =if(isblank(P49),"-","`"&CHOOSE(O49,$C$3&rept(" ",$B$7),$D$3& rept(" ",$B$8))& rept(" ",6-len(P49))&P49&"`" ) -> `Greddit2 32649` | D57: =iferror(mid(C57,2,len(C57)-2)&" ",) -> Greddit2 32649 | M57: =M56 -> 2 | N57: =H7 -> 34977 | O57: 2 | P57: 31931
C58: =if(isblank(P50),"-","`"&CHOOSE(O50,$C$3&rept(" ",$B$7),$D$3& rept(" ",$B$8))& rept(" ",6-len(P50))&P50&"`" ) -> `NORTH 32595` | D58: =iferror(mid(C58,2,len(C58)-2)&" ",) -> NORTH 32595 | M58: =M57 -> 2 | N58: =H8 -> 34868 | O58: 2 | P58: 31865
C59: =if(isblank(P51),"-","`"&CHOOSE(O51,$C$3&rept(" ",$B$7),$D$3& rept(" ",$B$8))& rept(" ",6-len(P51))&P51&"`" ) -> `Greddit2 32339` | D59: =iferror(mid(C59,2,len(C59)-2)&" ",) -> Greddit2 32339 | M59: =M58 -> 2 | N59: =H9 -> 34771 | O59: 2 | P59: 31836
C60: =if(isblank(P52),"-","`"&CHOOSE(O52,$C$3&rept(" ",$B$7),$D$3& rept(" ",$B$8))& rept(" ",6-len(P52))&P52&"`" ) -> `NORTH 32292` | D60: =iferror(mid(C60,2,len(C60)-2)&" ",) -> NORTH 32292 | M60: =M59 -> 2 | N60: =H10 -> 34706 | O60: 2 | P60: 31777
C61: =if(isblank(P53),"-","`"&CHOOSE(O53,$C$3&rept(" ",$B$7),$D$3& rept(" ",$B$8))& rept(" ",6-len(P53))&P53&"`" ) -> `Greddit2 32251` | D61: =iferror(mid(C61,2,len(C61)-2)&" ",) -> Greddit2 32251 | M61: =M60 -> 2 | N61: =H11 -> 34326 | O61: 1 | P61: 31701
C62: =if(isblank(P54),"-","`"&CHOOSE(O54,$C$3&rept(" ",$B$7),$D$3& rept(" ",$B$8))& rept(" ",6-len(P54))&P54&"`" ) -> `NORTH 32216` | D62: =iferror(mid(C62,2,len(C62)-2)&" ",) -> NORTH 32216 | M62: =M61 -> 2 | N62: =H12 -> 33276 | O62: 1 | P62: 31632
C63: =if(isblank(P55),"-","`"&CHOOSE(O55,$C$3&rept(" ",$B$7),$D$3& rept(" ",$B$8))& rept(" ",6-len(P55))&P55&"`" ) -> `Greddit2 32135` | D63: =iferror(mid(C63,2,len(C63)-2)&" ",) -> Greddit2 32135 | M63: =M62 -> 2 | N63: =H13 -> 33091 | O63: 2 | P63: 31572
C64: =if(isblank(P56),"-","`"&CHOOSE(O56,$C$3&rept(" ",$B$7),$D$3& rept(" ",$B$8))& rept(" ",6-len(P56))&P56&"`" ) -> `NORTH 32041` | D64: =iferror(mid(C64,2,len(C64)-2)&" ",) -> NORTH 32041 | M64: =M63 -> 2 | N64: =H14 -> 32689 | O64: 1 | P64: 31551
C65: =if(isblank(P57),"-","`"&CHOOSE(O57,$C$3&rept(" ",$B$7),$D$3& rept(" ",$B$8))& rept(" ",6-len(P57))&P57&"`" ) -> `Greddit2 31931` | D65: =iferror(mid(C65,2,len(C65)-2)&" ",) -> Greddit2 31931 | M65: =M64 -> 2 | N65: =H15 -> 32649 | O65: 2 | P65: 31508
C66: =if(isblank(P58),"-","`"&CHOOSE(O58,$C$3&rept(" ",$B$7),$D$3& rept(" ",$B$8))& rept(" ",6-len(P58))&P58&"`" ) -> `Greddit2 31865` | D66: =iferror(mid(C66,2,len(C66)-2)&" ",) -> Greddit2 31865 | M66: =M65 -> 2 | N66: =H29 -> 30980 | O66: 1 | P66: 31487
C67: =if(isblank(P59),"-","`"&CHOOSE(O59,$C$3&rept(" ",$B$7),$D$3& rept(" ",$B$8))& rept(" ",6-len(P59))&P59&"`" ) -> `Greddit2 31836` | D67: =iferror(mid(C67,2,len(C67)-2)&" ",) -> Greddit2 31836 | M67: =M66 -> 2 | N67: =H16 -> 32339 | O67: 1 | P67: 31428
C68: =if(isblank(P60),"-","`"&CHOOSE(O60,$C$3&rept(" ",$B$7),$D$3& rept(" ",$B$8))& rept(" ",6-len(P60))&P60&"`" ) -> `Greddit2 31777` | D68: =iferror(mid(C68,2,len(C68)-2)&" ",) -> Greddit2 31777 | M68: =M67 -> 2 | N68: =H17 -> 32251 | O68: 2 | P68: 31410
C69: =if(isblank(P61),"-","`"&CHOOSE(O61,$C$3&rept(" ",$B$7),$D$3& rept(" ",$B$8))& rept(" ",6-len(P61))&P61&"`" ) -> `NORTH 31701` | D69: =iferror(mid(C69,2,len(C69)-2)&" ",) -> NORTH 31701 | M69: =M68 -> 2 | N69: =H18 -> 32135 | O69: 1 | P69: 31278
C70: =if(isblank(P62),"-","`"&CHOOSE(O62,$C$3&rept(" ",$B$7),$D$3& rept(" ",$B$8))& rept(" ",6-len(P62))&P62&"`" ) -> `NORTH 31632` | D70: =iferror(mid(C70,2,len(C70)-2)&" ",) -> NORTH 31632 | M70: =M69 -> 2 | N70: =H19 -> 31931 | O70: 2 | P70: 31190
C71: =if(isblank(P63),"-","`"&CHOOSE(O63,$C$3&rept(" ",$B$7),$D$3& rept(" ",$B$8))& rept(" ",6-len(P63))&P63&"`" ) -> `Greddit2 31572` | D71: =iferror(mid(C71,2,len(C71)-2)&" ",) -> Greddit2 31572 | M71: =M70 -> 2 | N71: =H20 -> 31865 | O71: 1 | P71: 31135
C72: =if(isblank(P64),"-","`"&CHOOSE(O64,$C$3&rept(" ",$B$7),$D$3& rept(" ",$B$8))& rept(" ",6-len(P64))&P64&"`" ) -> `NORTH 31551` | D72: =iferror(mid(C72,2,len(C72)-2)&" ",) -> NORTH 31551 | M72: =M71 -> 2 | N72: =H21 -> 31836 | O72: 2 | P72: 31107
C73: =if(isblank(P65),"-","`"&CHOOSE(O65,$C$3&rept(" ",$B$7),$D$3& rept(" ",$B$8))& rept(" ",6-len(P65))&P65&"`" ) -> `Greddit2 31508` | D73: =iferror(mid(C73,2,len(C73)-2)&" ",) -> Greddit2 31508 | M73: =M72 -> 2 | N73: =H22 -> 31777 | O73: 2 | P73: 30982
C74: =if(isblank(P66),"-","`"&CHOOSE(O66,$C$3&rept(" ",$B$7),$D$3& rept(" ",$B$8))& rept(" ",6-len(P66))&P66&"`" ) -> `NORTH 31487` | D74: =iferror(mid(C74,2,len(C74)-2)&" ",) -> NORTH 31487 | M74: =M73 -> 2 | N74: =H23 -> 31572 | O74: 2 | P74: 30980
C75: =if(isblank(P67),"-","`"&CHOOSE(O67,$C$3&rept(" ",$B$7),$D$3& rept(" ",$B$8))& rept(" ",6-len(P67))&P67&"`" ) -> `NORTH 31428` | D75: =iferror(mid(C75,2,len(C75)-2)&" ",) -> NORTH 31428 | M75: =M74 -> 2 | N75: =H24 -> 31508 | O75: 2 | P75: 30663
C76: =if(isblank(P68),"-","`"&CHOOSE(O68,$C$3&rept(" ",$B$7),$D$3& rept(" ",$B$8))& rept(" ",6-len(P68))&P68&"`" ) -> `Greddit2 31410` | D76: =iferror(mid(C76,2,len(C76)-2)&" ",) -> Greddit2 31410 | M76: =M75 -> 2 | N76: =H25 -> 31410 | O76: 1 | P76: 30585
C77: =if(isblank(P69),"-","`"&CHOOSE(O69,$C$3&rept(" ",$B$7),$D$3& rept(" ",$B$8))& rept(" ",6-len(P69))&P69&"`" ) -> `NORTH 31278` | D77: =iferror(mid(C77,2,len(C77)-2)&" ",) -> NORTH 31278 | M77: =M76 -> 2 | N77: =H26 -> 31190 | O77: 2 | P77: 30571
C78: =if(isblank(P70),"-","`"&CHOOSE(O70,$C$3&rept(" ",$B$7),$D$3& rept(" ",$B$8))& rept(" ",6-len(P70))&P70&"`" ) -> `Greddit2 31190` | D78: =iferror(mid(C78,2,len(C78)-2)&" ",) -> Greddit2 31190 | M78: =M77 -> 2 | N78: =H27 -> 31107 | O78: 2 | P78: 30569
C79: =if(isblank(P71),"-","`"&CHOOSE(O71,$C$3&rept(" ",$B$7),$D$3& rept(" ",$B$8))& rept(" ",6-len(P71))&P71&"`" ) -> `NORTH 31135` | D79: =iferror(mid(C79,2,len(C79)-2)&" ",) -> NORTH 31135 | M79: =M78 -> 2 | N79: =H28 -> 30982 | O79: 1 | P79: 30555
C80: =if(isblank(P72),"-","`"&CHOOSE(O72,$C$3&rept(" ",$B$7),$D$3& rept(" ",$B$8))& rept(" ",6-len(P72))&P72&"`" ) -> `Greddit2 31107` | D80: =iferror(mid(C80,2,len(C80)-2)&" ",) -> Greddit2 31107 | M80: =M79 -> 2 | N80: =H30 -> 30663 | O80: 2 | P80: 30495
C81: =if(isblank(P73),"-","`"&CHOOSE(O73,$C$3&rept(" ",$B$7),$D$3& rept(" ",$B$8))& rept(" ",6-len(P73))&P73&"`" ) -> `Greddit2 30982` | D81: =iferror(mid(C81,2,len(C81)-2)&" ",) -> Greddit2 30982 | M81: =M80 -> 2 | N81: =H31 -> 30571 | O81: 2 | P81: 30043
C82: =if(isblank(P74),"-","`"&CHOOSE(O74,$C$3&rept(" ",$B$7),$D$3& rept(" ",$B$8))& rept(" ",6-len(P74))&P74&"`" ) -> `Greddit2 30980` | D82: =iferror(mid(C82,2,len(C82)-2)&" ",) -> Greddit2 30980 | M82: =M81 -> 2 | N82: =H32 -> 30569 | O82: 1 | P82: 29957
C83: =if(isblank(P75),"-","`"&CHOOSE(O75,$C$3&rept(" ",$B$7),$D$3& rept(" ",$B$8))& rept(" ",6-len(P75))&P75&"`" ) -> `Greddit2 30663` | D83: =iferror(mid(C83,2,len(C83)-2)&" ",) -> Greddit2 30663 | M83: =M82 -> 2 | N83: =H33 -> 30495 | O83: 1 | P83: 29847
C84: =if(isblank(P76),"-","`"&CHOOSE(O76,$C$3&rept(" ",$B$7),$D$3& rept(" ",$B$8))& rept(" ",6-len(P76))&P76&"`" ) -> `NORTH 30585` | D84: =iferror(mid(C84,2,len(C84)-2)&" ",) -> NORTH 30585 | M84: =M83 -> 2 | N84: =H34 -> 30043 | O84: 2 | P84: 29764
C85: =if(isblank(P77),"-","`"&CHOOSE(O77,$C$3&rept(" ",$B$7),$D$3& rept(" ",$B$8))& rept(" ",6-len(P77))&P77&"`" ) -> `Greddit2 30571` | D85: =iferror(mid(C85,2,len(C85)-2)&" ",) -> Greddit2 30571 | M85: =M84 -> 2 | N85: =H35 -> 29764 | O85: 2 | P85: 29227
C86: =if(isblank(P78),"-","`"&CHOOSE(O78,$C$3&rept(" ",$B$7),$D$3& rept(" ",$B$8))& rept(" ",6-len(P78))&P78&"`" ) -> `Greddit2 30569` | D86: =iferror(mid(C86,2,len(C86)-2)&" ",) -> Greddit2 30569 | M86: =M85 -> 2 | N86: =H36 -> 29227 | O86: 2 | P86: 29157
C87: =if(isblank(P79),"-","`"&CHOOSE(O79,$C$3&rept(" ",$B$7),$D$3& rept(" ",$B$8))& rept(" ",6-len(P79))&P79&"`" ) -> `NORTH 30555` | D87: =iferror(mid(C87,2,len(C87)-2)&" ",) -> NORTH 30555 | M87: =M86 -> 2 | N87: =H37 -> 29157 | O87: 2 | P87: 28798
C88: =if(isblank(P80),"-","`"&CHOOSE(O80,$C$3&rept(" ",$B$7),$D$3& rept(" ",$B$8))& rept(" ",6-len(P80))&P80&"`" ) -> `Greddit2 30495` | D88: =iferror(mid(C88,2,len(C88)-2)&" ",) -> Greddit2 30495 | M88: =M87 -> 2 | N88: =H38 -> 28798 | O88: 2 | P88: 28796
C89: =if(isblank(P81),"-","`"&CHOOSE(O81,$C$3&rept(" ",$B$7),$D$3& rept(" ",$B$8))& rept(" ",6-len(P81))&P81&"`" ) -> `Greddit2 30043` | D89: =iferror(mid(C89,2,len(C89)-2)&" ",) -> Greddit2 30043 | M89: =M88 -> 2 | N89: =H39 -> 28796 | O89: 2 | P89: 28733
C90: =if(isblank(P82),"-","`"&CHOOSE(O82,$C$3&rept(" ",$B$7),$D$3& rept(" ",$B$8))& rept(" ",6-len(P82))&P82&"`" ) -> `NORTH 29957` | D90: =iferror(mid(C90,2,len(C90)-2)&" ",) -> NORTH 29957 | M90: =M89 -> 2 | N90: =H40 -> 28733 | O90: 2 | P90: 28663
C91: =if(isblank(P83),"-","`"&CHOOSE(O83,$C$3&rept(" ",$B$7),$D$3& rept(" ",$B$8))& rept(" ",6-len(P83))&P83&"`" ) -> `NORTH 29847` | D91: =iferror(mid(C91,2,len(C91)-2)&" ",) -> NORTH 29847 | M91: =M90 -> 2 | N91: =H41 -> 28663 | O91: 2 | P91: 28580
... C97: =if(isblank(P89),"-","`"&CHOOSE(O89,$C$3&rept(" ",$B$7),$D$3& rept(" ",$B$8))& rept(" ",6-len(P89))&P89&"`" ) -> `Greddit2 28733` | D97: =iferror(mid(C97,2,len(C97)-2)&" ",) -> Greddit2 28733 | M97: =M96 -> 2 | N97: =H47 -> 27257 | O97: 2 | P97: 25357
C98: =if(isblank(P90),"-","`"&CHOOSE(O90,$C$3&rept(" ",$B$7),$D$3& rept(" ",$B$8))& rept(" ",6-len(P90))&P90&"`" ) -> `Greddit2 28663` | D98: =iferror(mid(C98,2,len(C98)-2)&" ",) -> Greddit2 28663 | M98: =M97 -> 2 | N98: =H48 -> 25357 | O98: 1
C99: =if(isblank(P91),"-","`"&CHOOSE(O91,$C$3&rept(" ",$B$7),$D$3& rept(" ",$B$8))& rept(" ",6-len(P91))&P91&"`" ) -> `Greddit2 28580` | D99: =iferror(mid(C99,2,len(C99)-2)&" ",) -> Greddit2 28580 | M99: =M98 -> 2 | N99: =H49 | O99: 2
C100: =if(isblank(P92),"-","`"&CHOOSE(O92,$C$3&rept(" ",$B$7),$D$3& rept(" ",$B$8))& rept(" ",6-len(P92))&P92&"`" ) -> `Greddit2 28556` | D100: =iferror(mid(C100,2,len(C100)-2)&" ",) -> Greddit2 28556 | M100: =M99 -> 2 | N100: =H50 | O100: 2
C101: =if(isblank(P93),"-","`"&CHOOSE(O93,$C$3&rept(" ",$B$7),$D$3& rept(" ",$B$8))& rept(" ",6-len(P93))&P93&"`" ) -> `Greddit2 28513` | D101: =iferror(mid(C101,2,len(C101)-2)&" ",) -> Greddit2 28513 | M101: =M100 -> 2 | N101: =H51 | O101: 2
C102: =if(isblank(P94),"-","`"&CHOOSE(O94,$C$3&rept(" ",$B$7),$D$3& rept(" ",$B$8))& rept(" ",6-len(P94))&P94&"`" ) -> `Greddit2 28259` | D102: =iferror(mid(C102,2,len(C102)-2)&" ",) -> Greddit2 28259 | M102: =M101 -> 2 | N102: =H52 | O102: 2
C103: =if(isblank(P95),"-","`"&CHOOSE(O95,$C$3&rept(" ",$B$7),$D$3& rept(" ",$B$8))& rept(" ",6-len(P95))&P95&"`" ) -> `Greddit2 27903` | D103: =iferror(mid(C103,2,len(C103)-2)&" ",) -> Greddit2 27903
C104: =if(isblank(P96),"-","`"&CHOOSE(O96,$C$3&rept(" ",$B$7),$D$3& rept(" ",$B$8))& rept(" ",6-len(P96))&P96&"`" ) -> `Greddit2 27257` | D104: =iferror(mid(C104,2,len(C104)-2)&" ",) -> Greddit2 27257
C105: =if(isblank(P97),"-","`"&CHOOSE(O97,$C$3&rept(" ",$B$7),$D$3& rept(" ",$B$8))& rept(" ",6-len(P97))&P97&"`" ) -> `Greddit2 25357` | D105: =iferror(mid(C105,2,len(C105)-2)&" ",) -> Greddit2 25357
C106: =if(isblank(P98),"-","`"&CHOOSE(O98,$C$3&rept(" ",$B$7),$D$3& rept(" ",$B$8))& rept(" ",6-len(P98))&P98&"`" ) -> - | D106: =iferror(mid(C106,2,len(C106)-2)&" ",)
C107: =if(isblank(P99),"-","`"&CHOOSE(O99,$C$3&rept(" ",$B$7),$D$3& rept(" ",$B$8))& rept(" ",6-len(P99))&P99&"`" ) -> - | D107: =iferror(mid(C107,2,len(C107)-2)&" ",)
C108: =if(isblank(P100),"-","`"&CHOOSE(O100,$C$3&rept(" ",$B$7),$D$3& rept(" ",$B$8))& rept(" ",6-len(P100))&P100&"`" ) -> - | D108: =iferror(mid(C108,2,len(C108)-2)&" ",)
C109: =if(isblank(P101),"-","`"&CHOOSE(O101,$C$3&rept(" ",$B$7),$D$3& rept(" ",$B$8))& rept(" ",6-len(P101))&P101&"`" ) -> - | D109: =iferror(mid(C109,2,len(C109)-2)&" ",)
C110: =if(isblank(P102),"-","`"&CHOOSE(O102,$C$3&rept(" ",$B$7),$D$3& rept(" ",$B$8))& rept(" ",6-len(P102))&P102&"`" ) -> - | D110: =iferror(mid(C110,2,len(C110)-2)&" ",)
...

Sheet SuperMatch
A1: =if(L1="","","`"&L1 &rept(" ",15-len(L1))&rept(" ",5-len(M1))&M1&"`") -> `pl 4307` | B1: =if(F1="",,"` "&rept(" ",3-len(H1))&H1 &" " &row()&"."&rept(" ",3-len(row()))&index(J:J,F1)& rept(" ",15-len(index(J:J,F1)))& rept(" ",6-len(G1))&G1 &" `") -> ` 300 1. pl 42626 ` | C1: 1 | D1: 1 | E1: {=if(index(VirtualLeague!$I$2:$AF$2,0,D1)="",,index(ScoreMatrix!$B$2:$AA$51,0,D1))} -> 37750 | F1: =IFERROR(__xludf.DUMMYFUNCTION("sort(filter(D:E,E:E>0),filter(E:E,E:E>0),false)"),3.0) -> 3 | G1: =IFERROR(__xludf.DUMMYFUNCTION("""COMPUTED_VALUE"""),42626.0) -> 42626 | H1: =if(G1>0,index(P:P,rank(G1, G:G,false)),) -> 300 | I1: 1 | J1: {=index(VirtualLeague!$I$2:$AF$2,0,I1)} -> Greddit2 | K1: =if(J1="",,sumproduct(F:F=I1,H:H)) -> 141 | L1: {=sort(J1:K20, K1:K20,false)} -> pl | M1: 4307 | N1: # Teams | O1: 300 | P1: =roundup(O1) -> 300
A2: =if(L2="","","`"&L2 &rept(" ",15-len(L2))&rept(" ",5-len(M2))&M2&"`") -> `sebg 4113` | B2: =if(F2="",,"` "&rept(" ",3-len(H2))&H2 &" " &row()&"."&rept(" ",3-len(row()))&index(J:J,F2)& rept(" ",15-len(index(J:J,F2)))& rept(" ",6-len(G2))&G2 &" `") -> ` 290 2. sebg 41338 ` | C2: =if(C1=50,1,C1+1) -> 2 | D2: =if(C1=50,D1+1, D1) -> 1 | E2: 36340 | F2: =IFERROR(__xludf.DUMMYFUNCTION("""COMPUTED_VALUE"""),4.0) -> 4 | G2: =IFERROR(__xludf.DUMMYFUNCTION("""COMPUTED_VALUE"""),41338.0) -> 41338 | H2: =if(G2>0,index(P:P,rank(G2, G:G,false)),) -> 290 | I2: =I1+1 -> 2 | J2: {=index(VirtualLeague!$I$2:$AF$2,0,I2)} -> NORTH | K2: =if(J2="",,sumproduct(F:F=I2,H:H)) -> 328 | L2: sebg | M2: 4113 | N2: =IFERROR(__xludf.DUMMYFUNCTION("countunique(J:J)"),4.0) -> 4 | O2: =O1*0.5^(0.1*2/$N$2) -> 289.7809 | P2: =roundup(O2) -> 290
A3: =if(L3="","","`"&L3 &rept(" ",15-len(L3))&rept(" ",5-len(M3))&M3&"`") -> `NORTH 328` | B3: =if(F3="",,"` "&rept(" ",3-len(H3))&H3 &" " &row()&"."&rept(" ",3-len(row()))&index(J:J,F3)& rept(" ",15-len(index(J:J,F3)))& rept(" ",6-len(G3))&G3 &" `") -> ` 280 3. sebg 41153 ` | C3: =if(C2=50,1,C2+1) -> 3 | D3: =if(C2=50,D2+1, D2) -> 1 | E3: 36148 | F3: =IFERROR(__xludf.DUMMYFUNCTION("""COMPUTED_VALUE"""),4.0) -> 4 | G3: =IFERROR(__xludf.DUMMYFUNCTION("""COMPUTED_VALUE"""),41153.0) -> 41153 | H3: =if(G3>0,index(P:P,rank(G3, G:G,false)),) -> 280 | I3: =I2+1 -> 3 | J3: {=index(VirtualLeague!$I$2:$AF$2,0,I3)} -> pl | K3: =if(J3="",,sumproduct(F:F=I3,H:H)) -> 4307 | L3: NORTH | M3: 328 | O3: =O2*0.5^(0.1*2/$N$2) -> 279.9099 | P3: =roundup(O3) -> 280
A4: =if(L4="","","`"&L4 &rept(" ",15-len(L4))&rept(" ",5-len(M4))&M4&"`") -> `Greddit2 141` | B4: =if(F4="",,"` "&rept(" ",3-len(H4))&H4 &" " &row()&"."&rept(" ",3-len(row()))&index(J:J,F4)& rept(" ",15-len(index(J:J,F4)))& rept(" ",6-len(G4))&G4 &" `") -> ` 271 4. pl 41118 ` | C4: =if(C3=50,1,C3+1) -> 4 | D4: =if(C3=50,D3+1, D3) -> 1 | E4: 35606 | F4: =IFERROR(__xludf.DUMMYFUNCTION("""COMPUTED_VALUE"""),3.0) -> 3 | G4: =IFERROR(__xludf.DUMMYFUNCTION("""COMPUTED_VALUE"""),41118.0) -> 41118 | H4: =if(G4>0,index(P:P,rank(G4, G:G,false)),) -> 271 | I4: =I3+1 -> 4 | J4: {=index(VirtualLeague!$I$2:$AF$2,0,I4)} -> sebg | K4: =if(J4="",,sumproduct(F:F=I4,H:H)) -> 4113 | L4: Greddit2 | M4: 141 | O4: =O3*0.5^(0.1*2/$N$2) -> 270.37514 | P4: =roundup(O4) -> 271
A5: =if(L5="","","`"&L5 &rept(" ",15-len(L5))&rept(" ",5-len(M5))&M5&"`") | B5: =if(F5="",,"` "&rept(" ",3-len(H5))&H5 &" " &row()&"."&rept(" ",3-len(row()))&index(J:J,F5)& rept(" ",15-len(index(J:J,F5)))& rept(" ",6-len(G5))&G5 &" `") -> ` 262 5. pl 41042 ` | C5: =if(C4=50,1,C4+1) -> 5 | D5: =if(C4=50,D4+1, D4) -> 1 | E5: 34977 | F5: =IFERROR(__xludf.DUMMYFUNCTION("""COMPUTED_VALUE"""),3.0) -> 3 | G5: =IFERROR(__xludf.DUMMYFUNCTION("""COMPUTED_VALUE"""),41042.0) -> 41042 | H5: =if(G5>0,index(P:P,rank(G5, G:G,false)),) -> 262 | I5: =I4+1 -> 5 | J5: {=index(VirtualLeague!$I$2:$AF$2,0,I5)} | K5: =if(J5="",,sumproduct(F:F=I5,H:H)) | O5: =O4*0.5^(0.1*2/$N$2) -> 261.16517 | P5: =roundup(O5) -> 262
A6: =if(L6="","","`"&L6 &rept(" ",15-len(L6))&rept(" ",5-len(M6))&M6&"`") | B6: =if(F6="",,"` "&rept(" ",3-len(H6))&H6 &" " &row()&"."&rept(" ",3-len(row()))&index(J:J,F6)& rept(" ",15-len(index(J:J,F6)))& rept(" ",6-len(G6))&G6 &" `") -> ` 253 6. sebg 40912 ` | C6: =if(C5=50,1,C5+1) -> 6 | D6: =if(C5=50,D5+1, D5) -> 1 | E6: 34868 | F6: =IFERROR(__xludf.DUMMYFUNCTION("""COMPUTED_VALUE"""),4.0) -> 4 | G6: =IFERROR(__xludf.DUMMYFUNCTION("""COMPUTED_VALUE"""),40912.0) -> 40912 | H6: =if(G6>0,index(P:P,rank(G6, G:G,false)),) -> 253 | I6: =I5+1 -> 6 | J6: {=index(VirtualLeague!$I$2:$AF$2,0,I6)} | K6: =if(J6="",,sumproduct(F:F=I6,H:H)) | O6: =O5*0.5^(0.1*2/$N$2) -> 252.26892 | P6: =roundup(O6) -> 253
A7: =if(L7="","","`"&L7 &rept(" ",15-len(L7))&rept(" ",5-len(M7))&M7&"`") | B7: =if(F7="",,"` "&rept(" ",3-len(H7))&H7 &" " &row()&"."&rept(" ",3-len(row()))&index(J:J,F7)& rept(" ",15-len(index(J:J,F7)))& rept(" ",6-len(G7))&G7 &" `") -> ` 244 7. pl 40807 ` | C7: =if(C6=50,1,C6+1) -> 7 | D7: =if(C6=50,D6+1, D6) -> 1 | E7: 34771 | F7: =IFERROR(__xludf.DUMMYFUNCTION("""COMPUTED_VALUE"""),3.0) -> 3 | G7: =IFERROR(__xludf.DUMMYFUNCTION("""COMPUTED_VALUE"""),40807.0) -> 40807 | H7: =if(G7>0,index(P:P,rank(G7, G:G,false)),) -> 244 | I7: =I6+1 -> 7 | J7: {=index(VirtualLeague!$I$2:$AF$2,0,I7)} | K7: =if(J7="",,sumproduct(F:F=I7,H:H)) | O7: =O6*0.5^(0.1*2/$N$2) -> 243.67572 | P7: =roundup(O7) -> 244
A8: =if(L8="","","`"&L8 &rept(" ",15-len(L8))&rept(" ",5-len(M8))&M8&"`") | B8: =if(F8="",,"` "&rept(" ",3-len(H8))&H8 &" " &row()&"."&rept(" ",3-len(row()))&index(J:J,F8)& rept(" ",15-len(index(J:J,F8)))& rept(" ",6-len(G8))&G8 &" `") -> ` 236 8. pl 40750 ` | C8: =if(C7=50,1,C7+1) -> 8 | D8: =if(C7=50,D7+1, D7) -> 1 | E8: 34706 | F8: =IFERROR(__xludf.DUMMYFUNCTION("""COMPUTED_VALUE"""),3.0) -> 3 | G8: =IFERROR(__xludf.DUMMYFUNCTION("""COMPUTED_VALUE"""),40750.0) -> 40750 | H8: =if(G8>0,index(P:P,rank(G8, G:G,false)),) -> 236 | I8: =I7+1 -> 8 | J8: {=index(VirtualLeague!$I$2:$AF$2,0,I8)} | K8: =if(J8="",,sumproduct(F:F=I8,H:H)) | O8: =O7*0.5^(0.1*2/$N$2) -> 235.37523 | P8: =roundup(O8) -> 236
A9: =if(L9="","","`"&L9 &rept(" ",15-len(L9))&rept(" ",5-len(M9))&M9&"`") | B9: =if(F9="",,"` "&rept(" ",3-len(H9))&H9 &" " &row()&"."&rept(" ",3-len(row()))&index(J:J,F9)& rept(" ",15-len(index(J:J,F9)))& rept(" ",6-len(G9))&G9 &" `") -> ` 228 9. sebg 40742 ` | C9: =if(C8=50,1,C8+1) -> 9 | D9: =if(C8=50,D8+1, D8) -> 1 | E9: 34326 | F9: =IFERROR(__xludf.DUMMYFUNCTION("""COMPUTED_VALUE"""),4.0) -> 4 | G9: =IFERROR(__xludf.DUMMYFUNCTION("""COMPUTED_VALUE"""),40742.0) -> 40742 | H9: =if(G9>0,index(P:P,rank(G9, G:G,false)),) -> 228 | I9: =I8+1 -> 9 | J9: {=index(VirtualLeague!$I$2:$AF$2,0,I9)} | K9: =if(J9="",,sumproduct(F:F=I9,H:H)) | O9: =O8*0.5^(0.1*2/$N$2) -> 227.35748 | P9: =roundup(O9) -> 228
A10: =if(L10="","","`"&L10 &rept(" ",15-len(L10))&rept(" ",5-len(M10))&M10&"`") | B10: =if(F10="",,"` "&rept(" ",3-len(H10))&H10 &" " &row()&"."&rept(" ",3-len(row()))&index(J:J,F10)& rept(" ",15-len(index(J:J,F10)))& rept(" ",6-len(G10))&G10 &" `") -> ` 220 10. pl 40655 ` | C10: =if(C9=50,1,C9+1) -> 10 | D10: =if(C9=50,D9+1, D9) -> 1 | E10: 33276 | F10: =IFERROR(__xludf.DUMMYFUNCTION("""COMPUTED_VALUE"""),3.0) -> 3 | G10: =IFERROR(__xludf.DUMMYFUNCTION("""COMPUTED_VALUE"""),40655.0) -> 40655 | H10: =if(G10>0,index(P:P,rank(G10, G:G,false)),) -> 220 | I10: =I9+1 -> 10 | J10: {=index(VirtualLeague!$I$2:$AF$2,0,I10)} | K10: =if(J10="",,sumproduct(F:F=I10,H:H)) | O10: =O9*0.5^(0.1*2/$N$2) -> 219.61285 | P10: =roundup(O10) -> 220
A11: =if(L11="","","`"&L11 &rept(" ",15-len(L11))&rept(" ",5-len(M11))&M11&"`") | B11: =if(F11="",,"` "&rept(" ",3-len(H11))&H11 &" " &row()&"."&rept(" ",3-len(row()))&index(J:J,F11)& rept(" ",15-len(index(J:J,F11)))& rept(" ",6-len(G11))&G11 &" `") -> ` 213 11. sebg 40581 ` | C11: =if(C10=50,1,C10+1) -> 11 | D11: =if(C10=50,D10+1, D10) -> 1 | E11: 33091 | F11: =IFERROR(__xludf.DUMMYFUNCTION("""COMPUTED_VALUE"""),4.0) -> 4 | G11: =IFERROR(__xludf.DUMMYFUNCTION("""COMPUTED_VALUE"""),40581.0) -> 40581 | H11: =if(G11>0,index(P:P,rank(G11, G:G,false)),) -> 213 | I11: =I10+1 -> 11 | J11: {=index(VirtualLeague!$I$2:$AF$2,0,I11)} | K11: =if(J11="",,sumproduct(F:F=I11,H:H)) | O11: =O10*0.5^(0.1*2/$N$2) -> 212.13203 | P11: =roundup(O11) -> 213
A12: =if(L12="","","`"&L12 &rept(" ",15-len(L12))&rept(" ",5-len(M12))&M12&"`") | B12: =if(F12="",,"` "&rept(" ",3-len(H12))&H12 &" " &row()&"."&rept(" ",3-len(row()))&index(J:J,F12)& rept(" ",15-len(index(J:J,F12)))& rept(" ",6-len(G12))&G12 &" `") -> ` 205 12. pl 40576 ` | C12: =if(C11=50,1,C11+1) -> 12 | D12: =if(C11=50,D11+1, D11) -> 1 | E12: 32689 | F12: =IFERROR(__xludf.DUMMYFUNCTION("""COMPUTED_VALUE"""),3.0) -> 3 | G12: =IFERROR(__xludf.DUMMYFUNCTION("""COMPUTED_VALUE"""),40576.0) -> 40576 | H12: =if(G12>0,index(P:P,rank(G12, G:G,false)),) -> 205 | I12: =I11+1 -> 12 | J12: {=index(VirtualLeague!$I$2:$AF$2,0,I12)} | K12: =if(J12="",,sumproduct(F:F=I12,H:H)) | O12: =O11*0.5^(0.1*2/$N$2) -> 204.90604 | P12: =roundup(O12) -> 205
A13: =if(L13="","","`"&L13 &rept(" ",15-len(L13))&rept(" ",5-len(M13))&M13&"`") | B13: =if(F13="",,"` "&rept(" ",3-len(H13))&H13 &" " &row()&"."&rept(" ",3-len(row()))&index(J:J,F13)& rept(" ",15-len(index(J:J,F13)))& rept(" ",6-len(G13))&G13 &" `") -> ` 198 13. sebg 40522 ` | C13: =if(C12=50,1,C12+1) -> 13 | D13: =if(C12=50,D12+1, D12) -> 1 | E13: 32649 | F13: =IFERROR(__xludf.DUMMYFUNCTION("""COMPUTED_VALUE"""),4.0) -> 4 | G13: =IFERROR(__xludf.DUMMYFUNCTION("""COMPUTED_VALUE"""),40522.0) -> 40522 | H13: =if(G13>0,index(P:P,rank(G13, G:G,false)),) -> 198 | I13: =I12+1 -> 13 | J13: {=index(VirtualLeague!$I$2:$AF$2,0,I13)} | K13: =if(J13="",,sumproduct(F:F=I13,H:H)) | O13: =O12*0.5^(0.1*2/$N$2) -> 197.92619 | P13: =roundup(O13) -> 198
A14: =if(L14="","","`"&L14 &rept(" ",15-len(L14))&rept(" ",5-len(M14))&M14&"`") | B14: =if(F14="",,"` "&rept(" ",3-len(H14))&H14 &" " &row()&"."&rept(" ",3-len(row()))&index(J:J,F14)& rept(" ",15-len(index(J:J,F14)))& rept(" ",6-len(G14))&G14 &" `") -> ` 192 14. sebg 40504 ` | C14: =if(C13=50,1,C13+1) -> 14 | D14: =if(C13=50,D13+1, D13) -> 1 | E14: 32339 | F14: =IFERROR(__xludf.DUMMYFUNCTION("""COMPUTED_VALUE"""),4.0) -> 4 | G14: =IFERROR(__xludf.DUMMYFUNCTION("""COMPUTED_VALUE"""),40504.0) -> 40504 | H14: =if(G14>0,index(P:P,rank(G14, G:G,false)),) -> 192 | I14: =I13+1 -> 14 | J14: {=index(VirtualLeague!$I$2:$AF$2,0,I14)} | K14: =if(J14="",,sumproduct(F:F=I14,H:H)) | O14: =O13*0.5^(0.1*2/$N$2) -> 191.18409 | P14: =roundup(O14) -> 192
A15: =if(L15="","","`"&L15 &rept(" ",15-len(L15))&rept(" ",5-len(M15))&M15&"`") | B15: =if(F15="",,"` "&rept(" ",3-len(H15))&H15 &" " &row()&"."&rept(" ",3-len(row()))&index(J:J,F15)& rept(" ",15-len(index(J:J,F15)))& rept(" ",6-len(G15))&G15 &" `") -> ` 185 15. sebg 40489 ` | C15: =if(C14=50,1,C14+1) -> 15 | D15: =if(C14=50,D14+1, D14) -> 1 | E15: 32251 | F15: =IFERROR(__xludf.DUMMYFUNCTION("""COMPUTED_VALUE"""),4.0) -> 4 | G15: =IFERROR(__xludf.DUMMYFUNCTION("""COMPUTED_VALUE"""),40489.0) -> 40489 | H15: =if(G15>0,index(P:P,rank(G15, G:G,false)),) -> 185 | I15: =I14+1 -> 15 | J15: {=index(VirtualLeague!$I$2:$AF$2,0,I15)} | K15: =if(J15="",,sumproduct(F:F=I15,H:H)) | O15: =O14*0.5^(0.1*2/$N$2) -> 184.67166 | P15: =roundup(O15) -> 185
A16: =if(L16="","","`"&L16 &rept(" ",15-len(L16))&rept(" ",5-len(M16))&M16&"`") | B16: =if(F16="",,"` "&rept(" ",3-len(H16))&H16 &" " &row()&"."&rept(" ",3-len(row()))&index(J:J,F16)& rept(" ",15-len(index(J:J,F16)))& rept(" ",6-len(G16))&G16 &" `") -> ` 179 16. sebg 40405 ` | C16: =if(C15=50,1,C15+1) -> 16 | D16: =if(C15=50,D15+1, D15) -> 1 | E16: 32135 | F16: =IFERROR(__xludf.DUMMYFUNCTION("""COMPUTED_VALUE"""),4.0) -> 4 | G16: =IFERROR(__xludf.DUMMYFUNCTION("""COMPUTED_VALUE"""),40405.0) -> 40405 | H16: =if(G16>0,index(P:P,rank(G16, G:G,false)),) -> 179 | I16: =I15+1 -> 16 | J16: {=index(VirtualLeague!$I$2:$AF$2,0,I16)} | K16: =if(J16="",,sumproduct(F:F=I16,H:H)) | O16: =O15*0.5^(0.1*2/$N$2) -> 178.38107 | P16: =roundup(O16) -> 179
A17: =if(L17="","","`"&L17 &rept(" ",15-len(L17))&rept(" ",5-len(M17))&M17&"`") | B17: =if(F17="",,"` "&rept(" ",3-len(H17))&H17 &" " &row()&"."&rept(" ",3-len(row()))&index(J:J,F17)& rept(" ",15-len(index(J:J,F17)))& rept(" ",6-len(G17))&G17 &" `") -> ` 173 17. pl 40392 ` | C17: =if(C16=50,1,C16+1) -> 17 | D17: =if(C16=50,D16+1, D16) -> 1 | E17: 31931 | F17: =IFERROR(__xludf.DUMMYFUNCTION("""COMPUTED_VALUE"""),3.0) -> 3 | G17: =IFERROR(__xludf.DUMMYFUNCTION("""COMPUTED_VALUE"""),40392.0) -> 40392 | H17: =if(G17>0,index(P:P,rank(G17, G:G,false)),) -> 173 | I17: =I16+1 -> 17 | J17: {=index(VirtualLeague!$I$2:$AF$2,0,I17)} | K17: =if(J17="",,sumproduct(F:F=I17,H:H)) | O17: =O16*0.5^(0.1*2/$N$2) -> 172.30475 | P17: =roundup(O17) -> 173
A18: =if(L18="","","`"&L18 &rept(" ",15-len(L18))&rept(" ",5-len(M18))&M18&"`") | B18: =if(F18="",,"` "&rept(" ",3-len(H18))&H18 &" " &row()&"."&rept(" ",3-len(row()))&index(J:J,F18)& rept(" ",15-len(index(J:J,F18)))& rept(" ",6-len(G18))&G18 &" `") -> ` 167 18. pl 40209 ` | C18: =if(C17=50,1,C17+1) -> 18 | D18: =if(C17=50,D17+1, D17) -> 1 | E18: 31865 | F18: =IFERROR(__xludf.DUMMYFUNCTION("""COMPUTED_VALUE"""),3.0) -> 3 | G18: =IFERROR(__xludf.DUMMYFUNCTION("""COMPUTED_VALUE"""),40209.0) -> 40209 | H18: =if(G18>0,index(P:P,rank(G18, G:G,false)),) -> 167 | I18: =I17+1 -> 18 | J18: {=index(VirtualLeague!$I$2:$AF$2,0,I18)} | K18: =if(J18="",,sumproduct(F:F=I18,H:H)) | O18: =O17*0.5^(0.1*2/$N$2) -> 166.43542 | P18: =roundup(O18) -> 167
A19: =if(L19="","","`"&L19 &rept(" ",15-len(L19))&rept(" ",5-len(M19))&M19&"`") | B19: =if(F19="",,"` "&rept(" ",3-len(H19))&H19 &" " &row()&"."&rept(" ",3-len(row()))&index(J:J,F19)& rept(" ",15-len(index(J:J,F19)))& rept(" ",6-len(G19))&G19 &" `") -> ` 161 19. pl 40078 ` | C19: =if(C18=50,1,C18+1) -> 19 | D19: =if(C18=50,D18+1, D18) -> 1 | E19: 31836 | F19: =IFERROR(__xludf.DUMMYFUNCTION("""COMPUTED_VALUE"""),3.0) -> 3 | G19: =IFERROR(__xludf.DUMMYFUNCTION("""COMPUTED_VALUE"""),40078.0) -> 40078 | H19: =if(G19>0,index(P:P,rank(G19, G:G,false)),) -> 161 | I19: =I18+1 -> 19 | J19: {=index(VirtualLeague!$I$2:$AF$2,0,I19)} | K19: =if(J19="",,sumproduct(F:F=I19,H:H)) | O19: =O18*0.5^(0.1*2/$N$2) -> 160.76602 | P19: =roundup(O19) -> 161
A20: =if(L20="","","`"&L20 &rept(" ",15-len(L20))&rept(" ",5-len(M20))&M20&"`") | B20: =if(F20="",,"` "&rept(" ",3-len(H20))&H20 &" " &row()&"."&rept(" ",3-len(row()))&index(J:J,F20)& rept(" ",15-len(index(J:J,F20)))& rept(" ",6-len(G20))&G20 &" `") -> ` 156 20. pl 40059 ` | C20: =if(C19=50,1,C19+1) -> 20 | D20: =if(C19=50,D19+1, D19) -> 1 | E20: 31777 | F20: =IFERROR(__xludf.DUMMYFUNCTION("""COMPUTED_VALUE"""),3.0) -> 3 | G20: =IFERROR(__xludf.DUMMYFUNCTION("""COMPUTED_VALUE"""),40059.0) -> 40059 | H20: =if(G20>0,index(P:P,rank(G20, G:G,false)),) -> 156 | I20: =I19+1 -> 20 | J20: {=index(VirtualLeague!$I$2:$AF$2,0,I20)} | K20: =if(J20="",,sumproduct(F:F=I20,H:H)) | O20: =O19*0.5^(0.1*2/$N$2) -> 155.28974 | P20: =roundup(O20) -> 156
A21: =if(L21="","","`"&L21 &rept(" ",15-len(L21))&rept(" ",5-len(M21))&M21&"`") | B21: =if(F21="",,"` "&rept(" ",3-len(H21))&H21 &" " &row()&"."&rept(" ",3-len(row()))&index(J:J,F21)& rept(" ",15-len(index(J:J,F21)))& rept(" ",6-len(G21))&G21 &" `") -> ` 150 21. pl 40038 ` | C21: =if(C20=50,1,C20+1) -> 21 | D21: =if(C20=50,D20+1, D20) -> 1 | E21: 31572 | F21: =IFERROR(__xludf.DUMMYFUNCTION("""COMPUTED_VALUE"""),3.0) -> 3 | G21: =IFERROR(__xludf.DUMMYFUNCTION("""COMPUTED_VALUE"""),40038.0) -> 40038 | H21: =if(G21>0,index(P:P,rank(G21, G:G,false)),) -> 150 | O21: =O20*0.5^(0.1*2/$N$2) -> 150 | P21: =roundup(O21) -> 150
A22: =if(L22="","","`"&L22 &rept(" ",15-len(L22))&rept(" ",5-len(M22))&M22&"`") | B22: =if(F22="",,"` "&rept(" ",3-len(H22))&H22 &" " &row()&"."&rept(" ",3-len(row()))&index(J:J,F22)& rept(" ",15-len(index(J:J,F22)))& rept(" ",6-len(G22))&G22 &" `") -> ` 145 22. pl 39942 ` | C22: =if(C21=50,1,C21+1) -> 22 | D22: =if(C21=50,D21+1, D21) -> 1 | E22: 31508 | F22: =IFERROR(__xludf.DUMMYFUNCTION("""COMPUTED_VALUE"""),3.0) -> 3 | G22: =IFERROR(__xludf.DUMMYFUNCTION("""COMPUTED_VALUE"""),39942.0) -> 39942 | H22: =if(G22>0,index(P:P,rank(G22, G:G,false)),) -> 145 | O22: =O21*0.5^(0.1*2/$N$2) -> 144.89045 | P22: =roundup(O22) -> 145
A23: =if(L23="","","`"&L23 &rept(" ",15-len(L23))&rept(" ",5-len(M23))&M23&"`") | B23: =if(F23="",,"` "&rept(" ",3-len(H23))&H23 &" " &row()&"."&rept(" ",3-len(row()))&index(J:J,F23)& rept(" ",15-len(index(J:J,F23)))& rept(" ",6-len(G23))&G23 &" `") -> ` 140 23. sebg 39935 ` | C23: =if(C22=50,1,C22+1) -> 23 | D23: =if(C22=50,D22+1, D22) -> 1 | E23: 31410 | F23: =IFERROR(__xludf.DUMMYFUNCTION("""COMPUTED_VALUE"""),4.0) -> 4 | G23: =IFERROR(__xludf.DUMMYFUNCTION("""COMPUTED_VALUE"""),39935.0) -> 39935 | H23: =if(G23>0,index(P:P,rank(G23, G:G,false)),) -> 140 | O23: =O22*0.5^(0.1*2/$N$2) -> 139.95495 | P23: =roundup(O23) -> 140
A24: =if(L24="","","`"&L24 &rept(" ",15-len(L24))&rept(" ",5-len(M24))&M24&"`") | B24: =if(F24="",,"` "&rept(" ",3-len(H24))&H24 &" " &row()&"."&rept(" ",3-len(row()))&index(J:J,F24)& rept(" ",15-len(index(J:J,F24)))& rept(" ",6-len(G24))&G24 &" `") -> ` 136 24. pl 39931 ` | C24: =if(C23=50,1,C23+1) -> 24 | D24: =if(C23=50,D23+1, D23) -> 1 | E24: 31190 | F24: =IFERROR(__xludf.DUMMYFUNCTION("""COMPUTED_VALUE"""),3.0) -> 3 | G24: =IFERROR(__xludf.DUMMYFUNCTION("""COMPUTED_VALUE"""),39931.0) -> 39931 | H24: =if(G24>0,index(P:P,rank(G24, G:G,false)),) -> 136 | O24: =O23*0.5^(0.1*2/$N$2) -> 135.18757 | P24: =roundup(O24) -> 136
A25: =if(L25="","","`"&L25 &rept(" ",15-len(L25))&rept(" ",5-len(M25))&M25&"`") | B25: =if(F25="",,"` "&rept(" ",3-len(H25))&H25 &" " &row()&"."&rept(" ",3-len(row()))&index(J:J,F25)& rept(" ",15-len(index(J:J,F25)))& rept(" ",6-len(G25))&G25 &" `") -> ` 131 25. sebg 39896 ` | C25: =if(C24=50,1,C24+1) -> 25 | D25: =if(C24=50,D24+1, D24) -> 1 | E25: 31107 | F25: =IFERROR(__xludf.DUMMYFUNCTION("""COMPUTED_VALUE"""),4.0) -> 4 | G25: =IFERROR(__xludf.DUMMYFUNCTION("""COMPUTED_VALUE"""),39896.0) -> 39896 | H25: =if(G25>0,index(P:P,rank(G25, G:G,false)),) -> 131 | O25: =O24*0.5^(0.1*2/$N$2) -> 130.58258 | P25: =roundup(O25) -> 131
A26: =if(L26="","","`"&L26 &rept(" ",15-len(L26))&rept(" ",5-len(M26))&M26&"`") | B26: =if(F26="",,"` "&rept(" ",3-len(H26))&H26 &" " &row()&"."&rept(" ",3-len(row()))&index(J:J,F26)& rept(" ",15-len(index(J:J,F26)))& rept(" ",6-len(G26))&G26 &" `") -> ` 127 26. sebg 39882 ` | C26: =if(C25=50,1,C25+1) -> 26 | D26: =if(C25=50,D25+1, D25) -> 1 | E26: 30982 | F26: =IFERROR(__xludf.DUMMYFUNCTION("""COMPUTED_VALUE"""),4.0) -> 4 | G26: =IFERROR(__xludf.DUMMYFUNCTION("""COMPUTED_VALUE"""),39882.0) -> 39882 | H26: =if(G26>0,index(P:P,rank(G26, G:G,false)),) -> 127 | O26: =O25*0.5^(0.1*2/$N$2) -> 126.13446 | P26: =roundup(O26) -> 127
A27: =if(L27="","","`"&L27 &rept(" ",15-len(L27))&rept(" ",5-len(M27))&M27&"`") | B27: =if(F27="",,"` "&rept(" ",3-len(H27))&H27 &" " &row()&"."&rept(" ",3-len(row()))&index(J:J,F27)& rept(" ",15-len(index(J:J,F27)))& rept(" ",6-len(G27))&G27 &" `") -> ` 122 27. sebg 39845 ` | C27: =if(C26=50,1,C26+1) -> 27 | D27: =if(C26=50,D26+1, D26) -> 1 | E27: 30980 | F27: =IFERROR(__xludf.DUMMYFUNCTION("""COMPUTED_VALUE"""),4.0) -> 4 | G27: =IFERROR(__xludf.DUMMYFUNCTION("""COMPUTED_VALUE"""),39845.0) -> 39845 | H27: =if(G27>0,index(P:P,rank(G27, G:G,false)),) -> 122 | O27: =O26*0.5^(0.1*2/$N$2) -> 121.83786 | P27: =roundup(O27) -> 122
A28: =if(L28="","","`"&L28 &rept(" ",15-len(L28))&rept(" ",5-len(M28))&M28&"`") | B28: =if(F28="",,"` "&rept(" ",3-len(H28))&H28 &" " &row()&"."&rept(" ",3-len(row()))&index(J:J,F28)& rept(" ",15-len(index(J:J,F28)))& rept(" ",6-len(G28))&G28 &" `") -> ` 118 28. pl 39843 ` | C28: =if(C27=50,1,C27+1) -> 28 | D28: =if(C27=50,D27+1, D27) -> 1 | E28: 30663 | F28: =IFERROR(__xludf.DUMMYFUNCTION("""COMPUTED_VALUE"""),3.0) -> 3 | G28: =IFERROR(__xludf.DUMMYFUNCTION("""COMPUTED_VALUE"""),39843.0) -> 39843 | H28: =if(G28>0,index(P:P,rank(G28, G:G,false)),) -> 118 | O28: =O27*0.5^(0.1*2/$N$2) -> 117.68761 | P28: =roundup(O28) -> 118
A29: =if(L29="","","`"&L29 &rept(" ",15-len(L29))&rept(" ",5-len(M29))&M29&"`") | B29: =if(F29="",,"` "&rept(" ",3-len(H29))&H29 &" " &row()&"."&rept(" ",3-len(row()))&index(J:J,F29)& rept(" ",15-len(index(J:J,F29)))& rept(" ",6-len(G29))&G29 &" `") -> ` 114 29. sebg 39809 ` | C29: =if(C28=50,1,C28+1) -> 29 | D29: =if(C28=50,D28+1, D28) -> 1 | E29: 30571 | F29: =IFERROR(__xludf.DUMMYFUNCTION("""COMPUTED_VALUE"""),4.0) -> 4 | G29: =IFERROR(__xludf.DUMMYFUNCTION("""COMPUTED_VALUE"""),39809.0) -> 39809 | H29: =if(G29>0,index(P:P,rank(G29, G:G,false)),) -> 114 | O29: =O28*0.5^(0.1*2/$N$2) -> 113.67874 | P29: =roundup(O29) -> 114
A30: =if(L30="","","`"&L30 &rept(" ",15-len(L30))&rept(" ",5-len(M30))&M30&"`") | B30: =if(F30="",,"` "&rept(" ",3-len(H30))&H30 &" " &row()&"."&rept(" ",3-len(row()))&index(J:J,F30)& rept(" ",15-len(index(J:J,F30)))& rept(" ",6-len(G30))&G30 &" `") -> ` 110 30. pl 39705 ` | C30: =if(C29=50,1,C29+1) -> 30 | D30: =if(C29=50,D29+1, D29) -> 1 | E30: 30569 | F30: =IFERROR(__xludf.DUMMYFUNCTION("""COMPUTED_VALUE"""),3.0) -> 3 | G30: =IFERROR(__xludf.DUMMYFUNCTION("""COMPUTED_VALUE"""),39705.0) -> 39705 | H30: =if(G30>0,index(P:P,rank(G30, G:G,false)),) -> 110 | O30: =O29*0.5^(0.1*2/$N$2) -> 109.80643 | P30: =roundup(O30) -> 110
A31: =if(L31="","","`"&L31 &rept(" ",15-len(L31))&rept(" ",5-len(M31))&M31&"`") | B31: =if(F31="",,"` "&rept(" ",3-len(H31))&H31 &" " &row()&"."&rept(" ",3-len(row()))&index(J:J,F31)& rept(" ",15-len(index(J:J,F31)))& rept(" ",6-len(G31))&G31 &" `") -> ` 107 31. pl 39669 ` | C31: =if(C30=50,1,C30+1) -> 31 | D31: =if(C30=50,D30+1, D30) -> 1 | E31: 30495 | F31: =IFERROR(__xludf.DUMMYFUNCTION("""COMPUTED_VALUE"""),3.0) -> 3 | G31: =IFERROR(__xludf.DUMMYFUNCTION("""COMPUTED_VALUE"""),39669.0) -> 39669 | H31: =if(G31>0,index(P:P,rank(G31, G:G,false)),) -> 107 | O31: =O30*0.5^(0.1*2/$N$2) -> 106.06602 | P31: =roundup(O31) -> 107
A32: =if(L32="","","`"&L32 &rept(" ",15-len(L32))&rept(" ",5-len(M32))&M32&"`") | B32: =if(F32="",,"` "&rept(" ",3-len(H32))&H32 &" " &row()&"."&rept(" ",3-len(row()))&index(J:J,F32)& rept(" ",15-len(index(J:J,F32)))& rept(" ",6-len(G32))&G32 &" `") -> ` 103 32. sebg 39611 ` | C32: =if(C31=50,1,C31+1) -> 32 | D32: =if(C31=50,D31+1, D31) -> 1 | E32: 30043 | F32: =IFERROR(__xludf.DUMMYFUNCTION("""COMPUTED_VALUE"""),4.0) -> 4 | G32: =IFERROR(__xludf.DUMMYFUNCTION("""COMPUTED_VALUE"""),39611.0) -> 39611 | H32: =if(G32>0,index(P:P,rank(G32, G:G,false)),) -> 103 | O32: =O31*0.5^(0.1*2/$N$2) -> 102.45302 | P32: =roundup(O32) -> 103
A33: =if(L33="","","`"&L33 &rept(" ",15-len(L33))&rept(" ",5-len(M33))&M33&"`") | B33: =if(F33="",,"` "&rept(" ",3-len(H33))&H33 &" " &row()&"."&rept(" ",3-len(row()))&index(J:J,F33)& rept(" ",15-len(index(J:J,F33)))& rept(" ",6-len(G33))&G33 &" `") -> ` 99 33. sebg 39589 ` | C33: =if(C32=50,1,C32+1) -> 33 | D33: =if(C32=50,D32+1, D32) -> 1 | E33: 29764 | F33: =IFERROR(__xludf.DUMMYFUNCTION("""COMPUTED_VALUE"""),4.0) -> 4 | G33: =IFERROR(__xludf.DUMMYFUNCTION("""COMPUTED_VALUE"""),39589.0) -> 39589 | H33: =if(G33>0,index(P:P,rank(G33, G:G,false)),) -> 99 | O33: =O32*0.5^(0.1*2/$N$2) -> 98.963093 | P33: =roundup(O33) -> 99
A34: =if(L34="","","`"&L34 &rept(" ",15-len(L34))&rept(" ",5-len(M34))&M34&"`") | B34: =if(F34="",,"` "&rept(" ",3-len(H34))&H34 &" " &row()&"."&rept(" ",3-len(row()))&index(J:J,F34)& rept(" ",15-len(index(J:J,F34)))& rept(" ",6-len(G34))&G34 &" `") -> ` 96 34. sebg 39588 ` | C34: =if(C33=50,1,C33+1) -> 34 | D34: =if(C33=50,D33+1, D33) -> 1 | E34: 29227 | F34: =IFERROR(__xludf.DUMMYFUNCTION("""COMPUTED_VALUE"""),4.0) -> 4 | G34: =IFERROR(__xludf.DUMMYFUNCTION("""COMPUTED_VALUE"""),39588.0) -> 39588 | H34: =if(G34>0,index(P:P,rank(G34, G:G,false)),) -> 96 | O34: =O33*0.5^(0.1*2/$N$2) -> 95.592047 | P34: =roundup(O34) -> 96
A35: =if(L35="","","`"&L35 &rept(" ",15-len(L35))&rept(" ",5-len(M35))&M35&"`") | B35: =if(F35="",,"` "&rept(" ",3-len(H35))&H35 &" " &row()&"."&rept(" ",3-len(row()))&index(J:J,F35)& rept(" ",15-len(index(J:J,F35)))& rept(" ",6-len(G35))&G35 &" `") -> ` 93 35. pl 39563 ` | C35: =if(C34=50,1,C34+1) -> 35 | D35: =if(C34=50,D34+1, D34) -> 1 | E35: 29157 | F35: =IFERROR(__xludf.DUMMYFUNCTION("""COMPUTED_VALUE"""),3.0) -> 3 | G35: =IFERROR(__xludf.DUMMYFUNCTION("""COMPUTED_VALUE"""),39563.0) -> 39563 | H35: =if(G35>0,index(P:P,rank(G35, G:G,false)),) -> 93 | O35: =O34*0.5^(0.1*2/$N$2) -> 92.335831 | P35: =roundup(O35) -> 93
A36: =if(L36="","","`"&L36 &rept(" ",15-len(L36))&rept(" ",5-len(M36))&M36&"`") | B36: =if(F36="",,"` "&rept(" ",3-len(H36))&H36 &" " &row()&"."&rept(" ",3-len(row()))&index(J:J,F36)& rept(" ",15-len(index(J:J,F36)))& rept(" ",6-len(G36))&G36 &" `") -> ` 90 36. sebg 39502 ` | C36: =if(C35=50,1,C35+1) -> 36 | D36: =if(C35=50,D35+1, D35) -> 1 | E36: 28798 | F36: =IFERROR(__xludf.DUMMYFUNCTION("""COMPUTED_VALUE"""),4.0) -> 4 | G36: =IFERROR(__xludf.DUMMYFUNCTION("""COMPUTED_VALUE"""),39502.0) -> 39502 | H36: =if(G36>0,index(P:P,rank(G36, G:G,false)),) -> 90 | O36: =O35*0.5^(0.1*2/$N$2) -> 89.190534 | P36: =roundup(O36) -> 90
A37: =if(L37="","","`"&L37 &rept(" ",15-len(L37))&rept(" ",5-len(M37))&M37&"`") | B37: =if(F37="",,"` "&rept(" ",3-len(H37))&H37 &" " &row()&"."&rept(" ",3-len(row()))&index(J:J,F37)& rept(" ",15-len(index(J:J,F37)))& rept(" ",6-len(G37))&G37 &" `") -> ` 87 37. sebg 39387 ` | C37: =if(C36=50,1,C36+1) -> 37 | D37: =if(C36=50,D36+1, D36) -> 1 | E37: 28796 | F37: =IFERROR(__xludf.DUMMYFUNCTION("""COMPUTED_VALUE"""),4.0) -> 4 | G37: =IFERROR(__xludf.DUMMYFUNCTION("""COMPUTED_VALUE"""),39387.0) -> 39387 | H37: =if(G37>0,index(P:P,rank(G37, G:G,false)),) -> 87 | O37: =O36*0.5^(0.1*2/$N$2) -> 86.152377 | P37: =roundup(O37) -> 87
A38: =if(L38="","","`"&L38 &rept(" ",15-len(L38))&rept(" ",5-len(M38))&M38&"`") | B38: =if(F38="",,"` "&rept(" ",3-len(H38))&H38 &" " &row()&"."&rept(" ",3-len(row()))&index(J:J,F38)& rept(" ",15-len(index(J:J,F38)))& rept(" ",6-len(G38))&G38 &" `") -> ` 84 38. pl 39277 ` | C38: =if(C37=50,1,C37+1) -> 38 | D38: =if(C37=50,D37+1, D37) -> 1 | E38: 28733 | F38: =IFERROR(__xludf.DUMMYFUNCTION("""COMPUTED_VALUE"""),3.0) -> 3 | G38: =IFERROR(__xludf.DUMMYFUNCTION("""COMPUTED_VALUE"""),39277.0) -> 39277 | H38: =if(G38>0,index(P:P,rank(G38, G:G,false)),) -> 84 | O38: =O37*0.5^(0.1*2/$N$2) -> 83.21771 | P38: =roundup(O38) -> 84
A39: =if(L39="","","`"&L39 &rept(" ",15-len(L39))&rept(" ",5-len(M39))&M39&"`") | B39: =if(F39="",,"` "&rept(" ",3-len(H39))&H39 &" " &row()&"."&rept(" ",3-len(row()))&index(J:J,F39)& rept(" ",15-len(index(J:J,F39)))& rept(" ",6-len(G39))&G39 &" `") -> ` 81 39. pl 39220 ` | C39: =if(C38=50,1,C38+1) -> 39 | D39: =if(C38=50,D38+1, D38) -> 1 | E39: 28663 | F39: =IFERROR(__xludf.DUMMYFUNCTION("""COMPUTED_VALUE"""),3.0) -> 3 | G39: =IFERROR(__xludf.DUMMYFUNCTION("""COMPUTED_VALUE"""),39220.0) -> 39220 | H39: =if(G39>0,index(P:P,rank(G39, G:G,false)),) -> 81 | O39: =O38*0.5^(0.1*2/$N$2) -> 80.38301 | P39: =roundup(O39) -> 81
A40: =if(L40="","","`"&L40 &rept(" ",15-len(L40))&rept(" ",5-len(M40))&M40&"`") | B40: =if(F40="",,"` "&rept(" ",3-len(H40))&H40 &" " &row()&"."&rept(" ",3-len(row()))&index(J:J,F40)& rept(" ",15-len(index(J:J,F40)))& rept(" ",6-len(G40))&G40 &" `") -> ` 78 40. pl 39203 ` | C40: =if(C39=50,1,C39+1) -> 40 | D40: =if(C39=50,D39+1, D39) -> 1 | E40: 28580 | F40: =IFERROR(__xludf.DUMMYFUNCTION("""COMPUTED_VALUE"""),3.0) -> 3 | G40: =IFERROR(__xludf.DUMMYFUNCTION("""COMPUTED_VALUE"""),39203.0) -> 39203 | H40: =if(G40>0,index(P:P,rank(G40, G:G,false)),) -> 78 | O40: =O39*0.5^(0.1*2/$N$2) -> 77.644869 | P40: =roundup(O40) -> 78
A41: =if(L41="","","`"&L41 &rept(" ",15-len(L41))&rept(" ",5-len(M41))&M41&"`") | B41: =if(F41="",,"` "&rept(" ",3-len(H41))&H41 &" " &row()&"."&rept(" ",3-len(row()))&index(J:J,F41)& rept(" ",15-len(index(J:J,F41)))& rept(" ",6-len(G41))&G41 &" `") -> ` 76 41. pl 39099 ` | C41: =if(C40=50,1,C40+1) -> 41 | D41: =if(C40=50,D40+1, D40) -> 1 | E41: 28556 | F41: =IFERROR(__xludf.DUMMYFUNCTION("""COMPUTED_VALUE"""),3.0) -> 3 | G41: =IFERROR(__xludf.DUMMYFUNCTION("""COMPUTED_VALUE"""),39099.0) -> 39099 | H41: =if(G41>0,index(P:P,rank(G41, G:G,false)),) -> 76 | O41: =O40*0.5^(0.1*2/$N$2) -> 75 | P41: =roundup(O41) -> 76
A42: =if(L42="","","`"&L42 &rept(" ",15-len(L42))&rept(" ",5-len(M42))&M42&"`") | B42: =if(F42="",,"` "&rept(" ",3-len(H42))&H42 &" " &row()&"."&rept(" ",3-len(row()))&index(J:J,F42)& rept(" ",15-len(index(J:J,F42)))& rept(" ",6-len(G42))&G42 &" `") -> ` 73 42. sebg 39068 ` | C42: =if(C41=50,1,C41+1) -> 42 | D42: =if(C41=50,D41+1, D41) -> 1 | E42: 28513 | F42: =IFERROR(__xludf.DUMMYFUNCTION("""COMPUTED_VALUE"""),4.0) -> 4 | G42: =IFERROR(__xludf.DUMMYFUNCTION("""COMPUTED_VALUE"""),39068.0) -> 39068 | H42: =if(G42>0,index(P:P,rank(G42, G:G,false)),) -> 73 | O42: =O41*0.5^(0.1*2/$N$2) -> 72.445225 | P42: =roundup(O42) -> 73
A43: =if(L43="","","`"&L43 &rept(" ",15-len(L43))&rept(" ",5-len(M43))&M43&"`") | B43: =if(F43="",,"` "&rept(" ",3-len(H43))&H43 &" " &row()&"."&rept(" ",3-len(row()))&index(J:J,F43)& rept(" ",15-len(index(J:J,F43)))& rept(" ",6-len(G43))&G43 &" `") -> ` 70 43. sebg 39040 ` | C43: =if(C42=50,1,C42+1) -> 43 | D43: =if(C42=50,D42+1, D42) -> 1 | E43: 28259 | F43: =IFERROR(__xludf.DUMMYFUNCTION("""COMPUTED_VALUE"""),4.0) -> 4 | G43: =IFERROR(__xludf.DUMMYFUNCTION("""COMPUTED_VALUE"""),39040.0) -> 39040 | H43: =if(G43>0,index(P:P,rank(G43, G:G,false)),) -> 70 | O43: =O42*0.5^(0.1*2/$N$2) -> 69.977474 | P43: =roundup(O43) -> 70
A44: =if(L44="","","`"&L44 &rept(" ",15-len(L44))&rept(" ",5-len(M44))&M44&"`") | B44: =if(F44="",,"` "&rept(" ",3-len(H44))&H44 &" " &row()&"."&rept(" ",3-len(row()))&index(J:J,F44)& rept(" ",15-len(index(J:J,F44)))& rept(" ",6-len(G44))&G44 &" `") -> ` 68 44. pl 39000 ` | C44: =if(C43=50,1,C43+1) -> 44 | D44: =if(C43=50,D43+1, D43) -> 1 | E44: 27903 | F44: =IFERROR(__xludf.DUMMYFUNCTION("""COMPUTED_VALUE"""),3.0) -> 3 | G44: =IFERROR(__xludf.DUMMYFUNCTION("""COMPUTED_VALUE"""),39000.0) -> 39000 | H44: =if(G44>0,index(P:P,rank(G44, G:G,false)),) -> 68 | O44: =O43*0.5^(0.1*2/$N$2) -> 67.593785 | P44: =roundup(O44) -> 68
A45: =if(L45="","","`"&L45 &rept(" ",15-len(L45))&rept(" ",5-len(M45))&M45&"`") | B45: =if(F45="",,"` "&rept(" ",3-len(H45))&H45 &" " &row()&"."&rept(" ",3-len(row()))&index(J:J,F45)& rept(" ",15-len(index(J:J,F45)))& rept(" ",6-len(G45))&G45 &" `") -> ` 66 45. pl 38991 ` | C45: =if(C44=50,1,C44+1) -> 45 | D45: =if(C44=50,D44+1, D44) -> 1 | E45: 27257 | F45: =IFERROR(__xludf.DUMMYFUNCTION("""COMPUTED_VALUE"""),3.0) -> 3 | G45: =IFERROR(__xludf.DUMMYFUNCTION("""COMPUTED_VALUE"""),38991.0) -> 38991 | H45: =if(G45>0,index(P:P,rank(G45, G:G,false)),) -> 66 | O45: =O44*0.5^(0.1*2/$N$2) -> 65.291292 | P45: =roundup(O45) -> 66
A46: =if(L46="","","`"&L46 &rept(" ",15-len(L46))&rept(" ",5-len(M46))&M46&"`") | B46: =if(F46="",,"` "&rept(" ",3-len(H46))&H46 &" " &row()&"."&rept(" ",3-len(row()))&index(J:J,F46)& rept(" ",15-len(index(J:J,F46)))& rept(" ",6-len(G46))&G46 &" `") -> ` 64 46. pl 38925 ` | C46: =if(C45=50,1,C45+1) -> 46 | D46: =if(C45=50,D45+1, D45) -> 1 | E46: 25357 | F46: =IFERROR(__xludf.DUMMYFUNCTION("""COMPUTED_VALUE"""),3.0) -> 3 | G46: =IFERROR(__xludf.DUMMYFUNCTION("""COMPUTED_VALUE"""),38925.0) -> 38925 | H46: =if(G46>0,index(P:P,rank(G46, G:G,false)),) -> 64 | O46: =O45*0.5^(0.1*2/$N$2) -> 63.067231 | P46: =roundup(O46) -> 64
A47: =if(L47="","","`"&L47 &rept(" ",15-len(L47))&rept(" ",5-len(M47))&M47&"`") | B47: =if(F47="",,"` "&rept(" ",3-len(H47))&H47 &" " &row()&"."&rept(" ",3-len(row()))&index(J:J,F47)& rept(" ",15-len(index(J:J,F47)))& rept(" ",6-len(G47))&G47 &" `") -> ` 61 47. sebg 38888 ` | C47: =if(C46=50,1,C46+1) -> 47 | D47: =if(C46=50,D46+1, D46) -> 1 | F47: =IFERROR(__xludf.DUMMYFUNCTION("""COMPUTED_VALUE"""),4.0) -> 4 | G47: =IFERROR(__xludf.DUMMYFUNCTION("""COMPUTED_VALUE"""),38888.0) -> 38888 | H47: =if(G47>0,index(P:P,rank(G47, G:G,false)),) -> 61 | O47: =O46*0.5^(0.1*2/$N$2) -> 60.91893 | P47: =roundup(O47) -> 61
A48: =if(L48="","","`"&L48 &rept(" ",15-len(L48))&rept(" ",5-len(M48))&M48&"`") | B48: =if(F48="",,"` "&rept(" ",3-len(H48))&H48 &" " &row()&"."&rept(" ",3-len(row()))&index(J:J,F48)& rept(" ",15-len(index(J:J,F48)))& rept(" ",6-len(G48))&G48 &" `") -> ` 59 48. sebg 38696 ` | C48: =if(C47=50,1,C47+1) -> 48 | D48: =if(C47=50,D47+1, D47) -> 1 | F48: =IFERROR(__xludf.DUMMYFUNCTION("""COMPUTED_VALUE"""),4.0) -> 4 | G48: =IFERROR(__xludf.DUMMYFUNCTION("""COMPUTED_VALUE"""),38696.0) -> 38696 | H48: =if(G48>0,index(P:P,rank(G48, G:G,false)),) -> 59 | O48: =O47*0.5^(0.1*2/$N$2) -> 58.843807 | P48: =roundup(O48) -> 59
A49: =if(L49="","","`"&L49 &rept(" ",15-len(L49))&rept(" ",5-len(M49))&M49&"`") | B49: =if(F49="",,"` "&rept(" ",3-len(H49))&H49 &" " &row()&"."&rept(" ",3-len(row()))&index(J:J,F49)& rept(" ",15-len(index(J:J,F49)))& rept(" ",6-len(G49))&G49 &" `") -> ` 57 49. pl 38685 ` | C49: =if(C48=50,1,C48+1) -> 49 | D49: =if(C48=50,D48+1, D48) -> 1 | F49: =IFERROR(__xludf.DUMMYFUNCTION("""COMPUTED_VALUE"""),3.0) -> 3 | G49: =IFERROR(__xludf.DUMMYFUNCTION("""COMPUTED_VALUE"""),38685.0) -> 38685 | H49: =if(G49>0,index(P:P,rank(G49, G:G,false)),) -> 57 | O49: =O48*0.5^(0.1*2/$N$2) -> 56.839371 | P49: =roundup(O49) -> 57
A50: =if(L50="","","`"&L50 &rept(" ",15-len(L50))&rept(" ",5-len(M50))&M50&"`") | B50: =if(F50="",,"` "&rept(" ",3-len(H50))&H50 &" " &row()&"."&rept(" ",3-len(row()))&index(J:J,F50)& rept(" ",15-len(index(J:J,F50)))& rept(" ",6-len(G50))&G50 &" `") -> ` 55 50. sebg 38660 ` | C50: =if(C49=50,1,C49+1) -> 50 | D50: =if(C49=50,D49+1, D49) -> 1 | F50: =IFERROR(__xludf.DUMMYFUNCTION("""COMPUTED_VALUE"""),4.0) -> 4 | G50: =IFERROR(__xludf.DUMMYFUNCTION("""COMPUTED_VALUE"""),38660.0) -> 38660 | H50: =if(G50>0,index(P:P,rank(G50, G:G,false)),) -> 55 | O50: =O49*0.5^(0.1*2/$N$2) -> 54.903214 | P50: =roundup(O50) -> 55
A51: =if(L51="","","`"&L51 &rept(" ",15-len(L51))&rept(" ",5-len(M51))&M51&"`") | B51: =if(F51="",,"` "&rept(" ",3-len(H51))&H51 &" " &row()&"."&rept(" ",3-len(row()))&index(J:J,F51)& rept(" ",15-len(index(J:J,F51)))& rept(" ",6-len(G51))&G51 &" `") -> ` 54 51. pl 38653 ` | C51: =if(C50=50,1,C50+1) -> 1 | D51: =if(C50=50,D50+1, D50) -> 2 | E51: {=if(index(VirtualLeague!$I$2:$AF$2,0,D51)="",,index(ScoreMatrix!$B$2:$AA$51,0,D51))} -> 38399 | F51: =IFERROR(__xludf.DUMMYFUNCTION("""COMPUTED_VALUE"""),3.0) -> 3 | G51: =IFERROR(__xludf.DUMMYFUNCTION("""COMPUTED_VALUE"""),38653.0) -> 38653 | H51: =if(G51>0,index(P:P,rank(G51, G:G,false)),) -> 54 | O51: =O50*0.5^(0.1*2/$N$2) -> 53.033009 | P51: =roundup(O51) -> 54
A52: =if(L52="","","`"&L52 &rept(" ",15-len(L52))&rept(" ",5-len(M52))&M52&"`") | B52: =if(F52="",,"` "&rept(" ",3-len(H52))&H52 &" " &row()&"."&rept(" ",3-len(row()))&index(J:J,F52)& rept(" ",15-len(index(J:J,F52)))& rept(" ",6-len(G52))&G52 &" `") -> ` 52 52. pl 38647 ` | C52: =if(C51=50,1,C51+1) -> 2 | D52: =if(C51=50,D51+1, D51) -> 2 | E52: 38021 | F52: =IFERROR(__xludf.DUMMYFUNCTION("""COMPUTED_VALUE"""),3.0) -> 3 | G52: =IFERROR(__xludf.DUMMYFUNCTION("""COMPUTED_VALUE"""),38647.0) -> 38647 | H52: =if(G52>0,index(P:P,rank(G52, G:G,false)),) -> 52 | O52: =O51*0.5^(0.1*2/$N$2) -> 51.22651 | P52: =roundup(O52) -> 52
A53: =if(L53="","","`"&L53 &rept(" ",15-len(L53))&rept(" ",5-len(M53))&M53&"`") | B53: =if(F53="",,"` "&rept(" ",3-len(H53))&H53 &" " &row()&"."&rept(" ",3-len(row()))&index(J:J,F53)& rept(" ",15-len(index(J:J,F53)))& rept(" ",6-len(G53))&G53 &" `") -> ` 50 53. sebg 38615 ` | C53: =if(C52=50,1,C52+1) -> 3 | D53: =if(C52=50,D52+1, D52) -> 2 | E53: 37631 | F53: =IFERROR(__xludf.DUMMYFUNCTION("""COMPUTED_VALUE"""),4.0) -> 4 | G53: =IFERROR(__xludf.DUMMYFUNCTION("""COMPUTED_VALUE"""),38615.0) -> 38615 | H53: =if(G53>0,index(P:P,rank(G53, G:G,false)),) -> 50 | O53: =O52*0.5^(0.1*2/$N$2) -> 49.481547 | P53: =roundup(O53) -> 50
A54: =if(L54="","","`"&L54 &rept(" ",15-len(L54))&rept(" ",5-len(M54))&M54&"`") | B54: =if(F54="",,"` "&rept(" ",3-len(H54))&H54 &" " &row()&"."&rept(" ",3-len(row()))&index(J:J,F54)& rept(" ",15-len(index(J:J,F54)))& rept(" ",6-len(G54))&G54 &" `") -> ` 48 54. sebg 38568 ` | C54: =if(C53=50,1,C53+1) -> 4 | D54: =if(C53=50,D53+1, D53) -> 2 | E54: 36965 | F54: =IFERROR(__xludf.DUMMYFUNCTION("""COMPUTED_VALUE"""),4.0) -> 4 | G54: =IFERROR(__xludf.DUMMYFUNCTION("""COMPUTED_VALUE"""),38568.0) -> 38568 | H54: =if(G54>0,index(P:P,rank(G54, G:G,false)),) -> 48 | O54: =O53*0.5^(0.1*2/$N$2) -> 47.796024 | P54: =roundup(O54) -> 48
A55: =if(L55="","","`"&L55 &rept(" ",15-len(L55))&rept(" ",5-len(M55))&M55&"`") | B55: =if(F55="",,"` "&rept(" ",3-len(H55))&H55 &" " &row()&"."&rept(" ",3-len(row()))&index(J:J,F55)& rept(" ",15-len(index(J:J,F55)))& rept(" ",6-len(G55))&G55 &" `") -> ` 47 55. sebg 38567 ` | C55: =if(C54=50,1,C54+1) -> 5 | D55: =if(C54=50,D54+1, D54) -> 2 | E55: 36944 | F55: =IFERROR(__xludf.DUMMYFUNCTION("""COMPUTED_VALUE"""),4.0) -> 4 | G55: =IFERROR(__xludf.DUMMYFUNCTION("""COMPUTED_VALUE"""),38567.0) -> 38567 | H55: =if(G55>0,index(P:P,rank(G55, G:G,false)),) -> 47 | O55: =O54*0.5^(0.1*2/$N$2) -> 46.167915 | P55: =roundup(O55) -> 47
A56: =if(L56="","","`"&L56 &rept(" ",15-len(L56))&rept(" ",5-len(M56))&M56&"`") | B56: =if(F56="",,"` "&rept(" ",3-len(H56))&H56 &" " &row()&"."&rept(" ",3-len(row()))&index(J:J,F56)& rept(" ",15-len(index(J:J,F56)))& rept(" ",6-len(G56))&G56 &" `") -> ` 45 56. sebg 38553 ` | C56: =if(C55=50,1,C55+1) -> 6 | D56: =if(C55=50,D55+1, D55) -> 2 | E56: 36620 | F56: =IFERROR(__xludf.DUMMYFUNCTION("""COMPUTED_VALUE"""),4.0) -> 4 | G56: =IFERROR(__xludf.DUMMYFUNCTION("""COMPUTED_VALUE"""),38553.0) -> 38553 | H56: =if(G56>0,index(P:P,rank(G56, G:G,false)),) -> 45 | O56: =O55*0.5^(0.1*2/$N$2) -> 44.595267 | P56: =roundup(O56) -> 45
A57: =if(L57="","","`"&L57 &rept(" ",15-len(L57))&rept(" ",5-len(M57))&M57&"`") | B57: =if(F57="",,"` "&rept(" ",3-len(H57))&H57 &" " &row()&"."&rept(" ",3-len(row()))&index(J:J,F57)& rept(" ",15-len(index(J:J,F57)))& rept(" ",6-len(G57))&G57 &" `") -> ` 44 57. sebg 38549 ` | C57: =if(C56=50,1,C56+1) -> 7 | D57: =if(C56=50,D56+1, D56) -> 2 | E57: 36554 | F57: =IFERROR(__xludf.DUMMYFUNCTION("""COMPUTED_VALUE"""),4.0) -> 4 | G57: =IFERROR(__xludf.DUMMYFUNCTION("""COMPUTED_VALUE"""),38549.0) -> 38549 | H57: =if(G57>0,index(P:P,rank(G57, G:G,false)),) -> 44 | O57: =O56*0.5^(0.1*2/$N$2) -> 43.076188 | P57: =roundup(O57) -> 44
A58: =if(L58="","","`"&L58 &rept(" ",15-len(L58))&rept(" ",5-len(M58))&M58&"`") | B58: =if(F58="",,"` "&rept(" ",3-len(H58))&H58 &" " &row()&"."&rept(" ",3-len(row()))&index(J:J,F58)& rept(" ",15-len(index(J:J,F58)))& rept(" ",6-len(G58))&G58 &" `") -> ` 42 58. sebg 38501 ` | C58: =if(C57=50,1,C57+1) -> 8 | D58: =if(C57=50,D57+1, D57) -> 2 | E58: 36175 | F58: =IFERROR(__xludf.DUMMYFUNCTION("""COMPUTED_VALUE"""),4.0) -> 4 | G58: =IFERROR(__xludf.DUMMYFUNCTION("""COMPUTED_VALUE"""),38501.0) -> 38501 | H58: =if(G58>0,index(P:P,rank(G58, G:G,false)),) -> 42 | O58: =O57*0.5^(0.1*2/$N$2) -> 41.608855 | P58: =roundup(O58) -> 42
A59: =if(L59="","","`"&L59 &rept(" ",15-len(L59))&rept(" ",5-len(M59))&M59&"`") | B59: =if(F59="",,"` "&rept(" ",3-len(H59))&H59 &" " &row()&"."&rept(" ",3-len(row()))&index(J:J,F59)& rept(" ",15-len(index(J:J,F59)))& rept(" ",6-len(G59))&G59 &" `") -> ` 41 59. sebg 38493 ` | C59: =if(C58=50,1,C58+1) -> 9 | D59: =if(C58=50,D58+1, D58) -> 2 | E59: 35857 | F59: =IFERROR(__xludf.DUMMYFUNCTION("""COMPUTED_VALUE"""),4.0) -> 4 | G59: =IFERROR(__xludf.DUMMYFUNCTION("""COMPUTED_VALUE"""),38493.0) -> 38493 | H59: =if(G59>0,index(P:P,rank(G59, G:G,false)),) -> 41 | O59: =O58*0.5^(0.1*2/$N$2) -> 40.191505 | P59: =roundup(O59) -> 41
A60: =if(L60="","","`"&L60 &rept(" ",15-len(L60))&rept(" ",5-len(M60))&M60&"`") | B60: =if(F60="",,"` "&rept(" ",3-len(H60))&H60 &" " &row()&"."&rept(" ",3-len(row()))&index(J:J,F60)& rept(" ",15-len(index(J:J,F60)))& rept(" ",6-len(G60))&G60 &" `") -> ` 39 60. pl 38474 ` | C60: =if(C59=50,1,C59+1) -> 10 | D60: =if(C59=50,D59+1, D59) -> 2 | E60: 35783 | F60: =IFERROR(__xludf.DUMMYFUNCTION("""COMPUTED_VALUE"""),3.0) -> 3 | G60: =IFERROR(__xludf.DUMMYFUNCTION("""COMPUTED_VALUE"""),38474.0) -> 38474 | H60: =if(G60>0,index(P:P,rank(G60, G:G,false)),) -> 39 | O60: =O59*0.5^(0.1*2/$N$2) -> 38.822435 | P60: =roundup(O60) -> 39
A61: =if(L61="","","`"&L61 &rept(" ",15-len(L61))&rept(" ",5-len(M61))&M61&"`") | B61: =if(F61="",,"` "&rept(" ",3-len(H61))&H61 &" " &row()&"."&rept(" ",3-len(row()))&index(J:J,F61)& rept(" ",15-len(index(J:J,F61)))& rept(" ",6-len(G61))&G61 &" `") -> ` 38 61. sebg 38447 ` | C61: =if(C60=50,1,C60+1) -> 11 | D61: =if(C60=50,D60+1, D60) -> 2 | E61: 35463 | F61: =IFERROR(__xludf.DUMMYFUNCTION("""COMPUTED_VALUE"""),4.0) -> 4 | G61: =IFERROR(__xludf.DUMMYFUNCTION("""COMPUTED_VALUE"""),38447.0) -> 38447 | H61: =if(G61>0,index(P:P,rank(G61, G:G,false)),) -> 38 | O61: =O60*0.5^(0.1*2/$N$2) -> 37.5 | P61: =roundup(O61) -> 38
A62: =if(L62="","","`"&L62 &rept(" ",15-len(L62))&rept(" ",5-len(M62))&M62&"`") | B62: =if(F62="",,"` "&rept(" ",3-len(H62))&H62 &" " &row()&"."&rept(" ",3-len(row()))&index(J:J,F62)& rept(" ",15-len(index(J:J,F62)))& rept(" ",6-len(G62))&G62 &" `") -> ` 37 62. NORTH 38399 ` | C62: =if(C61=50,1,C61+1) -> 12 | D62: =if(C61=50,D61+1, D61) -> 2 | E62: 35391 | F62: =IFERROR(__xludf.DUMMYFUNCTION("""COMPUTED_VALUE"""),2.0) -> 2 | G62: =IFERROR(__xludf.DUMMYFUNCTION("""COMPUTED_VALUE"""),38399.0) -> 38399 | H62: =if(G62>0,index(P:P,rank(G62, G:G,false)),) -> 37 | O62: =O61*0.5^(0.1*2/$N$2) -> 36.222612 | P62: =roundup(O62) -> 37
A63: =if(L63="","","`"&L63 &rept(" ",15-len(L63))&rept(" ",5-len(M63))&M63&"`") | B63: =if(F63="",,"` "&rept(" ",3-len(H63))&H63 &" " &row()&"."&rept(" ",3-len(row()))&index(J:J,F63)& rept(" ",15-len(index(J:J,F63)))& rept(" ",6-len(G63))&G63 &" `") -> ` 35 63. sebg 38394 ` | C63: =if(C62=50,1,C62+1) -> 13 | D63: =if(C62=50,D62+1, D62) -> 2 | E63: 35365 | F63: =IFERROR(__xludf.DUMMYFUNCTION("""COMPUTED_VALUE"""),4.0) -> 4 | G63: =IFERROR(__xludf.DUMMYFUNCTION("""COMPUTED_VALUE"""),38394.0) -> 38394 | H63: =if(G63>0,index(P:P,rank(G63, G:G,false)),) -> 35 | O63: =O62*0.5^(0.1*2/$N$2) -> 34.988737 | P63: =roundup(O63) -> 35
A64: =if(L64="","","`"&L64 &rept(" ",15-len(L64))&rept(" ",5-len(M64))&M64&"`") | B64: =if(F64="",,"` "&rept(" ",3-len(H64))&H64 &" " &row()&"."&rept(" ",3-len(row()))&index(J:J,F64)& rept(" ",15-len(index(J:J,F64)))& rept(" ",6-len(G64))&G64 &" `") -> ` 34 64. sebg 38376 ` | C64: =if(C63=50,1,C63+1) -> 14 | D64: =if(C63=50,D63+1, D63) -> 2 | E64: 35287 | F64: =IFERROR(__xludf.DUMMYFUNCTION("""COMPUTED_VALUE"""),4.0) -> 4 | G64: =IFERROR(__xludf.DUMMYFUNCTION("""COMPUTED_VALUE"""),38376.0) -> 38376 | H64: =if(G64>0,index(P:P,rank(G64, G:G,false)),) -> 34 | O64: =O63*0.5^(0.1*2/$N$2) -> 33.796892 | P64: =roundup(O64) -> 34
A65: =if(L65="","","`"&L65 &rept(" ",15-len(L65))&rept(" ",5-len(M65))&M65&"`") | B65: =if(F65="",,"` "&rept(" ",3-len(H65))&H65 &" " &row()&"."&rept(" ",3-len(row()))&index(J:J,F65)& rept(" ",15-len(index(J:J,F65)))& rept(" ",6-len(G65))&G65 &" `") -> ` 33 65. sebg 38363 ` | C65: =if(C64=50,1,C64+1) -> 15 | D65: =if(C64=50,D64+1, D64) -> 2 | E65: 35245 | F65: =IFERROR(__xludf.DUMMYFUNCTION("""COMPUTED_VALUE"""),4.0) -> 4 | G65: =IFERROR(__xludf.DUMMYFUNCTION("""COMPUTED_VALUE"""),38363.0) -> 38363 | H65: =if(G65>0,index(P:P,rank(G65, G:G,false)),) -> 33 | O65: =O64*0.5^(0.1*2/$N$2) -> 32.645646 | P65: =roundup(O65) -> 33
A66: =if(L66="","","`"&L66 &rept(" ",15-len(L66))&rept(" ",5-len(M66))&M66&"`") | B66: =if(F66="",,"` "&rept(" ",3-len(H66))&H66 &" " &row()&"."&rept(" ",3-len(row()))&index(J:J,F66)& rept(" ",15-len(index(J:J,F66)))& rept(" ",6-len(G66))&G66 &" `") -> ` 32 66. pl 38344 ` | C66: =if(C65=50,1,C65+1) -> 16 | D66: =if(C65=50,D65+1, D65) -> 2 | E66: 35061 | F66: =IFERROR(__xludf.DUMMYFUNCTION("""COMPUTED_VALUE"""),3.0) -> 3 | G66: =IFERROR(__xludf.DUMMYFUNCTION("""COMPUTED_VALUE"""),38344.0) -> 38344 | H66: =if(G66>0,index(P:P,rank(G66, G:G,false)),) -> 32 | O66: =O65*0.5^(0.1*2/$N$2) -> 31.533616 | P66: =roundup(O66) -> 32
A67: =if(L67="","","`"&L67 &rept(" ",15-len(L67))&rept(" ",5-len(M67))&M67&"`") | B67: =if(F67="",,"` "&rept(" ",3-len(H67))&H67 &" " &row()&"."&rept(" ",3-len(row()))&index(J:J,F67)& rept(" ",15-len(index(J:J,F67)))& rept(" ",6-len(G67))&G67 &" `") -> ` 31 67. pl 38321 ` | C67: =if(C66=50,1,C66+1) -> 17 | D67: =if(C66=50,D66+1, D66) -> 2 | E67: 34992 | F67: =IFERROR(__xludf.DUMMYFUNCTION("""COMPUTED_VALUE"""),3.0) -> 3 | G67: =IFERROR(__xludf.DUMMYFUNCTION("""COMPUTED_VALUE"""),38321.0) -> 38321 | H67: =if(G67>0,index(P:P,rank(G67, G:G,false)),) -> 31 | O67: =O66*0.5^(0.1*2/$N$2) -> 30.459465 | P67: =roundup(O67) -> 31
A68: =if(L68="","","`"&L68 &rept(" ",15-len(L68))&rept(" ",5-len(M68))&M68&"`") | B68: =if(F68="",,"` "&rept(" ",3-len(H68))&H68 &" " &row()&"."&rept(" ",3-len(row()))&index(J:J,F68)& rept(" ",15-len(index(J:J,F68)))& rept(" ",6-len(G68))&G68 &" `") -> ` 30 68. pl 38310 ` | C68: =if(C67=50,1,C67+1) -> 18 | D68: =if(C67=50,D67+1, D67) -> 2 | E68: 34978 | F68: =IFERROR(__xludf.DUMMYFUNCTION("""COMPUTED_VALUE"""),3.0) -> 3 | G68: =IFERROR(__xludf.DUMMYFUNCTION("""COMPUTED_VALUE"""),38310.0) -> 38310 | H68: =if(G68>0,index(P:P,rank(G68, G:G,false)),) -> 30 | O68: =O67*0.5^(0.1*2/$N$2) -> 29.421904 | P68: =roundup(O68) -> 30
A69: =if(L69="","","`"&L69 &rept(" ",15-len(L69))&rept(" ",5-len(M69))&M69&"`") | B69: =if(F69="",,"` "&rept(" ",3-len(H69))&H69 &" " &row()&"."&rept(" ",3-len(row()))&index(J:J,F69)& rept(" ",15-len(index(J:J,F69)))& rept(" ",6-len(G69))&G69 &" `") -> ` 29 69. sebg 38115 ` | C69: =if(C68=50,1,C68+1) -> 19 | D69: =if(C68=50,D68+1, D68) -> 2 | E69: 34802 | F69: =IFERROR(__xludf.DUMMYFUNCTION("""COMPUTED_VALUE"""),4.0) -> 4 | G69: =IFERROR(__xludf.DUMMYFUNCTION("""COMPUTED_VALUE"""),38115.0) -> 38115 | H69: =if(G69>0,index(P:P,rank(G69, G:G,false)),) -> 29 | O69: =O68*0.5^(0.1*2/$N$2) -> 28.419686 | P69: =roundup(O69) -> 29
A70: =if(L70="","","`"&L70 &rept(" ",15-len(L70))&rept(" ",5-len(M70))&M70&"`") | B70: =if(F70="",,"` "&rept(" ",3-len(H70))&H70 &" " &row()&"."&rept(" ",3-len(row()))&index(J:J,F70)& rept(" ",15-len(index(J:J,F70)))& rept(" ",6-len(G70))&G70 &" `") -> ` 28 70. sebg 38076 ` | C70: =if(C69=50,1,C69+1) -> 20 | D70: =if(C69=50,D69+1, D69) -> 2 | E70: 34578 | F70: =IFERROR(__xludf.DUMMYFUNCTION("""COMPUTED_VALUE"""),4.0) -> 4 | G70: =IFERROR(__xludf.DUMMYFUNCTION("""COMPUTED_VALUE"""),38076.0) -> 38076 | H70: =if(G70>0,index(P:P,rank(G70, G:G,false)),) -> 28 | O70: =O69*0.5^(0.1*2/$N$2) -> 27.451607 | P70: =roundup(O70) -> 28
A71: =if(L71="","","`"&L71 &rept(" ",15-len(L71))&rept(" ",5-len(M71))&M71&"`") | B71: =if(F71="",,"` "&rept(" ",3-len(H71))&H71 &" " &row()&"."&rept(" ",3-len(row()))&index(J:J,F71)& rept(" ",15-len(index(J:J,F71)))& rept(" ",6-len(G71))&G71 &" `") -> ` 27 71. NORTH 38021 ` | C71: =if(C70=50,1,C70+1) -> 21 | D71: =if(C70=50,D70+1, D70) -> 2 | E71: 34575 | F71: =IFERROR(__xludf.DUMMYFUNCTION("""COMPUTED_VALUE"""),2.0) -> 2 | G71: =IFERROR(__xludf.DUMMYFUNCTION("""COMPUTED_VALUE"""),38021.0) -> 38021 | H71: =if(G71>0,index(P:P,rank(G71, G:G,false)),) -> 27 | O71: =O70*0.5^(0.1*2/$N$2) -> 26.516504 | P71: =roundup(O71) -> 27
A72: =if(L72="","","`"&L72 &rept(" ",15-len(L72))&rept(" ",5-len(M72))&M72&"`") | B72: =if(F72="",,"` "&rept(" ",3-len(H72))&H72 &" " &row()&"."&rept(" ",3-len(row()))&index(J:J,F72)& rept(" ",15-len(index(J:J,F72)))& rept(" ",6-len(G72))&G72 &" `") -> ` 26 72. sebg 38013 ` | C72: =if(C71=50,1,C71+1) -> 22 | D72: =if(C71=50,D71+1, D71) -> 2 | E72: 34453 | F72: =IFERROR(__xludf.DUMMYFUNCTION("""COMPUTED_VALUE"""),4.0) -> 4 | G72: =IFERROR(__xludf.DUMMYFUNCTION("""COMPUTED_VALUE"""),38013.0) -> 38013 | H72: =if(G72>0,index(P:P,rank(G72, G:G,false)),) -> 26 | O72: =O71*0.5^(0.1*2/$N$2) -> 25.613255 | P72: =roundup(O72) -> 26
A73: =if(L73="","","`"&L73 &rept(" ",15-len(L73))&rept(" ",5-len(M73))&M73&"`") | B73: =if(F73="",,"` "&rept(" ",3-len(H73))&H73 &" " &row()&"."&rept(" ",3-len(row()))&index(J:J,F73)& rept(" ",15-len(index(J:J,F73)))& rept(" ",6-len(G73))&G73 &" `") -> ` 25 73. sebg 37944 ` | C73: =if(C72=50,1,C72+1) -> 23 | D73: =if(C72=50,D72+1, D72) -> 2 | E73: 34312 | F73: =IFERROR(__xludf.DUMMYFUNCTION("""COMPUTED_VALUE"""),4.0) -> 4 | G73: =IFERROR(__xludf.DUMMYFUNCTION("""COMPUTED_VALUE"""),37944.0) -> 37944 | H73: =if(G73>0,index(P:P,rank(G73, G:G,false)),) -> 25 | O73: =O72*0.5^(0.1*2/$N$2) -> 24.740773 | P73: =roundup(O73) -> 25
A74: =if(L74="","","`"&L74 &rept(" ",15-len(L74))&rept(" ",5-len(M74))&M74&"`") | B74: =if(F74="",,"` "&rept(" ",3-len(H74))&H74 &" " &row()&"."&rept(" ",3-len(row()))&index(J:J,F74)& rept(" ",15-len(index(J:J,F74)))& rept(" ",6-len(G74))&G74 &" `") -> ` 24 74. sebg 37908 ` | C74: =if(C73=50,1,C73+1) -> 24 | D74: =if(C73=50,D73+1, D73) -> 2 | E74: 34154 | F74: =IFERROR(__xludf.DUMMYFUNCTION("""COMPUTED_VALUE"""),4.0) -> 4 | G74: =IFERROR(__xludf.DUMMYFUNCTION("""COMPUTED_VALUE"""),37908.0) -> 37908 | H74: =if(G74>0,index(P:P,rank(G74, G:G,false)),) -> 24 | O74: =O73*0.5^(0.1*2/$N$2) -> 23.898012 | P74: =roundup(O74) -> 24
A75: =if(L75="","","`"&L75 &rept(" ",15-len(L75))&rept(" ",5-len(M75))&M75&"`") | B75: =if(F75="",,"` "&rept(" ",3-len(H75))&H75 &" " &row()&"."&rept(" ",3-len(row()))&index(J:J,F75)& rept(" ",15-len(index(J:J,F75)))& rept(" ",6-len(G75))&G75 &" `") -> ` 24 75. pl 37896 ` | C75: =if(C74=50,1,C74+1) -> 25 | D75: =if(C74=50,D74+1, D74) -> 2 | E75: 34050 | F75: =IFERROR(__xludf.DUMMYFUNCTION("""COMPUTED_VALUE"""),3.0) -> 3 | G75: =IFERROR(__xludf.DUMMYFUNCTION("""COMPUTED_VALUE"""),37896.0) -> 37896 | H75: =if(G75>0,index(P:P,rank(G75, G:G,false)),) -> 24 | O75: =O74*0.5^(0.1*2/$N$2) -> 23.083958 | P75: =roundup(O75) -> 24
A76: =if(L76="","","`"&L76 &rept(" ",15-len(L76))&rept(" ",5-len(M76))&M76&"`") | B76: =if(F76="",,"` "&rept(" ",3-len(H76))&H76 &" " &row()&"."&rept(" ",3-len(row()))&index(J:J,F76)& rept(" ",15-len(index(J:J,F76)))& rept(" ",6-len(G76))&G76 &" `") -> ` 23 76. sebg 37784 ` | C76: =if(C75=50,1,C75+1) -> 26 | D76: =if(C75=50,D75+1, D75) -> 2 | E76: 33741 | F76: =IFERROR(__xludf.DUMMYFUNCTION("""COMPUTED_VALUE"""),4.0) -> 4 | G76: =IFERROR(__xludf.DUMMYFUNCTION("""COMPUTED_VALUE"""),37784.0) -> 37784 | H76: =if(G76>0,index(P:P,rank(G76, G:G,false)),) -> 23 | O76: =O75*0.5^(0.1*2/$N$2) -> 22.297633 | P76: =roundup(O76) -> 23
A77: =if(L77="","","`"&L77 &rept(" ",15-len(L77))&rept(" ",5-len(M77))&M77&"`") | B77: =if(F77="",,"` "&rept(" ",3-len(H77))&H77 &" " &row()&"."&rept(" ",3-len(row()))&index(J:J,F77)& rept(" ",15-len(index(J:J,F77)))& rept(" ",6-len(G77))&G77 &" `") -> ` 22 77. Greddit2 37750 ` | C77: =if(C76=50,1,C76+1) -> 27 | D77: =if(C76=50,D76+1, D76) -> 2 | E77: 33568 | F77: =IFERROR(__xludf.DUMMYFUNCTION("""COMPUTED_VALUE"""),1.0) -> 1 | G77: =IFERROR(__xludf.DUMMYFUNCTION("""COMPUTED_VALUE"""),37750.0) -> 37750 | H77: =if(G77>0,index(P:P,rank(G77, G:G,false)),) -> 22 | O77: =O76*0.5^(0.1*2/$N$2) -> 21.538094 | P77: =roundup(O77) -> 22
A78: =if(L78="","","`"&L78 &rept(" ",15-len(L78))&rept(" ",5-len(M78))&M78&"`") | B78: =if(F78="",,"` "&rept(" ",3-len(H78))&H78 &" " &row()&"."&rept(" ",3-len(row()))&index(J:J,F78)& rept(" ",15-len(index(J:J,F78)))& rept(" ",6-len(G78))&G78 &" `") -> ` 21 78. pl 37634 ` | C78: =if(C77=50,1,C77+1) -> 28 | D78: =if(C77=50,D77+1, D77) -> 2 | E78: 33353 | F78: =IFERROR(__xludf.DUMMYFUNCTION("""COMPUTED_VALUE"""),3.0) -> 3 | G78: =IFERROR(__xludf.DUMMYFUNCTION("""COMPUTED_VALUE"""),37634.0) -> 37634 | H78: =if(G78>0,index(P:P,rank(G78, G:G,false)),) -> 21 | O78: =O77*0.5^(0.1*2/$N$2) -> 20.804428 | P78: =roundup(O78) -> 21
A79: =if(L79="","","`"&L79 &rept(" ",15-len(L79))&rept(" ",5-len(M79))&M79&"`") | B79: =if(F79="",,"` "&rept(" ",3-len(H79))&H79 &" " &row()&"."&rept(" ",3-len(row()))&index(J:J,F79)& rept(" ",15-len(index(J:J,F79)))& rept(" ",6-len(G79))&G79 &" `") -> ` 21 79. NORTH 37631 ` | C79: =if(C78=50,1,C78+1) -> 29 | D79: =if(C78=50,D78+1, D78) -> 2 | E79: 33174 | F79: =IFERROR(__xludf.DUMMYFUNCTION("""COMPUTED_VALUE"""),2.0) -> 2 | G79: =IFERROR(__xludf.DUMMYFUNCTION("""COMPUTED_VALUE"""),37631.0) -> 37631 | H79: =if(G79>0,index(P:P,rank(G79, G:G,false)),) -> 21 | O79: =O78*0.5^(0.1*2/$N$2) -> 20.095752 | P79: =roundup(O79) -> 21
A80: =if(L80="","","`"&L80 &rept(" ",15-len(L80))&rept(" ",5-len(M80))&M80&"`") | B80: =if(F80="",,"` "&rept(" ",3-len(H80))&H80 &" " &row()&"."&rept(" ",3-len(row()))&index(J:J,F80)& rept(" ",15-len(index(J:J,F80)))& rept(" ",6-len(G80))&G80 &" `") -> ` 20 80. pl 37584 ` | C80: =if(C79=50,1,C79+1) -> 30 | D80: =if(C79=50,D79+1, D79) -> 2 | E80: 33111 | F80: =IFERROR(__xludf.DUMMYFUNCTION("""COMPUTED_VALUE"""),3.0) -> 3 | G80: =IFERROR(__xludf.DUMMYFUNCTION("""COMPUTED_VALUE"""),37584.0) -> 37584 | H80: =if(G80>0,index(P:P,rank(G80, G:G,false)),) -> 20 | O80: =O79*0.5^(0.1*2/$N$2) -> 19.411217 | P80: =roundup(O80) -> 20
A81: =if(L81="","","`"&L81 &rept(" ",15-len(L81))&rept(" ",5-len(M81))&M81&"`") | B81: =if(F81="",,"` "&rept(" ",3-len(H81))&H81 &" " &row()&"."&rept(" ",3-len(row()))&index(J:J,F81)& rept(" ",15-len(index(J:J,F81)))& rept(" ",6-len(G81))&G81 &" `") -> ` 19 81. sebg 37178 ` | C81: =if(C80=50,1,C80+1) -> 31 | D81: =if(C80=50,D80+1, D80) -> 2 | E81: 33104 | F81: =IFERROR(__xludf.DUMMYFUNCTION("""COMPUTED_VALUE"""),4.0) -> 4 | G81: =IFERROR(__xludf.DUMMYFUNCTION("""COMPUTED_VALUE"""),37178.0) -> 37178 | H81: =if(G81>0,index(P:P,rank(G81, G:G,false)),) -> 19 | O81: =O80*0.5^(0.1*2/$N$2) -> 18.75 | P81: =roundup(O81) -> 19
A82: =if(L82="","","`"&L82 &rept(" ",15-len(L82))&rept(" ",5-len(M82))&M82&"`") | B82: =if(F82="",,"` "&rept(" ",3-len(H82))&H82 &" " &row()&"."&rept(" ",3-len(row()))&index(J:J,F82)& rept(" ",15-len(index(J:J,F82)))& rept(" ",6-len(G82))&G82 &" `") -> ` 19 82. pl 37135 ` | C82: =if(C81=50,1,C81+1) -> 32 | D82: =if(C81=50,D81+1, D81) -> 2 | E82: 33032 | F82: =IFERROR(__xludf.DUMMYFUNCTION("""COMPUTED_VALUE"""),3.0) -> 3 | G82: =IFERROR(__xludf.DUMMYFUNCTION("""COMPUTED_VALUE"""),37135.0) -> 37135 | H82: =if(G82>0,index(P:P,rank(G82, G:G,false)),) -> 19 | O82: =O81*0.5^(0.1*2/$N$2) -> 18.111306 | P82: =roundup(O82) -> 19
A83: =if(L83="","","`"&L83 &rept(" ",15-len(L83))&rept(" ",5-len(M83))&M83&"`") | B83: =if(F83="",,"` "&rept(" ",3-len(H83))&H83 &" " &row()&"."&rept(" ",3-len(row()))&index(J:J,F83)& rept(" ",15-len(index(J:J,F83)))& rept(" ",6-len(G83))&G83 &" `") -> ` 18 83. pl 37060 ` | C83: =if(C82=50,1,C82+1) -> 33 | D83: =if(C82=50,D82+1, D82) -> 2 | E83: 32816 | F83: =IFERROR(__xludf.DUMMYFUNCTION("""COMPUTED_VALUE"""),3.0) -> 3 | G83: =IFERROR(__xludf.DUMMYFUNCTION("""COMPUTED_VALUE"""),37060.0) -> 37060 | H83: =if(G83>0,index(P:P,rank(G83, G:G,false)),) -> 18 | O83: =O82*0.5^(0.1*2/$N$2) -> 17.494369 | P83: =roundup(O83) -> 18
A84: =if(L84="","","`"&L84 &rept(" ",15-len(L84))&rept(" ",5-len(M84))&M84&"`") | B84: =if(F84="",,"` "&rept(" ",3-len(H84))&H84 &" " &row()&"."&rept(" ",3-len(row()))&index(J:J,F84)& rept(" ",15-len(index(J:J,F84)))& rept(" ",6-len(G84))&G84 &" `") -> ` 17 84. pl 37053 ` | C84: =if(C83=50,1,C83+1) -> 34 | D84: =if(C83=50,D83+1, D83) -> 2 | E84: 32649 | F84: =IFERROR(__xludf.DUMMYFUNCTION("""COMPUTED_VALUE"""),3.0) -> 3 | G84: =IFERROR(__xludf.DUMMYFUNCTION("""COMPUTED_VALUE"""),37053.0) -> 37053 | H84: =if(G84>0,index(P:P,rank(G84, G:G,false)),) -> 17 | O84: =O83*0.5^(0.1*2/$N$2) -> 16.898446 | P84: =roundup(O84) -> 17
A85: =if(L85="","","`"&L85 &rept(" ",15-len(L85))&rept(" ",5-len(M85))&M85&"`") | B85: =if(F85="",,"` "&rept(" ",3-len(H85))&H85 &" " &row()&"."&rept(" ",3-len(row()))&index(J:J,F85)& rept(" ",15-len(index(J:J,F85)))& rept(" ",6-len(G85))&G85 &" `") -> ` 17 85. pl 36989 ` | C85: =if(C84=50,1,C84+1) -> 35 | D85: =if(C84=50,D84+1, D84) -> 2 | E85: 32595 | F85: =IFERROR(__xludf.DUMMYFUNCTION("""COMPUTED_VALUE"""),3.0) -> 3 | G85: =IFERROR(__xludf.DUMMYFUNCTION("""COMPUTED_VALUE"""),36989.0) -> 36989 | H85: =if(G85>0,index(P:P,rank(G85, G:G,false)),) -> 17 | O85: =O84*0.5^(0.1*2/$N$2) -> 16.322823 | P85: =roundup(O85) -> 17
A86: =if(L86="","","`"&L86 &rept(" ",15-len(L86))&rept(" ",5-len(M86))&M86&"`") | B86: =if(F86="",,"` "&rept(" ",3-len(H86))&H86 &" " &row()&"."&rept(" ",3-len(row()))&index(J:J,F86)& rept(" ",15-len(index(J:J,F86)))& rept(" ",6-len(G86))&G86 &" `") -> ` 16 86. NORTH 36965 ` | C86: =if(C85=50,1,C85+1) -> 36 | D86: =if(C85=50,D85+1, D85) -> 2 | E86: 32292 | F86: =IFERROR(__xludf.DUMMYFUNCTION("""COMPUTED_VALUE"""),2.0) -> 2 | G86: =IFERROR(__xludf.DUMMYFUNCTION("""COMPUTED_VALUE"""),36965.0) -> 36965 | H86: =if(G86>0,index(P:P,rank(G86, G:G,false)),) -> 16 | O86: =O85*0.5^(0.1*2/$N$2) -> 15.766808 | P86: =roundup(O86) -> 16
A87: =if(L87="","","`"&L87 &rept(" ",15-len(L87))&rept(" ",5-len(M87))&M87&"`") | B87: =if(F87="",,"` "&rept(" ",3-len(H87))&H87 &" " &row()&"."&rept(" ",3-len(row()))&index(J:J,F87)& rept(" ",15-len(index(J:J,F87)))& rept(" ",6-len(G87))&G87 &" `") -> ` 16 87. pl 36951 ` | C87: =if(C86=50,1,C86+1) -> 37 | D87: =if(C86=50,D86+1, D86) -> 2 | E87: 32216 | F87: =IFERROR(__xludf.DUMMYFUNCTION("""COMPUTED_VALUE"""),3.0) -> 3 | G87: =IFERROR(__xludf.DUMMYFUNCTION("""COMPUTED_VALUE"""),36951.0) -> 36951 | H87: =if(G87>0,index(P:P,rank(G87, G:G,false)),) -> 16 | O87: =O86*0.5^(0.1*2/$N$2) -> 15.229732 | P87: =roundup(O87) -> 16
A88: =if(L88="","","`"&L88 &rept(" ",15-len(L88))&rept(" ",5-len(M88))&M88&"`") | B88: =if(F88="",,"` "&rept(" ",3-len(H88))&H88 &" " &row()&"."&rept(" ",3-len(row()))&index(J:J,F88)& rept(" ",15-len(index(J:J,F88)))& rept(" ",6-len(G88))&G88 &" `") -> ` 15 88. NORTH 36944 ` | C88: =if(C87=50,1,C87+1) -> 38 | D88: =if(C87=50,D87+1, D87) -> 2 | E88: 32041 | F88: =IFERROR(__xludf.DUMMYFUNCTION("""COMPUTED_VALUE"""),2.0) -> 2 | G88: =IFERROR(__xludf.DUMMYFUNCTION("""COMPUTED_VALUE"""),36944.0) -> 36944 | H88: =if(G88>0,index(P:P,rank(G88, G:G,false)),) -> 15 | O88: =O87*0.5^(0.1*2/$N$2) -> 14.710952 | P88: =roundup(O88) -> 15
A89: =if(L89="","","`"&L89 &rept(" ",15-len(L89))&rept(" ",5-len(M89))&M89&"`") | B89: =if(F89="",,"` "&rept(" ",3-len(H89))&H89 &" " &row()&"."&rept(" ",3-len(row()))&index(J:J,F89)& rept(" ",15-len(index(J:J,F89)))& rept(" ",6-len(G89))&G89 &" `") -> ` 15 89. pl 36862 ` | C89: =if(C88=50,1,C88+1) -> 39 | D89: =if(C88=50,D88+1, D88) -> 2 | E89: 31701 | F89: =IFERROR(__xludf.DUMMYFUNCTION("""COMPUTED_VALUE"""),3.0) -> 3 | G89: =IFERROR(__xludf.DUMMYFUNCTION("""COMPUTED_VALUE"""),36862.0) -> 36862 | H89: =if(G89>0,index(P:P,rank(G89, G:G,false)),) -> 15 | O89: =O88*0.5^(0.1*2/$N$2) -> 14.209843 | P89: =roundup(O89) -> 15
A90: =if(L90="","","`"&L90 &rept(" ",15-len(L90))&rept(" ",5-len(M90))&M90&"`") | B90: =if(F90="",,"` "&rept(" ",3-len(H90))&H90 &" " &row()&"."&rept(" ",3-len(row()))&index(J:J,F90)& rept(" ",15-len(index(J:J,F90)))& rept(" ",6-len(G90))&G90 &" `") -> ` 14 90. pl 36768 ` | C90: =if(C89=50,1,C89+1) -> 40 | D90: =if(C89=50,D89+1, D89) -> 2 | E90: 31632 | F90: =IFERROR(__xludf.DUMMYFUNCTION("""COMPUTED_VALUE"""),3.0) -> 3 | G90: =IFERROR(__xludf.DUMMYFUNCTION("""COMPUTED_VALUE"""),36768.0) -> 36768 | H90: =if(G90>0,index(P:P,rank(G90, G:G,false)),) -> 14 | O90: =O89*0.5^(0.1*2/$N$2) -> 13.725803 | P90: =roundup(O90) -> 14
A91: =if(L91="","","`"&L91 &rept(" ",15-len(L91))&rept(" ",5-len(M91))&M91&"`") | B91: =if(F91="",,"` "&rept(" ",3-len(H91))&H91 &" " &row()&"."&rept(" ",3-len(row()))&index(J:J,F91)& rept(" ",15-len(index(J:J,F91)))& rept(" ",6-len(G91))&G91 &" `") -> ` 14 91. pl 36675 ` | C91: =if(C90=50,1,C90+1) -> 41 | D91: =if(C90=50,D90+1, D90) -> 2 | E91: 31551 | F91: =IFERROR(__xludf.DUMMYFUNCTION("""COMPUTED_VALUE"""),3.0) -> 3 | G91: =IFERROR(__xludf.DUMMYFUNCTION("""COMPUTED_VALUE"""),36675.0) -> 36675 | H91: =if(G91>0,index(P:P,rank(G91, G:G,false)),) -> 14 | O91: =O90*0.5^(0.1*2/$N$2) -> 13.258252 | P91: =roundup(O91) -> 14
A92: =if(L92="","","`"&L92 &rept(" ",15-len(L92))&rept(" ",5-len(M92))&M92&"`") | B92: =if(F92="",,"` "&rept(" ",3-len(H92))&H92 &" " &row()&"."&rept(" ",3-len(row()))&index(J:J,F92)& rept(" ",15-len(index(J:J,F92)))& rept(" ",6-len(G92))&G92 &" `") -> ` 13 92. NORTH 36620 ` | C92: =if(C91=50,1,C91+1) -> 42 | D92: =if(C91=50,D91+1, D91) -> 2 | E92: 31487 | F92: =IFERROR(__xludf.DUMMYFUNCTION("""COMPUTED_VALUE"""),2.0) -> 2 | G92: =IFERROR(__xludf.DUMMYFUNCTION("""COMPUTED_VALUE"""),36620.0) -> 36620 | H92: =if(G92>0,index(P:P,rank(G92, G:G,false)),) -> 13 | O92: =O91*0.5^(0.1*2/$N$2) -> 12.806627 | P92: =roundup(O92) -> 13
A93: =if(L93="","","`"&L93 &rept(" ",15-len(L93))&rept(" ",5-len(M93))&M93&"`") | B93: =if(F93="",,"` "&rept(" ",3-len(H93))&H93 &" " &row()&"."&rept(" ",3-len(row()))&index(J:J,F93)& rept(" ",15-len(index(J:J,F93)))& rept(" ",6-len(G93))&G93 &" `") -> ` 13 93. NORTH 36554 ` | C93: =if(C92=50,1,C92+1) -> 43 | D93: =if(C92=50,D92+1, D92) -> 2 | E93: 31428 | F93: =IFERROR(__xludf.DUMMYFUNCTION("""COMPUTED_VALUE"""),2.0) -> 2 | G93: =IFERROR(__xludf.DUMMYFUNCTION("""COMPUTED_VALUE"""),36554.0) -> 36554 | H93: =if(G93>0,index(P:P,rank(G93, G:G,false)),) -> 13 | O93: =O92*0.5^(0.1*2/$N$2) -> 12.370387 | P93: =roundup(O93) -> 13
A94: =if(L94="","","`"&L94 &rept(" ",15-len(L94))&rept(" ",5-len(M94))&M94&"`") | B94: =if(F94="",,"` "&rept(" ",3-len(H94))&H94 &" " &row()&"."&rept(" ",3-len(row()))&index(J:J,F94)& rept(" ",15-len(index(J:J,F94)))& rept(" ",6-len(G94))&G94 &" `") -> ` 12 94. pl 36347 ` | C94: =if(C93=50,1,C93+1) -> 44 | D94: =if(C93=50,D93+1, D93) -> 2 | E94: 31278 | F94: =IFERROR(__xludf.DUMMYFUNCTION("""COMPUTED_VALUE"""),3.0) -> 3 | G94: =IFERROR(__xludf.DUMMYFUNCTION("""COMPUTED_VALUE"""),36347.0) -> 36347 | H94: =if(G94>0,index(P:P,rank(G94, G:G,false)),) -> 12 | O94: =O93*0.5^(0.1*2/$N$2) -> 11.949006 | P94: =roundup(O94) -> 12
A95: =if(L95="","","`"&L95 &rept(" ",15-len(L95))&rept(" ",5-len(M95))&M95&"`") | B95: =if(F95="",,"` "&rept(" ",3-len(H95))&H95 &" " &row()&"."&rept(" ",3-len(row()))&index(J:J,F95)& rept(" ",15-len(index(J:J,F95)))& rept(" ",6-len(G95))&G95 &" `") -> ` 12 95. Greddit2 36340 ` | C95: =if(C94=50,1,C94+1) -> 45 | D95: =if(C94=50,D94+1, D94) -> 2 | E95: 31135 | F95: =IFERROR(__xludf.DUMMYFUNCTION("""COMPUTED_VALUE"""),1.0) -> 1 | G95: =IFERROR(__xludf.DUMMYFUNCTION("""COMPUTED_VALUE"""),36340.0) -> 36340 | H95: =if(G95>0,index(P:P,rank(G95, G:G,false)),) -> 12 | O95: =O94*0.5^(0.1*2/$N$2) -> 11.541979 | P95: =roundup(O95) -> 12
A96: =if(L96="","","`"&L96 &rept(" ",15-len(L96))&rept(" ",5-len(M96))&M96&"`") | B96: =if(F96="",,"` "&rept(" ",3-len(H96))&H96 &" " &row()&"."&rept(" ",3-len(row()))&index(J:J,F96)& rept(" ",15-len(index(J:J,F96)))& rept(" ",6-len(G96))&G96 &" `") -> ` 12 96. NORTH 36175 ` | C96: =if(C95=50,1,C95+1) -> 46 | D96: =if(C95=50,D95+1, D95) -> 2 | E96: 30585 | F96: =IFERROR(__xludf.DUMMYFUNCTION("""COMPUTED_VALUE"""),2.0) -> 2 | G96: =IFERROR(__xludf.DUMMYFUNCTION("""COMPUTED_VALUE"""),36175.0) -> 36175 | H96: =if(G96>0,index(P:P,rank(G96, G:G,false)),) -> 12 | O96: =O95*0.5^(0.1*2/$N$2) -> 11.148817 | P96: =roundup(O96) -> 12
A97: =if(L97="","","`"&L97 &rept(" ",15-len(L97))&rept(" ",5-len(M97))&M97&"`") | B97: =if(F97="",,"` "&rept(" ",3-len(H97))&H97 &" " &row()&"."&rept(" ",3-len(row()))&index(J:J,F97)& rept(" ",15-len(index(J:J,F97)))& rept(" ",6-len(G97))&G97 &" `") -> ` 11 97. Greddit2 36148 ` | C97: =if(C96=50,1,C96+1) -> 47 | D97: =if(C96=50,D96+1, D96) -> 2 | E97: 30555 | F97: =IFERROR(__xludf.DUMMYFUNCTION("""COMPUTED_VALUE"""),1.0) -> 1 | G97: =IFERROR(__xludf.DUMMYFUNCTION("""COMPUTED_VALUE"""),36148.0) -> 36148 | H97: =if(G97>0,index(P:P,rank(G97, G:G,false)),) -> 11 | O97: =O96*0.5^(0.1*2/$N$2) -> 10.769047 | P97: =roundup(O97) -> 11
A98: =if(L98="","","`"&L98 &rept(" ",15-len(L98))&rept(" ",5-len(M98))&M98&"`") | B98: =if(F98="",,"` "&rept(" ",3-len(H98))&H98 &" " &row()&"."&rept(" ",3-len(row()))&index(J:J,F98)& rept(" ",15-len(index(J:J,F98)))& rept(" ",6-len(G98))&G98 &" `") -> ` 11 98. sebg 36046 ` | C98: =if(C97=50,1,C97+1) -> 48 | D98: =if(C97=50,D97+1, D97) -> 2 | E98: 29957 | F98: =IFERROR(__xludf.DUMMYFUNCTION("""COMPUTED_VALUE"""),4.0) -> 4 | G98: =IFERROR(__xludf.DUMMYFUNCTION("""COMPUTED_VALUE"""),36046.0) -> 36046 | H98: =if(G98>0,index(P:P,rank(G98, G:G,false)),) -> 11 | O98: =O97*0.5^(0.1*2/$N$2) -> 10.402214 | P98: =roundup(O98) -> 11
A99: =if(L99="","","`"&L99 &rept(" ",15-len(L99))&rept(" ",5-len(M99))&M99&"`") | B99: =if(F99="",,"` "&rept(" ",3-len(H99))&H99 &" " &row()&"."&rept(" ",3-len(row()))&index(J:J,F99)& rept(" ",15-len(index(J:J,F99)))& rept(" ",6-len(G99))&G99 &" `") -> ` 11 99. pl 35999 ` | C99: =if(C98=50,1,C98+1) -> 49 | D99: =if(C98=50,D98+1, D98) -> 2 | E99: 29847 | F99: =IFERROR(__xludf.DUMMYFUNCTION("""COMPUTED_VALUE"""),3.0) -> 3 | G99: =IFERROR(__xludf.DUMMYFUNCTION("""COMPUTED_VALUE"""),35999.0) -> 35999 | H99: =if(G99>0,index(P:P,rank(G99, G:G,false)),) -> 11 | O99: =O98*0.5^(0.1*2/$N$2) -> 10.047876 | P99: =roundup(O99) -> 11
A100: =if(L100="","","`"&L100 &rept(" ",15-len(L100))&rept(" ",5-len(M100))&M100&"`") | B100: =if(F100="",,"` "&rept(" ",3-len(H100))&H100 &" " &row()&"."&rept(" ",3-len(row()))&index(J:J,F100)& rept(" ",15-len(index(J:J,F100)))& rept(" ",6-len(G100))&G100 &" `") -> ` 10 100.NORTH 35857 ` | C100: =if(C99=50,1,C99+1) -> 50 | D100: =if(C99=50,D99+1, D99) -> 2 | F100: =IFERROR(__xludf.DUMMYFUNCTION("""COMPUTED_VALUE"""),2.0) -> 2 | G100: =IFERROR(__xludf.DUMMYFUNCTION("""COMPUTED_VALUE"""),35857.0) -> 35857 | H100: =if(G100>0,index(P:P,rank(G100, G:G,false)),) -> 10 | O100: =O99*0.5^(0.1*2/$N$2) -> 9.7056087 | P100: =roundup(O100) -> 10
...

Sheet RankScores
A1: 1 | B1: 300 | C1: =ROUNDUP(B1) -> 300
A2: =A1+1 -> 2 | B2: =B1*0.5^0.1 -> 279.9099 | C2: =ROUNDUP(B2) -> 280
A3: =A2+1 -> 3 | B3: =B2*0.5^0.1 -> 261.16517 | C3: =ROUNDUP(B3) -> 262
A4: =A3+1 -> 4 | B4: =B3*0.5^0.1 -> 243.67572 | C4: =ROUNDUP(B4) -> 244
A5: =A4+1 -> 5 | B5: =B4*0.5^0.1 -> 227.35748 | C5: =ROUNDUP(B5) -> 228
A6: =A5+1 -> 6 | B6: =B5*0.5^0.1 -> 212.13203 | C6: =ROUNDUP(B6) -> 213
A7: =A6+1 -> 7 | B7: =B6*0.5^0.1 -> 197.92619 | C7: =ROUNDUP(B7) -> 198
A8: =A7+1 -> 8 | B8: =B7*0.5^0.1 -> 184.67166 | C8: =ROUNDUP(B8) -> 185
A9: =A8+1 -> 9 | B9: =B8*0.5^0.1 -> 172.30475 | C9: =ROUNDUP(B9) -> 173
A10: =A9+1 -> 10 | B10: =B9*0.5^0.1 -> 160.76602 | C10: =ROUNDUP(B10) -> 161
A11: =A10+1 -> 11 | B11: =B10*0.5^0.1 -> 150 | C11: =ROUNDUP(B11) -> 150
A12: =A11+1 -> 12 | B12: =B11*0.5^0.1 -> 139.95495 | C12: =ROUNDUP(B12) -> 140
A13: =A12+1 -> 13 | B13: =B12*0.5^0.1 -> 130.58258 | C13: =ROUNDUP(B13) -> 131
... A100: =A99+1 -> 100 | B100: =B99*0.5^0.1 -> 0.31399613 | C100: =ROUNDUP(B100) -> 1

Sheet Input
A1: **Unique** Team Name or Source Sheet | B1: Greddit2 | C1: NORTH | D1: pl | E1: sebg
A2: 1 | B2: 37750 | C2: 38399 | D2: 42626 | E2: 41338
A3: =A2+1 -> 2 | B3: 36340 | C3: 38021 | D3: 41118 | E3: 41153
A4: =A3+1 -> 3 | B4: 36148 | C4: 37631 | D4: 41042 | E4: 40912
A5: =A4+1 -> 4 | B5: 35606 | C5: 36965 | D5: 40807 | E5: 40742
A6: =A5+1 -> 5 | B6: 34977 | C6: 36944 | D6: 40750 | E6: 40581
A7: =A6+1 -> 6 | B7: 34868 | C7: 36620 | D7: 40655 | E7: 40522
A8: =A7+1 -> 7 | B8: 34771 | C8: 36554 | D8: 40576 | E8: 40504
A9: =A8+1 -> 8 | B9: 34706 | C9: 36175 | D9: 40392 | E9: 40489
A10: =A9+1 -> 9 | B10: 34326 | C10: 35857 | D10: 40209 | E10: 40405
A11: =A10+1 -> 10 | B11: 33276 | C11: 35783 | D11: 40078 | E11: 39935
A12: =A11+1 -> 11 | B12: 33091 | C12: 35463 | D12: 40059 | E12: 39896
A13: =A12+1 -> 12 | B13: 32689 | C13: 35391 | D13: 40038 | E13: 39882
A14: =A13+1 -> 13 | B14: 32649 | C14: 35365 | D14: 39942 | E14: 39845
... A47: =A46+1 -> 46 | B47: 25357 | C47: 30585 | D47: 35844 | E47: 34279
A48: =A47+1 -> 47 | C48: 30555 | D48: 35109 | E48: 33424
A49: =A48+1 -> 48 | C49: 29957 | D49: 34478 | E49: 31772
A50: =A49+1 -> 49 | C50: 29847 | D50: 29651 | E50: 25816
A51: =A50+1 -> 50 | E51: 0
