Workbook
Name MATCHINTABLE: [1]!Table4[#Headers]
Name UGU: Dashboard!$E$2:$H$10

Sheet Info
B1: Modelon Impact Add-In for Excel
B2: Example: Battery Charging with Analysis Dashboard
B4: Introduction
B24: Instructions
B26: In order to run the experiment there are a couple of things required:
B28: 1. If not done already: Install the Modelon Impact Add-In for Excel | C28: Installation instructions
B29: 2. If not done already: Check out the workspace needed for the experiment by clicking here: | C29: Workspace Link
B30: Note: The workspace link will only work on impact.modelon.cloud, if you are using a privately hosted instance of Modelon Impact you need to adapt the URL to point at this specific instance.
B31: 3. First time you open the sheet you will need to use the "Run baseline" button to initialize the experiment sheet.
B33: Once these are in place, you simply just launch the Add-In and run the experiment from the ModelonExperiment.
B34: After finished execution, the Dashboard charts are populated with the values from the experiment sheet.

Sheet ModelonExperiment
A1: Information
B3: Analysis | C3: dynamic
B4: Impact URL | C4: https://jhmi-staging.modelon.com
B5: Experiment template | C5: MI_Template_Standard 1.3.2
A7: Experiment
B9: Model
B10: Workspace ID | E10: exceldemo
B11: Model name | E11: Examples.SimpleBatteryCharging
B12: Baseline experiment ID | E12: examples_simplebatterycharging_20240122_145838_a749454
B14: Advanced settings (unhide hidden rows below to edit)
B15: Simulation options
B16: dynamic_diagnostics | E16: FALSE
B17: ncp | E17: 500
B19: Solver options
B20: rtol | E20: 1e-06
B22: Compiler options
B23: c_compiler | E23: gcc
B24: generate_html_diagnostics | E24: FALSE
B25: include_protected_variables | E25: FALSE
B28: Analysis settings | E28: Baseline | F28: Case 1 | G28: Case 2 | H28: Case 3 | I28: Case 4 | J28: Case 5 | K28: Case 6 | L28: Case 7 | M28: Case 8 | N28: Case 9 | O28: Case 10 | P28: Case 11 | Q28: Case 12 | R28: Case 13 | S28: Case 14 | T28: Case 15 | U28: Case 16 | V28: Case 17 | W28: Case 18 | X28: Case 19 | Y28: Case 20 | Z28: Case 21 | AA28: Case 22 | AB28: Case 23 | AC28: Case 24 | AD28: Case 25 | AE28: Case 26 | AF28: Case 27 | AG28: Case 28 | AH28: Case 29 | AI28: Case 30
B29: start_time | E29: 0 | F29: 0 | G29: 0 | H29: 0 | I29: 0 | J29: 0 | K29: 0 | L29: 0 | M29: 0 | N29: 0 | O29: 0 | P29: 0 | Q29: 0 | R29: 0 | S29: 0 | T29: 0 | U29: 0 | V29: 0 | W29: 0 | X29: 0 | Y29: 0 | Z29: 0 | AA29: 0 | AB29: 0 | AC29: 0 | AD29: 0 | AE29: 0 | AF29: 0 | AG29: 0 | AH29: 0 | AI29: 0
B30: final_time | E30: 6900 | F30: 6900 | G30: 6900 | H30: 6900 | I30: 6900 | J30: 6900 | K30: 6900 | L30: 6900 | M30: 6900 | N30: 6900 | O30: 6900 | P30: 6900 | Q30: 6900 | R30: 6900 | S30: 6900 | T30: 6900 | U30: 6900 | V30: 6900 | W30: 6900 | X30: 6900 | Y30: 6900 | Z30: 6900 | AA30: 6900 | AB30: 6900 | AC30: 6900 | AD30: 6900 | AE30: 6900 | AF30: 6900 | AG30: 6900 | AH30: 6900 | AI30: 6900
B32: Modifiers | C32: Unit | E32: Baseline | F32: Case 1 | G32: Case 2 | H32: Case 3 | I32: Case 4 | J32: Case 5 | K32: Case 6 | L32: Case 7 | M32: Case 8 | N32: Case 9 | O32: Case 10 | P32: Case 11 | Q32: Case 12 | R32: Case 13 | S32: Case 14 | T32: Case 15 | U32: Case 16 | V32: Case 17 | W32: Case 18 | X32: Case 19 | Y32: Case 20 | Z32: Case 21 | AA32: Case 22 | AB32: Case 23 | AC32: Case 24 | AD32: Case 25 | AE32: Case 26 | AF32: Case 27 | AG32: Case 28 | AH32: Case 29 | AI32: Case 30
B33: battery.core.iCellMaxCh | C33: A | E33: 14 | F33: 14 | G33: 8 | H33: 2 | I33: 10 | J33: 14 | K33: 10 | L33: 2 | M33: 14 | N33: 8 | O33: 14 | P33: 15 | Q33: 6 | R33: 17 | S33: 8 | T33: 20 | U33: 17 | V33: 9 | W33: 12 | X33: 12 | Y33: 10 | Z33: 15 | AA33: 9 | AB33: 18 | AC33: 12 | AD33: 14 | AE33: 10 | AF33: 13 | AG33: 6 | AH33: 4 | AI33: 11
B34: battery.core.capacity.Q_cap_cell_nom | C34: C | E34: 10874.779 | F34: 10874.779 | G34: 6842.6428 | H34: 18834.249 | I34: 35453.331 | J34: 4666.3324 | K34: 17294.954 | L34: 12886.609 | M34: 12311.319 | N34: 22837.963 | O34: 14276.154 | P34: 6864.3942 | Q34: 8321.8431 | R34: 18803.51 | S34: 26323.682 | T34: 30729.82 | U34: 24210.724 | V34: 12841.311 | W34: 21696.214 | X34: 18031.569 | Y34: 6568.2654 | Z34: 28215.012 | AA34: 5642.3913 | AB34: 4877.4408 | AC34: 19564.248 | AD34: 12201.706 | AE34: 6530.7334 | AF34: 11250.203 | AG34: 11348.404 | AH34: 12917.461 | AI34: 27815.772
B35: battery.core.impedance.R0 | C35: Ohm | E35: 0.038095238 | F35: 0.038095238 | G35: 0.066666667 | H35: 0.26666667 | I35: 0.053333333 | J35: 0.038095238 | K35: 0.053333333 | L35: 0.26666667 | M35: 0.038095238 | N35: 0.066666667 | O35: 0.038095238 | P35: 0.035555556 | Q35: 0.088888889 | R35: 0.031372549 | S35: 0.066666667 | T35: 0.026666667 | U35: 0.031372549 | V35: 0.059259259 | W35: 0.044444444 | X35: 0.044444444 | Y35: 0.053333333 | Z35: 0.035555556 | AA35: 0.059259259 | AB35: 0.02962963 | AC35: 0.044444444 | AD35: 0.038095238 | AE35: 0.053333333 | AF35: 0.041025641 | AG35: 0.088888889 | AH35: 0.13333333 | AI35: 0.048484848
B36: battery.np | E36: 47 | F36: 47 | G36: 75 | H36: 27 | I36: 15 | J36: 110 | K36: 30 | L36: 40 | M36: 42 | N36: 23 | O36: 36 | P36: 75 | Q36: 62 | R36: 27 | S36: 20 | T36: 17 | U36: 21 | V36: 40 | W36: 24 | X36: 29 | Y36: 78 | Z36: 18 | AA36: 91 | AB36: 106 | AC36: 26 | AD36: 42 | AE36: 79 | AF36: 46 | AG36: 45 | AH36: 40 | AI36: 19
A38: Results
B40: Outputs | C40: Unit | D40: Trajectory | E40: Baseline | F40: Case 1 | G40: Case 2 | H40: Case 3 | I40: Case 4 | J40: Case 5 | K40: Case 6 | L40: Case 7 | M40: Case 8 | N40: Case 9 | O40: Case 10 | P40: Case 11 | Q40: Case 12 | R40: Case 13 | S40: Case 14 | T40: Case 15 | U40: Case 16 | V40: Case 17 | W40: Case 18 | X40: Case 19 | Y40: Case 20 | Z40: Case 21 | AA40: Case 22 | AB40: Case 23 | AC40: Case 24 | AD40: Case 25 | AE40: Case 26 | AF40: Case 27 | AG40: Case 28 | AH40: Case 29 | AI40: Case 30
B41: time | C41: s | D41: FALSE | E41: 1465.2263 | F41: 1465.2263 | G41: 1613.3991 | H41: 6900 | I41: 6686.9262 | J41: 628.8254 | K41: 3262.1557 | L41: 6900 | M41: 1658.7596 | N41: 5384.3994 | O41: 1923.4635 | P41: 863.29184 | Q41: 2616.0877 | R41: 2086.3526 | S41: 6206.2074 | T41: 2898.1423 | U41: 2686.2758 | V41: 2691.2785 | W41: 3410.2561 | X41: 2834.2615 | Y41: 1239.0002 | Z41: 3547.908 | AA41: 1182.6201 | AB41: 511.24614 | AC41: 3075.1656 | AD41: 1643.9915 | AE41: 1231.9221 | AF41: 1632.3926 | AG41: 3567.5232 | AH41: 6090.9771 | AI41: 4769.539
B42: battery.summary.e_loss | C42: J | D42: FALSE | E42: 17038899 | F42: 17038899 | G42: 17108441 | H42: 14600417 | I42: 17729507 | J42: 17110193 | K42: 17297235 | L42: 16369294 | M42: 17237714 | N42: 17512061 | O42: 17133367 | P42: 17162003 | Q42: 17200663 | R42: 16925176 | S42: 17552004 | T42: 17415813 | U42: 16949634 | V42: 17123896 | W42: 17359285 | X42: 17432760 | Y42: 17079049 | Z42: 16931288 | AA42: 17116719 | AB42: 17233395 | AC42: 16957909 | AD42: 17084237 | AE42: 17199155 | AF42: 17252164 | AG42: 17024902 | AH42: 17226119 | AI42: 17619149
B44: Experiment information
B45: Status | F45: successful | G45: successful | H45: successful | I45: successful | J45: successful | K45: successful | L45: successful | M45: successful | N45: successful | O45: successful | P45: successful | Q45: successful | R45: successful | S45: successful | T45: successful | U45: successful | V45: successful | W45: successful | X45: successful | Y45: successful | Z45: successful | AA45: successful | AB45: successful | AC45: successful | AD45: successful | AE45: successful | AF45: successful | AG45: successful | AH45: successful | AI45: successful
B46: Failed at
B47: Duration | F47: 90ms | G47: 30ms | H47: 79ms | I47: 77ms | J47: 24ms | K47: 45ms | L47: 75ms | M47: 30ms | N47: 95ms | O47: 46ms | P47: 31ms | Q47: 48ms | R47: 37ms | S47: 91ms | T47: 56ms | U47: 46ms | V47: 39ms | W47: 54ms | X47: 42ms | Y47: 28ms | Z47: 53ms | AA47: 25ms | AB47: 20ms | AC47: 40ms | AD47: 30ms | AE47: 26ms | AF47: 34ms | AG47: 62ms | AH47: 70ms | AI47: 61ms
B48: Datetime finished | F48: 2024-01-22, 16:01:59 | G48: 2024-01-22, 16:01:59 | H48: 2024-01-22, 16:01:59 | I48: 2024-01-22, 16:01:59 | J48: 2024-01-22, 16:01:59 | K48: 2024-01-22, 16:01:59 | L48: 2024-01-22, 16:01:59 | M48: 2024-01-22, 16:01:59 | N48: 2024-01-22, 16:02:00 | O48: 2024-01-22, 16:02:00 | P48: 2024-01-22, 16:02:00 | Q48: 2024-01-22, 16:02:00 | R48: 2024-01-22, 16:02:00 | S48: 2024-01-22, 16:02:00 | T48: 2024-01-22, 16:02:00 | U48: 2024-01-22, 16:02:00 | V48: 2024-01-22, 16:02:00 | W48: 2024-01-22, 16:02:00 | X48: 2024-01-22, 16:02:00 | Y48: 2024-01-22, 16:02:00 | Z48: 2024-01-22, 16:02:00 | AA48: 2024-01-22, 16:02:00 | AB48: 2024-01-22, 16:02:00 | AC48: 2024-01-22, 16:02:00 | AD48: 2024-01-22, 16:02:00 | AE48: 2024-01-22, 16:02:00 | AF48: 2024-01-22, 16:02:00 | AG48: 2024-01-22, 16:02:00 | AH48: 2024-01-22, 16:02:00 | AI48: 2024-01-22, 16:02:00
B49: Experiment ID | F49: examples_simplebatterycharging_20240122_150159_f25913f
B50: Case ID | F50: case_1 | G50: case_2 | H50: case_3 | I50: case_4 | J50: case_5 | K50: case_6 | L50: case_7 | M50: case_8 | N50: case_9 | O50: case_10 | P50: case_11 | Q50: case_12 | R50: case_13 | S50: case_14 | T50: case_15 | U50: case_16 | V50: case_17 | W50: case_18 | X50: case_19 | Y50: case_20 | Z50: case_21 | AA50: case_22 | AB50: case_23 | AC50: case_24 | AD50: case_25 | AE50: case_26 | AF50: case_27 | AG50: case_28 | AH50: case_29 | AI50: case_30

Sheet _intermediate
A1: {=TRANSPOSE(ModelonExperiment!B32:AI42)} -> Modifiers | B1: battery.core.iCellMaxCh | C1: battery.core.capacity.Q_cap_cell_nom | D1: battery.core.impedance.R0 | E1: battery.np | F1: 0 | G1: 0 | H1: 0 | I1: Outputs | J1: time | K1: battery.summary.e_loss
A2: Unit | B2: A | C2: C | D2: Ohm | E2: 0 | F2: 0 | G2: 0 | H2: 0 | I2: Unit | J2: s | K2: J
A3: 0 | B3: 0 | C3: 0 | D3: 0 | E3: 0 | F3: 0 | G3: 0 | H3: 0 | I3: Trajectory | J3: FALSE | K3: FALSE
A4: Baseline | B4: 14 | C4: 10874.779 | D4: 0.038095238 | E4: 47 | F4: 0 | G4: 0 | H4: 0 | I4: Baseline | J4: 1465.2263 | K4: 17038899
A5: Case 1 | B5: 14 | C5: 10874.779 | D5: 0.038095238 | E5: 47 | F5: 0 | G5: 0 | H5: 0 | I5: Case 1 | J5: 1465.2263 | K5: 17038899
A6: Case 2 | B6: 8 | C6: 6842.6428 | D6: 0.066666667 | E6: 75 | F6: 0 | G6: 0 | H6: 0 | I6: Case 2 | J6: 1613.3991 | K6: 17108441
A7: Case 3 | B7: 2 | C7: 18834.249 | D7: 0.26666667 | E7: 27 | F7: 0 | G7: 0 | H7: 0 | I7: Case 3 | J7: 6900 | K7: 14600417
A8: Case 4 | B8: 10 | C8: 35453.331 | D8: 0.053333333 | E8: 15 | F8: 0 | G8: 0 | H8: 0 | I8: Case 4 | J8: 6686.9262 | K8: 17729507
A9: Case 5 | B9: 14 | C9: 4666.3324 | D9: 0.038095238 | E9: 110 | F9: 0 | G9: 0 | H9: 0 | I9: Case 5 | J9: 628.8254 | K9: 17110193
A10: Case 6 | B10: 10 | C10: 17294.954 | D10: 0.053333333 | E10: 30 | F10: 0 | G10: 0 | H10: 0 | I10: Case 6 | J10: 3262.1557 | K10: 17297235
A11: Case 7 | B11: 2 | C11: 12886.609 | D11: 0.26666667 | E11: 40 | F11: 0 | G11: 0 | H11: 0 | I11: Case 7 | J11: 6900 | K11: 16369294
A12: Case 8 | B12: 14 | C12: 12311.319 | D12: 0.038095238 | E12: 42 | F12: 0 | G12: 0 | H12: 0 | I12: Case 8 | J12: 1658.7596 | K12: 17237714
A13: Case 9 | B13: 8 | C13: 22837.963 | D13: 0.066666667 | E13: 23 | F13: 0 | G13: 0 | H13: 0 | I13: Case 9 | J13: 5384.3994 | K13: 17512061
A14: Case 10 | B14: 14 | C14: 14276.154 | D14: 0.038095238 | E14: 36 | F14: 0 | G14: 0 | H14: 0 | I14: Case 10 | J14: 1923.4635 | K14: 17133367
A15: Case 11 | B15: 15 | C15: 6864.3942 | D15: 0.035555556 | E15: 75 | F15: 0 | G15: 0 | H15: 0 | I15: Case 11 | J15: 863.29184 | K15: 17162003
... A34: Case 30 | B34: 11 | C34: 27815.772 | D34: 0.048484848 | E34: 19 | F34: 0 | G34: 0 | H34: 0 | I34: Case 30 | J34: 4769.539 | K34: 17619149

Sheet Dashboard
A1: Battery Charging Design - Modelon Impact Excel Add-in
A3: Plotting
A4: Select Scatter X: | B4: Cell Nominal Capacity (Ah)
A5: Select Scatter Y: | B5: Cell Internal Resitance (Ω)
A6: Pareto Objective 1: | B6: Charge Time (min)
A7: Pareto Objective 2: | B7: Charging Losses (Wh)
A8: Select Histogram: | B8: Cell Max Charge Current (A)
D9: Title Scatter: | E9: =_xlfn.CONCAT(B5," vs. ",B4) -> Cell Internal Resitance (Ω) vs. Cell Nominal Capacity (Ah)
D10: Title Histogram: | E10: =_xlfn.CONCAT(B8) -> Cell Max Charge Current (A)
A27: Experiment | C27: Parameterization | G27: Results | I27: Plotting | L27: Pareto
A28: Experiment ID | B28: Case | C28: Cell Max Charge Current (A) | D28: Cell Nominal Capacity (Ah) | E28: Cell Internal Resitance (Ω) | F28: Cells in Parallel | G28: Charge Time (min) | H28: Charging Losses (Wh) | I28: Histogram | J28: Scatter X | K28: Scatter Y | L28: Objective 1 | M28: Objective 2 | N28: Objective 1 (Plot) | O28: Objective 2 (Plot) | P28: Efficient?
B29: 1 | C29: =_intermediate!B5 -> 14 | D29: =_intermediate!C5/3600 -> 3.0207719 | E29: =_intermediate!D5 -> 0.038095238 | F29: =_intermediate!E5 -> 47 | G29: =_intermediate!J5/60 -> 24.420438 | H29: =_intermediate!K5/3600 -> 4733.0276 | I29: {=INDIRECT(_xlfn.CONCAT("Table44[@[",$B$8,"]]"))} -> 14 | J29: {=INDIRECT(_xlfn.CONCAT("Table44[@[",$B$4,"]]"))} -> 3.0207719 | K29: {=INDIRECT(_xlfn.CONCAT("Table44[@[",$B$5,"]]"))} -> 0.038095238 | L29: {=INDIRECT(_xlfn.CONCAT("Table44[@[",$B$6,"]]"))} -> 24.420438 | M29: {=INDIRECT(_xlfn.CONCAT("Table44[@[",$B$7,"]]"))} -> 4733.0276 | N29: =Table44[[#This Row],[Objective 1]] -> 24.420438 | O29: =IF(Table44[[#This Row],[Efficient?]],Table44[[#This Row],[Objective 2]],NA()) -> 4733.0276 | P29: =IF(COUNTIFS(Table44[Objective 1],"<"&Table44[[#This Row],[Objective 1]],Table44[Objective 2],"<"&Table44[[#This Row],[Objective 2]])=0,TRUE,FALSE) -> TRUE
B30: 2 | C30: =_intermediate!B6 -> 8 | D30: =_intermediate!C6/3600 -> 1.9007341 | E30: =_intermediate!D6 -> 0.066666667 | F30: =_intermediate!E6 -> 75 | G30: =_intermediate!J6/60 -> 26.889984 | H30: =_intermediate!K6/3600 -> 4752.3446 | I30: {=INDIRECT(_xlfn.CONCAT("Table44[@[",$B$8,"]]"))} -> 8 | J30: {=INDIRECT(_xlfn.CONCAT("Table44[@[",$B$4,"]]"))} -> 1.9007341 | K30: {=INDIRECT(_xlfn.CONCAT("Table44[@[",$B$5,"]]"))} -> 0.066666667 | L30: {=INDIRECT(_xlfn.CONCAT("Table44[@[",$B$6,"]]"))} -> 26.889984 | M30: {=INDIRECT(_xlfn.CONCAT("Table44[@[",$B$7,"]]"))} -> 4752.3446 | N30: =Table44[[#This Row],[Objective 1]] -> 26.889984 | O30: =IF(Table44[[#This Row],[Efficient?]],Table44[[#This Row],[Objective 2]],NA()) -> #N/A | P30: =IF(COUNTIFS(Table44[Objective 1],"<"&Table44[[#This Row],[Objective 1]],Table44[Objective 2],"<"&Table44[[#This Row],[Objective 2]])=0,TRUE,FALSE) -> FALSE
B31: 3 | C31: =_intermediate!B7 -> 2 | D31: =_intermediate!C7/3600 -> 5.2317358 | E31: =_intermediate!D7 -> 0.26666667 | F31: =_intermediate!E7 -> 27 | G31: =_intermediate!J7/60 -> 115 | H31: =_intermediate!K7/3600 -> 4055.6714 | I31: {=INDIRECT(_xlfn.CONCAT("Table44[@[",$B$8,"]]"))} -> 2 | J31: {=INDIRECT(_xlfn.CONCAT("Table44[@[",$B$4,"]]"))} -> 5.2317358 | K31: {=INDIRECT(_xlfn.CONCAT("Table44[@[",$B$5,"]]"))} -> 0.26666667 | L31: {=INDIRECT(_xlfn.CONCAT("Table44[@[",$B$6,"]]"))} -> 115 | M31: {=INDIRECT(_xlfn.CONCAT("Table44[@[",$B$7,"]]"))} -> 4055.6714 | N31: =Table44[[#This Row],[Objective 1]] -> 115 | O31: =IF(Table44[[#This Row],[Efficient?]],Table44[[#This Row],[Objective 2]],NA()) -> 4055.6714 | P31: =IF(COUNTIFS(Table44[Objective 1],"<"&Table44[[#This Row],[Objective 1]],Table44[Objective 2],"<"&Table44[[#This Row],[Objective 2]])=0,TRUE,FALSE) -> TRUE
B32: 4 | C32: =_intermediate!B8 -> 10 | D32: =_intermediate!C8/3600 -> 9.8481474 | E32: =_intermediate!D8 -> 0.053333333 | F32: =_intermediate!E8 -> 15 | G32: =_intermediate!J8/60 -> 111.44877 | H32: =_intermediate!K8/3600 -> 4924.8629 | I32: {=INDIRECT(_xlfn.CONCAT("Table44[@[",$B$8,"]]"))} -> 10 | J32: {=INDIRECT(_xlfn.CONCAT("Table44[@[",$B$4,"]]"))} -> 9.8481474 | K32: {=INDIRECT(_xlfn.CONCAT("Table44[@[",$B$5,"]]"))} -> 0.053333333 | L32: {=INDIRECT(_xlfn.CONCAT("Table44[@[",$B$6,"]]"))} -> 111.44877 | M32: {=INDIRECT(_xlfn.CONCAT("Table44[@[",$B$7,"]]"))} -> 4924.8629 | N32: =Table44[[#This Row],[Objective 1]] -> 111.44877 | O32: =IF(Table44[[#This Row],[Efficient?]],Table44[[#This Row],[Objective 2]],NA()) -> #N/A | P32: =IF(COUNTIFS(Table44[Objective 1],"<"&Table44[[#This Row],[Objective 1]],Table44[Objective 2],"<"&Table44[[#This Row],[Objective 2]])=0,TRUE,FALSE) -> FALSE
B33: 5 | C33: =_intermediate!B9 -> 14 | D33: =_intermediate!C9/3600 -> 1.2962034 | E33: =_intermediate!D9 -> 0.038095238 | F33: =_intermediate!E9 -> 110 | G33: =_intermediate!J9/60 -> 10.480423 | H33: =_intermediate!K9/3600 -> 4752.8314 | I33: {=INDIRECT(_xlfn.CONCAT("Table44[@[",$B$8,"]]"))} -> 14 | J33: {=INDIRECT(_xlfn.CONCAT("Table44[@[",$B$4,"]]"))} -> 1.2962034 | K33: {=INDIRECT(_xlfn.CONCAT("Table44[@[",$B$5,"]]"))} -> 0.038095238 | L33: {=INDIRECT(_xlfn.CONCAT("Table44[@[",$B$6,"]]"))} -> 10.480423 | M33: {=INDIRECT(_xlfn.CONCAT("Table44[@[",$B$7,"]]"))} -> 4752.8314 | N33: =Table44[[#This Row],[Objective 1]] -> 10.480423 | O33: =IF(Table44[[#This Row],[Efficient?]],Table44[[#This Row],[Objective 2]],NA()) -> 4752.8314 | P33: =IF(COUNTIFS(Table44[Objective 1],"<"&Table44[[#This Row],[Objective 1]],Table44[Objective 2],"<"&Table44[[#This Row],[Objective 2]])=0,TRUE,FALSE) -> TRUE
B34: 6 | C34: =_intermediate!B10 -> 10 | D34: =_intermediate!C10/3600 -> 4.804154 | E34: =_intermediate!D10 -> 0.053333333 | F34: =_intermediate!E10 -> 30 | G34: =_intermediate!J10/60 -> 54.369262 | H34: =_intermediate!K10/3600 -> 4804.7875 | I34: {=INDIRECT(_xlfn.CONCAT("Table44[@[",$B$8,"]]"))} -> 10 | J34: {=INDIRECT(_xlfn.CONCAT("Table44[@[",$B$4,"]]"))} -> 4.804154 | K34: {=INDIRECT(_xlfn.CONCAT("Table44[@[",$B$5,"]]"))} -> 0.053333333 | L34: {=INDIRECT(_xlfn.CONCAT("Table44[@[",$B$6,"]]"))} -> 54.369262 | M34: {=INDIRECT(_xlfn.CONCAT("Table44[@[",$B$7,"]]"))} -> 4804.7875 | N34: =Table44[[#This Row],[Objective 1]] -> 54.369262 | O34: =IF(Table44[[#This Row],[Efficient?]],Table44[[#This Row],[Objective 2]],NA()) -> #N/A | P34: =IF(COUNTIFS(Table44[Objective 1],"<"&Table44[[#This Row],[Objective 1]],Table44[Objective 2],"<"&Table44[[#This Row],[Objective 2]])=0,TRUE,FALSE) -> FALSE
B35: 7 | C35: =_intermediate!B11 -> 2 | D35: =_intermediate!C11/3600 -> 3.5796136 | E35: =_intermediate!D11 -> 0.26666667 | F35: =_intermediate!E11 -> 40 | G35: =_intermediate!J11/60 -> 115 | H35: =_intermediate!K11/3600 -> 4547.0261 | I35: {=INDIRECT(_xlfn.CONCAT("Table44[@[",$B$8,"]]"))} -> 2 | J35: {=INDIRECT(_xlfn.CONCAT("Table44[@[",$B$4,"]]"))} -> 3.5796136 | K35: {=INDIRECT(_xlfn.CONCAT("Table44[@[",$B$5,"]]"))} -> 0.26666667 | L35: {=INDIRECT(_xlfn.CONCAT("Table44[@[",$B$6,"]]"))} -> 115 | M35: {=INDIRECT(_xlfn.CONCAT("Table44[@[",$B$7,"]]"))} -> 4547.0261 | N35: =Table44[[#This Row],[Objective 1]] -> 115 | O35: =IF(Table44[[#This Row],[Efficient?]],Table44[[#This Row],[Objective 2]],NA()) -> 4547.0261 | P35: =IF(COUNTIFS(Table44[Objective 1],"<"&Table44[[#This Row],[Objective 1]],Table44[Objective 2],"<"&Table44[[#This Row],[Objective 2]])=0,TRUE,FALSE) -> TRUE
B36: 8 | C36: =_intermediate!B12 -> 14 | D36: =_intermediate!C12/3600 -> 3.419811 | E36: =_intermediate!D12 -> 0.038095238 | F36: =_intermediate!E12 -> 42 | G36: =_intermediate!J12/60 -> 27.645993 | H36: =_intermediate!K12/3600 -> 4788.2538 | I36: {=INDIRECT(_xlfn.CONCAT("Table44[@[",$B$8,"]]"))} -> 14 | J36: {=INDIRECT(_xlfn.CONCAT("Table44[@[",$B$4,"]]"))} -> 3.419811 | K36: {=INDIRECT(_xlfn.CONCAT("Table44[@[",$B$5,"]]"))} -> 0.038095238 | L36: {=INDIRECT(_xlfn.CONCAT("Table44[@[",$B$6,"]]"))} -> 27.645993 | M36: {=INDIRECT(_xlfn.CONCAT("Table44[@[",$B$7,"]]"))} -> 4788.2538 | N36: =Table44[[#This Row],[Objective 1]] -> 27.645993 | O36: =IF(Table44[[#This Row],[Efficient?]],Table44[[#This Row],[Objective 2]],NA()) -> #N/A | P36: =IF(COUNTIFS(Table44[Objective 1],"<"&Table44[[#This Row],[Objective 1]],Table44[Objective 2],"<"&Table44[[#This Row],[Objective 2]])=0,TRUE,FALSE) -> FALSE
B37: 9 | C37: =_intermediate!B13 -> 8 | D37: =_intermediate!C13/3600 -> 6.3438787 | E37: =_intermediate!D13 -> 0.066666667 | F37: =_intermediate!E13 -> 23 | G37: =_intermediate!J13/60 -> 89.73999 | H37: =_intermediate!K13/3600 -> 4864.4613 | I37: {=INDIRECT(_xlfn.CONCAT("Table44[@[",$B$8,"]]"))} -> 8 | J37: {=INDIRECT(_xlfn.CONCAT("Table44[@[",$B$4,"]]"))} -> 6.3438787 | K37: {=INDIRECT(_xlfn.CONCAT("Table44[@[",$B$5,"]]"))} -> 0.066666667 | L37: {=INDIRECT(_xlfn.CONCAT("Table44[@[",$B$6,"]]"))} -> 89.73999 | M37: {=INDIRECT(_xlfn.CONCAT("Table44[@[",$B$7,"]]"))} -> 4864.4613 | N37: =Table44[[#This Row],[Objective 1]] -> 89.73999 | O37: =IF(Table44[[#This Row],[Efficient?]],Table44[[#This Row],[Objective 2]],NA()) -> #N/A | P37: =IF(COUNTIFS(Table44[Objective 1],"<"&Table44[[#This Row],[Objective 1]],Table44[Objective 2],"<"&Table44[[#This Row],[Objective 2]])=0,TRUE,FALSE) -> FALSE
B38: 10 | C38: =_intermediate!B14 -> 14 | D38: =_intermediate!C14/3600 -> 3.9655984 | E38: =_intermediate!D14 -> 0.038095238 | F38: =_intermediate!E14 -> 36 | G38: =_intermediate!J14/60 -> 32.057725 | H38: =_intermediate!K14/3600 -> 4759.2686 | I38: {=INDIRECT(_xlfn.CONCAT("Table44[@[",$B$8,"]]"))} -> 14 | J38: {=INDIRECT(_xlfn.CONCAT("Table44[@[",$B$4,"]]"))} -> 3.9655984 | K38: {=INDIRECT(_xlfn.CONCAT("Table44[@[",$B$5,"]]"))} -> 0.038095238 | L38: {=INDIRECT(_xlfn.CONCAT("Table44[@[",$B$6,"]]"))} -> 32.057725 | M38: {=INDIRECT(_xlfn.CONCAT("Table44[@[",$B$7,"]]"))} -> 4759.2686 | N38: =Table44[[#This Row],[Objective 1]] -> 32.057725 | O38: =IF(Table44[[#This Row],[Efficient?]],Table44[[#This Row],[Objective 2]],NA()) -> #N/A | P38: =IF(COUNTIFS(Table44[Objective 1],"<"&Table44[[#This Row],[Objective 1]],Table44[Objective 2],"<"&Table44[[#This Row],[Objective 2]])=0,TRUE,FALSE) -> FALSE
B39: 11 | C39: =_intermediate!B15 -> 15 | D39: =_intermediate!C15/3600 -> 1.9067762 | E39: =_intermediate!D15 -> 0.035555556 | F39: =_intermediate!E15 -> 75 | G39: =_intermediate!J15/60 -> 14.388197 | H39: =_intermediate!K15/3600 -> 4767.2229 | I39: {=INDIRECT(_xlfn.CONCAT("Table44[@[",$B$8,"]]"))} -> 15 | J39: {=INDIRECT(_xlfn.CONCAT("Table44[@[",$B$4,"]]"))} -> 1.9067762 | K39: {=INDIRECT(_xlfn.CONCAT("Table44[@[",$B$5,"]]"))} -> 0.035555556 | L39: {=INDIRECT(_xlfn.CONCAT("Table44[@[",$B$6,"]]"))} -> 14.388197 | M39: {=INDIRECT(_xlfn.CONCAT("Table44[@[",$B$7,"]]"))} -> 4767.2229 | N39: =Table44[[#This Row],[Objective 1]] -> 14.388197 | O39: =IF(Table44[[#This Row],[Efficient?]],Table44[[#This Row],[Objective 2]],NA()) -> #N/A | P39: =IF(COUNTIFS(Table44[Objective 1],"<"&Table44[[#This Row],[Objective 1]],Table44[Objective 2],"<"&Table44[[#This Row],[Objective 2]])=0,TRUE,FALSE) -> FALSE
B40: 12 | C40: =_intermediate!B16 -> 6 | D40: =_intermediate!C16/3600 -> 2.3116231 | E40: =_intermediate!D16 -> 0.088888889 | F40: =_intermediate!E16 -> 62 | G40: =_intermediate!J16/60 -> 43.601461 | H40: =_intermediate!K16/3600 -> 4777.9619 | I40: {=INDIRECT(_xlfn.CONCAT("Table44[@[",$B$8,"]]"))} -> 6 | J40: {=INDIRECT(_xlfn.CONCAT("Table44[@[",$B$4,"]]"))} -> 2.3116231 | K40: {=INDIRECT(_xlfn.CONCAT("Table44[@[",$B$5,"]]"))} -> 0.088888889 | L40: {=INDIRECT(_xlfn.CONCAT("Table44[@[",$B$6,"]]"))} -> 43.601461 | M40: {=INDIRECT(_xlfn.CONCAT("Table44[@[",$B$7,"]]"))} -> 4777.9619 | N40: =Table44[[#This Row],[Objective 1]] -> 43.601461 | O40: =IF(Table44[[#This Row],[Efficient?]],Table44[[#This Row],[Objective 2]],NA()) -> #N/A | P40: =IF(COUNTIFS(Table44[Objective 1],"<"&Table44[[#This Row],[Objective 1]],Table44[Objective 2],"<"&Table44[[#This Row],[Objective 2]])=0,TRUE,FALSE) -> FALSE
... B58: 30 | C58: =_intermediate!B34 -> 11 | D58: =_intermediate!C34/3600 -> 7.7266033 | E58: =_intermediate!D34 -> 0.048484848 | F58: =_intermediate!E34 -> 19 | G58: =_intermediate!J34/60 -> 79.492317 | H58: =_intermediate!K34/3600 -> 4894.2081 | I58: {=INDIRECT(_xlfn.CONCAT("Table44[@[",$B$8,"]]"))} -> 11 | J58: {=INDIRECT(_xlfn.CONCAT("Table44[@[",$B$4,"]]"))} -> 7.7266033 | K58: {=INDIRECT(_xlfn.CONCAT("Table44[@[",$B$5,"]]"))} -> 0.048484848 | L58: {=INDIRECT(_xlfn.CONCAT("Table44[@[",$B$6,"]]"))} -> 79.492317 | M58: {=INDIRECT(_xlfn.CONCAT("Table44[@[",$B$7,"]]"))} -> 4894.2081 | N58: =Table44[[#This Row],[Objective 1]] -> 79.492317 | O58: =IF(Table44[[#This Row],[Efficient?]],Table44[[#This Row],[Objective 2]],NA()) -> #N/A | P58: =IF(COUNTIFS(Table44[Objective 1],"<"&Table44[[#This Row],[Objective 1]],Table44[Objective 2],"<"&Table44[[#This Row],[Objective 2]])=0,TRUE,FALSE) -> FALSE
