{"text_format":"1","workbook":"xlsx","n_sheets":4,"sheets":["darcy incompressible","darcy compressible","fanno flow","gas properties"],"not_rendered":{"charts":0,"images":6,"macros":1,"external_links":1,"defined_names":30,"comments":0,"pivot_tables":0},"unopened":[],"bounds":{"document_bytes":16777216,"sheet_cells":100000,"rows_first":2000,"rows_last":500,"rows_between":2000,"halvings":0,"cell_chars":16384,"cell_head_chars":4096},"cells_cut":0,"cells_raw":0,"read":"whole","date_system":"1900"}

{"sheet":"darcy incompressible","index":0,"n_rows":57,"n_cols":8,"rows_kept":57,"cut":false,"hidden":false,"merged":[[20,6,29,6],[33,7,33,9],[33,1,33,6],[17,1,17,6],[1,5,3,5],[12,1,12,2]]}
[null,{"$error":"#VALUE!"},"INPUT",null,null,null,"OUTPUT"]
[null,"Pin",120,"psig",null,"mass flow rate",{"$f":"+C4/60","v":0.66821285963712618},"lb/min"]
[null,"Pout",21,"psig",null,null,{"$f":"+G2*27.2155","v":18.185747081454206},"kg/hr"]
[null,"mass flow rate",40.09277157822757,"lbm/hr",null,null,{"$f":"+G3/60","v":0.30309578469090342},"kg/min"]
[null,"INLET TEMP",70,"F",null,"SCFM",{"$f":"+G6*C47/C53","v":6},"ft^3/min"]
[null,"Fluid Type","ARGON",null,null,"ACFM",{"$f":"(C4/(C47*0.062428))/60","v":1.3484601826446461},"ft^3/min"]
[null,"ID",0.25,"in",null,"mach number",{"$f":"+C46/C49","v":6.2822992126399302E-2},"[-]"]
[null,"use calc (1) or coolprop (0)",1]
[null,"pipe roughness",5.0000000000000001E-4,"in"]
[null,"pipe length",10,"ft"]
[null,"elevation change",0,"ft"]
[]
[null,"SOLVER"]
[null,"LEFT SIDE",{"$f":"(C54-C55)+C11*0.3048*C47*C51","v":682605}]
[null,"RIGHT SIDE",{"$f":"+C47*C51*F31","v":20789.389414090459}]
[null,"solver",{"$f":"+C14-C15","v":661815.61058590957}]
[]
[null,"FITTINGS & VALVES"]
[null,"Item","QTY","K","K=(#*fT)","hL"]
[null,"Pipe",{"$f":"+C10","v":10},null,null,{"$f":"C52*((C20*12)/C7)*C46^2/(2*C51)","v":266.97798221866879},"f(L/D)V^2/(2*g)"]
[null,"L's 45",0,null,16,{"$f":"+C21*E21*C$50*C$46^2/(2*C$51)","v":0},"KV^2/(2*g)"]
[null,"Elbows 90",0,null,30,{"$f":"+C22*E22*C$50*C$46^2/(2*C$51)","v":0}]
[null,"Bends 90",0,null,15,{"$f":"+C23*E23*C$50*C$46^2/(2*C$51)","v":0}]
[null,"Ball Valve",0,null,3,{"$f":"+C24*E24*C$50*C$46^2/(2*C$51)","v":0}]
[null,"Check Valve",0,null,50,{"$f":"+C25*E25*C$50*C$46^2/(2*C$51)","v":0}]
[null,"Globe Valve",0,null,340,{"$f":"+C26*E26*C$50*C$46^2/(2*C$51)","v":0}]
[null,"T's (branch)",0,null,45,{"$f":"+C27*E27*C$50*C$46^2/(2*C$51)","v":0}]
[null,"T's (run)",0,null,20,{"$f":"+C28*E28*C$50*C$46^2/(2*C$51)","v":0}]
[null,"Entrance",0,0.5,null,{"$f":"+C29*D29*C$46^2/(2*C$51)","v":0}]
[null,"Exit",0,1,null,{"$f":"+C30*D30*C$46^2/(2*C$51)","v":0}]
[null,null,null,null,"sum",{"$f":"+SUM(F20:F30)","v":266.97798221866879}]
[]
[]
[null," FLUID PROPERTIES"]
[null,"Molecular Weight",{"$f":"_xlfn.XLOOKUP(C6,'gas properties'!B3:B8,'gas properties'!C3:C8)","v":39.950000000000003},"g/mol"]
[null,null,"CALCULATED",null,"COOLPROP",null,"DIFFERENCE"]
[null,"Density in",{"$f":"IF(C6=\"WATER\",999.8,(1/1000)*C54*C35/(C41*C57))","v":13.511059593348232},"kg/m^3",{"$f":"IF(C6=\"water\",\"NA\",[1]!PropsSI(\"Dmass\",\"T\",C57,\"P\",C54,\"HEOS::\"&C6))","v":13.583421041121454},"kg/m^3",{"$f":"IF(C6=\"water\",\"NA\",+(C37-E37)/E37)","v":-5.3271887512107742E-3}]
[null,"Density out",{"$f":"IF(C6=\"WATER\",999.8,(1/1000)*C55*C35/(C41*C57))","v":2.3644354288359408},"kg/m^3",{"$f":"IF(C6=\"water\",\"NA\",[1]!PropsSI(\"Dmass\",\"T\",C57,\"P\",C55,\"HEOS::\"&C6))","v":2.3664563174931028},"kg/m^3",{"$f":"IF(C7=\"water\",\"NA\",+(C38-E38)/E38)","v":-8.5397251672188537E-4}]
[null,"Density avg",{"$f":"(C38+C37)/2","v":7.9377475110920868},"kg/m^3",{"$f":"(E38+E37)/2","v":7.9749386793072787},"kg/m^3",{"$f":"IF(C8=\"water\",\"NA\",+(C39-E39)/E39)","v":-4.663505226904451E-3}]
[null,"Viscosity",{"$f":"IF(C6=\"WATER\",0.00002414 * 10^(247.8/(C57-140)),IF(C6=\"air\",0.00001716*(C57/273.15)^1.5*383.55/(C57+110.4),IF(C6=\"nitrogen\",0.00001663*(C57/273.15)^1.5*383.55/(C57+106.7),IF(C6=\"argon\",0.00002125*(C57/273.15)^1.5*383.55/(C57+114),IF(C6=\"helium\",0.00001865*(C57/273.15)^0.647,IF(C6=\"hydrogen\",0.000008411*(C57/273.15)^0.678))))))","v":2.2322375362765166E-5},"Pa*s",{"$f":"[1]!PropsSI(\"V\",\"T\",C57,\"P\",C54,\"HEOS::\"&C6)","v":2.2507974868553148E-5},"Pa*s",{"$f":"+(C40-E40)/E40","v":-8.2459442429576729E-3}]
[null,"R ",8.3140000000000001,"Pa*m^3/(mol*K)"]
[null,"Reynolds Number",{"$f":"C47*C46*C7*0.0254/C48","v":45364.957169694841},"[-]"]
[null,"Friction Factor (low Re)",{"$f":"64/C42","v":1.4107805670486543E-3},"[-]"]
[null,"Friction Factor (high Re)",{"$f":"0.25/(LOG10(C9/(3.7*C7)+5.74/C42^0.9)^2)","v":2.7036682419874988E-2},"[-]"]
[null,"k",{"$f":"IF(C6=\"water\",\"NA\",_xlfn.XLOOKUP(C6,'gas properties'!B4:B8,'gas properties'!D4:D8))","v":1.67},"[-]"]
[null,"velocity",{"$f":"0.2486*C4/(C47*C7^2)","v":20.09046118016639},"m/s"]
[null,"density used",{"$f":"IF(C8=1,C39,E39)","v":7.9377475110920868},"kg/m^3"]
[null,"Viscosity used",{"$f":"IF(C8=1,C40,E40)","v":2.2322375362765166E-5},"Pa*s"]
[null,"speed of sound",{"$f":"SQRT(C45*C41*C57/(C35/1000))","v":319.79472005638576},"m/s"]
[null,"fT",{"$f":"0.25/(LOG10(C9/(3.7*C7))^2)","v":2.3420495762304316E-2},"[-]","friction factor used for minor losses"]
[null,"g",9.81,"m/s2"]
[null,"pipe friction factor used",{"$f":"IF(C42<5000,C43,C44)","v":2.7036682419874988E-2},"[-]"]
[null,"density std",{"$f":"IF(C6=\"water\",\"NA\",_xlfn.XLOOKUP(C6,'gas properties'!B4:B8,'gas properties'!E4:E8))","v":1.7839560764323867},"kg/m^3"]
[null,"Pin",{"$f":"6895*C2","v":827400},"Pa"]
[null,"Pout",{"$f":"6895*C3","v":144795},"Pa"]
[]
[null,"INLET TEMP",{"$f":"+(C5-32)*5/9+273.15","v":294.26111111111106},"K"]

{"sheet":"darcy compressible","index":1,"n_rows":60,"n_cols":9,"rows_kept":60,"cut":false,"hidden":false,"merged":[[2,5,4,5],[17,1,17,2],[22,1,22,8],[37,1,37,10],[25,6,34,6],[25,8,34,8]]}
[null,{"$error":"#VALUE!"},"INPUT",null,null,null,"OUTPUT"]
[null,"STATUS",{"$f":"IF(C15>C4,\"CHANGE Pout > Pout_CHOKED\",\"Pout VALUE VALID\")","v":"Pout VALUE VALID"}]
[null,"Pin",120,"psig",null,"mass flow rate",{"$f":"+C5/60","v":2.213780367808825},"lb/min"]
[null,"Pout",100,"psig",null,null,{"$f":"+G3*27.2155","v":60.249139600101074},"kg/hr"]
[null,"mass flow rate",132.82682206852951,"lbm/hr",null,null,{"$f":"+G4/60","v":1.0041523266683512},"kg/min"]
[null,"INLET TEMP",70,"F",null,"SCFM",{"$f":"+G7*C49/C56","v":19.87792065849515},"ft^3/min"]
[null,"Fluid Type","ARGON",null,null,"ACFM",{"$f":"(C5/(C49*0.062428))/60","v":2.6246155677547027},"ft^3/min"]
[null,"ID",0.25,"in",null,"mach number",{"$f":"+C48/C51","v":0.12227739852466264},"[-]"]
[null,"use calc (1) or coolprop (0)?",1,null,null,"c",{"$f":"1+1.8*(C58-C59)/C58*((C47-1)/(H36+1))","v":1.015588365023788},"[-]"]
[null,"isothermal/ adiabatic/ calculated?","calculated",null,null,"Y",{"$f":"SQRT(C11/((C11+1)*G11)*(((1-G11)^((C11+1)/C11))-1)/(2/(C11*H36)*LN(1-G11)-1))","v":0.94391581310339912},"[-]"]
[null,"c",{"$f":"IF(C10=\"isothermal\",1,IF(C10=\"adiabatic\",C47,G9))","v":1.015588365023788},null,null,"dP/P",{"$f":"+(C58-C59)/C58","v":0.16666666666666666},"[-]"]
[null,"pipe roughness",5.0000000000000001E-4,"in"]
[null,"pipe length",10,"ft"]
[null,"elevation change",0,"ft"]
[null,"Pout_CHOKED",{"$f":"C3-C3*C57","v":21.222375895574856},"psig"]
[]
[]
[null,"SOLVER"]
[null,"LEFT SIDE",{"$f":"(C58-C59)+C14*0.3048*C49*C54","v":137900}]
[null,"RIGHT SIDE",{"$f":"+C49*C54*F36/(G10^2)","v":137900.00000001991}]
[null,"solver",{"$f":"+C19-C20","v":-1.9907020032405853E-8}]
[]
[null,"FITTINGS & VALVES"]
[null,"Item","QTY","K","K=(#*fT)","hL",null,"K"]
[null,"Pipe",{"$f":"+C13","v":10},null,null,{"$f":"C55*((C25*12)/C8)*C48^2/(2*C54)","v":926.98428724778319},"f(L/D)V^2/(2*g)",{"$f":"C55*(C25*12)/C8","v":11.894232313220254},"f(L/D)"]
[null,"L's 45",0,null,16,{"$f":"+C26*E26*C$53*C$48^2/(2*C$54)","v":0},"KV^2/(2*g)",{"$f":"+C26*E26*C$53","v":0},"K=(#*fT)"]
[null,"Elbows 90",0,null,30,0,null,0]
[null,"Bends 90",0,null,15,0,null,0]
[null,"Ball Valve",0,null,3,0,null,0]
[null,"Check Valve",0,null,50,0,null,0]
[null,"Globe Valve",0,null,340,0,null,0]
[null,"T's (branch)",0,null,45,0,null,0]
[null,"T's (run)",0,null,20,0,null,0]
[null,"Entrance",0,0.5,null,{"$f":"+C34*D34*C$48^2/(2*C$54)","v":0},null,{"$f":"+C34*D34","v":0}]
[null,"Exit",0,1,null,{"$f":"+C35*D35*C$48^2/(2*C$54)","v":0},null,{"$f":"+C35*D35","v":0}]
[null,null,null,null,"sum",{"$f":"+SUM(F25:F35)","v":926.98428724778319},null,{"$f":"SUM(H25:H35)","v":11.894232313220254}]
[]
[null," FLUID PROPERTIES"]
[null,"Molecular Weight",{"$f":"_xlfn.XLOOKUP(C7,'gas properties'!B3:B8,'gas properties'!C3:C8)","v":39.950000000000003},"g/mol"]
[null,null,"CALCULATED",null,"COOLPROP",null,"DIFFERENCE"]
[null,"Density",{"$f":"IF(C7=\"WATER\",999.8,(1/1000)*C58*C39/(C43*C60))","v":13.511059593348232},"kg/m^3",{"$f":"IF(C7=\"water\",\"NA\",[1]!PropsSI(\"Dmass\",\"T\",C60,\"P\",C58,\"HEOS::\"&C7))","v":13.583421041121454},"kg/m^3",{"$f":"IF(C7=\"water\",\"NA\",+(C41-E41)/E41)","v":-5.3271887512107742E-3}]
[null,"Viscosity",{"$f":"IF(C7=\"WATER\",0.00002414 * 10^(247.8/(C60-140)),IF(C7=\"air\",0.00001716*(C60/273.15)^1.5*383.55/(C60+110.4),IF(C7=\"nitrogen\",0.00001663*(C60/273.15)^1.5*383.55/(C60+106.7),IF(C7=\"argon\",0.00002125*(C60/273.15)^1.5*383.55/(C60+114),IF(C7=\"helium\",0.00001865*(C60/273.15)^0.647,IF(C7=\"hydrogen\",0.000008411*(C60/273.15)^0.678))))))","v":2.2322375362765166E-5},"Pa*s",{"$f":"[1]!PropsSI(\"V\",\"T\",C60,\"P\",C58,\"HEOS::\"&C7)","v":2.2507974868553148E-5},"Pa*s",{"$f":"+(C42-E42)/E42","v":-8.2459442429576729E-3}]
[null,"R ",8.3140000000000001,"Pa*m^3/(mol*K)"]
[null,"Reynolds Number",{"$f":"C49*C48*C8*0.0254/C50","v":150293.50321587079},"[-]"]
[null,"Friction Factor (low Re)",{"$f":"64/C44","v":4.2583344343284749E-4},"[-]"]
[null,"Friction Factor (high Re)",{"$f":"0.25/(LOG10(C12/(3.7*C8)+5.74/(C44^0.9))^2)","v":2.4779650652542194E-2},"[-]"]
[null,"k",{"$f":"IF(C7=\"water\",\"NA\",_xlfn.XLOOKUP(C7,'gas properties'!B4:B8,'gas properties'!D4:D8))","v":1.67},"[-]"]
[null,"velocity",{"$f":"0.2486*C5/(C49*C8^2)","v":39.103666430417604},"m/s"]
[null,"density used",{"$f":"IF(C9=1,C41,E41)","v":13.511059593348232},"kg/m^3"]
[null,"Viscosity used",{"$f":"IF(C9=1,C42,E42)","v":2.2322375362765166E-5},"Pa*s"]
[null,"speed of sound",{"$f":"SQRT(C47*C43*C60/(C39/1000))","v":319.79472005638576},"m/s"]
[]
[null,"fT",{"$f":"0.25/(LOG10(C12/(3.7*C8))^2)","v":2.3420495762304316E-2},"[-]","friction factor used for minor losses"]
[null,"g",9.81,"m/s2"]
[null,"pipe friction factor used",{"$f":"IF(C44<5000,C45,C46)","v":2.4779650652542194E-2},"[-]"]
[null,"density std",{"$f":"IF(C7=\"water\",\"NA\",_xlfn.XLOOKUP(C7,'gas properties'!B4:B8,'gas properties'!E4:E8))","v":1.7839560764323867},"kg/m^3"]
[null,"dP/P_choked",{"$f":"+EXP(-EXP(0.43-0.6*C47-0.43*LN(H36)))","v":0.82314686753687616},"[-]"]
[null,"Pin",{"$f":"6895*C3","v":827400},"Pa"]
[null,"Pout",{"$f":"6895*C4","v":689500},"Pa"]
[null,"INLET TEMP",{"$f":"+(C6-32)*5/9+273.15","v":294.26111111111106},"K"]

{"sheet":"fanno flow","index":2,"n_rows":63,"n_cols":9,"rows_kept":63,"cut":false,"hidden":false,"merged":[[1,2,1,3],[17,4,17,6],[17,7,17,9],[17,1,17,2],[26,6,35,6],[26,8,35,8],[40,1,40,6],[2,5,4,5],[23,1,23,8]]}
[null,{"$error":"#VALUE!"},"INPUT",null,null,null,"OUTPUT"]
[null,"STATUS",{"$f":"IF(C15>C4,\"CHANGE Pout > Pout_CHOKED\",\"Pout VALUE VALID\")","v":"Pout VALUE VALID"}]
[null,"Pin",500,"psig",null,"mass flow rate",{"$f":"+C5/60","v":21.793831306402485},"lb/min"]
[null,"Pout",300,"psig",null,null,{"$f":"+G3*27.2155","v":593.13001591939678},"kg/hr"]
[null,"mass flow rate",1307.6298783841492,"lbm/hr",null,null,{"$f":"+G4/60","v":9.8855002653232802},"kg/min"]
[null,"INLET TEMP",70,"F",null,"SCFM",{"$f":"+G7*C52/C58","v":1955.9680871661883},"ft^3/min"]
[null,"Fluid Type","HELIUM",null,null,"ACFM",{"$f":"(C5/(C52*0.062428))/60","v":61.888105580546814},"ft^3/min"]
[null,"ID",0.5,"in",null,"mach number",{"$f":"+C51/C54","v":0.22817186428444144},"[-]"]
[null,"use calc (1) or coolprop (0)?",1,null,null,"c",{"$f":"1+1.8*(C61-C62)/C61*((C50-1)/(H37+1))","v":1.0065782518619673},"[-]"]
[null,"isothermal/ adiabatic/ calculated?","calculated",null,null,"Y",{"$f":"SQRT(C11/((C11+1)*G11)*(((1-G11)^((C11+1)/G9))-1)/(2/(C11*H37)*LN(1-G11)-1))","v":0.88883477262887334},"[-]"]
[null,"c",{"$f":"IF(C10=\"isothermal\",1,IF(C10=\"adiabatic\",C50,G9))","v":1.0065782518619673},null,null,"dP/P",{"$f":"+(C61-C62)/C61","v":0.4},"[-]"]
[null,"pipe roughness",5.0000000000000001E-4,"in"]
[null,"pipe length",150,"ft"]
[null,"elevation change",0,"ft"]
[null,"P2_choked",{"$f":"C3-C3*C59","v":42.829144751290869},"psig"]
[]
[]
[null,"SOLVER"]
[null,"LEFT SIDE",{"$f":"+C5*0.000126","v":0.16476136467640279}]
[null,"RIGHT SIDE",{"$f":"SQRT((2*G9^2*C61*C60^2*C52)/((G9+1))*(((C62/C61)^((G9+1)/G9))-1)/(2*LN(C62/C61)-G9*H37))","v":5.2218222261661541E-2}]
[null,"solver",{"$f":"+C19-C20","v":0.11254314241474125}]
[]
[]
[null,"FITTINGS & VALVES"]
[null,"Item","QTY","K","K=(#*fT)","hL",null,"K"]
[null,"Pipe",{"$f":"+C13","v":150},null,null,{"$f":"C57*((C26*12)/C8)*C51^2/(2*C56)","v":195899.23553593364},"f(L/D)V^2/(2*g)",{"$f":"C57*(C26*12)/C8","v":72.332552496056394},"f(L/D)"]
[null,"L's 45",0,null,16,{"$f":"+C27*E27*C$55*C$51^2/(2*C$56)","v":0},"KV^2/(2*g)",{"$f":"+C27*E27*C$55","v":0},"K=(#*fT)"]
[null,"Elbows 90",0,null,30,{"$f":"+C28*E28*C$55*C$51^2/(2*C$56)","v":0},null,{"$f":"+C28*E28*C$55","v":0}]
[null,"Bends 90",0,null,15,{"$f":"+C29*E29*C$55*C$51^2/(2*C$56)","v":0},null,{"$f":"+C29*E29*C$55","v":0}]
[null,"Ball Valve",0,null,3,{"$f":"+C30*E30*C$55*C$51^2/(2*C$56)","v":0},null,{"$f":"+C30*E30*C$55","v":0}]
[null,"Check Valve",0,null,50,{"$f":"+C31*E31*C$55*C$51^2/(2*C$56)","v":0},null,{"$f":"+C31*E31*C$55","v":0}]
[null,"Globe Valve",0,null,340,{"$f":"+C32*E32*C$55*C$51^2/(2*C$56)","v":0},null,{"$f":"+C32*E32*C$55","v":0}]
[null,"T's (branch)",0,null,45,{"$f":"+C33*E33*C$55*C$51^2/(2*C$56)","v":0},null,{"$f":"+C33*E33*C$55","v":0}]
[null,"T's (run)",0,null,20,{"$f":"+C34*E34*C$55*C$51^2/(2*C$56)","v":0},null,{"$f":"+C34*E34*C$55","v":0}]
[null,"Entrance",0,0.5,null,{"$f":"+C35*D35*C$51^2/(2*C$56)","v":0},null,{"$f":"+C35*D35","v":0}]
[null,"Exit",0,1,null,{"$f":"+C36*D36*C$51^2/(2*C$56)","v":0},null,{"$f":"+C36*D36","v":0}]
[null,null,null,null,"sum",{"$f":"+SUM(F26:F36)","v":195899.23553593364},null,{"$f":"SUM(H26:H36)","v":72.332552496056394}]
[]
[]
[]
[null," FLUID PROPERTIES"]
[null,"Molecular Weight",{"$f":"_xlfn.XLOOKUP(C7,'gas properties'!B3:B8,'gas properties'!C3:C8)","v":4.0030000000000001},"g/mol"]
[null,null,"CALCULATED",null,"COOLPROP",null,"DIFFERENCE"]
[null,"Density",{"$f":"IF(C7=\"WATER\",999.8,(1/1000)*C61*C42/(C46*C63))","v":5.6408814718578402},"kg/m^3",{"$f":"IF(C7=\"water\",\"NA\",[1]!PropsSI(\"Dmass\",\"T\",C63,\"P\",C61,\"HEOS::\"&C7))","v":5.5476639566867423},"kg/m^3",{"$f":"IF(C7=\"water\",\"NA\",+(C44-E44)/E44)","v":1.6803021217379328E-2}]
[null,"Viscosity",{"$f":"IF(C7=\"WATER\",0.00002414 * 10^(247.8/(C63-140)),IF(C7=\"air\",0.00001716*(C63/273.15)^1.5*383.55/(C63+110.4),IF(C7=\"nitrogen\",0.00001663*(C63/273.15)^1.5*383.55/(C63+106.7),IF(C7=\"argon\",0.00002125*(C63/273.15)^1.5*383.55/(C63+114),IF(C7=\"helium\",0.00001865*(C63/273.15)^0.647,IF(C7=\"hydrogen\",0.000008411*(C63/273.15)^0.678))))))","v":1.9570297326117493E-5},"Pa*s",{"$f":"[1]!PropsSI(\"V\",\"T\",C63,\"P\",C61,\"HEOS::\"&C7)","v":1.9789445577864146E-5},"Pa*s",{"$f":"+(C45-E45)/E45","v":-1.1073996534384222E-2}]
[null,"R ",8.3140000000000001,"Pa*m^3/(mol*K)"]
[null,"Reynolds Number",{"$f":"C52*C51*C8*0.0254/C53","v":843824.72802237014},"[-]"]
[null,"Friction Factor (low Re)",{"$f":"64/C47","v":7.5845134510330842E-5},"[-]"]
[null,"Friction Factor (high Re)",{"$f":"0.25/(LOG10(C12/(3.7*C8)+5.74/(C47^0.9))^2)","v":2.0092375693348999E-2},"[-]"]
[null,"k",{"$f":"IF(C7=\"water\",\"NA\",_xlfn.XLOOKUP(C7,'gas properties'!B4:B8,'gas properties'!D4:D8))","v":1.67},"[-]"]
[null,"velocity",{"$f":"0.2486*C5/(C52*C8^2)","v":230.51488629080129},"m/s"]
[null,"density used",{"$f":"IF(C9=1,C44,E44)","v":5.6408814718578402},"kg/m^3"]
[null,"Viscosity used",{"$f":"IF(C9=1,C45,E45)","v":1.9570297326117493E-5},"Pa*s"]
[null,"speed of sound",{"$f":"SQRT(C50*C46*C63/(C42/1000))","v":1010.2686718790139},"m/s"]
[null,"fT",{"$f":"0.25/(LOG10(C12/(3.7*C8))^2)","v":1.9635465935526699E-2},"[-]","friction factor used for minor losses"]
[null,"g",9.81,"m/s2"]
[null,"pipe friction factor used",{"$f":"IF(C47<5000,C48,C49)","v":2.0092375693348999E-2},"[-]"]
[null,"density std",{"$f":"IF(C7=\"water\",\"NA\",_xlfn.XLOOKUP(C7,'gas properties'!B4:B8,'gas properties'!E4:E8))","v":0.17848116765722408},"kg/m^3"]
[null,"dP/P_choked",{"$f":"+EXP(-EXP(0.43-0.6*C50-0.43*LN(H37)))","v":0.9143417104974183},"[-]"]
[null,"Area",{"$f":"PI()/4*(0.0254*C8)^2","v":1.2667686977437442E-4},"m^2"]
[null,"Pin",{"$f":"6895*C3","v":3447500},"Pa"]
[null,"Pout",{"$f":"6895*C4","v":2068500},"Pa"]
[null,"INLET TEMP",{"$f":"+(C6-32)*5/9+273.15","v":294.26111111111106},"K"]

{"sheet":"gas properties","index":3,"n_rows":8,"n_cols":7,"rows_kept":8,"cut":false,"hidden":true,"merged":[]}
[]
[null,"substance","molar mass (g/mol)","specific heat ratio","density STD (kg/m^3)","Specific gravity (Gg)","MW"]
[null,"WATER",18.015000000000001]
[null,"AIR",28.97,1.4,1.2930656163292633,1,28.97]
[null,"NITROGEN",28.013999999999999,1.4,1.250386130338901,0.97,28.013999999999999]
[null,"ARGON",39.950000000000003,1.67,1.7839560764323867,1.38,39.948]
[null,"HELIUM",4.0030000000000001,1.67,0.17848116765722408,0.14000000000000001,4.0030000000000001]
[null,"HYDROGEN",2.016,1.41,8.9882376384805382E-2,7.0000000000000007E-2,2.016]