{"text_format":"3","workbook":"xlsx","n_sheets":15,"sheets":["April","May","June","July","August","September","October","November","December","January","February","March","Cumulative Totals","QueryImport","Dates"],"not_rendered":{"defined_names":1},"read":"whole","date_system":"1900"}

{"sheet":"April","index":0,"n_rows":77,"n_cols":14,"rows_kept":77}
["April","01/04/2015 to 31/03/2016"]
[]
["Treatment Use","Waste Type",null,"Burton Farm HWRC","Cherry Orchard HWRC","Hunters Lane HWRC & Transfer","Judkins HWRC","Lower House Farm HWRC","Princes Drive HWRC & Transfer","Shipston HWRC","Stockton HWRC","Wellesbourne HWRC",null,"Total"]
[]
["Composting","Green waste","CompostingGreen waste",82.92,97.36,{"v":99.03999999999999,"d":"99.04"},102.42,64.38,154.88,34.94,9.94,{"v":12.129999999999999,"d":"12.13"},null,{"$f":"SUM(D5:L5)","v":{"v":658.0100000000001,"d":"658.01"}}]
[]
[null,"Sub Total",null,{"$f":"SUM(D5:D5)","v":82.92},{"$f":"SUM(E5:E5)","v":97.36},{"$f":"SUM(F5:F5)","v":{"v":99.03999999999999,"d":"99.04"}},{"$f":"SUM(G5:G5)","v":102.42},{"$f":"SUM(H5:H5)","v":64.38},{"$f":"SUM(I5:I5)","v":154.88},{"$f":"SUM(J5:J5)","v":34.94},{"$f":"SUM(K5:K5)","v":9.94},{"$f":"SUM(L5:L5)","v":{"v":12.129999999999999,"d":"12.13"}},null,{"$f":"SUM(D7:L7)","v":{"v":658.0100000000001,"d":"658.01"}}]
[]
["Efw (incineration)","Bulky Waste","Efw (incineration)Bulky Waste",{"v":0,"d":"0.00"},{"v":0,"d":"0.00"},{"v":0,"d":"0.00"},{"v":0,"d":"0.00"},31.24,{"v":0,"d":"0.00"},{"v":0,"d":"0.00"},{"v":0,"d":"0.00"},{"v":0,"d":"0.00"},null,{"$f":"SUM(D9:L9)","v":31.24}]
[null,"Chemicals","Efw (incineration)Chemicals",{"v":0,"d":"0.00"},0.05,{"v":0,"d":"0.00"},{"v":0,"d":"0.00"},{"v":0,"d":"0.00"},{"v":0,"d":"0.00"},{"v":0,"d":"0.00"},{"v":0,"d":"0.00"},0.01,null,{"$f":"SUM(D10:L10)","v":{"v":0.060000000000000005,"d":"0.06"}}]
[null,"Clinical","Efw (incineration)Clinical",{"v":0,"d":"0.00"},{"v":0,"d":"0.00"},{"v":0,"d":"0.00"},{"v":0,"d":"0.00"},{"v":0,"d":"0.00"},{"v":3.044,"d":"3.04"},{"v":0,"d":"0.00"},{"v":0,"d":"0.00"},{"v":0,"d":"0.00"},null,{"$f":"SUM(D11:L11)","v":{"v":3.044,"d":"3.04"}}]
[null,"General (mixed waste)","Efw (incineration)General (mixed waste)",{"v":0,"d":"0.00"},{"v":0,"d":"0.00"},{"v":0,"d":"0.00"},{"v":0,"d":"0.00"},170.14,{"v":0,"d":"0.00"},{"v":0,"d":"0.00"},{"v":0,"d":"0.00"},{"v":0,"d":"0.00"},null,{"$f":"SUM(D12:L12)","v":170.14}]
[null,"Paint (chemicals)","Efw (incineration)Paint (chemicals)",{"v":0,"d":"0.00"},{"v":0.1,"d":"0.10"},{"v":0,"d":"0.00"},{"v":0,"d":"0.00"},{"v":0,"d":"0.00"},{"v":0,"d":"0.00"},{"v":0,"d":"0.00"},{"v":0,"d":"0.00"},0.03,null,{"$f":"SUM(D13:L13)","v":0.13}]
[]
[null,"Sub Total",null,{"$f":"SUM(D9:D13)","v":{"v":0,"d":"0.00"}},{"$f":"SUM(E9:E13)","v":{"v":0.15000000000000002,"d":"0.15"}},{"$f":"SUM(F9:F13)","v":{"v":0,"d":"0.00"}},{"$f":"SUM(G9:G13)","v":{"v":0,"d":"0.00"}},{"$f":"SUM(H9:H13)","v":201.38},{"$f":"SUM(I9:I13)","v":{"v":3.044,"d":"3.04"}},{"$f":"SUM(J9:J13)","v":{"v":0,"d":"0.00"}},{"$f":"SUM(K9:K13)","v":{"v":0,"d":"0.00"}},{"$f":"SUM(L9:L13)","v":0.04},null,{"$f":"SUM(D15:L15)","v":{"v":204.614,"d":"204.61"}}]
[]
["Landfill","Asbestos","LandfillAsbestos",{"v":0,"d":"0.00"},0.02,{"v":0,"d":"0.00"},{"v":0,"d":"0.00"},3.92,{"v":0,"d":"0.00"},{"v":0,"d":"0.00"},{"v":0,"d":"0.00"},{"v":0,"d":"0.00"},null,{"$f":"SUM(D17:L17)","v":3.94}]
[null,"General (mixed waste)","LandfillGeneral (mixed waste)",198.12,{"v":125.61999999999999,"d":"125.62"},{"v":266.795,"d":"266.80"},344.51,{"v":0,"d":"0.00"},752.14,{"v":57.53500000000001,"d":"57.54"},{"v":27.610000000000003,"d":"27.61"},11.32,null,{"$f":"SUM(D18:L18)","v":{"v":1783.6499999999999,"d":"1,783.65"}}]
[null,"Hard Plastic","LandfillHard Plastic",{"v":0,"d":"0.00"},{"v":0,"d":"0.00"},{"v":0,"d":"0.00"},{"v":0,"d":"0.00"},{"v":0,"d":"0.00"},{"v":0,"d":"0.00"},{"v":0,"d":"0.00"},{"v":0,"d":"0.00"},{"v":0,"d":"0.00"},null,{"$f":"SUM(D19:L19)","v":{"v":0,"d":"0.00"}}]
[]
[null,"Sub Total",null,{"$f":"SUM(D17:D19)","v":198.12},{"$f":"SUM(E17:E19)","v":{"v":125.63999999999999,"d":"125.64"}},{"$f":"SUM(F17:F19)","v":{"v":266.795,"d":"266.80"}},{"$f":"SUM(G17:G19)","v":344.51},{"$f":"SUM(H17:H19)","v":3.92},{"$f":"SUM(I17:I19)","v":752.14},{"$f":"SUM(J17:J19)","v":{"v":57.53500000000001,"d":"57.54"}},{"$f":"SUM(K17:K19)","v":{"v":27.610000000000003,"d":"27.61"}},{"$f":"SUM(L17:L19)","v":11.32},null,{"$f":"SUM(D21:L21)","v":{"v":1787.59,"d":"1,787.59"}}]
[]
["Recycling","Aluminium (nf)","RecyclingAluminium (nf)",{"v":0,"d":"0.00"},{"v":0,"d":"0.00"},{"v":0,"d":"0.00"},{"v":0,"d":"0.00"},{"v":0,"d":"0.00"},0.44,{"v":0,"d":"0.00"},{"v":0,"d":"0.00"},{"v":0,"d":"0.00"},null,{"$f":"SUM(D23:L23)","v":0.44}]
[null,"Batteries (car)","RecyclingBatteries (car)",{"v":1.4825,"d":"1.48"},{"v":3.302,"d":"3.30"},4.33,{"v":1.2,"d":"1.20"},2.32,5.58,0.12,{"v":0,"d":"0.00"},{"v":1.137,"d":"1.14"},null,{"$f":"SUM(D24:L24)","v":{"v":19.471500000000002,"d":"19.47"}}]
[null,"Batteries (household)","RecyclingBatteries (household)",{"v":0,"d":"0.00"},{"v":0,"d":"0.00"},{"v":0,"d":"0.00"},{"v":0,"d":"0.00"},{"v":0,"d":"0.00"},{"v":0,"d":"0.00"},{"v":0,"d":"0.00"},{"v":0,"d":"0.00"},{"v":0,"d":"0.00"},null,{"$f":"SUM(D25:L25)","v":{"v":0,"d":"0.00"}}]
[null,"Books","RecyclingBooks",{"v":0,"d":"0.00"},0.63,{"v":0,"d":"0.00"},{"v":2.3,"d":"2.30"},{"v":0,"d":"0.00"},1.12,{"v":0,"d":"0.00"},{"v":0,"d":"0.00"},{"v":0,"d":"0.00"},null,{"$f":"SUM(D26:L26)","v":4.05}]
[null,"Brass(nf)","RecyclingBrass(nf)",{"v":0,"d":"0.00"},{"v":0,"d":"0.00"},{"v":0,"d":"0.00"},{"v":0,"d":"0.00"},{"v":0,"d":"0.00"},{"v":0,"d":"0.00"},{"v":0,"d":"0.00"},{"v":0,"d":"0.00"},{"v":0,"d":"0.00"},null,{"$f":"SUM(D27:L27)","v":{"v":0,"d":"0.00"}}]
[null,"Cable (nf)","RecyclingCable (nf)",{"v":0.4,"d":"0.40"},{"v":0,"d":"0.00"},{"v":0,"d":"0.00"},{"v":0,"d":"0.00"},{"v":0,"d":"0.00"},{"v":0,"d":"0.00"},{"v":0,"d":"0.00"},{"v":0,"d":"0.00"},{"v":0,"d":"0.00"},null,{"$f":"SUM(D28:L28)","v":{"v":0.4,"d":"0.40"}}]
[null,"Cardboard","RecyclingCardboard",25.68,16.34,18.02,33.22,17.84,46.61,8.42,2.48,5.29,null,{"$f":"SUM(D29:L29)","v":{"v":173.89999999999995,"d":"173.90"}}]
[null,"Carpet","RecyclingCarpet",23.16,{"v":10.620000000000001,"d":"10.62"},20.46,{"v":0,"d":"0.00"},{"v":31.340000000000003,"d":"31.34"},{"v":45.849999999999994,"d":"45.85"},{"v":6.3,"d":"6.30"},{"v":0,"d":"0.00"},{"v":0,"d":"0.00"},null,{"$f":"SUM(D30:L30)","v":{"v":137.73000000000002,"d":"137.73"}}]
[null,"Chipboard","RecyclingChipboard",90.96,20.66,{"v":89.9,"d":"89.90"},{"v":0,"d":"0.00"},91.12,45.24,13.74,19.34,14.09,null,{"$f":"SUM(D31:L31)","v":{"v":385.04999999999995,"d":"385.05"}}]
[null,"Copper & Brass Mixed (nf)","RecyclingCopper & Brass Mixed (nf)",{"v":0,"d":"0.00"},{"v":0,"d":"0.00"},{"v":0,"d":"0.00"},{"v":0,"d":"0.00"},{"v":0,"d":"0.00"},{"v":0,"d":"0.00"},{"v":0,"d":"0.00"},{"v":0,"d":"0.00"},{"v":0,"d":"0.00"},null,{"$f":"SUM(D32:L32)","v":{"v":0,"d":"0.00"}}]
[null,"Drink Cartons","RecyclingDrink Cartons",{"v":0,"d":"0.00"},{"v":0.47774,"d":"0.48"},{"v":0,"d":"0.00"},{"v":0,"d":"0.00"},{"v":0,"d":"0.00"},{"v":0.24974,"d":"0.25"},{"v":0,"d":"0.00"},{"v":0,"d":"0.00"},{"v":0,"d":"0.00"},null,{"$f":"SUM(D33:L33)","v":{"v":0.72748,"d":"0.73"}}]
[null,"Fire Extinguishers","RecyclingFire Extinguishers",{"v":0,"d":"0.00"},{"v":0,"d":"0.00"},{"v":0,"d":"0.00"},{"v":0,"d":"0.00"},{"v":0,"d":"0.00"},{"v":0,"d":"0.00"},{"v":0,"d":"0.00"},{"v":0,"d":"0.00"},{"v":0,"d":"0.00"},null,{"$f":"SUM(D34:L34)","v":{"v":0,"d":"0.00"}}]
[null,"Fluorescent Tubes Output","RecyclingFluorescent Tubes Output",0.26,{"v":0.167,"d":"0.17"},0.28,{"v":0,"d":"0.00"},{"v":0.189,"d":"0.19"},0.19,{"v":0.203,"d":"0.20"},{"v":0,"d":"0.00"},{"v":0,"d":"0.00"},null,{"$f":"SUM(D35:L35)","v":{"v":1.2890000000000001,"d":"1.29"}}]
[null,"Fridges Output","RecyclingFridges Output",{"v":12.303,"d":"12.30"},{"v":2.582,"d":"2.58"},{"v":7.643,"d":"7.64"},6.98,{"v":6.792,"d":"6.79"},{"v":13.085,"d":"13.09"},{"v":2.074,"d":"2.07"},{"v":0.41197,"d":"0.41"},{"v":0,"d":"0.00"},null,{"$f":"SUM(D36:L36)","v":{"v":51.87097,"d":"51.87"}}]
[null,"Gas Cylinders","RecyclingGas Cylinders",{"v":0,"d":"0.00"},{"v":0,"d":"0.00"},{"v":0,"d":"0.00"},{"v":0,"d":"0.00"},{"v":0,"d":"0.00"},0.11,{"v":0,"d":"0.00"},{"v":0,"d":"0.00"},{"v":0,"d":"0.00"},null,{"$f":"SUM(D37:L37)","v":0.11}]
[null,"General (mixed waste)","RecyclingGeneral (mixed waste)",{"v":0,"d":"0.00"},{"v":0,"d":"0.00"},{"v":0,"d":"0.00"},{"v":0,"d":"0.00"},{"v":0,"d":"0.00"},{"v":0,"d":"0.00"},{"v":0,"d":"0.00"},{"v":0,"d":"0.00"},{"v":23.005,"d":"23.01"},null,{"$f":"SUM(D38:L38)","v":{"v":23.005,"d":"23.01"}}]
[null,"Glass (bottles)","RecyclingGlass (bottles)",{"v":3.786,"d":"3.79"},{"v":6.725,"d":"6.73"},{"v":0,"d":"0.00"},{"v":0,"d":"0.00"},{"v":0.879,"d":"0.88"},{"v":6.371,"d":"6.37"},{"v":0,"d":"0.00"},{"v":0.658,"d":"0.66"},{"v":0,"d":"0.00"},null,{"$f":"SUM(D39:L39)","v":{"v":18.419,"d":"18.42"}}]
[null,"Green waste","RecyclingGreen waste",{"v":0,"d":"0.00"},{"v":0,"d":"0.00"},{"v":0,"d":"0.00"},{"v":0,"d":"0.00"},{"v":0,"d":"0.00"},{"v":0,"d":"0.00"},{"v":0,"d":"0.00"},{"v":0,"d":"0.00"},{"v":0,"d":"0.00"},null,{"$f":"SUM(D40:L40)","v":{"v":0,"d":"0.00"}}]
[null,"Hard Plastic","RecyclingHard Plastic",{"v":0,"d":"0.00"},{"v":0,"d":"0.00"},{"v":0,"d":"0.00"},18.58,{"v":0,"d":"0.00"},{"v":0,"d":"0.00"},{"v":0,"d":"0.00"},{"v":0,"d":"0.00"},{"v":0,"d":"0.00"},null,{"$f":"SUM(D41:L41)","v":18.58}]
[null,"Household Goods\r\nHousehold Goods","RecyclingHousehold Goods\r\nHousehold Goods",{"v":0,"d":"0.00"},{"v":0,"d":"0.00"},{"v":0,"d":"0.00"},{"v":0,"d":"0.00"},{"v":0,"d":"0.00"},{"v":0,"d":"0.00"},{"v":0,"d":"0.00"},{"v":0,"d":"0.00"},{"v":0,"d":"0.00"},null,{"$f":"SUM(D42:L42)","v":{"v":0,"d":"0.00"}}]
[null,"Inert (rubble/hardcore)","RecyclingInert (rubble/hardcore)",{"v":0,"d":"0.00"},{"v":0,"d":"0.00"},{"v":0,"d":"0.00"},{"v":0,"d":"0.00"},{"v":0,"d":"0.00"},{"v":0,"d":"0.00"},{"v":0,"d":"0.00"},{"v":0,"d":"0.00"},{"v":0,"d":"0.00"},null,{"$f":"SUM(D43:L43)","v":{"v":0,"d":"0.00"}}]
[null,"Lead (nf)","RecyclingLead (nf)",{"v":0,"d":"0.00"},{"v":0,"d":"0.00"},{"v":0,"d":"0.00"},{"v":0,"d":"0.00"},{"v":0,"d":"0.00"},{"v":0,"d":"0.00"},{"v":0,"d":"0.00"},{"v":0,"d":"0.00"},{"v":0,"d":"0.00"},null,{"$f":"SUM(D44:L44)","v":{"v":0,"d":"0.00"}}]
[null,"Matresses","RecyclingMatresses",{"v":2.605,"d":"2.61"},2.19,4.94,{"v":0,"d":"0.00"},{"v":0,"d":"0.00"},8.86,{"v":0.585,"d":"0.59"},{"v":0,"d":"0.00"},{"v":0,"d":"0.00"},null,{"$f":"SUM(D45:L45)","v":19.18}]
[null,"Microwave Motors","RecyclingMicrowave Motors",{"v":0,"d":"0.00"},{"v":0,"d":"0.00"},{"v":0,"d":"0.00"},{"v":0,"d":"0.00"},{"v":0,"d":"0.00"},{"v":0,"d":"0.00"},{"v":0,"d":"0.00"},{"v":0,"d":"0.00"},{"v":0,"d":"0.00"},null,{"$f":"SUM(D46:L46)","v":{"v":0,"d":"0.00"}}]
[null,"Non Ferrous Metal  \r\nNon Ferrous Metal","RecyclingNon Ferrous Metal  \r\nNon Ferrous Metal",{"v":0,"d":"0.00"},{"v":0.2,"d":"0.20"},{"v":0,"d":"0.00"},{"v":0,"d":"0.00"},{"v":0,"d":"0.00"},{"v":0,"d":"0.00"},0.36,{"v":0,"d":"0.00"},{"v":0,"d":"0.00"},null,{"$f":"SUM(D47:L47)","v":0.56}]
[null,"Oil (Engine)","RecyclingOil (Engine)",1.12,0.88,2.38,2.12,{"v":0,"d":"0.00"},3.02,0.44,{"v":0,"d":"0.00"},{"v":0.352,"d":"0.35"},null,{"$f":"SUM(D48:L48)","v":{"v":10.312,"d":"10.31"}}]
[null,"Oil (Vegetable)","RecyclingOil (Vegetable)",{"v":0,"d":"0.00"},0.44,{"v":0,"d":"0.00"},{"v":0,"d":"0.00"},{"v":0,"d":"0.00"},{"v":0,"d":"0.00"},{"v":0,"d":"0.00"},{"v":0,"d":"0.00"},{"v":0,"d":"0.00"},null,{"$f":"SUM(D49:L49)","v":0.44}]
[null,"Paint (chemicals)","RecyclingPaint (chemicals)",{"v":0,"d":"0.00"},{"v":0,"d":"0.00"},{"v":0,"d":"0.00"},{"v":0,"d":"0.00"},{"v":0,"d":"0.00"},2.29,{"v":0,"d":"0.00"},{"v":0,"d":"0.00"},{"v":0,"d":"0.00"},null,{"$f":"SUM(D50:L50)","v":2.29}]
[null,"Paper (mixed with card)","RecyclingPaper (mixed with card)",{"v":0,"d":"0.00"},{"v":0,"d":"0.00"},{"v":0,"d":"0.00"},{"v":0,"d":"0.00"},{"v":0,"d":"0.00"},{"v":0,"d":"0.00"},{"v":0,"d":"0.00"},{"v":0,"d":"0.00"},{"v":0,"d":"0.00"},null,{"$f":"SUM(D51:L51)","v":{"v":0,"d":"0.00"}}]
[null,"Paper (newspaper & magazines)","RecyclingPaper (newspaper & magazines)",15.02,10.44,21.64,8.34,14.42,20.98,10.66,{"v":0,"d":"0.00"},{"v":0,"d":"0.00"},null,{"$f":"SUM(D52:L52)","v":{"v":101.5,"d":"101.50"}}]
[null,"Plasterboard","RecyclingPlasterboard",6.46,0.08,{"v":9.159999999999998,"d":"9.16"},10.36,7.11,{"v":12.969999999999999,"d":"12.97"},{"v":0,"d":"0.00"},{"v":0,"d":"0.00"},{"v":0.1,"d":"0.10"},null,{"$f":"SUM(D53:L53)","v":46.24}]
[null,"Plastic (Mixed)","RecyclingPlastic (Mixed)",1.04,1.36,{"v":0,"d":"0.00"},{"v":0,"d":"0.00"},{"v":0,"d":"0.00"},{"v":0,"d":"0.00"},2.14,{"v":0,"d":"0.00"},{"v":0.1,"d":"0.10"},null,{"$f":"SUM(D54:L54)","v":{"v":4.640000000000001,"d":"4.64"}}]
[null,"Printer Cartridges","RecyclingPrinter Cartridges",{"v":0,"d":"0.00"},{"v":0,"d":"0.00"},{"v":0,"d":"0.00"},{"v":0,"d":"0.00"},{"v":0,"d":"0.00"},{"v":0,"d":"0.00"},{"v":0,"d":"0.00"},{"v":0,"d":"0.00"},{"v":0,"d":"0.00"},null,{"$f":"SUM(D55:L55)","v":{"v":0,"d":"0.00"}}]
[null,"Road Sweepings","RecyclingRoad Sweepings",{"v":0,"d":"0.00"},{"v":0,"d":"0.00"},{"v":0,"d":"0.00"},{"v":0,"d":"0.00"},{"v":0,"d":"0.00"},331.28,{"v":0,"d":"0.00"},{"v":0,"d":"0.00"},{"v":0,"d":"0.00"},null,{"$f":"SUM(D56:L56)","v":331.28}]
[null,"Scrap metal (mixed)","RecyclingScrap metal (mixed)",{"v":50.81999999999999,"d":"50.82"},{"v":25.339999999999996,"d":"25.34"},58.39,{"v":54.9,"d":"54.90"},36.33,82.03,15.18,8.74,9.51,null,{"$f":"SUM(D57:L57)","v":{"v":341.24000000000007,"d":"341.24"}}]
[null,"Screens output","RecyclingScreens output",{"v":5.125,"d":"5.13"},{"v":2.615,"d":"2.62"},10.63,{"v":9.2,"d":"9.20"},{"v":5.546,"d":"5.55"},{"v":10.716,"d":"10.72"},{"v":2.832,"d":"2.83"},{"v":1.125,"d":"1.13"},{"v":1.567,"d":"1.57"},null,{"$f":"SUM(D58:L58)","v":{"v":49.356,"d":"49.36"}}]
[null,"Small Domestic Appliances","RecyclingSmall Domestic Appliances",24.66,7.02,{"v":23.5,"d":"23.50"},17.72,15.51,47.49,6.88,4.61,{"v":2.6,"d":"2.60"},null,{"$f":"SUM(D59:L59)","v":149.99}]
[null,"Soil & rubble","RecyclingSoil & rubble",{"v":0,"d":"0.00"},{"v":0,"d":"0.00"},{"v":0,"d":"0.00"},180.86,{"v":0,"d":"0.00"},{"v":0,"d":"0.00"},{"v":0,"d":"0.00"},{"v":0,"d":"0.00"},{"v":0,"d":"0.00"},null,{"$f":"SUM(D60:L60)","v":180.86}]
[null,"Stainless Steel","RecyclingStainless Steel",{"v":0,"d":"0.00"},{"v":0,"d":"0.00"},{"v":0,"d":"0.00"},{"v":0,"d":"0.00"},{"v":0,"d":"0.00"},{"v":0,"d":"0.00"},{"v":0,"d":"0.00"},{"v":0,"d":"0.00"},{"v":0,"d":"0.00"},null,{"$f":"SUM(D61:L61)","v":{"v":0,"d":"0.00"}}]
[null,"Textiles","RecyclingTextiles",7.19,{"v":4.5786,"d":"4.58"},10.01,7.16,4.78,8.78,{"v":1.4272,"d":"1.43"},{"v":0.3494,"d":"0.35"},{"v":1.5519,"d":"1.55"},null,{"$f":"SUM(D62:L62)","v":{"v":45.8271,"d":"45.83"}}]
[null,"Tyres","RecyclingTyres",{"v":0,"d":"0.00"},{"v":0,"d":"0.00"},{"v":0,"d":"0.00"},{"v":0,"d":"0.00"},{"v":0,"d":"0.00"},{"v":0,"d":"0.00"},{"v":0,"d":"0.00"},{"v":0,"d":"0.00"},{"v":0,"d":"0.00"},null,{"$f":"SUM(D63:L63)","v":{"v":0,"d":"0.00"}}]
[null,"Wood (including treated)","RecyclingWood (including treated)",{"v":0,"d":"0.00"},58.02,{"v":58.948,"d":"58.95"},218.78,{"v":63,"d":"63.00"},209.82,{"v":27.945,"d":"27.95"},{"v":6.6,"d":"6.60"},{"v":8.715,"d":"8.72"},null,{"$f":"SUM(D64:L64)","v":{"v":651.8280000000001,"d":"651.83"}}]
[]
[null,"Sub Total",null,{"$f":"SUM(D23:D64)","v":{"v":272.0715,"d":"272.07"}},{"$f":"SUM(E23:E64)","v":{"v":174.66734,"d":"174.67"}},{"$f":"SUM(F23:F64)","v":{"v":340.231,"d":"340.23"}},{"$f":"SUM(G23:G64)","v":571.72},{"$f":"SUM(H23:H64)","v":{"v":297.17599999999993,"d":"297.18"}},{"$f":"SUM(I23:I64)","v":{"v":903.0817400000001,"d":"903.08"}},{"$f":"SUM(J23:J64)","v":{"v":99.30619999999999,"d":"99.31"}},{"$f":"SUM(K23:K64)","v":{"v":44.314370000000004,"d":"44.31"}},{"$f":"SUM(L23:L64)","v":{"v":68.0179,"d":"68.02"}},null,{"$f":"SUM(D66:L66)","v":{"v":2770.58605,"d":"2,770.59"}}]
[]
["Re-Use","Books","Re-UseBooks",0.18,{"v":0,"d":"0.00"},{"v":0,"d":"0.00"},{"v":0,"d":"0.00"},{"v":0,"d":"0.00"},{"v":0,"d":"0.00"},{"v":0,"d":"0.00"},{"v":0,"d":"0.00"},0.14,null,{"$f":"SUM(D68:L68)","v":0.32}]
[null,"Gas Cylinders","Re-UseGas Cylinders",{"v":0,"d":"0.00"},{"v":0,"d":"0.00"},{"v":0,"d":"0.00"},{"v":0,"d":"0.00"},{"v":0,"d":"0.00"},{"v":0,"d":"0.00"},{"v":0,"d":"0.00"},{"v":0,"d":"0.00"},{"v":0,"d":"0.00"},null,{"$f":"SUM(D69:L69)","v":{"v":0,"d":"0.00"}}]
[null,"Household Goods\r\nHousehold Goods","Re-UseHousehold Goods\r\nHousehold Goods",{"v":0,"d":"0.00"},{"v":0,"d":"0.00"},{"v":0,"d":"0.00"},{"v":17.177,"d":"17.18"},{"v":0,"d":"0.00"},{"v":0,"d":"0.00"},{"v":0,"d":"0.00"},{"v":0,"d":"0.00"},{"v":0,"d":"0.00"},null,{"$f":"SUM(D70:L70)","v":{"v":17.177,"d":"17.18"}}]
[null,"Inert (rubble/hardcore)","Re-UseInert (rubble/hardcore)",{"v":143.1,"d":"143.10"},{"v":75.53999999999999,"d":"75.54"},125.14,{"v":0,"d":"0.00"},98.06,266.48,{"v":21.299999999999997,"d":"21.30"},23.32,17.66,null,{"$f":"SUM(D71:L71)","v":{"v":770.5999999999999,"d":"770.60"}}]
[null,"Soil","Re-UseSoil",11.68,{"v":0,"d":"0.00"},{"v":0,"d":"0.00"},{"v":0,"d":"0.00"},{"v":0,"d":"0.00"},{"v":0,"d":"0.00"},{"v":0,"d":"0.00"},{"v":0,"d":"0.00"},{"v":0,"d":"0.00"},null,{"$f":"SUM(D72:L72)","v":11.68}]
[]
[null,"Sub Total",null,{"$f":"SUM(D68:D73)","v":154.96},{"$f":"SUM(E68:E73)","v":{"v":75.53999999999999,"d":"75.54"}},{"$f":"SUM(F68:F73)","v":125.14},{"$f":"SUM(G68:G73)","v":{"v":17.177,"d":"17.18"}},{"$f":"SUM(H68:H73)","v":98.06},{"$f":"SUM(I68:I73)","v":266.48},{"$f":"SUM(J68:J73)","v":{"v":21.299999999999997,"d":"21.30"}},{"$f":"SUM(K68:K73)","v":23.32},{"$f":"SUM(L68:L73)","v":{"v":17.8,"d":"17.80"}},null,{"$f":"SUM(D74:L74)","v":{"v":799.7769999999999,"d":"799.78"}}]
[]
[]
[null,"Grand Total",null,{"$f":"SUM(D7)+(D15)+(D21)+(D66)+(D74)","v":{"v":708.0715,"d":"708.07"}},{"$f":"SUM(E7)+(E15)+(E21)+(E66)+(E74)","v":{"v":473.3573399999999,"d":"473.36"}},{"$f":"SUM(F7)+(F15)+(F21)+(F66)+(F74)","v":{"v":831.206,"d":"831.21"}},{"$f":"SUM(G7)+(G15)+(G21)+(G66)+(G74)","v":{"v":1035.827,"d":"1,035.83"}},{"$f":"SUM(H7)+(H15)+(H21)+(H66)+(H74)","v":{"v":664.9159999999999,"d":"664.92"}},{"$f":"SUM(I7)+(I15)+(I21)+(I66)+(I74)","v":{"v":2079.62574,"d":"2,079.63"}},{"$f":"SUM(J7)+(J15)+(J21)+(J66)+(J74)","v":{"v":213.08120000000002,"d":"213.08"}},{"$f":"SUM(K7)+(K15)+(K21)+(K66)+(K74)","v":{"v":105.18437,"d":"105.18"}},{"$f":"SUM(L7)+(L15)+(L21)+(L66)+(L74)","v":{"v":109.30789999999999,"d":"109.31"}},null,{"$f":"SUM(D77:L77)","v":{"v":6220.57705,"d":"6,220.58"}}]

{"sheet":"May","index":1,"n_rows":77,"n_cols":14,"rows_kept":77}
["May","01/04/2015 to 31/03/2016"]
[]
["Treatment Use","Waste Type",null,"Burton Farm HWRC","Cherry Orchard HWRC","Hunters Lane HWRC & Transfer","Judkins HWRC","Lower House Farm HWRC","Princes Drive HWRC & Transfer","Shipston HWRC","Stockton HWRC","Wellesbourne HWRC",null,"Total"]
[]
["Composting","Green waste","CompostingGreen waste",67.12,{"v":76.2,"d":"76.20"},84.48,84.78,{"v":54.1,"d":"54.10"},164.44,30.28,8.95,18.96,null,{"$f":"SUM(D5:L5)","v":{"v":589.3100000000002,"d":"589.31"}}]
[]
[null,"Sub Total",null,{"$f":"SUM(D5:D5)","v":67.12},{"$f":"SUM(E5:E5)","v":{"v":76.2,"d":"76.20"}},{"$f":"SUM(F5:F5)","v":84.48},{"$f":"SUM(G5:G5)","v":84.78},{"$f":"SUM(H5:H5)","v":{"v":54.1,"d":"54.10"}},{"$f":"SUM(I5:I5)","v":164.44},{"$f":"SUM(J5:J5)","v":30.28},{"$f":"SUM(K5:K5)","v":8.95},{"$f":"SUM(L5:L5)","v":18.96},null,{"$f":"SUM(D7:L7)","v":{"v":589.3100000000002,"d":"589.31"}}]
[]
["Efw (incineration)","Bulky Waste","Efw (incineration)Bulky Waste",{"v":0,"d":"0.00"},{"v":0,"d":"0.00"},{"v":0,"d":"0.00"},{"v":0,"d":"0.00"},26.04,{"v":0,"d":"0.00"},{"v":0,"d":"0.00"},{"v":0,"d":"0.00"},{"v":0,"d":"0.00"},null,{"$f":"SUM(D9:L9)","v":26.04}]
[null,"Chemicals","Efw (incineration)Chemicals",{"v":0,"d":"0.00"},{"v":0,"d":"0.00"},{"v":0,"d":"0.00"},{"v":0,"d":"0.00"},{"v":0,"d":"0.00"},{"v":0,"d":"0.00"},{"v":0,"d":"0.00"},{"v":0,"d":"0.00"},{"v":0,"d":"0.00"},null,{"$f":"SUM(D10:L10)","v":{"v":0,"d":"0.00"}}]
[null,"Clinical","Efw (incineration)Clinical",{"v":0,"d":"0.00"},{"v":0,"d":"0.00"},{"v":0,"d":"0.00"},{"v":0,"d":"0.00"},{"v":0,"d":"0.00"},{"v":2.206,"d":"2.21"},{"v":0,"d":"0.00"},{"v":0,"d":"0.00"},{"v":0,"d":"0.00"},null,{"$f":"SUM(D11:L11)","v":{"v":2.206,"d":"2.21"}}]
[null,"General (mixed waste)","Efw (incineration)General (mixed waste)",{"v":0,"d":"0.00"},{"v":0,"d":"0.00"},{"v":0,"d":"0.00"},{"v":0,"d":"0.00"},132.16,{"v":0,"d":"0.00"},{"v":0,"d":"0.00"},{"v":0,"d":"0.00"},{"v":0,"d":"0.00"},null,{"$f":"SUM(D12:L12)","v":132.16}]
[null,"Paint (chemicals)","Efw (incineration)Paint (chemicals)",{"v":0,"d":"0.00"},{"v":0,"d":"0.00"},{"v":0,"d":"0.00"},{"v":0,"d":"0.00"},{"v":0,"d":"0.00"},{"v":0,"d":"0.00"},{"v":0,"d":"0.00"},{"v":0,"d":"0.00"},{"v":0,"d":"0.00"},null,{"$f":"SUM(D13:L13)","v":{"v":0,"d":"0.00"}}]
[]
[null,"Sub Total",null,{"$f":"SUM(D9:D13)","v":{"v":0,"d":"0.00"}},{"$f":"SUM(E9:E13)","v":{"v":0,"d":"0.00"}},{"$f":"SUM(F9:F13)","v":{"v":0,"d":"0.00"}},{"$f":"SUM(G9:G13)","v":{"v":0,"d":"0.00"}},{"$f":"SUM(H9:H13)","v":{"v":158.2,"d":"158.20"}},{"$f":"SUM(I9:I13)","v":{"v":2.206,"d":"2.21"}},{"$f":"SUM(J9:J13)","v":{"v":0,"d":"0.00"}},{"$f":"SUM(K9:K13)","v":{"v":0,"d":"0.00"}},{"$f":"SUM(L9:L13)","v":{"v":0,"d":"0.00"}},null,{"$f":"SUM(D15:L15)","v":{"v":160.40599999999998,"d":"160.41"}}]
[]
["Landfill","Asbestos","LandfillAsbestos",{"v":0,"d":"0.00"},{"v":0,"d":"0.00"},4.38,{"v":0,"d":"0.00"},{"v":0,"d":"0.00"},{"v":2.7,"d":"2.70"},{"v":0,"d":"0.00"},{"v":0,"d":"0.00"},{"v":0,"d":"0.00"},null,{"$f":"SUM(D17:L17)","v":7.08}]
[null,"General (mixed waste)","LandfillGeneral (mixed waste)",{"v":170.07999999999998,"d":"170.08"},97.72,205.51,317.98,{"v":0,"d":"0.00"},638.46,{"v":40.839999999999996,"d":"40.84"},30.16,29.43,null,{"$f":"SUM(D18:L18)","v":{"v":1530.18,"d":"1,530.18"}}]
[null,"Hard Plastic","LandfillHard Plastic",{"v":0,"d":"0.00"},{"v":7.1,"d":"7.10"},{"v":6.665,"d":"6.67"},{"v":0,"d":"0.00"},{"v":4.685,"d":"4.69"},{"v":0,"d":"0.00"},{"v":0,"d":"0.00"},{"v":0,"d":"0.00"},{"v":0,"d":"0.00"},null,{"$f":"SUM(D19:L19)","v":18.45}]
[]
[null,"Sub Total",null,{"$f":"SUM(D17:D19)","v":{"v":170.07999999999998,"d":"170.08"}},{"$f":"SUM(E17:E19)","v":104.82},{"$f":"SUM(F17:F19)","v":{"v":216.55499999999998,"d":"216.56"}},{"$f":"SUM(G17:G19)","v":317.98},{"$f":"SUM(H17:H19)","v":{"v":4.685,"d":"4.69"}},{"$f":"SUM(I17:I19)","v":{"v":641.1600000000001,"d":"641.16"}},{"$f":"SUM(J17:J19)","v":{"v":40.839999999999996,"d":"40.84"}},{"$f":"SUM(K17:K19)","v":30.16},{"$f":"SUM(L17:L19)","v":29.43},null,{"$f":"SUM(D21:L21)","v":{"v":1555.71,"d":"1,555.71"}}]
[]
["Recycling","Aluminium (nf)","RecyclingAluminium (nf)",{"v":0,"d":"0.00"},{"v":0,"d":"0.00"},{"v":0,"d":"0.00"},{"v":0,"d":"0.00"},{"v":0,"d":"0.00"},{"v":0,"d":"0.00"},{"v":0,"d":"0.00"},{"v":0,"d":"0.00"},{"v":0,"d":"0.00"},null,{"$f":"SUM(D23:L23)","v":{"v":0,"d":"0.00"}}]
[null,"Batteries (car)","RecyclingBatteries (car)",{"v":0,"d":"0.00"},{"v":0.979,"d":"0.98"},{"v":0,"d":"0.00"},{"v":1.361,"d":"1.36"},2.28,{"v":1.7,"d":"1.70"},0.36,{"v":0,"d":"0.00"},{"v":0,"d":"0.00"},null,{"$f":"SUM(D24:L24)","v":6.68}]
[null,"Batteries (household)","RecyclingBatteries (household)",{"v":0,"d":"0.00"},{"v":0,"d":"0.00"},{"v":0,"d":"0.00"},{"v":0,"d":"0.00"},{"v":0,"d":"0.00"},0.73,{"v":0,"d":"0.00"},{"v":0,"d":"0.00"},{"v":0,"d":"0.00"},null,{"$f":"SUM(D25:L25)","v":0.73}]
[null,"Books","RecyclingBooks",{"v":0,"d":"0.00"},0.05,{"v":0,"d":"0.00"},3.24,{"v":0,"d":"0.00"},0.33,{"v":0,"d":"0.00"},{"v":0,"d":"0.00"},{"v":0,"d":"0.00"},null,{"$f":"SUM(D26:L26)","v":3.62}]
[null,"Brass(nf)","RecyclingBrass(nf)",{"v":0,"d":"0.00"},{"v":0,"d":"0.00"},{"v":0,"d":"0.00"},{"v":0,"d":"0.00"},{"v":0,"d":"0.00"},{"v":0,"d":"0.00"},{"v":0,"d":"0.00"},{"v":0,"d":"0.00"},{"v":0,"d":"0.00"},null,{"$f":"SUM(D27:L27)","v":{"v":0,"d":"0.00"}}]
[null,"Cable (nf)","RecyclingCable (nf)",{"v":0,"d":"0.00"},{"v":0,"d":"0.00"},{"v":0,"d":"0.00"},{"v":0,"d":"0.00"},{"v":0,"d":"0.00"},{"v":0,"d":"0.00"},{"v":0.2,"d":"0.20"},{"v":0,"d":"0.00"},{"v":0,"d":"0.00"},null,{"$f":"SUM(D28:L28)","v":{"v":0.2,"d":"0.20"}}]
[null,"Cardboard","RecyclingCardboard",26.92,14.18,21.52,26.48,25.28,{"v":41.7,"d":"41.70"},6.36,{"v":2.4000000000000004,"d":"2.40"},{"v":3.8200000000000003,"d":"3.82"},null,{"$f":"SUM(D29:L29)","v":{"v":168.66000000000003,"d":"168.66"}}]
[null,"Carpet","RecyclingCarpet",7.82,{"v":11.3,"d":"11.30"},{"v":18.380000000000003,"d":"18.38"},{"v":0,"d":"0.00"},32.54,34.69,3.86,{"v":0,"d":"0.00"},{"v":0,"d":"0.00"},null,{"$f":"SUM(D30:L30)","v":{"v":108.58999999999999,"d":"108.59"}}]
[null,"Chipboard","RecyclingChipboard",6.92,24.46,109.91,{"v":0,"d":"0.00"},{"v":15.3,"d":"15.30"},5.98,8.14,{"v":0,"d":"0.00"},12.75,null,{"$f":"SUM(D31:L31)","v":{"v":183.45999999999998,"d":"183.46"}}]
[null,"Copper & Brass Mixed (nf)","RecyclingCopper & Brass Mixed (nf)",{"v":0,"d":"0.00"},{"v":0,"d":"0.00"},{"v":0,"d":"0.00"},{"v":0,"d":"0.00"},{"v":0,"d":"0.00"},{"v":0,"d":"0.00"},{"v":0,"d":"0.00"},{"v":0,"d":"0.00"},{"v":0,"d":"0.00"},null,{"$f":"SUM(D32:L32)","v":{"v":0,"d":"0.00"}}]
[null,"Drink Cartons","RecyclingDrink Cartons",{"v":0,"d":"0.00"},{"v":0.64161,"d":"0.64"},{"v":0,"d":"0.00"},{"v":0,"d":"0.00"},{"v":0.07013,"d":"0.07"},{"v":0.12001,"d":"0.12"},{"v":0,"d":"0.00"},{"v":0,"d":"0.00"},{"v":0,"d":"0.00"},null,{"$f":"SUM(D33:L33)","v":{"v":0.83175,"d":"0.83"}}]
[null,"Fire Extinguishers","RecyclingFire Extinguishers",{"v":0,"d":"0.00"},{"v":0,"d":"0.00"},{"v":0,"d":"0.00"},{"v":0,"d":"0.00"},{"v":0,"d":"0.00"},{"v":0,"d":"0.00"},{"v":0,"d":"0.00"},{"v":0,"d":"0.00"},{"v":0,"d":"0.00"},null,{"$f":"SUM(D34:L34)","v":{"v":0,"d":"0.00"}}]
[null,"Fluorescent Tubes Output","RecyclingFluorescent Tubes Output",{"v":0,"d":"0.00"},{"v":0,"d":"0.00"},{"v":0,"d":"0.00"},{"v":0,"d":"0.00"},{"v":0,"d":"0.00"},0.13,{"v":0,"d":"0.00"},{"v":0,"d":"0.00"},{"v":0,"d":"0.00"},null,{"$f":"SUM(D35:L35)","v":0.13}]
[null,"Fridges Output","RecyclingFridges Output",{"v":5.395,"d":"5.40"},{"v":2.085,"d":"2.09"},{"v":6.118,"d":"6.12"},{"v":6.3,"d":"6.30"},5.24,{"v":9.417,"d":"9.42"},{"v":2.295,"d":"2.30"},{"v":0.508,"d":"0.51"},{"v":0,"d":"0.00"},null,{"$f":"SUM(D36:L36)","v":{"v":37.358000000000004,"d":"37.36"}}]
[null,"Gas Cylinders","RecyclingGas Cylinders",{"v":0,"d":"0.00"},{"v":0,"d":"0.00"},{"v":0,"d":"0.00"},{"v":0,"d":"0.00"},{"v":0,"d":"0.00"},0.09,{"v":0,"d":"0.00"},{"v":0,"d":"0.00"},{"v":0,"d":"0.00"},null,{"$f":"SUM(D37:L37)","v":0.09}]
[null,"General (mixed waste)","RecyclingGeneral (mixed waste)",{"v":0,"d":"0.00"},{"v":0,"d":"0.00"},{"v":0,"d":"0.00"},{"v":0,"d":"0.00"},{"v":0,"d":"0.00"},{"v":0,"d":"0.00"},{"v":0,"d":"0.00"},{"v":0,"d":"0.00"},{"v":0,"d":"0.00"},null,{"$f":"SUM(D38:L38)","v":{"v":0,"d":"0.00"}}]
[null,"Glass (bottles)","RecyclingGlass (bottles)",{"v":0,"d":"0.00"},{"v":4.518,"d":"4.52"},{"v":2.784,"d":"2.78"},{"v":0,"d":"0.00"},{"v":0,"d":"0.00"},{"v":7.682,"d":"7.68"},{"v":4.026,"d":"4.03"},{"v":0,"d":"0.00"},1.83,null,{"$f":"SUM(D39:L39)","v":{"v":20.839999999999996,"d":"20.84"}}]
[null,"Green waste","RecyclingGreen waste",{"v":0,"d":"0.00"},{"v":0,"d":"0.00"},{"v":0,"d":"0.00"},{"v":0,"d":"0.00"},{"v":0,"d":"0.00"},{"v":0,"d":"0.00"},{"v":0,"d":"0.00"},{"v":0,"d":"0.00"},{"v":0,"d":"0.00"},null,{"$f":"SUM(D40:L40)","v":{"v":0,"d":"0.00"}}]
[null,"Hard Plastic","RecyclingHard Plastic",{"v":0,"d":"0.00"},{"v":0,"d":"0.00"},{"v":0,"d":"0.00"},17.18,5.36,{"v":0,"d":"0.00"},{"v":0,"d":"0.00"},{"v":0,"d":"0.00"},{"v":0,"d":"0.00"},null,{"$f":"SUM(D41:L41)","v":22.54}]
[null,"Household Goods\r\nHousehold Goods","RecyclingHousehold Goods\r\nHousehold Goods",{"v":0,"d":"0.00"},{"v":0,"d":"0.00"},{"v":0,"d":"0.00"},{"v":0,"d":"0.00"},{"v":0,"d":"0.00"},{"v":0,"d":"0.00"},{"v":0,"d":"0.00"},{"v":0,"d":"0.00"},{"v":0,"d":"0.00"},null,{"$f":"SUM(D42:L42)","v":{"v":0,"d":"0.00"}}]
[null,"Inert (rubble/hardcore)","RecyclingInert (rubble/hardcore)",{"v":0,"d":"0.00"},{"v":0,"d":"0.00"},{"v":0,"d":"0.00"},{"v":0,"d":"0.00"},{"v":0,"d":"0.00"},{"v":0,"d":"0.00"},{"v":0,"d":"0.00"},{"v":0,"d":"0.00"},{"v":0,"d":"0.00"},null,{"$f":"SUM(D43:L43)","v":{"v":0,"d":"0.00"}}]
[null,"Lead (nf)","RecyclingLead (nf)",{"v":0,"d":"0.00"},{"v":0,"d":"0.00"},{"v":0,"d":"0.00"},{"v":0,"d":"0.00"},{"v":0,"d":"0.00"},{"v":0,"d":"0.00"},{"v":0,"d":"0.00"},{"v":0,"d":"0.00"},{"v":0,"d":"0.00"},null,{"$f":"SUM(D44:L44)","v":{"v":0,"d":"0.00"}}]
[null,"Matresses","RecyclingMatresses",3.22,{"v":2.355,"d":"2.36"},5.86,{"v":0,"d":"0.00"},{"v":0,"d":"0.00"},6.18,0.42,{"v":0,"d":"0.00"},{"v":0,"d":"0.00"},null,{"$f":"SUM(D45:L45)","v":{"v":18.035000000000004,"d":"18.04"}}]
[null,"Microwave Motors","RecyclingMicrowave Motors",{"v":0,"d":"0.00"},{"v":0,"d":"0.00"},{"v":0,"d":"0.00"},{"v":0,"d":"0.00"},{"v":0,"d":"0.00"},6.78,0.37,{"v":0,"d":"0.00"},{"v":0,"d":"0.00"},null,{"$f":"SUM(D46:L46)","v":7.15}]
[null,"Non Ferrous Metal  \r\nNon Ferrous Metal","RecyclingNon Ferrous Metal  \r\nNon Ferrous Metal",{"v":0,"d":"0.00"},0.29,1.01,{"v":0,"d":"0.00"},{"v":0,"d":"0.00"},{"v":0.15600000000000003,"d":"0.16"},{"v":0.9099999999999999,"d":"0.91"},{"v":0,"d":"0.00"},{"v":0.275,"d":"0.28"},null,{"$f":"SUM(D47:L47)","v":{"v":2.6409999999999996,"d":"2.64"}}]
[null,"Oil (Engine)","RecyclingOil (Engine)",{"v":0,"d":"0.00"},{"v":0,"d":"0.00"},{"v":0,"d":"0.00"},1.36,4.85,0.74,{"v":0,"d":"0.00"},{"v":0,"d":"0.00"},{"v":0,"d":"0.00"},null,{"$f":"SUM(D48:L48)","v":6.95}]
[null,"Oil (Vegetable)","RecyclingOil (Vegetable)",{"v":0,"d":"0.00"},{"v":0,"d":"0.00"},{"v":0,"d":"0.00"},{"v":0,"d":"0.00"},{"v":0.6,"d":"0.60"},0.97,{"v":0,"d":"0.00"},{"v":0,"d":"0.00"},{"v":0,"d":"0.00"},null,{"$f":"SUM(D49:L49)","v":{"v":1.5699999999999998,"d":"1.57"}}]
[null,"Paint (chemicals)","RecyclingPaint (chemicals)",{"v":0,"d":"0.00"},{"v":0,"d":"0.00"},{"v":0,"d":"0.00"},{"v":0,"d":"0.00"},{"v":0,"d":"0.00"},{"v":0,"d":"0.00"},{"v":0,"d":"0.00"},{"v":0,"d":"0.00"},{"v":0,"d":"0.00"},null,{"$f":"SUM(D50:L50)","v":{"v":0,"d":"0.00"}}]
[null,"Paper (mixed with card)","RecyclingPaper (mixed with card)",{"v":0,"d":"0.00"},{"v":0,"d":"0.00"},{"v":0,"d":"0.00"},{"v":0,"d":"0.00"},4.16,{"v":0,"d":"0.00"},{"v":0,"d":"0.00"},{"v":0,"d":"0.00"},{"v":0,"d":"0.00"},null,{"$f":"SUM(D51:L51)","v":4.16}]
[null,"Paper (newspaper & magazines)","RecyclingPaper (newspaper & magazines)",6.12,10.22,11.54,7.62,4.16,29.38,{"v":0,"d":"0.00"},{"v":0,"d":"0.00"},{"v":0,"d":"0.00"},null,{"$f":"SUM(D52:L52)","v":{"v":69.03999999999999,"d":"69.04"}}]
[null,"Plasterboard","RecyclingPlasterboard",3.95,{"v":0,"d":"0.00"},{"v":0,"d":"0.00"},5.36,{"v":5.7,"d":"5.70"},{"v":13.1,"d":"13.10"},{"v":0,"d":"0.00"},{"v":0,"d":"0.00"},{"v":0.1,"d":"0.10"},null,{"$f":"SUM(D53:L53)","v":28.21}]
[null,"Plastic (Mixed)","RecyclingPlastic (Mixed)",{"v":0,"d":"0.00"},1.58,{"v":0,"d":"0.00"},{"v":0,"d":"0.00"},0.86,23.68,0.28,{"v":0,"d":"0.00"},0.05,null,{"$f":"SUM(D54:L54)","v":{"v":26.450000000000003,"d":"26.45"}}]
[null,"Printer Cartridges","RecyclingPrinter Cartridges",{"v":0,"d":"0.00"},{"v":0,"d":"0.00"},{"v":0,"d":"0.00"},{"v":0,"d":"0.00"},{"v":0,"d":"0.00"},{"v":0,"d":"0.00"},{"v":0,"d":"0.00"},{"v":0,"d":"0.00"},{"v":0,"d":"0.00"},null,{"$f":"SUM(D55:L55)","v":{"v":0,"d":"0.00"}}]
[null,"Road Sweepings","RecyclingRoad Sweepings",{"v":0,"d":"0.00"},{"v":0,"d":"0.00"},{"v":0,"d":"0.00"},{"v":0,"d":"0.00"},{"v":0,"d":"0.00"},{"v":232.3,"d":"232.30"},{"v":0,"d":"0.00"},{"v":0,"d":"0.00"},{"v":0,"d":"0.00"},null,{"$f":"SUM(D56:L56)","v":{"v":232.3,"d":"232.30"}}]
[null,"Scrap metal (mixed)","RecyclingScrap metal (mixed)",{"v":37.925000000000004,"d":"37.93"},{"v":24.880000000000003,"d":"24.88"},{"v":49.93000000000001,"d":"49.93"},36.14,{"v":29.810000000000002,"d":"29.81"},{"v":65.41250000000001,"d":"65.41"},16.76,4.06,7.88,null,{"$f":"SUM(D57:L57)","v":{"v":272.7975,"d":"272.80"}}]
[null,"Screens output","RecyclingScreens output",3.61,2.24,{"v":6.491,"d":"6.49"},7.08,{"v":4.078,"d":"4.08"},{"v":7.672,"d":"7.67"},{"v":0.80876,"d":"0.81"},{"v":0.5293,"d":"0.53"},{"v":1.115,"d":"1.12"},null,{"$f":"SUM(D58:L58)","v":{"v":33.62406,"d":"33.62"}}]
[null,"Small Domestic Appliances","RecyclingSmall Domestic Appliances",16.07,6.82,16.68,{"v":14.2,"d":"14.20"},14.22,{"v":31.9,"d":"31.90"},3.28,{"v":0,"d":"0.00"},6.48,null,{"$f":"SUM(D59:L59)","v":{"v":109.64999999999999,"d":"109.65"}}]
[null,"Soil & rubble","RecyclingSoil & rubble",{"v":0,"d":"0.00"},{"v":0,"d":"0.00"},{"v":0,"d":"0.00"},148.42,{"v":0,"d":"0.00"},{"v":0,"d":"0.00"},{"v":0,"d":"0.00"},{"v":0,"d":"0.00"},{"v":0,"d":"0.00"},null,{"$f":"SUM(D60:L60)","v":148.42}]
[null,"Stainless Steel","RecyclingStainless Steel",{"v":0,"d":"0.00"},{"v":0,"d":"0.00"},{"v":0,"d":"0.00"},{"v":0,"d":"0.00"},{"v":0,"d":"0.00"},{"v":0,"d":"0.00"},{"v":0,"d":"0.00"},{"v":0,"d":"0.00"},{"v":0,"d":"0.00"},null,{"$f":"SUM(D61:L61)","v":{"v":0,"d":"0.00"}}]
[null,"Textiles","RecyclingTextiles",7.21,{"v":3.7838,"d":"3.78"},7.79,6.88,{"v":5.175,"d":"5.18"},9.44,{"v":1.3854,"d":"1.39"},{"v":0.44915,"d":"0.45"},{"v":1.05195,"d":"1.05"},null,{"$f":"SUM(D62:L62)","v":{"v":43.165299999999995,"d":"43.17"}}]
[null,"Tyres","RecyclingTyres",{"v":0,"d":"0.00"},{"v":0,"d":"0.00"},{"v":0,"d":"0.00"},{"v":0,"d":"0.00"},{"v":0,"d":"0.00"},{"v":0,"d":"0.00"},{"v":0,"d":"0.00"},{"v":0,"d":"0.00"},{"v":0,"d":"0.00"},null,{"$f":"SUM(D63:L63)","v":{"v":0,"d":"0.00"}}]
[null,"Wood (including treated)","RecyclingWood (including treated)",{"v":71.2,"d":"71.20"},{"v":31.5,"d":"31.50"},{"v":0,"d":"0.00"},115.54,{"v":98.96000000000001,"d":"98.96"},{"v":229.2,"d":"229.20"},20.22,5.76,7.45,null,{"$f":"SUM(D64:L64)","v":{"v":579.8300000000002,"d":"579.83"}}]
[]
[null,"Sub Total",null,{"$f":"SUM(D23:D64)","v":196.36},{"$f":"SUM(E23:E64)","v":{"v":141.88241,"d":"141.88"}},{"$f":"SUM(F23:F64)","v":{"v":258.01300000000003,"d":"258.01"}},{"$f":"SUM(G23:G64)","v":{"v":397.161,"d":"397.16"}},{"$f":"SUM(H23:H64)","v":{"v":258.64313000000004,"d":"258.64"}},{"$f":"SUM(I23:I64)","v":{"v":759.4795100000001,"d":"759.48"}},{"$f":"SUM(J23:J64)","v":{"v":69.67516,"d":"69.68"}},{"$f":"SUM(K23:K64)","v":{"v":13.70645,"d":"13.71"}},{"$f":"SUM(L23:L64)","v":{"v":42.80195,"d":"42.80"}},null,{"$f":"SUM(D66:L66)","v":{"v":2137.7226100000003,"d":"2,137.72"}}]
[]
["Re-Use","Books","Re-UseBooks",0.16,{"v":0,"d":"0.00"},{"v":0,"d":"0.00"},{"v":0,"d":"0.00"},{"v":0,"d":"0.00"},{"v":0,"d":"0.00"},{"v":0,"d":"0.00"},{"v":0,"d":"0.00"},0.14,null,{"$f":"SUM(D68:L68)","v":{"v":0.30000000000000004,"d":"0.30"}}]
[null,"Gas Cylinders","Re-UseGas Cylinders",{"v":0,"d":"0.00"},{"v":0,"d":"0.00"},{"v":0,"d":"0.00"},{"v":0,"d":"0.00"},{"v":0,"d":"0.00"},{"v":0,"d":"0.00"},{"v":0,"d":"0.00"},{"v":0,"d":"0.00"},{"v":0,"d":"0.00"},null,{"$f":"SUM(D69:L69)","v":{"v":0,"d":"0.00"}}]
[null,"Household Goods\r\nHousehold Goods","Re-UseHousehold Goods\r\nHousehold Goods",{"v":0,"d":"0.00"},{"v":0,"d":"0.00"},{"v":0,"d":"0.00"},{"v":12.481,"d":"12.48"},{"v":0,"d":"0.00"},{"v":0,"d":"0.00"},{"v":0,"d":"0.00"},{"v":0,"d":"0.00"},{"v":0,"d":"0.00"},null,{"$f":"SUM(D70:L70)","v":{"v":12.481,"d":"12.48"}}]
[null,"Inert (rubble/hardcore)","Re-UseInert (rubble/hardcore)",{"v":127.74000000000001,"d":"127.74"},{"v":75.6,"d":"75.60"},110.38,{"v":0,"d":"0.00"},106.08,{"v":212.70000000000002,"d":"212.70"},28.46,{"v":15.719999999999999,"d":"15.72"},18.81,null,{"$f":"SUM(D71:L71)","v":695.49}]
[null,"Soil","Re-UseSoil",13.26,{"v":0,"d":"0.00"},{"v":0,"d":"0.00"},{"v":0,"d":"0.00"},{"v":0,"d":"0.00"},{"v":0,"d":"0.00"},{"v":0,"d":"0.00"},{"v":0,"d":"0.00"},{"v":0,"d":"0.00"},null,{"$f":"SUM(D72:L72)","v":13.26}]
[]
[null,"Sub Total",null,{"$f":"SUM(D68:D73)","v":141.16},{"$f":"SUM(E68:E73)","v":{"v":75.6,"d":"75.60"}},{"$f":"SUM(F68:F73)","v":110.38},{"$f":"SUM(G68:G73)","v":{"v":12.481,"d":"12.48"}},{"$f":"SUM(H68:H73)","v":106.08},{"$f":"SUM(I68:I73)","v":{"v":212.70000000000002,"d":"212.70"}},{"$f":"SUM(J68:J73)","v":28.46},{"$f":"SUM(K68:K73)","v":{"v":15.719999999999999,"d":"15.72"}},{"$f":"SUM(L68:L73)","v":18.95},null,{"$f":"SUM(D74:L74)","v":{"v":721.5310000000001,"d":"721.53"}}]
[]
[]
[null,"Grand Total",null,{"$f":"SUM(D7)+(D15)+(D21)+(D66)+(D74)","v":574.72},{"$f":"SUM(E7)+(E15)+(E21)+(E66)+(E74)","v":{"v":398.50240999999994,"d":"398.50"}},{"$f":"SUM(F7)+(F15)+(F21)+(F66)+(F74)","v":{"v":669.428,"d":"669.43"}},{"$f":"SUM(G7)+(G15)+(G21)+(G66)+(G74)","v":{"v":812.402,"d":"812.40"}},{"$f":"SUM(H7)+(H15)+(H21)+(H66)+(H74)","v":{"v":581.7081300000001,"d":"581.71"}},{"$f":"SUM(I7)+(I15)+(I21)+(I66)+(I74)","v":{"v":1779.9855100000002,"d":"1,779.99"}},{"$f":"SUM(J7)+(J15)+(J21)+(J66)+(J74)","v":{"v":169.25516000000002,"d":"169.26"}},{"$f":"SUM(K7)+(K15)+(K21)+(K66)+(K74)","v":{"v":68.53645,"d":"68.54"}},{"$f":"SUM(L7)+(L15)+(L21)+(L66)+(L74)","v":{"v":110.14195,"d":"110.14"}},null,{"$f":"SUM(D77:L77)","v":{"v":5164.67961,"d":"5,164.68"}}]

{"sheet":"June","index":2,"n_rows":77,"n_cols":14,"rows_kept":77}
["June","01/04/2015 to 31/03/2016"]
[]
["Treatment Use","Waste Type",null,"Burton Farm HWRC","Cherry Orchard HWRC","Hunters Lane HWRC & Transfer","Judkins HWRC","Lower House Farm HWRC","Princes Drive HWRC & Transfer","Shipston HWRC","Stockton HWRC","Wellesbourne HWRC",null,"Total"]
[]
["Composting","Green waste","CompostingGreen waste",{"v":76.9,"d":"76.90"},98.28,{"v":102.19999999999999,"d":"102.20"},94.54,67.56,{"v":204.5,"d":"204.50"},36.18,10.96,17.47,null,{"$f":"SUM(D5:L5)","v":708.59}]
[]
[null,"Sub Total",null,{"$f":"SUM(D5:D5)","v":{"v":76.9,"d":"76.90"}},{"$f":"SUM(E5:E5)","v":98.28},{"$f":"SUM(F5:F5)","v":{"v":102.19999999999999,"d":"102.20"}},{"$f":"SUM(G5:G5)","v":94.54},{"$f":"SUM(H5:H5)","v":67.56},{"$f":"SUM(I5:I5)","v":{"v":204.5,"d":"204.50"}},{"$f":"SUM(J5:J5)","v":36.18},{"$f":"SUM(K5:K5)","v":10.96},{"$f":"SUM(L5:L5)","v":17.47},null,{"$f":"SUM(D7:L7)","v":708.59}]
[]
["Efw (incineration)","Bulky Waste","Efw (incineration)Bulky Waste",{"v":0,"d":"0.00"},{"v":0,"d":"0.00"},{"v":0,"d":"0.00"},{"v":0,"d":"0.00"},18.66,{"v":0,"d":"0.00"},{"v":0,"d":"0.00"},{"v":0,"d":"0.00"},{"v":0,"d":"0.00"},null,{"$f":"SUM(D9:L9)","v":18.66}]
[null,"Chemicals","Efw (incineration)Chemicals",{"v":0,"d":"0.00"},0.04,{"v":0,"d":"0.00"},{"v":0,"d":"0.00"},{"v":0,"d":"0.00"},{"v":0,"d":"0.00"},{"v":0,"d":"0.00"},{"v":0,"d":"0.00"},{"v":0,"d":"0.00"},null,{"$f":"SUM(D10:L10)","v":0.04}]
[null,"Clinical","Efw (incineration)Clinical",{"v":0,"d":"0.00"},{"v":0,"d":"0.00"},{"v":0,"d":"0.00"},{"v":0,"d":"0.00"},{"v":0,"d":"0.00"},{"v":2.342,"d":"2.34"},{"v":0,"d":"0.00"},{"v":0,"d":"0.00"},{"v":0,"d":"0.00"},null,{"$f":"SUM(D11:L11)","v":{"v":2.342,"d":"2.34"}}]
[null,"General (mixed waste)","Efw (incineration)General (mixed waste)",{"v":0,"d":"0.00"},{"v":0,"d":"0.00"},{"v":0,"d":"0.00"},{"v":0,"d":"0.00"},117.54,{"v":0,"d":"0.00"},{"v":0,"d":"0.00"},{"v":0,"d":"0.00"},{"v":0,"d":"0.00"},null,{"$f":"SUM(D12:L12)","v":117.54}]
[null,"Paint (chemicals)","Efw (incineration)Paint (chemicals)",{"v":0,"d":"0.00"},{"v":0,"d":"0.00"},{"v":0,"d":"0.00"},{"v":0,"d":"0.00"},{"v":0,"d":"0.00"},{"v":0,"d":"0.00"},{"v":0,"d":"0.00"},{"v":0,"d":"0.00"},{"v":0,"d":"0.00"},null,{"$f":"SUM(D13:L13)","v":{"v":0,"d":"0.00"}}]
[]
[null,"Sub Total",null,{"$f":"SUM(D9:D13)","v":{"v":0,"d":"0.00"}},{"$f":"SUM(E9:E13)","v":0.04},{"$f":"SUM(F9:F13)","v":{"v":0,"d":"0.00"}},{"$f":"SUM(G9:G13)","v":{"v":0,"d":"0.00"}},{"$f":"SUM(H9:H13)","v":{"v":136.20000000000002,"d":"136.20"}},{"$f":"SUM(I9:I13)","v":{"v":2.342,"d":"2.34"}},{"$f":"SUM(J9:J13)","v":{"v":0,"d":"0.00"}},{"$f":"SUM(K9:K13)","v":{"v":0,"d":"0.00"}},{"$f":"SUM(L9:L13)","v":{"v":0,"d":"0.00"}},null,{"$f":"SUM(D15:L15)","v":{"v":138.58200000000002,"d":"138.58"}}]
[]
["Landfill","Asbestos","LandfillAsbestos",{"v":0,"d":"0.00"},0.02,{"v":0,"d":"0.00"},5.74,{"v":0,"d":"0.00"},2.92,{"v":0,"d":"0.00"},{"v":0,"d":"0.00"},{"v":0,"d":"0.00"},null,{"$f":"SUM(D17:L17)","v":8.68}]
[null,"General (mixed waste)","LandfillGeneral (mixed waste)",{"v":141.9,"d":"141.90"},{"v":102.1,"d":"102.10"},217.53,{"v":265.1,"d":"265.10"},{"v":0,"d":"0.00"},{"v":660.4800000000001,"d":"660.48"},47.42,{"v":25.759999999999998,"d":"25.76"},{"v":34.1,"d":"34.10"},null,{"$f":"SUM(D18:L18)","v":{"v":1494.39,"d":"1,494.39"}}]
[null,"Hard Plastic","LandfillHard Plastic",{"v":0,"d":"0.00"},{"v":1.635,"d":"1.64"},3.61,{"v":0,"d":"0.00"},{"v":5.245,"d":"5.25"},{"v":0,"d":"0.00"},{"v":0,"d":"0.00"},{"v":0,"d":"0.00"},{"v":0,"d":"0.00"},null,{"$f":"SUM(D19:L19)","v":10.49}]
[]
[null,"Sub Total",null,{"$f":"SUM(D17:D19)","v":{"v":141.9,"d":"141.90"}},{"$f":"SUM(E17:E19)","v":{"v":103.755,"d":"103.76"}},{"$f":"SUM(F17:F19)","v":{"v":221.14000000000001,"d":"221.14"}},{"$f":"SUM(G17:G19)","v":{"v":270.84000000000003,"d":"270.84"}},{"$f":"SUM(H17:H19)","v":{"v":5.245,"d":"5.25"}},{"$f":"SUM(I17:I19)","v":{"v":663.4000000000001,"d":"663.40"}},{"$f":"SUM(J17:J19)","v":47.42},{"$f":"SUM(K17:K19)","v":{"v":25.759999999999998,"d":"25.76"}},{"$f":"SUM(L17:L19)","v":{"v":34.1,"d":"34.10"}},null,{"$f":"SUM(D21:L21)","v":{"v":1513.5600000000002,"d":"1,513.56"}}]
[]
["Recycling","Aluminium (nf)","RecyclingAluminium (nf)",{"v":0,"d":"0.00"},{"v":0,"d":"0.00"},{"v":0,"d":"0.00"},{"v":0,"d":"0.00"},{"v":0,"d":"0.00"},0.96,{"v":0,"d":"0.00"},{"v":0,"d":"0.00"},{"v":0,"d":"0.00"},null,{"$f":"SUM(D23:L23)","v":0.96}]
[null,"Batteries (car)","RecyclingBatteries (car)",{"v":0,"d":"0.00"},{"v":0,"d":"0.00"},{"v":0,"d":"0.00"},1.06,2.28,0.65,{"v":0.2,"d":"0.20"},{"v":1.7,"d":"1.70"},{"v":0.831,"d":"0.83"},null,{"$f":"SUM(D24:L24)","v":{"v":6.721,"d":"6.72"}}]
[null,"Batteries (household)","RecyclingBatteries (household)",{"v":0,"d":"0.00"},{"v":0,"d":"0.00"},{"v":0,"d":"0.00"},{"v":0,"d":"0.00"},{"v":0,"d":"0.00"},{"v":0,"d":"0.00"},{"v":0,"d":"0.00"},0.55,{"v":0,"d":"0.00"},null,{"$f":"SUM(D25:L25)","v":0.55}]
[null,"Books","RecyclingBooks",{"v":0,"d":"0.00"},0.15,{"v":0,"d":"0.00"},1.46,{"v":0,"d":"0.00"},0.86,{"v":0,"d":"0.00"},{"v":0,"d":"0.00"},{"v":0,"d":"0.00"},null,{"$f":"SUM(D26:L26)","v":{"v":2.4699999999999998,"d":"2.47"}}]
[null,"Brass(nf)","RecyclingBrass(nf)",{"v":0,"d":"0.00"},{"v":0,"d":"0.00"},{"v":0,"d":"0.00"},{"v":0,"d":"0.00"},{"v":0,"d":"0.00"},{"v":0,"d":"0.00"},{"v":0,"d":"0.00"},{"v":0,"d":"0.00"},{"v":0,"d":"0.00"},null,{"$f":"SUM(D27:L27)","v":{"v":0,"d":"0.00"}}]
[null,"Cable (nf)","RecyclingCable (nf)",{"v":0,"d":"0.00"},0.46,{"v":0,"d":"0.00"},{"v":0,"d":"0.00"},{"v":0,"d":"0.00"},{"v":0,"d":"0.00"},{"v":0,"d":"0.00"},{"v":0,"d":"0.00"},{"v":0,"d":"0.00"},null,{"$f":"SUM(D28:L28)","v":0.46}]
[null,"Cardboard","RecyclingCardboard",{"v":24.299999999999997,"d":"24.30"},14.32,21.04,19.52,{"v":14.5,"d":"14.50"},42.66,7.82,2.58,{"v":5.9799999999999995,"d":"5.98"},null,{"$f":"SUM(D29:L29)","v":{"v":152.71999999999997,"d":"152.72"}}]
[null,"Carpet","RecyclingCarpet",5.46,{"v":12.059999999999999,"d":"12.06"},27.32,{"v":0,"d":"0.00"},15.98,39.34,{"v":0,"d":"0.00"},{"v":0,"d":"0.00"},{"v":0,"d":"0.00"},null,{"$f":"SUM(D30:L30)","v":{"v":100.16000000000001,"d":"100.16"}}]
[null,"Chipboard","RecyclingChipboard",84.96,5.94,96.97,{"v":0,"d":"0.00"},{"v":41.3,"d":"41.30"},{"v":21.8,"d":"21.80"},6.94,{"v":0,"d":"0.00"},1.72,null,{"$f":"SUM(D31:L31)","v":{"v":259.63000000000005,"d":"259.63"}}]
[null,"Copper & Brass Mixed (nf)","RecyclingCopper & Brass Mixed (nf)",{"v":0,"d":"0.00"},{"v":0,"d":"0.00"},{"v":0,"d":"0.00"},{"v":11.2,"d":"11.20"},{"v":0,"d":"0.00"},{"v":0,"d":"0.00"},{"v":0,"d":"0.00"},{"v":0,"d":"0.00"},{"v":0,"d":"0.00"},null,{"$f":"SUM(D32:L32)","v":{"v":11.2,"d":"11.20"}}]
[null,"Drink Cartons","RecyclingDrink Cartons",{"v":0,"d":"0.00"},{"v":0.08274,"d":"0.08"},{"v":0,"d":"0.00"},{"v":0,"d":"0.00"},{"v":0.02615,"d":"0.03"},{"v":0.22332,"d":"0.22"},{"v":0,"d":"0.00"},{"v":0,"d":"0.00"},{"v":0,"d":"0.00"},null,{"$f":"SUM(D33:L33)","v":{"v":0.33221,"d":"0.33"}}]
[null,"Fire Extinguishers","RecyclingFire Extinguishers",{"v":0,"d":"0.00"},{"v":0,"d":"0.00"},{"v":0,"d":"0.00"},{"v":0,"d":"0.00"},{"v":0,"d":"0.00"},{"v":0,"d":"0.00"},{"v":0,"d":"0.00"},{"v":0,"d":"0.00"},{"v":0,"d":"0.00"},null,{"$f":"SUM(D34:L34)","v":{"v":0,"d":"0.00"}}]
[null,"Fluorescent Tubes Output","RecyclingFluorescent Tubes Output",0.14,{"v":0,"d":"0.00"},{"v":0,"d":"0.00"},{"v":0,"d":"0.00"},{"v":0,"d":"0.00"},{"v":0,"d":"0.00"},{"v":0,"d":"0.00"},{"v":0,"d":"0.00"},{"v":0.138,"d":"0.14"},null,{"$f":"SUM(D35:L35)","v":{"v":0.278,"d":"0.28"}}]
[null,"Fridges Output","RecyclingFridges Output",{"v":5.87724,"d":"5.88"},2.33,{"v":5.714,"d":"5.71"},{"v":16,"d":"16.00"},{"v":6.585,"d":"6.59"},{"v":12.191,"d":"12.19"},{"v":2.181,"d":"2.18"},{"v":0.952,"d":"0.95"},{"v":0,"d":"0.00"},null,{"$f":"SUM(D36:L36)","v":{"v":51.830239999999996,"d":"51.83"}}]
[null,"Gas Cylinders","RecyclingGas Cylinders",{"v":0,"d":"0.00"},{"v":0,"d":"0.00"},{"v":0,"d":"0.00"},{"v":0,"d":"0.00"},{"v":0.44000000000000006,"d":"0.44"},0.03,{"v":0,"d":"0.00"},{"v":0,"d":"0.00"},{"v":0,"d":"0.00"},null,{"$f":"SUM(D37:L37)","v":{"v":0.4700000000000001,"d":"0.47"}}]
[null,"General (mixed waste)","RecyclingGeneral (mixed waste)",{"v":0,"d":"0.00"},{"v":0,"d":"0.00"},{"v":0,"d":"0.00"},{"v":0,"d":"0.00"},{"v":0,"d":"0.00"},{"v":0,"d":"0.00"},{"v":0,"d":"0.00"},{"v":0,"d":"0.00"},{"v":0,"d":"0.00"},null,{"$f":"SUM(D38:L38)","v":{"v":0,"d":"0.00"}}]
[null,"Glass (bottles)","RecyclingGlass (bottles)",{"v":3.261,"d":"3.26"},{"v":3.735,"d":"3.74"},0.68,{"v":0,"d":"0.00"},{"v":1.473,"d":"1.47"},{"v":7.841,"d":"7.84"},{"v":2.476,"d":"2.48"},{"v":0.291,"d":"0.29"},{"v":1.913,"d":"1.91"},null,{"$f":"SUM(D39:L39)","v":21.67}]
[null,"Green waste","RecyclingGreen waste",{"v":0,"d":"0.00"},{"v":0,"d":"0.00"},{"v":0,"d":"0.00"},{"v":0,"d":"0.00"},{"v":0,"d":"0.00"},{"v":0,"d":"0.00"},{"v":0,"d":"0.00"},{"v":0,"d":"0.00"},{"v":0,"d":"0.00"},null,{"$f":"SUM(D40:L40)","v":{"v":0,"d":"0.00"}}]
[null,"Hard Plastic","RecyclingHard Plastic",{"v":0,"d":"0.00"},{"v":0,"d":"0.00"},{"v":0,"d":"0.00"},15.72,{"v":0,"d":"0.00"},{"v":0,"d":"0.00"},{"v":0,"d":"0.00"},{"v":0,"d":"0.00"},{"v":0,"d":"0.00"},null,{"$f":"SUM(D41:L41)","v":15.72}]
[null,"Household Goods\r\nHousehold Goods","RecyclingHousehold Goods\r\nHousehold Goods",{"v":0,"d":"0.00"},{"v":0,"d":"0.00"},{"v":0,"d":"0.00"},{"v":0,"d":"0.00"},{"v":0,"d":"0.00"},{"v":0,"d":"0.00"},{"v":0,"d":"0.00"},{"v":0,"d":"0.00"},{"v":0,"d":"0.00"},null,{"$f":"SUM(D42:L42)","v":{"v":0,"d":"0.00"}}]
[null,"Inert (rubble/hardcore)","RecyclingInert (rubble/hardcore)",{"v":0,"d":"0.00"},{"v":0,"d":"0.00"},{"v":0,"d":"0.00"},{"v":0,"d":"0.00"},{"v":0,"d":"0.00"},{"v":0,"d":"0.00"},{"v":0,"d":"0.00"},{"v":0,"d":"0.00"},{"v":0,"d":"0.00"},null,{"$f":"SUM(D43:L43)","v":{"v":0,"d":"0.00"}}]
[null,"Lead (nf)","RecyclingLead (nf)",{"v":0,"d":"0.00"},{"v":0,"d":"0.00"},{"v":0,"d":"0.00"},{"v":0,"d":"0.00"},{"v":0,"d":"0.00"},{"v":0,"d":"0.00"},{"v":0,"d":"0.00"},{"v":0,"d":"0.00"},{"v":0,"d":"0.00"},null,{"$f":"SUM(D44:L44)","v":{"v":0,"d":"0.00"}}]
[null,"Matresses","RecyclingMatresses",2.86,{"v":0.651,"d":"0.65"},4.41,{"v":0,"d":"0.00"},1.62,{"v":0,"d":"0.00"},0.48,{"v":0,"d":"0.00"},{"v":0,"d":"0.00"},null,{"$f":"SUM(D45:L45)","v":{"v":10.021,"d":"10.02"}}]
[null,"Microwave Motors","RecyclingMicrowave Motors",{"v":0,"d":"0.00"},0.64,{"v":0,"d":"0.00"},{"v":0,"d":"0.00"},{"v":0,"d":"0.00"},{"v":0,"d":"0.00"},0.05,{"v":0,"d":"0.00"},{"v":0,"d":"0.00"},null,{"$f":"SUM(D46:L46)","v":{"v":0.6900000000000001,"d":"0.69"}}]
[null,"Non Ferrous Metal  \r\nNon Ferrous Metal","RecyclingNon Ferrous Metal  \r\nNon Ferrous Metal",{"v":0,"d":"0.00"},1.16,{"v":0,"d":"0.00"},{"v":0,"d":"0.00"},1.17,{"v":0.444,"d":"0.44"},0.81,{"v":0,"d":"0.00"},{"v":0,"d":"0.00"},null,{"$f":"SUM(D47:L47)","v":{"v":3.584,"d":"3.58"}}]
[null,"Oil (Engine)","RecyclingOil (Engine)",{"v":1.584,"d":"1.58"},{"v":0,"d":"0.00"},{"v":2.024,"d":"2.02"},1.72,1.76,{"v":1.584,"d":"1.58"},{"v":0,"d":"0.00"},0.74,{"v":0,"d":"0.00"},null,{"$f":"SUM(D48:L48)","v":{"v":9.412,"d":"9.41"}}]
[null,"Oil (Vegetable)","RecyclingOil (Vegetable)",{"v":0,"d":"0.00"},{"v":0,"d":"0.00"},{"v":0,"d":"0.00"},{"v":0,"d":"0.00"},{"v":0,"d":"0.00"},{"v":0,"d":"0.00"},{"v":0,"d":"0.00"},{"v":0,"d":"0.00"},{"v":0,"d":"0.00"},null,{"$f":"SUM(D49:L49)","v":{"v":0,"d":"0.00"}}]
[null,"Paint (chemicals)","RecyclingPaint (chemicals)",{"v":0,"d":"0.00"},{"v":0,"d":"0.00"},{"v":0,"d":"0.00"},{"v":0,"d":"0.00"},1.38,2.18,{"v":0,"d":"0.00"},{"v":0,"d":"0.00"},{"v":0,"d":"0.00"},null,{"$f":"SUM(D50:L50)","v":3.56}]
[null,"Paper (mixed with card)","RecyclingPaper (mixed with card)",{"v":0,"d":"0.00"},{"v":0,"d":"0.00"},{"v":0,"d":"0.00"},{"v":0,"d":"0.00"},{"v":0,"d":"0.00"},{"v":0,"d":"0.00"},{"v":0,"d":"0.00"},{"v":0,"d":"0.00"},{"v":0,"d":"0.00"},null,{"$f":"SUM(D51:L51)","v":{"v":0,"d":"0.00"}}]
[null,"Paper (newspaper & magazines)","RecyclingPaper (newspaper & magazines)",{"v":9.2,"d":"9.20"},{"v":10.4,"d":"10.40"},15.18,{"v":0,"d":"0.00"},18.18,20.58,9.32,{"v":0,"d":"0.00"},{"v":0,"d":"0.00"},null,{"$f":"SUM(D52:L52)","v":{"v":82.85999999999999,"d":"82.86"}}]
[null,"Plasterboard","RecyclingPlasterboard",3.89,0.14,9.52,10.92,7.43,7.89,{"v":0,"d":"0.00"},{"v":0,"d":"0.00"},0.02,null,{"$f":"SUM(D53:L53)","v":39.81}]
[null,"Plastic (Mixed)","RecyclingPlastic (Mixed)",{"v":0,"d":"0.00"},0.98,{"v":0,"d":"0.00"},{"v":0,"d":"0.00"},0.07,{"v":0,"d":"0.00"},{"v":0.3,"d":"0.30"},{"v":0,"d":"0.00"},{"v":0.1,"d":"0.10"},null,{"$f":"SUM(D54:L54)","v":{"v":1.4500000000000002,"d":"1.45"}}]
[null,"Printer Cartridges","RecyclingPrinter Cartridges",{"v":0,"d":"0.00"},{"v":0,"d":"0.00"},{"v":0,"d":"0.00"},{"v":0,"d":"0.00"},{"v":0,"d":"0.00"},{"v":0,"d":"0.00"},{"v":0,"d":"0.00"},{"v":0,"d":"0.00"},{"v":0,"d":"0.00"},null,{"$f":"SUM(D55:L55)","v":{"v":0,"d":"0.00"}}]
[null,"Road Sweepings","RecyclingRoad Sweepings",{"v":0,"d":"0.00"},{"v":0,"d":"0.00"},{"v":0,"d":"0.00"},{"v":0,"d":"0.00"},{"v":0,"d":"0.00"},227.14,{"v":0,"d":"0.00"},{"v":0,"d":"0.00"},{"v":0,"d":"0.00"},null,{"$f":"SUM(D56:L56)","v":227.14}]
[null,"Scrap metal (mixed)","RecyclingScrap metal (mixed)",31.04,{"v":17.520000000000003,"d":"17.52"},{"v":51.25000000000001,"d":"51.25"},34.32,{"v":39.879999999999995,"d":"39.88"},68.74,{"v":23.049999999999997,"d":"23.05"},7.29,8.79,null,{"$f":"SUM(D57:L57)","v":{"v":281.88000000000005,"d":"281.88"}}]
[null,"Screens output","RecyclingScreens output",{"v":3.928,"d":"3.93"},{"v":3.697,"d":"3.70"},{"v":8.224,"d":"8.22"},8.96,7.62,8.51,{"v":3.344,"d":"3.34"},{"v":0,"d":"0.00"},{"v":1.697,"d":"1.70"},null,{"$f":"SUM(D58:L58)","v":{"v":45.980000000000004,"d":"45.98"}}]
[null,"Small Domestic Appliances","RecyclingSmall Domestic Appliances",16.88,6.16,25.38,{"v":13.8,"d":"13.80"},{"v":0,"d":"0.00"},31.04,2.92,4.11,2.59,null,{"$f":"SUM(D59:L59)","v":102.88}]
[null,"Soil & rubble","RecyclingSoil & rubble",{"v":0,"d":"0.00"},{"v":0,"d":"0.00"},{"v":0,"d":"0.00"},149.82,{"v":0,"d":"0.00"},{"v":0,"d":"0.00"},{"v":0,"d":"0.00"},{"v":0,"d":"0.00"},{"v":0,"d":"0.00"},null,{"$f":"SUM(D60:L60)","v":149.82}]
[null,"Stainless Steel","RecyclingStainless Steel",{"v":0,"d":"0.00"},{"v":0,"d":"0.00"},{"v":0,"d":"0.00"},{"v":0,"d":"0.00"},{"v":0,"d":"0.00"},{"v":0,"d":"0.00"},{"v":0,"d":"0.00"},{"v":0,"d":"0.00"},{"v":0,"d":"0.00"},null,{"$f":"SUM(D61:L61)","v":{"v":0,"d":"0.00"}}]
[null,"Textiles","RecyclingTextiles",6.48,{"v":5.48655,"d":"5.49"},9.85,7.04,4.72,9.06,{"v":1.1768,"d":"1.18"},{"v":0.527,"d":"0.53"},{"v":1.9647,"d":"1.96"},null,{"$f":"SUM(D62:L62)","v":{"v":46.30505,"d":"46.31"}}]
[null,"Tyres","RecyclingTyres",{"v":0,"d":"0.00"},{"v":0,"d":"0.00"},{"v":0,"d":"0.00"},{"v":0,"d":"0.00"},{"v":0,"d":"0.00"},{"v":0,"d":"0.00"},{"v":0,"d":"0.00"},{"v":0,"d":"0.00"},{"v":0,"d":"0.00"},null,{"$f":"SUM(D63:L63)","v":{"v":0,"d":"0.00"}}]
[null,"Wood (including treated)","RecyclingWood (including treated)",{"v":0,"d":"0.00"},73.48,14.41,182.02,{"v":83.82000000000001,"d":"83.82"},213.56,{"v":18.6,"d":"18.60"},14.29,15.26,null,{"$f":"SUM(D64:L64)","v":{"v":615.4399999999999,"d":"615.44"}}]
[]
[null,"Sub Total",null,{"$f":"SUM(D23:D64)","v":{"v":199.86023999999995,"d":"199.86"}},{"$f":"SUM(E23:E64)","v":{"v":159.39229,"d":"159.39"}},{"$f":"SUM(F23:F64)","v":{"v":291.97200000000004,"d":"291.97"}},{"$f":"SUM(G23:G64)","v":{"v":473.56000000000006,"d":"473.56"}},{"$f":"SUM(H23:H64)","v":{"v":250.23415,"d":"250.23"}},{"$f":"SUM(I23:I64)","v":{"v":717.28332,"d":"717.28"}},{"$f":"SUM(J23:J64)","v":{"v":79.6678,"d":"79.67"}},{"$f":"SUM(K23:K64)","v":33.03},{"$f":"SUM(L23:L64)","v":{"v":41.003699999999995,"d":"41.00"}},null,{"$f":"SUM(D66:L66)","v":{"v":2246.0035000000003,"d":"2,246.00"}}]
[]
["Re-Use","Books","Re-UseBooks",{"v":0.009,"d":"0.01"},{"v":0,"d":"0.00"},{"v":0,"d":"0.00"},{"v":0,"d":"0.00"},{"v":0,"d":"0.00"},{"v":0,"d":"0.00"},{"v":0,"d":"0.00"},{"v":0,"d":"0.00"},0.07,null,{"$f":"SUM(D68:L68)","v":{"v":0.079,"d":"0.08"}}]
[null,"Gas Cylinders","Re-UseGas Cylinders",{"v":0,"d":"0.00"},{"v":0,"d":"0.00"},{"v":0,"d":"0.00"},{"v":0,"d":"0.00"},{"v":0,"d":"0.00"},{"v":0,"d":"0.00"},{"v":0,"d":"0.00"},{"v":0,"d":"0.00"},{"v":0,"d":"0.00"},null,{"$f":"SUM(D69:L69)","v":{"v":0,"d":"0.00"}}]
[null,"Household Goods\r\nHousehold Goods","Re-UseHousehold Goods\r\nHousehold Goods",{"v":0,"d":"0.00"},{"v":0,"d":"0.00"},{"v":0,"d":"0.00"},{"v":13.286,"d":"13.29"},{"v":0,"d":"0.00"},{"v":0,"d":"0.00"},{"v":0,"d":"0.00"},{"v":0,"d":"0.00"},{"v":0,"d":"0.00"},null,{"$f":"SUM(D70:L70)","v":{"v":13.286,"d":"13.29"}}]
[null,"Inert (rubble/hardcore)","Re-UseInert (rubble/hardcore)",111.44,79.02,{"v":98.1,"d":"98.10"},{"v":0,"d":"0.00"},79.56,{"v":218.98000000000002,"d":"218.98"},21.92,14.02,24.46,null,{"$f":"SUM(D71:L71)","v":{"v":647.4999999999999,"d":"647.50"}}]
[null,"Soil","Re-UseSoil",9.66,{"v":0,"d":"0.00"},{"v":0,"d":"0.00"},{"v":0,"d":"0.00"},{"v":0,"d":"0.00"},{"v":0,"d":"0.00"},{"v":0,"d":"0.00"},{"v":0,"d":"0.00"},{"v":0,"d":"0.00"},null,{"$f":"SUM(D72:L72)","v":9.66}]
[]
[null,"Sub Total",null,{"$f":"SUM(D68:D73)","v":{"v":121.109,"d":"121.11"}},{"$f":"SUM(E68:E73)","v":79.02},{"$f":"SUM(F68:F73)","v":{"v":98.1,"d":"98.10"}},{"$f":"SUM(G68:G73)","v":{"v":13.286,"d":"13.29"}},{"$f":"SUM(H68:H73)","v":79.56},{"$f":"SUM(I68:I73)","v":{"v":218.98000000000002,"d":"218.98"}},{"$f":"SUM(J68:J73)","v":21.92},{"$f":"SUM(K68:K73)","v":14.02},{"$f":"SUM(L68:L73)","v":24.53},null,{"$f":"SUM(D74:L74)","v":{"v":670.525,"d":"670.53"}}]
[]
[]
[null,"Grand Total",null,{"$f":"SUM(D7)+(D15)+(D21)+(D66)+(D74)","v":{"v":539.76924,"d":"539.77"}},{"$f":"SUM(E7)+(E15)+(E21)+(E66)+(E74)","v":{"v":440.48729,"d":"440.49"}},{"$f":"SUM(F7)+(F15)+(F21)+(F66)+(F74)","v":{"v":713.4120000000001,"d":"713.41"}},{"$f":"SUM(G7)+(G15)+(G21)+(G66)+(G74)","v":{"v":852.226,"d":"852.23"}},{"$f":"SUM(H7)+(H15)+(H21)+(H66)+(H74)","v":{"v":538.79915,"d":"538.80"}},{"$f":"SUM(I7)+(I15)+(I21)+(I66)+(I74)","v":{"v":1806.5053200000002,"d":"1,806.51"}},{"$f":"SUM(J7)+(J15)+(J21)+(J66)+(J74)","v":{"v":185.18779999999998,"d":"185.19"}},{"$f":"SUM(K7)+(K15)+(K21)+(K66)+(K74)","v":83.77},{"$f":"SUM(L7)+(L15)+(L21)+(L66)+(L74)","v":{"v":117.1037,"d":"117.10"}},null,{"$f":"SUM(D77:L77)","v":{"v":5277.2605,"d":"5,277.26"}}]

{"sheet":"July","index":3,"n_rows":77,"n_cols":14,"rows_kept":77}
["July","01/04/2015 to 31/03/2016"]
[]
["Treatment Use","Waste Type",null,"Burton Farm HWRC","Cherry Orchard HWRC","Hunters Lane HWRC & Transfer","Judkins HWRC","Lower House Farm HWRC","Princes Drive HWRC & Transfer","Shipston HWRC","Stockton HWRC","Wellesbourne HWRC",null,"Total"]
[]
["Composting","Green waste","CompostingGreen waste",75.58,93.56,{"v":94.33999999999999,"d":"94.34"},{"v":79.9,"d":"79.90"},47.14,{"v":181.51999999999998,"d":"181.52"},{"v":39.5,"d":"39.50"},{"v":12.790000000000001,"d":"12.79"},18.71,null,{"$f":"SUM(D5:L5)","v":643.04}]
[]
[null,"Sub Total",null,{"$f":"SUM(D5:D5)","v":75.58},{"$f":"SUM(E5:E5)","v":93.56},{"$f":"SUM(F5:F5)","v":{"v":94.33999999999999,"d":"94.34"}},{"$f":"SUM(G5:G5)","v":{"v":79.9,"d":"79.90"}},{"$f":"SUM(H5:H5)","v":47.14},{"$f":"SUM(I5:I5)","v":{"v":181.51999999999998,"d":"181.52"}},{"$f":"SUM(J5:J5)","v":{"v":39.5,"d":"39.50"}},{"$f":"SUM(K5:K5)","v":{"v":12.790000000000001,"d":"12.79"}},{"$f":"SUM(L5:L5)","v":18.71},null,{"$f":"SUM(D7:L7)","v":643.04}]
[]
["Efw (incineration)","Bulky Waste","Efw (incineration)Bulky Waste",{"v":0,"d":"0.00"},{"v":0,"d":"0.00"},{"v":0,"d":"0.00"},{"v":0,"d":"0.00"},15.46,{"v":0,"d":"0.00"},{"v":0,"d":"0.00"},{"v":0,"d":"0.00"},{"v":0,"d":"0.00"},null,{"$f":"SUM(D9:L9)","v":15.46}]
[null,"Chemicals","Efw (incineration)Chemicals",{"v":0,"d":"0.00"},{"v":0,"d":"0.00"},{"v":0,"d":"0.00"},{"v":0,"d":"0.00"},{"v":0,"d":"0.00"},1.41,{"v":0,"d":"0.00"},{"v":0,"d":"0.00"},{"v":0,"d":"0.00"},null,{"$f":"SUM(D10:L10)","v":1.41}]
[null,"Clinical","Efw (incineration)Clinical",{"v":0,"d":"0.00"},{"v":0,"d":"0.00"},{"v":0,"d":"0.00"},{"v":0,"d":"0.00"},{"v":0,"d":"0.00"},{"v":1.954,"d":"1.95"},{"v":0,"d":"0.00"},{"v":0,"d":"0.00"},{"v":0,"d":"0.00"},null,{"$f":"SUM(D11:L11)","v":{"v":1.954,"d":"1.95"}}]
[null,"General (mixed waste)","Efw (incineration)General (mixed waste)",{"v":0,"d":"0.00"},{"v":0,"d":"0.00"},{"v":0,"d":"0.00"},{"v":0,"d":"0.00"},{"v":102.6,"d":"102.60"},{"v":0,"d":"0.00"},{"v":0,"d":"0.00"},{"v":0,"d":"0.00"},{"v":0,"d":"0.00"},null,{"$f":"SUM(D12:L12)","v":{"v":102.6,"d":"102.60"}}]
[null,"Paint (chemicals)","Efw (incineration)Paint (chemicals)",{"v":0,"d":"0.00"},{"v":0,"d":"0.00"},{"v":0,"d":"0.00"},{"v":0,"d":"0.00"},{"v":0,"d":"0.00"},{"v":0,"d":"0.00"},{"v":0,"d":"0.00"},{"v":0,"d":"0.00"},{"v":0,"d":"0.00"},null,{"$f":"SUM(D13:L13)","v":{"v":0,"d":"0.00"}}]
[]
[null,"Sub Total",null,{"$f":"SUM(D9:D13)","v":{"v":0,"d":"0.00"}},{"$f":"SUM(E9:E13)","v":{"v":0,"d":"0.00"}},{"$f":"SUM(F9:F13)","v":{"v":0,"d":"0.00"}},{"$f":"SUM(G9:G13)","v":{"v":0,"d":"0.00"}},{"$f":"SUM(H9:H13)","v":118.06},{"$f":"SUM(I9:I13)","v":{"v":3.364,"d":"3.36"}},{"$f":"SUM(J9:J13)","v":{"v":0,"d":"0.00"}},{"$f":"SUM(K9:K13)","v":{"v":0,"d":"0.00"}},{"$f":"SUM(L9:L13)","v":{"v":0,"d":"0.00"}},null,{"$f":"SUM(D15:L15)","v":{"v":121.424,"d":"121.42"}}]
[]
["Landfill","Asbestos","LandfillAsbestos",{"v":0,"d":"0.00"},0.08,{"v":0,"d":"0.00"},{"v":0,"d":"0.00"},{"v":0,"d":"0.00"},{"v":0,"d":"0.00"},{"v":0,"d":"0.00"},{"v":0,"d":"0.00"},0.92,null,{"$f":"SUM(D17:L17)","v":{"v":1,"d":"1.00"}}]
[null,"General (mixed waste)","LandfillGeneral (mixed waste)",159.96,{"v":115.89999999999998,"d":"115.90"},{"v":235.91000000000003,"d":"235.91"},481.49,{"v":0,"d":"0.00"},737.82,39.18,{"v":39.67000000000001,"d":"39.67"},{"v":29.830000000000002,"d":"29.83"},null,{"$f":"SUM(D18:L18)","v":{"v":1839.76,"d":"1,839.76"}}]
[null,"Hard Plastic","LandfillHard Plastic",{"v":0,"d":"0.00"},{"v":2.925,"d":"2.93"},{"v":1.9,"d":"1.90"},{"v":0,"d":"0.00"},{"v":6.105,"d":"6.11"},{"v":0,"d":"0.00"},{"v":0,"d":"0.00"},{"v":0,"d":"0.00"},{"v":0,"d":"0.00"},null,{"$f":"SUM(D19:L19)","v":10.93}]
[]
[null,"Sub Total",null,{"$f":"SUM(D17:D19)","v":159.96},{"$f":"SUM(E17:E19)","v":{"v":118.90499999999997,"d":"118.91"}},{"$f":"SUM(F17:F19)","v":{"v":237.81000000000003,"d":"237.81"}},{"$f":"SUM(G17:G19)","v":481.49},{"$f":"SUM(H17:H19)","v":{"v":6.105,"d":"6.11"}},{"$f":"SUM(I17:I19)","v":737.82},{"$f":"SUM(J17:J19)","v":39.18},{"$f":"SUM(K17:K19)","v":{"v":39.67000000000001,"d":"39.67"}},{"$f":"SUM(L17:L19)","v":{"v":30.750000000000004,"d":"30.75"}},null,{"$f":"SUM(D21:L21)","v":{"v":1851.6900000000003,"d":"1,851.69"}}]
[]
["Recycling","Aluminium (nf)","RecyclingAluminium (nf)",{"v":0,"d":"0.00"},{"v":0,"d":"0.00"},{"v":0,"d":"0.00"},{"v":0,"d":"0.00"},{"v":0,"d":"0.00"},{"v":0,"d":"0.00"},{"v":0,"d":"0.00"},{"v":0,"d":"0.00"},{"v":0,"d":"0.00"},null,{"$f":"SUM(D23:L23)","v":{"v":0,"d":"0.00"}}]
[null,"Batteries (car)","RecyclingBatteries (car)",{"v":0,"d":"0.00"},{"v":0,"d":"0.00"},5.95,1.74,2.36,{"v":0,"d":"0.00"},0.24,{"v":0,"d":"0.00"},{"v":0,"d":"0.00"},null,{"$f":"SUM(D24:L24)","v":{"v":10.290000000000001,"d":"10.29"}}]
[null,"Batteries (household)","RecyclingBatteries (household)",{"v":0,"d":"0.00"},{"v":0,"d":"0.00"},{"v":0,"d":"0.00"},{"v":0,"d":"0.00"},0.68,{"v":0,"d":"0.00"},{"v":0,"d":"0.00"},{"v":0,"d":"0.00"},{"v":0,"d":"0.00"},null,{"$f":"SUM(D25:L25)","v":0.68}]
[null,"Books","RecyclingBooks",{"v":0,"d":"0.00"},0.19,{"v":0,"d":"0.00"},2.16,{"v":0,"d":"0.00"},0.83,{"v":0,"d":"0.00"},{"v":0,"d":"0.00"},{"v":0,"d":"0.00"},null,{"$f":"SUM(D26:L26)","v":3.18}]
[null,"Brass(nf)","RecyclingBrass(nf)",{"v":0,"d":"0.00"},{"v":0,"d":"0.00"},{"v":0,"d":"0.00"},{"v":0,"d":"0.00"},{"v":0,"d":"0.00"},{"v":0,"d":"0.00"},{"v":0,"d":"0.00"},{"v":0,"d":"0.00"},{"v":0,"d":"0.00"},null,{"$f":"SUM(D27:L27)","v":{"v":0,"d":"0.00"}}]
[null,"Cable (nf)","RecyclingCable (nf)",{"v":0,"d":"0.00"},{"v":0,"d":"0.00"},{"v":0,"d":"0.00"},{"v":0,"d":"0.00"},{"v":0,"d":"0.00"},{"v":0,"d":"0.00"},{"v":0,"d":"0.00"},{"v":0,"d":"0.00"},{"v":0,"d":"0.00"},null,{"$f":"SUM(D28:L28)","v":{"v":0,"d":"0.00"}}]
[null,"Cardboard","RecyclingCardboard",29.36,16.86,21.72,28.32,16.38,48.34,8.02,3.98,6.56,null,{"$f":"SUM(D29:L29)","v":179.54}]
[null,"Carpet","RecyclingCarpet",{"v":19.9,"d":"19.90"},{"v":13.559999999999999,"d":"13.56"},23.35,{"v":0,"d":"0.00"},31.22,28.37,6.66,{"v":0,"d":"0.00"},{"v":0,"d":"0.00"},null,{"$f":"SUM(D30:L30)","v":123.06}]
[null,"Chipboard","RecyclingChipboard",{"v":91.24000000000001,"d":"91.24"},{"v":14.899999999999999,"d":"14.90"},85.52,{"v":0,"d":"0.00"},{"v":86.8,"d":"86.80"},39.82,{"v":13.559999999999999,"d":"13.56"},5.87,9.52,null,{"$f":"SUM(D31:L31)","v":347.23}]
[null,"Copper & Brass Mixed (nf)","RecyclingCopper & Brass Mixed (nf)",{"v":0,"d":"0.00"},{"v":0,"d":"0.00"},{"v":0,"d":"0.00"},{"v":0,"d":"0.00"},{"v":0,"d":"0.00"},{"v":0,"d":"0.00"},{"v":0,"d":"0.00"},{"v":0,"d":"0.00"},{"v":0,"d":"0.00"},null,{"$f":"SUM(D32:L32)","v":{"v":0,"d":"0.00"}}]
[null,"Drink Cartons","RecyclingDrink Cartons",{"v":0,"d":"0.00"},{"v":0.411,"d":"0.41"},{"v":0,"d":"0.00"},{"v":0,"d":"0.00"},{"v":0,"d":"0.00"},{"v":0.274,"d":"0.27"},{"v":0,"d":"0.00"},{"v":0,"d":"0.00"},{"v":0,"d":"0.00"},null,{"$f":"SUM(D33:L33)","v":{"v":0.685,"d":"0.69"}}]
[null,"Fire Extinguishers","RecyclingFire Extinguishers",{"v":0,"d":"0.00"},{"v":0,"d":"0.00"},{"v":0,"d":"0.00"},{"v":0,"d":"0.00"},{"v":0,"d":"0.00"},{"v":0,"d":"0.00"},{"v":0,"d":"0.00"},{"v":0,"d":"0.00"},{"v":0,"d":"0.00"},null,{"$f":"SUM(D34:L34)","v":{"v":0,"d":"0.00"}}]
[null,"Fluorescent Tubes Output","RecyclingFluorescent Tubes Output",{"v":0,"d":"0.00"},{"v":0.206,"d":"0.21"},{"v":0,"d":"0.00"},{"v":0,"d":"0.00"},{"v":0.2,"d":"0.20"},0.19,{"v":0,"d":"0.00"},{"v":0,"d":"0.00"},{"v":0,"d":"0.00"},null,{"$f":"SUM(D35:L35)","v":{"v":0.5960000000000001,"d":"0.60"}}]
[null,"Fridges Output","RecyclingFridges Output",5.62,{"v":2.803,"d":"2.80"},{"v":7.436,"d":"7.44"},7.28,{"v":9.656,"d":"9.66"},{"v":13.796,"d":"13.80"},{"v":2.547,"d":"2.55"},{"v":0.836,"d":"0.84"},{"v":0,"d":"0.00"},null,{"$f":"SUM(D36:L36)","v":{"v":49.974,"d":"49.97"}}]
[null,"Gas Cylinders","RecyclingGas Cylinders",{"v":0,"d":"0.00"},{"v":0,"d":"0.00"},{"v":0,"d":"0.00"},{"v":0,"d":"0.00"},{"v":0,"d":"0.00"},0.12,{"v":0,"d":"0.00"},{"v":0,"d":"0.00"},{"v":0,"d":"0.00"},null,{"$f":"SUM(D37:L37)","v":0.12}]
[null,"General (mixed waste)","RecyclingGeneral (mixed waste)",{"v":0,"d":"0.00"},{"v":0,"d":"0.00"},{"v":0,"d":"0.00"},{"v":0,"d":"0.00"},{"v":0,"d":"0.00"},{"v":0,"d":"0.00"},{"v":0,"d":"0.00"},{"v":0,"d":"0.00"},{"v":0,"d":"0.00"},null,{"$f":"SUM(D38:L38)","v":{"v":0,"d":"0.00"}}]
[null,"Glass (bottles)","RecyclingGlass (bottles)",{"v":2.6,"d":"2.60"},{"v":6,"d":"6.00"},{"v":2.134,"d":"2.13"},2.28,{"v":0,"d":"0.00"},{"v":11.139,"d":"11.14"},{"v":3.673,"d":"3.67"},{"v":0.485,"d":"0.49"},{"v":1.9,"d":"1.90"},null,{"$f":"SUM(D39:L39)","v":{"v":30.211,"d":"30.21"}}]
[null,"Green waste","RecyclingGreen waste",{"v":0,"d":"0.00"},{"v":0,"d":"0.00"},{"v":0,"d":"0.00"},{"v":0,"d":"0.00"},{"v":0,"d":"0.00"},{"v":0,"d":"0.00"},{"v":0,"d":"0.00"},{"v":0,"d":"0.00"},{"v":0,"d":"0.00"},null,{"$f":"SUM(D40:L40)","v":{"v":0,"d":"0.00"}}]
[null,"Hard Plastic","RecyclingHard Plastic",{"v":0,"d":"0.00"},{"v":0,"d":"0.00"},{"v":0,"d":"0.00"},18.66,{"v":0,"d":"0.00"},{"v":0,"d":"0.00"},{"v":0,"d":"0.00"},{"v":0,"d":"0.00"},{"v":0,"d":"0.00"},null,{"$f":"SUM(D41:L41)","v":18.66}]
[null,"Household Goods\r\nHousehold Goods","RecyclingHousehold Goods\r\nHousehold Goods",{"v":0,"d":"0.00"},{"v":0,"d":"0.00"},{"v":0,"d":"0.00"},{"v":0,"d":"0.00"},{"v":0,"d":"0.00"},{"v":0,"d":"0.00"},{"v":0,"d":"0.00"},{"v":0,"d":"0.00"},{"v":0,"d":"0.00"},null,{"$f":"SUM(D42:L42)","v":{"v":0,"d":"0.00"}}]
[null,"Inert (rubble/hardcore)","RecyclingInert (rubble/hardcore)",{"v":0,"d":"0.00"},{"v":0,"d":"0.00"},{"v":0,"d":"0.00"},{"v":0,"d":"0.00"},{"v":0,"d":"0.00"},{"v":0,"d":"0.00"},{"v":0,"d":"0.00"},{"v":0,"d":"0.00"},{"v":0,"d":"0.00"},null,{"$f":"SUM(D43:L43)","v":{"v":0,"d":"0.00"}}]
[null,"Lead (nf)","RecyclingLead (nf)",{"v":0,"d":"0.00"},{"v":0,"d":"0.00"},{"v":0,"d":"0.00"},{"v":0,"d":"0.00"},{"v":0,"d":"0.00"},{"v":0,"d":"0.00"},{"v":0,"d":"0.00"},{"v":0,"d":"0.00"},{"v":0,"d":"0.00"},null,{"$f":"SUM(D44:L44)","v":{"v":0,"d":"0.00"}}]
[null,"Matresses","RecyclingMatresses",2.24,{"v":0.663,"d":"0.66"},1.61,{"v":0,"d":"0.00"},3.36,6.14,{"v":0,"d":"0.00"},{"v":0,"d":"0.00"},{"v":0,"d":"0.00"},null,{"$f":"SUM(D45:L45)","v":{"v":14.013000000000002,"d":"14.01"}}]
[null,"Microwave Motors","RecyclingMicrowave Motors",{"v":0,"d":"0.00"},{"v":0,"d":"0.00"},{"v":0,"d":"0.00"},{"v":0,"d":"0.00"},{"v":0,"d":"0.00"},{"v":0,"d":"0.00"},{"v":0,"d":"0.00"},{"v":0,"d":"0.00"},{"v":0,"d":"0.00"},null,{"$f":"SUM(D46:L46)","v":{"v":0,"d":"0.00"}}]
[null,"Non Ferrous Metal  \r\nNon Ferrous Metal","RecyclingNon Ferrous Metal  \r\nNon Ferrous Metal",{"v":0,"d":"0.00"},1.71,2.03,{"v":0,"d":"0.00"},1.01,{"v":4.2375,"d":"4.24"},1.14,0.37,{"v":0,"d":"0.00"},null,{"$f":"SUM(D47:L47)","v":{"v":10.4975,"d":"10.50"}}]
[null,"Oil (Engine)","RecyclingOil (Engine)",{"v":0,"d":"0.00"},{"v":0,"d":"0.00"},{"v":0,"d":"0.00"},2.66,{"v":0,"d":"0.00"},{"v":0,"d":"0.00"},{"v":0,"d":"0.00"},{"v":0,"d":"0.00"},{"v":0,"d":"0.00"},null,{"$f":"SUM(D48:L48)","v":2.66}]
[null,"Oil (Vegetable)","RecyclingOil (Vegetable)",{"v":0,"d":"0.00"},{"v":0,"d":"0.00"},0.74,{"v":0,"d":"0.00"},{"v":0,"d":"0.00"},1.04,{"v":0,"d":"0.00"},{"v":0,"d":"0.00"},{"v":0,"d":"0.00"},null,{"$f":"SUM(D49:L49)","v":1.78}]
[null,"Paint (chemicals)","RecyclingPaint (chemicals)",{"v":0,"d":"0.00"},{"v":0,"d":"0.00"},{"v":0,"d":"0.00"},{"v":0,"d":"0.00"},{"v":0,"d":"0.00"},{"v":0,"d":"0.00"},{"v":0,"d":"0.00"},{"v":0,"d":"0.00"},{"v":0,"d":"0.00"},null,{"$f":"SUM(D50:L50)","v":{"v":0,"d":"0.00"}}]
[null,"Paper (mixed with card)","RecyclingPaper (mixed with card)",{"v":0,"d":"0.00"},{"v":0,"d":"0.00"},{"v":0,"d":"0.00"},{"v":0,"d":"0.00"},{"v":0,"d":"0.00"},{"v":0,"d":"0.00"},{"v":0,"d":"0.00"},{"v":0,"d":"0.00"},{"v":0,"d":"0.00"},null,{"$f":"SUM(D51:L51)","v":{"v":0,"d":"0.00"}}]
[null,"Paper (newspaper & magazines)","RecyclingPaper (newspaper & magazines)",18.36,13.12,13.24,5.68,{"v":0,"d":"0.00"},20.46,{"v":9.1,"d":"9.10"},{"v":0,"d":"0.00"},{"v":0,"d":"0.00"},null,{"$f":"SUM(D52:L52)","v":79.96}]
[null,"Plasterboard","RecyclingPlasterboard",8.81,0.04,{"v":0,"d":"0.00"},5.48,8.95,17.72,{"v":0,"d":"0.00"},{"v":0,"d":"0.00"},{"v":0,"d":"0.00"},null,{"$f":"SUM(D53:L53)","v":{"v":41,"d":"41.00"}}]
[null,"Plastic (Mixed)","RecyclingPlastic (Mixed)",{"v":0,"d":"0.00"},1.36,{"v":0,"d":"0.00"},{"v":0,"d":"0.00"},{"v":0,"d":"0.00"},{"v":0,"d":"0.00"},0.36,{"v":0,"d":"0.00"},0.11,null,{"$f":"SUM(D54:L54)","v":{"v":1.8300000000000003,"d":"1.83"}}]
[null,"Printer Cartridges","RecyclingPrinter Cartridges",{"v":0,"d":"0.00"},{"v":0,"d":"0.00"},{"v":0,"d":"0.00"},{"v":0,"d":"0.00"},{"v":0,"d":"0.00"},{"v":0,"d":"0.00"},{"v":0,"d":"0.00"},{"v":0,"d":"0.00"},{"v":0,"d":"0.00"},null,{"$f":"SUM(D55:L55)","v":{"v":0,"d":"0.00"}}]
[null,"Road Sweepings","RecyclingRoad Sweepings",{"v":0,"d":"0.00"},{"v":0,"d":"0.00"},{"v":0,"d":"0.00"},{"v":0,"d":"0.00"},{"v":0,"d":"0.00"},{"v":293.5,"d":"293.50"},{"v":0,"d":"0.00"},{"v":0,"d":"0.00"},{"v":0,"d":"0.00"},null,{"$f":"SUM(D56:L56)","v":{"v":293.5,"d":"293.50"}}]
[null,"Scrap metal (mixed)","RecyclingScrap metal (mixed)",37.12,{"v":25,"d":"25.00"},{"v":44.480000000000004,"d":"44.48"},{"v":31.2,"d":"31.20"},33.92,{"v":75.21000000000001,"d":"75.21"},13.21,6.27,8.19,null,{"$f":"SUM(D57:L57)","v":{"v":274.59999999999997,"d":"274.60"}}]
[null,"Screens output","RecyclingScreens output",{"v":4.798,"d":"4.80"},{"v":3.579,"d":"3.58"},{"v":7.675,"d":"7.68"},7.14,{"v":4.458,"d":"4.46"},{"v":11.272,"d":"11.27"},{"v":2.131,"d":"2.13"},{"v":1.329,"d":"1.33"},{"v":1.748,"d":"1.75"},null,{"$f":"SUM(D58:L58)","v":{"v":44.129999999999995,"d":"44.13"}}]
[null,"Small Domestic Appliances","RecyclingSmall Domestic Appliances",18.51,13.08,15.92,13.24,14.88,37.45,7.35,{"v":3.3,"d":"3.30"},3.11,null,{"$f":"SUM(D59:L59)","v":126.84}]
[null,"Soil & rubble","RecyclingSoil & rubble",{"v":0,"d":"0.00"},{"v":0,"d":"0.00"},{"v":0,"d":"0.00"},194.18,{"v":0,"d":"0.00"},{"v":0,"d":"0.00"},{"v":0,"d":"0.00"},{"v":0,"d":"0.00"},{"v":0,"d":"0.00"},null,{"$f":"SUM(D60:L60)","v":194.18}]
[null,"Stainless Steel","RecyclingStainless Steel",{"v":0,"d":"0.00"},{"v":0,"d":"0.00"},{"v":0,"d":"0.00"},{"v":0,"d":"0.00"},{"v":0,"d":"0.00"},{"v":0,"d":"0.00"},{"v":0,"d":"0.00"},{"v":0,"d":"0.00"},{"v":0,"d":"0.00"},null,{"$f":"SUM(D61:L61)","v":{"v":0,"d":"0.00"}}]
[null,"Textiles","RecyclingTextiles",6.94,{"v":4.6736,"d":"4.67"},9.03,6.34,{"v":6.395,"d":"6.40"},10.29,{"v":1.119,"d":"1.12"},{"v":0.4576,"d":"0.46"},{"v":1.06295,"d":"1.06"},null,{"$f":"SUM(D62:L62)","v":{"v":46.30815,"d":"46.31"}}]
[null,"Tyres","RecyclingTyres",{"v":0,"d":"0.00"},{"v":0,"d":"0.00"},{"v":0,"d":"0.00"},{"v":0,"d":"0.00"},{"v":0,"d":"0.00"},{"v":0,"d":"0.00"},{"v":0,"d":"0.00"},{"v":0,"d":"0.00"},{"v":0,"d":"0.00"},null,{"$f":"SUM(D63:L63)","v":{"v":0,"d":"0.00"}}]
[null,"Wood (including treated)","RecyclingWood (including treated)",{"v":0,"d":"0.00"},49.08,37.01,{"v":77.4,"d":"77.40"},38.66,{"v":199.71999999999997,"d":"199.72"},{"v":19.439999999999998,"d":"19.44"},2.97,9.22,null,{"$f":"SUM(D64:L64)","v":{"v":433.50000000000006,"d":"433.50"}}]
[]
[null,"Sub Total",null,{"$f":"SUM(D23:D64)","v":{"v":245.498,"d":"245.50"}},{"$f":"SUM(E23:E64)","v":{"v":167.23559999999998,"d":"167.24"}},{"$f":"SUM(F23:F64)","v":{"v":277.845,"d":"277.85"}},{"$f":"SUM(G23:G64)","v":403.76},{"$f":"SUM(H23:H64)","v":{"v":258.929,"d":"258.93"}},{"$f":"SUM(I23:I64)","v":{"v":819.9185,"d":"819.92"}},{"$f":"SUM(J23:J64)","v":88.55},{"$f":"SUM(K23:K64)","v":{"v":25.8676,"d":"25.87"}},{"$f":"SUM(L23:L64)","v":{"v":41.42094999999999,"d":"41.42"}},null,{"$f":"SUM(D66:L66)","v":{"v":2329.0246500000003,"d":"2,329.02"}}]
[]
["Re-Use","Books","Re-UseBooks",0.08,{"v":0,"d":"0.00"},{"v":0,"d":"0.00"},{"v":0,"d":"0.00"},{"v":0,"d":"0.00"},{"v":0,"d":"0.00"},{"v":0,"d":"0.00"},{"v":0,"d":"0.00"},0.07,null,{"$f":"SUM(D68:L68)","v":{"v":0.15000000000000002,"d":"0.15"}}]
[null,"Gas Cylinders","Re-UseGas Cylinders",{"v":0,"d":"0.00"},{"v":0,"d":"0.00"},{"v":0,"d":"0.00"},{"v":0,"d":"0.00"},{"v":0,"d":"0.00"},{"v":0,"d":"0.00"},{"v":0,"d":"0.00"},{"v":0,"d":"0.00"},{"v":0,"d":"0.00"},null,{"$f":"SUM(D69:L69)","v":{"v":0,"d":"0.00"}}]
[null,"Household Goods\r\nHousehold Goods","Re-UseHousehold Goods\r\nHousehold Goods",{"v":0,"d":"0.00"},{"v":0,"d":"0.00"},{"v":0,"d":"0.00"},{"v":13.689,"d":"13.69"},{"v":0,"d":"0.00"},{"v":0,"d":"0.00"},{"v":0,"d":"0.00"},{"v":0,"d":"0.00"},{"v":0,"d":"0.00"},null,{"$f":"SUM(D70:L70)","v":{"v":13.689,"d":"13.69"}}]
[null,"Inert (rubble/hardcore)","Re-UseInert (rubble/hardcore)",97.78,{"v":83.46000000000001,"d":"83.46"},124.64,{"v":0,"d":"0.00"},70.62,226.04,33.26,16.14,{"v":17.439999999999998,"d":"17.44"},null,{"$f":"SUM(D71:L71)","v":{"v":669.3799999999999,"d":"669.38"}}]
[null,"Soil","Re-UseSoil",{"v":0,"d":"0.00"},{"v":0,"d":"0.00"},{"v":0,"d":"0.00"},{"v":0,"d":"0.00"},{"v":0,"d":"0.00"},{"v":0,"d":"0.00"},{"v":0,"d":"0.00"},{"v":0,"d":"0.00"},{"v":0,"d":"0.00"},null,{"$f":"SUM(D72:L72)","v":{"v":0,"d":"0.00"}}]
[]
[null,"Sub Total",null,{"$f":"SUM(D68:D73)","v":97.86},{"$f":"SUM(E68:E73)","v":{"v":83.46000000000001,"d":"83.46"}},{"$f":"SUM(F68:F73)","v":124.64},{"$f":"SUM(G68:G73)","v":{"v":13.689,"d":"13.69"}},{"$f":"SUM(H68:H73)","v":70.62},{"$f":"SUM(I68:I73)","v":226.04},{"$f":"SUM(J68:J73)","v":33.26},{"$f":"SUM(K68:K73)","v":16.14},{"$f":"SUM(L68:L73)","v":{"v":17.509999999999998,"d":"17.51"}},null,{"$f":"SUM(D74:L74)","v":{"v":683.2189999999999,"d":"683.22"}}]
[]
[]
[null,"Grand Total",null,{"$f":"SUM(D7)+(D15)+(D21)+(D66)+(D74)","v":{"v":578.898,"d":"578.90"}},{"$f":"SUM(E7)+(E15)+(E21)+(E66)+(E74)","v":{"v":463.16059999999993,"d":"463.16"}},{"$f":"SUM(F7)+(F15)+(F21)+(F66)+(F74)","v":{"v":734.6350000000001,"d":"734.64"}},{"$f":"SUM(G7)+(G15)+(G21)+(G66)+(G74)","v":{"v":978.8389999999999,"d":"978.84"}},{"$f":"SUM(H7)+(H15)+(H21)+(H66)+(H74)","v":{"v":500.8539999999999,"d":"500.85"}},{"$f":"SUM(I7)+(I15)+(I21)+(I66)+(I74)","v":{"v":1968.6625,"d":"1,968.66"}},{"$f":"SUM(J7)+(J15)+(J21)+(J66)+(J74)","v":200.49},{"$f":"SUM(K7)+(K15)+(K21)+(K66)+(K74)","v":{"v":94.4676,"d":"94.47"}},{"$f":"SUM(L7)+(L15)+(L21)+(L66)+(L74)","v":{"v":108.39095,"d":"108.39"}},null,{"$f":"SUM(D77:L77)","v":{"v":5628.39765,"d":"5,628.40"}}]

{"sheet":"August","index":4,"n_rows":77,"n_cols":14,"rows_kept":77}
["August","01/04/2015 to 31/03/2016"]
[]
["Treatment Use","Waste Type",null,"Burton Farm HWRC","Cherry Orchard HWRC","Hunters Lane HWRC & Transfer","Judkins HWRC","Lower House Farm HWRC","Princes Drive HWRC & Transfer","Shipston HWRC","Stockton HWRC","Wellesbourne HWRC",null,"Total"]
[]
["Composting","Green waste","CompostingGreen waste",68.12,{"v":91.38000000000001,"d":"91.38"},{"v":105.10000000000001,"d":"105.10"},101.34,54.22,{"v":201.65999999999997,"d":"201.66"},31.28,15.82,17.87,null,{"$f":"SUM(D5:L5)","v":{"v":686.7900000000001,"d":"686.79"}}]
[]
[null,"Sub Total",null,{"$f":"SUM(D5:D5)","v":68.12},{"$f":"SUM(E5:E5)","v":{"v":91.38000000000001,"d":"91.38"}},{"$f":"SUM(F5:F5)","v":{"v":105.10000000000001,"d":"105.10"}},{"$f":"SUM(G5:G5)","v":101.34},{"$f":"SUM(H5:H5)","v":54.22},{"$f":"SUM(I5:I5)","v":{"v":201.65999999999997,"d":"201.66"}},{"$f":"SUM(J5:J5)","v":31.28},{"$f":"SUM(K5:K5)","v":15.82},{"$f":"SUM(L5:L5)","v":17.87},null,{"$f":"SUM(D7:L7)","v":{"v":686.7900000000001,"d":"686.79"}}]
[]
["Efw (incineration)","Bulky Waste","Efw (incineration)Bulky Waste",{"v":0,"d":"0.00"},{"v":0,"d":"0.00"},{"v":0,"d":"0.00"},{"v":0,"d":"0.00"},14.16,{"v":0,"d":"0.00"},{"v":0,"d":"0.00"},{"v":0,"d":"0.00"},{"v":0,"d":"0.00"},null,{"$f":"SUM(D9:L9)","v":14.16}]
[null,"Chemicals","Efw (incineration)Chemicals",{"v":0,"d":"0.00"},{"v":0,"d":"0.00"},{"v":0,"d":"0.00"},{"v":0,"d":"0.00"},{"v":0,"d":"0.00"},{"v":0,"d":"0.00"},{"v":0,"d":"0.00"},{"v":0,"d":"0.00"},{"v":0,"d":"0.00"},null,{"$f":"SUM(D10:L10)","v":{"v":0,"d":"0.00"}}]
[null,"Clinical","Efw (incineration)Clinical",{"v":0,"d":"0.00"},{"v":0,"d":"0.00"},{"v":0,"d":"0.00"},{"v":0,"d":"0.00"},{"v":0,"d":"0.00"},{"v":2.584,"d":"2.58"},{"v":0,"d":"0.00"},{"v":0,"d":"0.00"},{"v":0,"d":"0.00"},null,{"$f":"SUM(D11:L11)","v":{"v":2.584,"d":"2.58"}}]
[null,"General (mixed waste)","Efw (incineration)General (mixed waste)",{"v":0,"d":"0.00"},{"v":0,"d":"0.00"},{"v":0,"d":"0.00"},{"v":0,"d":"0.00"},139.56,{"v":0,"d":"0.00"},{"v":0,"d":"0.00"},{"v":0,"d":"0.00"},{"v":0,"d":"0.00"},null,{"$f":"SUM(D12:L12)","v":139.56}]
[null,"Paint (chemicals)","Efw (incineration)Paint (chemicals)",{"v":0,"d":"0.00"},{"v":0,"d":"0.00"},{"v":0,"d":"0.00"},{"v":0,"d":"0.00"},{"v":0,"d":"0.00"},{"v":0,"d":"0.00"},{"v":0,"d":"0.00"},{"v":0,"d":"0.00"},{"v":0,"d":"0.00"},null,{"$f":"SUM(D13:L13)","v":{"v":0,"d":"0.00"}}]
[]
[null,"Sub Total",null,{"$f":"SUM(D9:D13)","v":{"v":0,"d":"0.00"}},{"$f":"SUM(E9:E13)","v":{"v":0,"d":"0.00"}},{"$f":"SUM(F9:F13)","v":{"v":0,"d":"0.00"}},{"$f":"SUM(G9:G13)","v":{"v":0,"d":"0.00"}},{"$f":"SUM(H9:H13)","v":153.72},{"$f":"SUM(I9:I13)","v":{"v":2.584,"d":"2.58"}},{"$f":"SUM(J9:J13)","v":{"v":0,"d":"0.00"}},{"$f":"SUM(K9:K13)","v":{"v":0,"d":"0.00"}},{"$f":"SUM(L9:L13)","v":{"v":0,"d":"0.00"}},null,{"$f":"SUM(D15:L15)","v":{"v":156.304,"d":"156.30"}}]
[]
["Landfill","Asbestos","LandfillAsbestos",{"v":0,"d":"0.00"},{"v":0,"d":"0.00"},{"v":0,"d":"0.00"},{"v":0,"d":"0.00"},{"v":0,"d":"0.00"},{"v":0,"d":"0.00"},{"v":0,"d":"0.00"},{"v":0,"d":"0.00"},{"v":0,"d":"0.00"},null,{"$f":"SUM(D17:L17)","v":{"v":0,"d":"0.00"}}]
[null,"General (mixed waste)","LandfillGeneral (mixed waste)",{"v":167.2,"d":"167.20"},116.32,258.98,393.14,{"v":0,"d":"0.00"},708.26,{"v":45.3,"d":"45.30"},32.17,42.35,null,{"$f":"SUM(D18:L18)","v":{"v":1763.72,"d":"1,763.72"}}]
[null,"Hard Plastic","LandfillHard Plastic",{"v":0,"d":"0.00"},10.49,3.17,{"v":0,"d":"0.00"},{"v":5.305,"d":"5.31"},{"v":0,"d":"0.00"},{"v":0,"d":"0.00"},{"v":0,"d":"0.00"},{"v":0,"d":"0.00"},null,{"$f":"SUM(D19:L19)","v":{"v":18.965,"d":"18.97"}}]
[]
[null,"Sub Total",null,{"$f":"SUM(D17:D19)","v":{"v":167.2,"d":"167.20"}},{"$f":"SUM(E17:E19)","v":{"v":126.80999999999999,"d":"126.81"}},{"$f":"SUM(F17:F19)","v":{"v":262.15000000000003,"d":"262.15"}},{"$f":"SUM(G17:G19)","v":393.14},{"$f":"SUM(H17:H19)","v":{"v":5.305,"d":"5.31"}},{"$f":"SUM(I17:I19)","v":708.26},{"$f":"SUM(J17:J19)","v":{"v":45.3,"d":"45.30"}},{"$f":"SUM(K17:K19)","v":32.17},{"$f":"SUM(L17:L19)","v":42.35},null,{"$f":"SUM(D21:L21)","v":{"v":1782.685,"d":"1,782.69"}}]
[]
["Recycling","Aluminium (nf)","RecyclingAluminium (nf)",{"v":0,"d":"0.00"},{"v":0,"d":"0.00"},{"v":0,"d":"0.00"},{"v":0,"d":"0.00"},{"v":0,"d":"0.00"},0.78,{"v":0.5,"d":"0.50"},{"v":0,"d":"0.00"},{"v":0,"d":"0.00"},null,{"$f":"SUM(D23:L23)","v":1.28}]
[null,"Batteries (car)","RecyclingBatteries (car)",{"v":0,"d":"0.00"},{"v":2.265,"d":"2.27"},{"v":0,"d":"0.00"},{"v":0,"d":"0.00"},{"v":0,"d":"0.00"},{"v":8.607,"d":"8.61"},1.13,{"v":0.2,"d":"0.20"},{"v":0.747,"d":"0.75"},null,{"$f":"SUM(D24:L24)","v":{"v":12.948999999999998,"d":"12.95"}}]
[null,"Batteries (household)","RecyclingBatteries (household)",{"v":0,"d":"0.00"},{"v":0.669,"d":"0.67"},{"v":0,"d":"0.00"},{"v":0,"d":"0.00"},{"v":0,"d":"0.00"},1.42,{"v":0,"d":"0.00"},{"v":0,"d":"0.00"},{"v":0.335,"d":"0.34"},null,{"$f":"SUM(D25:L25)","v":{"v":2.424,"d":"2.42"}}]
[null,"Books","RecyclingBooks",{"v":0,"d":"0.00"},{"v":0,"d":"0.00"},{"v":0,"d":"0.00"},1.02,{"v":0,"d":"0.00"},{"v":0,"d":"0.00"},{"v":0,"d":"0.00"},{"v":0,"d":"0.00"},{"v":0,"d":"0.00"},null,{"$f":"SUM(D26:L26)","v":1.02}]
[null,"Brass(nf)","RecyclingBrass(nf)",{"v":0,"d":"0.00"},{"v":0,"d":"0.00"},{"v":0,"d":"0.00"},{"v":0,"d":"0.00"},{"v":0,"d":"0.00"},{"v":0,"d":"0.00"},{"v":0,"d":"0.00"},{"v":0,"d":"0.00"},{"v":0,"d":"0.00"},null,{"$f":"SUM(D27:L27)","v":{"v":0,"d":"0.00"}}]
[null,"Cable (nf)","RecyclingCable (nf)",{"v":0.6,"d":"0.60"},{"v":0,"d":"0.00"},{"v":0,"d":"0.00"},{"v":0,"d":"0.00"},{"v":0,"d":"0.00"},{"v":0.1505,"d":"0.15"},{"v":0,"d":"0.00"},0.02,{"v":0,"d":"0.00"},null,{"$f":"SUM(D28:L28)","v":{"v":0.7705,"d":"0.77"}}]
[null,"Cardboard","RecyclingCardboard",{"v":21.6,"d":"21.60"},16.18,34.92,{"v":28.9,"d":"28.90"},9.74,{"v":49.4,"d":"49.40"},{"v":11.879999999999999,"d":"11.88"},{"v":3.7699999999999996,"d":"3.77"},6.24,null,{"$f":"SUM(D29:L29)","v":182.63}]
[null,"Carpet","RecyclingCarpet",{"v":22.119999999999997,"d":"22.12"},{"v":14.879999999999999,"d":"14.88"},{"v":19.7,"d":"19.70"},{"v":0,"d":"0.00"},{"v":22.959999999999997,"d":"22.96"},{"v":37.970000000000006,"d":"37.97"},10.08,{"v":0,"d":"0.00"},{"v":0,"d":"0.00"},null,{"$f":"SUM(D30:L30)","v":127.71}]
[null,"Chipboard","RecyclingChipboard",{"v":90.74000000000001,"d":"90.74"},{"v":0,"d":"0.00"},85.93,{"v":0,"d":"0.00"},{"v":76.4,"d":"76.40"},{"v":27.459999999999997,"d":"27.46"},6.68,{"v":0,"d":"0.00"},2.74,null,{"$f":"SUM(D31:L31)","v":{"v":289.95000000000005,"d":"289.95"}}]
[null,"Copper & Brass Mixed (nf)","RecyclingCopper & Brass Mixed (nf)",{"v":0,"d":"0.00"},{"v":0,"d":"0.00"},{"v":0,"d":"0.00"},{"v":0,"d":"0.00"},{"v":0,"d":"0.00"},{"v":0,"d":"0.00"},{"v":0,"d":"0.00"},{"v":0,"d":"0.00"},{"v":0,"d":"0.00"},null,{"$f":"SUM(D32:L32)","v":{"v":0,"d":"0.00"}}]
[null,"Drink Cartons","RecyclingDrink Cartons",{"v":0,"d":"0.00"},{"v":0.159,"d":"0.16"},{"v":0,"d":"0.00"},{"v":0,"d":"0.00"},{"v":0.067,"d":"0.07"},{"v":0.159,"d":"0.16"},{"v":0,"d":"0.00"},{"v":0,"d":"0.00"},{"v":0,"d":"0.00"},null,{"$f":"SUM(D33:L33)","v":{"v":0.385,"d":"0.39"}}]
[null,"Fire Extinguishers","RecyclingFire Extinguishers",{"v":0,"d":"0.00"},{"v":0,"d":"0.00"},{"v":0,"d":"0.00"},{"v":0,"d":"0.00"},{"v":0,"d":"0.00"},{"v":0,"d":"0.00"},{"v":0,"d":"0.00"},{"v":0,"d":"0.00"},{"v":0,"d":"0.00"},null,{"$f":"SUM(D34:L34)","v":{"v":0,"d":"0.00"}}]
[null,"Fluorescent Tubes Output","RecyclingFluorescent Tubes Output",0.23,{"v":0,"d":"0.00"},{"v":0,"d":"0.00"},{"v":0,"d":"0.00"},{"v":0,"d":"0.00"},{"v":0,"d":"0.00"},{"v":0.273,"d":"0.27"},{"v":0,"d":"0.00"},{"v":0,"d":"0.00"},null,{"$f":"SUM(D35:L35)","v":{"v":0.503,"d":"0.50"}}]
[null,"Fridges Output","RecyclingFridges Output",{"v":6.245,"d":"6.25"},{"v":3.14518,"d":"3.15"},{"v":7.13344,"d":"7.13"},{"v":3.3,"d":"3.30"},{"v":5.4177,"d":"5.42"},{"v":8.16811,"d":"8.17"},{"v":2.24407,"d":"2.24"},{"v":0.54407,"d":"0.54"},{"v":0,"d":"0.00"},null,{"$f":"SUM(D36:L36)","v":{"v":36.19757,"d":"36.20"}}]
[null,"Gas Cylinders","RecyclingGas Cylinders",{"v":0.065,"d":"0.07"},{"v":0,"d":"0.00"},0.22,{"v":0,"d":"0.00"},{"v":0,"d":"0.00"},0.43,{"v":0,"d":"0.00"},{"v":0,"d":"0.00"},{"v":0,"d":"0.00"},null,{"$f":"SUM(D37:L37)","v":{"v":0.7150000000000001,"d":"0.72"}}]
[null,"General (mixed waste)","RecyclingGeneral (mixed waste)",{"v":0,"d":"0.00"},{"v":0,"d":"0.00"},{"v":0,"d":"0.00"},{"v":0,"d":"0.00"},{"v":0,"d":"0.00"},{"v":0,"d":"0.00"},{"v":0,"d":"0.00"},{"v":0,"d":"0.00"},{"v":0,"d":"0.00"},null,{"$f":"SUM(D38:L38)","v":{"v":0,"d":"0.00"}}]
[null,"Glass (bottles)","RecyclingGlass (bottles)",{"v":5.521,"d":"5.52"},{"v":7.412,"d":"7.41"},{"v":0,"d":"0.00"},{"v":0,"d":"0.00"},{"v":0,"d":"0.00"},{"v":9.142,"d":"9.14"},{"v":1.776,"d":"1.78"},{"v":0,"d":"0.00"},{"v":1.184,"d":"1.18"},null,{"$f":"SUM(D39:L39)","v":{"v":25.035,"d":"25.04"}}]
[null,"Green waste","RecyclingGreen waste",{"v":0,"d":"0.00"},{"v":0,"d":"0.00"},{"v":0,"d":"0.00"},{"v":0,"d":"0.00"},{"v":0,"d":"0.00"},{"v":0,"d":"0.00"},{"v":0,"d":"0.00"},{"v":0,"d":"0.00"},{"v":0,"d":"0.00"},null,{"$f":"SUM(D40:L40)","v":{"v":0,"d":"0.00"}}]
[null,"Hard Plastic","RecyclingHard Plastic",{"v":0,"d":"0.00"},{"v":0,"d":"0.00"},{"v":0,"d":"0.00"},{"v":0,"d":"0.00"},{"v":0,"d":"0.00"},{"v":0,"d":"0.00"},{"v":0,"d":"0.00"},{"v":0,"d":"0.00"},{"v":0,"d":"0.00"},null,{"$f":"SUM(D41:L41)","v":{"v":0,"d":"0.00"}}]
[null,"Household Goods\r\nHousehold Goods","RecyclingHousehold Goods\r\nHousehold Goods",{"v":0,"d":"0.00"},{"v":0,"d":"0.00"},{"v":0,"d":"0.00"},{"v":0,"d":"0.00"},{"v":0,"d":"0.00"},{"v":0,"d":"0.00"},{"v":0,"d":"0.00"},{"v":0,"d":"0.00"},{"v":0,"d":"0.00"},null,{"$f":"SUM(D42:L42)","v":{"v":0,"d":"0.00"}}]
[null,"Inert (rubble/hardcore)","RecyclingInert (rubble/hardcore)",{"v":0,"d":"0.00"},{"v":0,"d":"0.00"},{"v":0,"d":"0.00"},{"v":0,"d":"0.00"},{"v":0,"d":"0.00"},{"v":0,"d":"0.00"},{"v":0,"d":"0.00"},{"v":0,"d":"0.00"},{"v":0,"d":"0.00"},null,{"$f":"SUM(D43:L43)","v":{"v":0,"d":"0.00"}}]
[null,"Lead (nf)","RecyclingLead (nf)",{"v":0,"d":"0.00"},{"v":0,"d":"0.00"},{"v":0,"d":"0.00"},{"v":0,"d":"0.00"},{"v":0,"d":"0.00"},{"v":0,"d":"0.00"},{"v":0,"d":"0.00"},{"v":0,"d":"0.00"},{"v":0,"d":"0.00"},null,{"$f":"SUM(D44:L44)","v":{"v":0,"d":"0.00"}}]
[null,"Matresses","RecyclingMatresses",0.66,2.31,{"v":2.8,"d":"2.80"},{"v":0,"d":"0.00"},{"v":4.619999999999999,"d":"4.62"},6.09,{"v":0,"d":"0.00"},{"v":0,"d":"0.00"},{"v":0,"d":"0.00"},null,{"$f":"SUM(D45:L45)","v":{"v":16.479999999999997,"d":"16.48"}}]
[null,"Microwave Motors","RecyclingMicrowave Motors",{"v":0,"d":"0.00"},{"v":0,"d":"0.00"},{"v":0,"d":"0.00"},{"v":0,"d":"0.00"},{"v":0,"d":"0.00"},{"v":0,"d":"0.00"},{"v":0,"d":"0.00"},{"v":0,"d":"0.00"},{"v":0,"d":"0.00"},null,{"$f":"SUM(D46:L46)","v":{"v":0,"d":"0.00"}}]
[null,"Non Ferrous Metal  \r\nNon Ferrous Metal","RecyclingNon Ferrous Metal  \r\nNon Ferrous Metal",{"v":0,"d":"0.00"},{"v":1.4900000000000002,"d":"1.49"},0.19,{"v":0,"d":"0.00"},{"v":0,"d":"0.00"},{"v":0.1845,"d":"0.18"},0.94,0.25,0.52,null,{"$f":"SUM(D47:L47)","v":{"v":3.5745,"d":"3.57"}}]
[null,"Oil (Engine)","RecyclingOil (Engine)",{"v":0,"d":"0.00"},{"v":0,"d":"0.00"},{"v":1.936,"d":"1.94"},{"v":1.5,"d":"1.50"},1.76,{"v":2.2,"d":"2.20"},{"v":0,"d":"0.00"},{"v":0,"d":"0.00"},{"v":0,"d":"0.00"},null,{"$f":"SUM(D48:L48)","v":{"v":7.396,"d":"7.40"}}]
[null,"Oil (Vegetable)","RecyclingOil (Vegetable)",{"v":0,"d":"0.00"},{"v":0,"d":"0.00"},{"v":0,"d":"0.00"},{"v":0,"d":"0.00"},{"v":0,"d":"0.00"},{"v":0,"d":"0.00"},{"v":0,"d":"0.00"},{"v":0,"d":"0.00"},{"v":0,"d":"0.00"},null,{"$f":"SUM(D49:L49)","v":{"v":0,"d":"0.00"}}]
[null,"Paint (chemicals)","RecyclingPaint (chemicals)",{"v":0,"d":"0.00"},{"v":0,"d":"0.00"},{"v":0,"d":"0.00"},{"v":0,"d":"0.00"},0.74,1.08,{"v":0,"d":"0.00"},0.35,0.04,null,{"$f":"SUM(D50:L50)","v":2.21}]
[null,"Paper (mixed with card)","RecyclingPaper (mixed with card)",{"v":0,"d":"0.00"},{"v":0,"d":"0.00"},{"v":0,"d":"0.00"},{"v":0,"d":"0.00"},{"v":0,"d":"0.00"},{"v":0,"d":"0.00"},{"v":0,"d":"0.00"},{"v":0,"d":"0.00"},{"v":0,"d":"0.00"},null,{"$f":"SUM(D51:L51)","v":{"v":0,"d":"0.00"}}]
[null,"Paper (newspaper & magazines)","RecyclingPaper (newspaper & magazines)",{"v":25.1,"d":"25.10"},{"v":17,"d":"17.00"},{"v":0,"d":"0.00"},7.34,24.88,26.94,{"v":0,"d":"0.00"},{"v":0,"d":"0.00"},{"v":0,"d":"0.00"},null,{"$f":"SUM(D52:L52)","v":{"v":101.25999999999999,"d":"101.26"}}]
[null,"Plasterboard","RecyclingPlasterboard",{"v":0,"d":"0.00"},{"v":0,"d":"0.00"},8.94,10.21,8.55,12.34,{"v":0,"d":"0.00"},{"v":0,"d":"0.00"},{"v":0,"d":"0.00"},null,{"$f":"SUM(D53:L53)","v":40.04}]
[null,"Plastic (Mixed)","RecyclingPlastic (Mixed)",{"v":0,"d":"0.00"},{"v":0,"d":"0.00"},{"v":0.1,"d":"0.10"},{"v":0,"d":"0.00"},{"v":0,"d":"0.00"},{"v":0,"d":"0.00"},{"v":0.1,"d":"0.10"},{"v":0,"d":"0.00"},0.22,null,{"$f":"SUM(D54:L54)","v":{"v":0.42000000000000004,"d":"0.42"}}]
[null,"Printer Cartridges","RecyclingPrinter Cartridges",{"v":0,"d":"0.00"},{"v":0,"d":"0.00"},{"v":0,"d":"0.00"},{"v":0,"d":"0.00"},{"v":0,"d":"0.00"},{"v":0,"d":"0.00"},{"v":0,"d":"0.00"},{"v":0,"d":"0.00"},{"v":0,"d":"0.00"},null,{"$f":"SUM(D55:L55)","v":{"v":0,"d":"0.00"}}]
[null,"Road Sweepings","RecyclingRoad Sweepings",{"v":0,"d":"0.00"},{"v":0,"d":"0.00"},{"v":0,"d":"0.00"},{"v":0,"d":"0.00"},{"v":0,"d":"0.00"},115.76,{"v":0,"d":"0.00"},{"v":0,"d":"0.00"},{"v":0,"d":"0.00"},null,{"$f":"SUM(D56:L56)","v":115.76}]
[null,"Scrap metal (mixed)","RecyclingScrap metal (mixed)",39.31,18.64,{"v":41.699999999999996,"d":"41.70"},45.16,28.77,{"v":78.53999999999999,"d":"78.54"},19.63,{"v":5.9,"d":"5.90"},{"v":9.3,"d":"9.30"},null,{"$f":"SUM(D57:L57)","v":286.95}]
[null,"Screens output","RecyclingScreens output",{"v":3.36394,"d":"3.36"},{"v":3.25691,"d":"3.26"},{"v":8.56356,"d":"8.56"},4.42,{"v":5.69729,"d":"5.70"},{"v":7.89395,"d":"7.89"},{"v":2.84602,"d":"2.85"},{"v":0.98557,"d":"0.99"},{"v":1.8481,"d":"1.85"},null,{"$f":"SUM(D58:L58)","v":{"v":38.87534000000001,"d":"38.88"}}]
[null,"Small Domestic Appliances","RecyclingSmall Domestic Appliances",{"v":17.6,"d":"17.60"},{"v":6.8,"d":"6.80"},{"v":24.2,"d":"24.20"},13.28,{"v":13.2,"d":"13.20"},{"v":30.6,"d":"30.60"},9.49,2.77,2.98,null,{"$f":"SUM(D59:L59)","v":120.92}]
[null,"Soil & rubble","RecyclingSoil & rubble",{"v":0,"d":"0.00"},{"v":0,"d":"0.00"},{"v":0,"d":"0.00"},100.62,{"v":0,"d":"0.00"},{"v":0,"d":"0.00"},{"v":0,"d":"0.00"},{"v":0,"d":"0.00"},{"v":0,"d":"0.00"},null,{"$f":"SUM(D60:L60)","v":100.62}]
[null,"Stainless Steel","RecyclingStainless Steel",{"v":0,"d":"0.00"},{"v":0,"d":"0.00"},{"v":0,"d":"0.00"},{"v":0,"d":"0.00"},{"v":0,"d":"0.00"},{"v":0,"d":"0.00"},{"v":0,"d":"0.00"},{"v":0,"d":"0.00"},{"v":0,"d":"0.00"},null,{"$f":"SUM(D61:L61)","v":{"v":0,"d":"0.00"}}]
[null,"Textiles","RecyclingTextiles",{"v":6.5200000000000005,"d":"6.52"},{"v":2.2276,"d":"2.23"},5.38,7.73,4.46,{"v":6.9,"d":"6.90"},{"v":1.2503,"d":"1.25"},{"v":0.644,"d":"0.64"},{"v":1.7523,"d":"1.75"},null,{"$f":"SUM(D62:L62)","v":{"v":36.864200000000004,"d":"36.86"}}]
[null,"Tyres","RecyclingTyres",{"v":0,"d":"0.00"},{"v":0,"d":"0.00"},{"v":0,"d":"0.00"},{"v":0,"d":"0.00"},{"v":0,"d":"0.00"},{"v":0,"d":"0.00"},{"v":0,"d":"0.00"},{"v":0,"d":"0.00"},{"v":0,"d":"0.00"},null,{"$f":"SUM(D63:L63)","v":{"v":0,"d":"0.00"}}]
[null,"Wood (including treated)","RecyclingWood (including treated)",{"v":0,"d":"0.00"},68.56,35.82,{"v":0,"d":"0.00"},{"v":52.2,"d":"52.20"},220.96,{"v":20.340000000000003,"d":"20.34"},17.94,11.26,null,{"$f":"SUM(D64:L64)","v":427.08}]
[]
[null,"Sub Total",null,{"$f":"SUM(D23:D64)","v":{"v":239.67494,"d":"239.67"}},{"$f":"SUM(E23:E64)","v":{"v":164.99469,"d":"164.99"}},{"$f":"SUM(F23:F64)","v":{"v":277.533,"d":"277.53"}},{"$f":"SUM(G23:G64)","v":223.48},{"$f":"SUM(H23:H64)","v":{"v":259.46199,"d":"259.46"}},{"$f":"SUM(I23:I64)","v":{"v":653.17506,"d":"653.18"}},{"$f":"SUM(J23:J64)","v":{"v":89.15939,"d":"89.16"}},{"$f":"SUM(K23:K64)","v":{"v":33.37364,"d":"33.37"}},{"$f":"SUM(L23:L64)","v":{"v":39.166399999999996,"d":"39.17"}},null,{"$f":"SUM(D66:L66)","v":{"v":1980.0191100000002,"d":"1,980.02"}}]
[]
["Re-Use","Books","Re-UseBooks",0.09,{"v":0,"d":"0.00"},{"v":0,"d":"0.00"},{"v":0,"d":"0.00"},{"v":0,"d":"0.00"},{"v":0,"d":"0.00"},{"v":0,"d":"0.00"},{"v":0,"d":"0.00"},0.07,null,{"$f":"SUM(D68:L68)","v":0.16}]
[null,"Gas Cylinders","Re-UseGas Cylinders",{"v":0,"d":"0.00"},{"v":0,"d":"0.00"},{"v":0,"d":"0.00"},{"v":0,"d":"0.00"},{"v":0,"d":"0.00"},{"v":0,"d":"0.00"},{"v":0,"d":"0.00"},{"v":0,"d":"0.00"},{"v":0,"d":"0.00"},null,{"$f":"SUM(D69:L69)","v":{"v":0,"d":"0.00"}}]
[null,"Household Goods\r\nHousehold Goods","Re-UseHousehold Goods\r\nHousehold Goods",{"v":0,"d":"0.00"},{"v":0,"d":"0.00"},{"v":0,"d":"0.00"},{"v":15.322,"d":"15.32"},{"v":0,"d":"0.00"},{"v":0,"d":"0.00"},{"v":0,"d":"0.00"},{"v":0,"d":"0.00"},{"v":0,"d":"0.00"},null,{"$f":"SUM(D70:L70)","v":{"v":15.322,"d":"15.32"}}]
[null,"Inert (rubble/hardcore)","Re-UseInert (rubble/hardcore)",108.02,66.92,90.78,{"v":0,"d":"0.00"},{"v":88.92000000000002,"d":"88.92"},{"v":226.7,"d":"226.70"},{"v":21.740000000000002,"d":"21.74"},{"v":12.620000000000001,"d":"12.62"},{"v":16.7,"d":"16.70"},null,{"$f":"SUM(D71:L71)","v":{"v":632.4000000000001,"d":"632.40"}}]
[null,"Soil","Re-UseSoil",{"v":0,"d":"0.00"},{"v":0,"d":"0.00"},{"v":0,"d":"0.00"},{"v":0,"d":"0.00"},{"v":0,"d":"0.00"},{"v":0,"d":"0.00"},{"v":0,"d":"0.00"},{"v":0,"d":"0.00"},{"v":0,"d":"0.00"},null,{"$f":"SUM(D72:L72)","v":{"v":0,"d":"0.00"}}]
[]
[null,"Sub Total",null,{"$f":"SUM(D68:D73)","v":108.11},{"$f":"SUM(E68:E73)","v":66.92},{"$f":"SUM(F68:F73)","v":90.78},{"$f":"SUM(G68:G73)","v":{"v":15.322,"d":"15.32"}},{"$f":"SUM(H68:H73)","v":{"v":88.92000000000002,"d":"88.92"}},{"$f":"SUM(I68:I73)","v":{"v":226.7,"d":"226.70"}},{"$f":"SUM(J68:J73)","v":{"v":21.740000000000002,"d":"21.74"}},{"$f":"SUM(K68:K73)","v":{"v":12.620000000000001,"d":"12.62"}},{"$f":"SUM(L68:L73)","v":16.77},null,{"$f":"SUM(D74:L74)","v":{"v":647.882,"d":"647.88"}}]
[]
[]
[null,"Grand Total",null,{"$f":"SUM(D7)+(D15)+(D21)+(D66)+(D74)","v":{"v":583.1049399999999,"d":"583.10"}},{"$f":"SUM(E7)+(E15)+(E21)+(E66)+(E74)","v":{"v":450.10469,"d":"450.10"}},{"$f":"SUM(F7)+(F15)+(F21)+(F66)+(F74)","v":{"v":735.5630000000001,"d":"735.56"}},{"$f":"SUM(G7)+(G15)+(G21)+(G66)+(G74)","v":{"v":733.282,"d":"733.28"}},{"$f":"SUM(H7)+(H15)+(H21)+(H66)+(H74)","v":{"v":561.62699,"d":"561.63"}},{"$f":"SUM(I7)+(I15)+(I21)+(I66)+(I74)","v":{"v":1792.37906,"d":"1,792.38"}},{"$f":"SUM(J7)+(J15)+(J21)+(J66)+(J74)","v":{"v":187.47939000000002,"d":"187.48"}},{"$f":"SUM(K7)+(K15)+(K21)+(K66)+(K74)","v":{"v":93.98364000000001,"d":"93.98"}},{"$f":"SUM(L7)+(L15)+(L21)+(L66)+(L74)","v":{"v":116.15639999999999,"d":"116.16"}},null,{"$f":"SUM(D77:L77)","v":{"v":5253.680110000001,"d":"5,253.68"}}]

{"sheet":"September","index":5,"n_rows":77,"n_cols":14,"rows_kept":77}
["September","01/04/2015 to 31/03/2016"]
[]
["Treatment Use","Waste Type",null,"Burton Farm HWRC","Cherry Orchard HWRC","Hunters Lane HWRC & Transfer","Judkins HWRC","Lower House Farm HWRC","Princes Drive HWRC & Transfer","Shipston HWRC","Stockton HWRC","Wellesbourne HWRC",null,"Total"]
[]
["Composting","Green waste","CompostingGreen waste",{"v":75.4,"d":"75.40"},78.02,{"v":97.52000000000001,"d":"97.52"},{"v":59.8,"d":"59.80"},50.88,151.08,30.86,12.55,14.65,null,{"$f":"SUM(D5:L5)","v":570.76}]
[]
[null,"Sub Total",null,{"$f":"SUM(D5:D5)","v":{"v":75.4,"d":"75.40"}},{"$f":"SUM(E5:E5)","v":78.02},{"$f":"SUM(F5:F5)","v":{"v":97.52000000000001,"d":"97.52"}},{"$f":"SUM(G5:G5)","v":{"v":59.8,"d":"59.80"}},{"$f":"SUM(H5:H5)","v":50.88},{"$f":"SUM(I5:I5)","v":151.08},{"$f":"SUM(J5:J5)","v":30.86},{"$f":"SUM(K5:K5)","v":12.55},{"$f":"SUM(L5:L5)","v":14.65},null,{"$f":"SUM(D7:L7)","v":570.76}]
[]
["Efw (incineration)","Bulky Waste","Efw (incineration)Bulky Waste",{"v":0,"d":"0.00"},{"v":0,"d":"0.00"},{"v":0,"d":"0.00"},{"v":0,"d":"0.00"},{"v":16.4,"d":"16.40"},{"v":0,"d":"0.00"},{"v":0,"d":"0.00"},{"v":0,"d":"0.00"},{"v":0,"d":"0.00"},null,{"$f":"SUM(D9:L9)","v":{"v":16.4,"d":"16.40"}}]
[null,"Chemicals","Efw (incineration)Chemicals",{"v":0,"d":"0.00"},0.05,{"v":0,"d":"0.00"},{"v":0,"d":"0.00"},{"v":0,"d":"0.00"},0.53,{"v":0,"d":"0.00"},{"v":0,"d":"0.00"},{"v":0,"d":"0.00"},null,{"$f":"SUM(D10:L10)","v":{"v":0.5800000000000001,"d":"0.58"}}]
[null,"Clinical","Efw (incineration)Clinical",{"v":0,"d":"0.00"},{"v":0,"d":"0.00"},{"v":0,"d":"0.00"},{"v":0,"d":"0.00"},{"v":0,"d":"0.00"},{"v":2.855,"d":"2.86"},{"v":0,"d":"0.00"},{"v":0,"d":"0.00"},{"v":0,"d":"0.00"},null,{"$f":"SUM(D11:L11)","v":{"v":2.855,"d":"2.86"}}]
[null,"General (mixed waste)","Efw (incineration)General (mixed waste)",{"v":0,"d":"0.00"},{"v":0,"d":"0.00"},{"v":0,"d":"0.00"},{"v":0,"d":"0.00"},102.14,{"v":0,"d":"0.00"},{"v":0,"d":"0.00"},{"v":0,"d":"0.00"},{"v":0,"d":"0.00"},null,{"$f":"SUM(D12:L12)","v":102.14}]
[null,"Paint (chemicals)","Efw (incineration)Paint (chemicals)",{"v":0,"d":"0.00"},{"v":0,"d":"0.00"},{"v":0,"d":"0.00"},{"v":0,"d":"0.00"},{"v":0,"d":"0.00"},{"v":0,"d":"0.00"},{"v":0,"d":"0.00"},{"v":0,"d":"0.00"},{"v":0,"d":"0.00"},null,{"$f":"SUM(D13:L13)","v":{"v":0,"d":"0.00"}}]
[]
[null,"Sub Total",null,{"$f":"SUM(D9:D13)","v":{"v":0,"d":"0.00"}},{"$f":"SUM(E9:E13)","v":0.05},{"$f":"SUM(F9:F13)","v":{"v":0,"d":"0.00"}},{"$f":"SUM(G9:G13)","v":{"v":0,"d":"0.00"}},{"$f":"SUM(H9:H13)","v":{"v":118.53999999999999,"d":"118.54"}},{"$f":"SUM(I9:I13)","v":{"v":3.385,"d":"3.39"}},{"$f":"SUM(J9:J13)","v":{"v":0,"d":"0.00"}},{"$f":"SUM(K9:K13)","v":{"v":0,"d":"0.00"}},{"$f":"SUM(L9:L13)","v":{"v":0,"d":"0.00"}},null,{"$f":"SUM(D15:L15)","v":{"v":121.975,"d":"121.98"}}]
[]
["Landfill","Asbestos","LandfillAsbestos",{"v":0,"d":"0.00"},{"v":0,"d":"0.00"},{"v":0,"d":"0.00"},{"v":0,"d":"0.00"},{"v":0,"d":"0.00"},2.92,{"v":0,"d":"0.00"},{"v":0,"d":"0.00"},{"v":0,"d":"0.00"},null,{"$f":"SUM(D17:L17)","v":2.92}]
[null,"General (mixed waste)","LandfillGeneral (mixed waste)",159.44,{"v":80.89999999999999,"d":"80.90"},{"v":227.14000000000001,"d":"227.14"},611.31,{"v":0,"d":"0.00"},{"v":580.6199999999999,"d":"580.62"},49.24,{"v":25.441000000000003,"d":"25.44"},30.21,null,{"$f":"SUM(D18:L18)","v":{"v":1764.301,"d":"1,764.30"}}]
[null,"Hard Plastic","LandfillHard Plastic",{"v":0,"d":"0.00"},{"v":1.495,"d":"1.50"},{"v":3.405,"d":"3.41"},{"v":0,"d":"0.00"},{"v":6.475,"d":"6.48"},{"v":0,"d":"0.00"},{"v":0,"d":"0.00"},{"v":0,"d":"0.00"},{"v":0,"d":"0.00"},null,{"$f":"SUM(D19:L19)","v":{"v":11.375,"d":"11.38"}}]
[]
[null,"Sub Total",null,{"$f":"SUM(D17:D19)","v":159.44},{"$f":"SUM(E17:E19)","v":{"v":82.395,"d":"82.40"}},{"$f":"SUM(F17:F19)","v":{"v":230.54500000000002,"d":"230.55"}},{"$f":"SUM(G17:G19)","v":611.31},{"$f":"SUM(H17:H19)","v":{"v":6.475,"d":"6.48"}},{"$f":"SUM(I17:I19)","v":{"v":583.5399999999998,"d":"583.54"}},{"$f":"SUM(J17:J19)","v":49.24},{"$f":"SUM(K17:K19)","v":{"v":25.441000000000003,"d":"25.44"}},{"$f":"SUM(L17:L19)","v":30.21},null,{"$f":"SUM(D21:L21)","v":{"v":1778.596,"d":"1,778.60"}}]
[]
["Recycling","Aluminium (nf)","RecyclingAluminium (nf)",{"v":0,"d":"0.00"},{"v":0,"d":"0.00"},{"v":0,"d":"0.00"},2.78,{"v":0,"d":"0.00"},{"v":0,"d":"0.00"},{"v":0,"d":"0.00"},{"v":0,"d":"0.00"},{"v":0,"d":"0.00"},null,{"$f":"SUM(D23:L23)","v":2.78}]
[null,"Batteries (car)","RecyclingBatteries (car)",{"v":0,"d":"0.00"},{"v":0,"d":"0.00"},{"v":0,"d":"0.00"},{"v":2.025,"d":"2.03"},3.32,{"v":0,"d":"0.00"},{"v":0,"d":"0.00"},0.47,{"v":0.781,"d":"0.78"},null,{"$f":"SUM(D24:L24)","v":{"v":6.595999999999999,"d":"6.60"}}]
[null,"Batteries (household)","RecyclingBatteries (household)",{"v":0,"d":"0.00"},{"v":0,"d":"0.00"},{"v":0,"d":"0.00"},{"v":0,"d":"0.00"},{"v":0,"d":"0.00"},{"v":0,"d":"0.00"},{"v":0,"d":"0.00"},{"v":0,"d":"0.00"},{"v":0,"d":"0.00"},null,{"$f":"SUM(D25:L25)","v":{"v":0,"d":"0.00"}}]
[null,"Books","RecyclingBooks",{"v":0,"d":"0.00"},{"v":0,"d":"0.00"},{"v":0,"d":"0.00"},3.04,{"v":0,"d":"0.00"},{"v":0,"d":"0.00"},{"v":0,"d":"0.00"},{"v":0,"d":"0.00"},{"v":0,"d":"0.00"},null,{"$f":"SUM(D26:L26)","v":3.04}]
[null,"Brass(nf)","RecyclingBrass(nf)",{"v":0,"d":"0.00"},{"v":0,"d":"0.00"},{"v":0,"d":"0.00"},{"v":0,"d":"0.00"},{"v":0,"d":"0.00"},{"v":0,"d":"0.00"},{"v":0,"d":"0.00"},{"v":0,"d":"0.00"},{"v":0,"d":"0.00"},null,{"$f":"SUM(D27:L27)","v":{"v":0,"d":"0.00"}}]
[null,"Cable (nf)","RecyclingCable (nf)",{"v":0,"d":"0.00"},{"v":0,"d":"0.00"},{"v":0,"d":"0.00"},{"v":0,"d":"0.00"},{"v":0,"d":"0.00"},{"v":0,"d":"0.00"},{"v":0,"d":"0.00"},0.08,{"v":0,"d":"0.00"},null,{"$f":"SUM(D28:L28)","v":0.08}]
[null,"Cardboard","RecyclingCardboard",13.14,{"v":16.900000000000002,"d":"16.90"},41.04,28.82,19.34,{"v":40.660000000000004,"d":"40.66"},9.96,4.13,6.16,null,{"$f":"SUM(D29:L29)","v":180.15}]
[null,"Carpet","RecyclingCarpet",{"v":18.619999999999997,"d":"18.62"},14.14,25.38,{"v":0,"d":"0.00"},{"v":29.740000000000002,"d":"29.74"},{"v":32.427,"d":"32.43"},{"v":0,"d":"0.00"},{"v":0,"d":"0.00"},{"v":0,"d":"0.00"},null,{"$f":"SUM(D30:L30)","v":{"v":120.30699999999999,"d":"120.31"}}]
[null,"Chipboard","RecyclingChipboard",64.02,{"v":17.259999999999998,"d":"17.26"},{"v":91.8,"d":"91.80"},{"v":0,"d":"0.00"},{"v":83.03999999999999,"d":"83.04"},25.34,20.64,4.57,2.78,null,{"$f":"SUM(D31:L31)","v":{"v":309.44999999999993,"d":"309.45"}}]
[null,"Copper & Brass Mixed (nf)","RecyclingCopper & Brass Mixed (nf)",{"v":0,"d":"0.00"},{"v":0,"d":"0.00"},{"v":0,"d":"0.00"},{"v":0,"d":"0.00"},{"v":0,"d":"0.00"},{"v":0,"d":"0.00"},{"v":0,"d":"0.00"},{"v":0,"d":"0.00"},{"v":0,"d":"0.00"},null,{"$f":"SUM(D32:L32)","v":{"v":0,"d":"0.00"}}]
[null,"Drink Cartons","RecyclingDrink Cartons",{"v":0,"d":"0.00"},{"v":0.395,"d":"0.40"},{"v":0,"d":"0.00"},{"v":0,"d":"0.00"},{"v":0,"d":"0.00"},{"v":0.197,"d":"0.20"},{"v":0,"d":"0.00"},{"v":0,"d":"0.00"},{"v":0,"d":"0.00"},null,{"$f":"SUM(D33:L33)","v":{"v":0.5920000000000001,"d":"0.59"}}]
[null,"Fire Extinguishers","RecyclingFire Extinguishers",{"v":0,"d":"0.00"},{"v":0,"d":"0.00"},{"v":0,"d":"0.00"},{"v":0,"d":"0.00"},{"v":0,"d":"0.00"},{"v":0,"d":"0.00"},{"v":0,"d":"0.00"},{"v":0,"d":"0.00"},{"v":0,"d":"0.00"},null,{"$f":"SUM(D34:L34)","v":{"v":0,"d":"0.00"}}]
[null,"Fluorescent Tubes Output","RecyclingFluorescent Tubes Output",{"v":0.2,"d":"0.20"},{"v":0,"d":"0.00"},0.44,{"v":0,"d":"0.00"},{"v":0.182,"d":"0.18"},0.38,{"v":0,"d":"0.00"},{"v":0.171,"d":"0.17"},{"v":0,"d":"0.00"},null,{"$f":"SUM(D35:L35)","v":{"v":1.373,"d":"1.37"}}]
[null,"Fridges Output","RecyclingFridges Output",{"v":3.77198,"d":"3.77"},{"v":2.66828,"d":"2.67"},{"v":7.88161,"d":"7.88"},{"v":5.1,"d":"5.10"},{"v":7.37922,"d":"7.38"},{"v":15.1651,"d":"15.17"},{"v":1.90498,"d":"1.90"},{"v":1.70226,"d":"1.70"},{"v":0,"d":"0.00"},null,{"$f":"SUM(D36:L36)","v":{"v":45.57343,"d":"45.57"}}]
[null,"Gas Cylinders","RecyclingGas Cylinders",{"v":0,"d":"0.00"},0.01,{"v":0.4,"d":"0.40"},{"v":0,"d":"0.00"},{"v":0,"d":"0.00"},{"v":0,"d":"0.00"},{"v":0,"d":"0.00"},{"v":0,"d":"0.00"},{"v":0,"d":"0.00"},null,{"$f":"SUM(D37:L37)","v":{"v":0.41000000000000003,"d":"0.41"}}]
[null,"General (mixed waste)","RecyclingGeneral (mixed waste)",{"v":0,"d":"0.00"},{"v":0,"d":"0.00"},{"v":0,"d":"0.00"},{"v":0,"d":"0.00"},{"v":0,"d":"0.00"},{"v":0,"d":"0.00"},{"v":0,"d":"0.00"},{"v":0,"d":"0.00"},{"v":0,"d":"0.00"},null,{"$f":"SUM(D38:L38)","v":{"v":0,"d":"0.00"}}]
[null,"Glass (bottles)","RecyclingGlass (bottles)",{"v":1.519,"d":"1.52"},{"v":8.646,"d":"8.65"},{"v":3.135,"d":"3.14"},{"v":4.5,"d":"4.50"},{"v":1.367,"d":"1.37"},{"v":6.444,"d":"6.44"},{"v":4.689,"d":"4.69"},0.38,{"v":2.394,"d":"2.39"},null,{"$f":"SUM(D39:L39)","v":{"v":33.074,"d":"33.07"}}]
[null,"Green waste","RecyclingGreen waste",{"v":0,"d":"0.00"},{"v":0,"d":"0.00"},{"v":0,"d":"0.00"},{"v":0,"d":"0.00"},{"v":0,"d":"0.00"},{"v":0,"d":"0.00"},{"v":0,"d":"0.00"},{"v":0,"d":"0.00"},{"v":0,"d":"0.00"},null,{"$f":"SUM(D40:L40)","v":{"v":0,"d":"0.00"}}]
[null,"Hard Plastic","RecyclingHard Plastic",{"v":0,"d":"0.00"},{"v":0,"d":"0.00"},{"v":0,"d":"0.00"},{"v":0,"d":"0.00"},{"v":0,"d":"0.00"},{"v":0,"d":"0.00"},{"v":0,"d":"0.00"},{"v":0,"d":"0.00"},{"v":0,"d":"0.00"},null,{"$f":"SUM(D41:L41)","v":{"v":0,"d":"0.00"}}]
[null,"Household Goods\r\nHousehold Goods","RecyclingHousehold Goods\r\nHousehold Goods",{"v":0,"d":"0.00"},{"v":0,"d":"0.00"},{"v":0,"d":"0.00"},{"v":0,"d":"0.00"},{"v":0,"d":"0.00"},{"v":0,"d":"0.00"},{"v":0,"d":"0.00"},{"v":0,"d":"0.00"},{"v":0,"d":"0.00"},null,{"$f":"SUM(D42:L42)","v":{"v":0,"d":"0.00"}}]
[null,"Inert (rubble/hardcore)","RecyclingInert (rubble/hardcore)",{"v":0,"d":"0.00"},{"v":0,"d":"0.00"},{"v":0,"d":"0.00"},{"v":0,"d":"0.00"},{"v":0,"d":"0.00"},{"v":0,"d":"0.00"},{"v":0,"d":"0.00"},{"v":0,"d":"0.00"},5.67,null,{"$f":"SUM(D43:L43)","v":5.67}]
[null,"Lead (nf)","RecyclingLead (nf)",{"v":0,"d":"0.00"},{"v":0,"d":"0.00"},{"v":0,"d":"0.00"},{"v":0,"d":"0.00"},{"v":0,"d":"0.00"},{"v":0,"d":"0.00"},{"v":0,"d":"0.00"},{"v":0,"d":"0.00"},{"v":0,"d":"0.00"},null,{"$f":"SUM(D44:L44)","v":{"v":0,"d":"0.00"}}]
[null,"Matresses","RecyclingMatresses",{"v":0,"d":"0.00"},{"v":0.585,"d":"0.59"},{"v":0,"d":"0.00"},{"v":0,"d":"0.00"},4.88,1.48,{"v":0,"d":"0.00"},{"v":0,"d":"0.00"},{"v":0,"d":"0.00"},null,{"$f":"SUM(D45:L45)","v":{"v":6.945,"d":"6.95"}}]
[null,"Microwave Motors","RecyclingMicrowave Motors",{"v":0,"d":"0.00"},{"v":0,"d":"0.00"},{"v":0,"d":"0.00"},{"v":0,"d":"0.00"},{"v":0,"d":"0.00"},{"v":0,"d":"0.00"},{"v":0,"d":"0.00"},{"v":0,"d":"0.00"},{"v":0,"d":"0.00"},null,{"$f":"SUM(D46:L46)","v":{"v":0,"d":"0.00"}}]
[null,"Non Ferrous Metal  \r\nNon Ferrous Metal","RecyclingNon Ferrous Metal  \r\nNon Ferrous Metal",{"v":0,"d":"0.00"},1.25,3.96,{"v":0,"d":"0.00"},{"v":3.1,"d":"3.10"},{"v":1.4655,"d":"1.47"},1.22,0.26,{"v":0,"d":"0.00"},null,{"$f":"SUM(D47:L47)","v":{"v":11.255500000000001,"d":"11.26"}}]
[null,"Oil (Engine)","RecyclingOil (Engine)",{"v":1.672,"d":"1.67"},{"v":0,"d":"0.00"},{"v":0,"d":"0.00"},{"v":1.7,"d":"1.70"},{"v":0,"d":"0.00"},{"v":0,"d":"0.00"},{"v":0,"d":"0.00"},{"v":0,"d":"0.00"},{"v":0,"d":"0.00"},null,{"$f":"SUM(D48:L48)","v":{"v":3.372,"d":"3.37"}}]
[null,"Oil (Vegetable)","RecyclingOil (Vegetable)",{"v":0,"d":"0.00"},{"v":0.458,"d":"0.46"},{"v":0,"d":"0.00"},{"v":0,"d":"0.00"},0.58,0.72,{"v":0,"d":"0.00"},{"v":0,"d":"0.00"},{"v":0,"d":"0.00"},null,{"$f":"SUM(D49:L49)","v":{"v":1.758,"d":"1.76"}}]
[null,"Paint (chemicals)","RecyclingPaint (chemicals)",{"v":0,"d":"0.00"},0.05,{"v":0,"d":"0.00"},{"v":0,"d":"0.00"},{"v":0.8,"d":"0.80"},{"v":2.2,"d":"2.20"},{"v":0,"d":"0.00"},{"v":0,"d":"0.00"},0.71,null,{"$f":"SUM(D50:L50)","v":{"v":3.7600000000000002,"d":"3.76"}}]
[null,"Paper (mixed with card)","RecyclingPaper (mixed with card)",{"v":0,"d":"0.00"},{"v":0,"d":"0.00"},{"v":0,"d":"0.00"},{"v":0,"d":"0.00"},{"v":0,"d":"0.00"},{"v":0,"d":"0.00"},{"v":0,"d":"0.00"},{"v":0,"d":"0.00"},{"v":0,"d":"0.00"},null,{"$f":"SUM(D51:L51)","v":{"v":0,"d":"0.00"}}]
[null,"Paper (newspaper & magazines)","RecyclingPaper (newspaper & magazines)",{"v":19.2,"d":"19.20"},{"v":12.2,"d":"12.20"},{"v":22.299999999999997,"d":"22.30"},8.36,{"v":0,"d":"0.00"},{"v":31.979999999999997,"d":"31.98"},9.12,{"v":0,"d":"0.00"},{"v":0,"d":"0.00"},null,{"$f":"SUM(D52:L52)","v":103.16}]
[null,"Plasterboard","RecyclingPlasterboard",{"v":0,"d":"0.00"},0.06,{"v":0,"d":"0.00"},9.87,12.68,12.55,{"v":0,"d":"0.00"},{"v":0,"d":"0.00"},{"v":0,"d":"0.00"},null,{"$f":"SUM(D53:L53)","v":35.16}]
[null,"Plastic (Mixed)","RecyclingPlastic (Mixed)",{"v":0,"d":"0.00"},1.41,0.28,{"v":0,"d":"0.00"},{"v":0,"d":"0.00"},8.72,0.41,{"v":0,"d":"0.00"},0.01,null,{"$f":"SUM(D54:L54)","v":10.83}]
[null,"Printer Cartridges","RecyclingPrinter Cartridges",{"v":0,"d":"0.00"},{"v":0,"d":"0.00"},{"v":0,"d":"0.00"},{"v":0,"d":"0.00"},{"v":0,"d":"0.00"},{"v":0,"d":"0.00"},{"v":0,"d":"0.00"},{"v":0,"d":"0.00"},{"v":0,"d":"0.00"},null,{"$f":"SUM(D55:L55)","v":{"v":0,"d":"0.00"}}]
[null,"Road Sweepings","RecyclingRoad Sweepings",{"v":0,"d":"0.00"},{"v":0,"d":"0.00"},{"v":0,"d":"0.00"},{"v":0,"d":"0.00"},{"v":0,"d":"0.00"},195.68,{"v":0,"d":"0.00"},{"v":0,"d":"0.00"},{"v":0,"d":"0.00"},null,{"$f":"SUM(D56:L56)","v":195.68}]
[null,"Scrap metal (mixed)","RecyclingScrap metal (mixed)",22.83,24.78,{"v":44.35000000000001,"d":"44.35"},{"v":38.2,"d":"38.20"},29.93,83.11,26.26,{"v":7.4,"d":"7.40"},{"v":8.3,"d":"8.30"},null,{"$f":"SUM(D57:L57)","v":285.16}]
[null,"Screens output","RecyclingScreens output",{"v":4.25984,"d":"4.26"},{"v":3.48631,"d":"3.49"},{"v":6.03248,"d":"6.03"},{"v":3.9,"d":"3.90"},{"v":5.25851,"d":"5.26"},{"v":11.5834,"d":"11.58"},{"v":1.65533,"d":"1.66"},{"v":0.6514,"d":"0.65"},{"v":1.551,"d":"1.55"},null,{"$f":"SUM(D58:L58)","v":{"v":38.37827,"d":"38.38"}}]
[null,"Small Domestic Appliances","RecyclingSmall Domestic Appliances",17.46,6.72,15.29,{"v":7,"d":"7.00"},22.06,36.66,2.72,0.98,2.26,null,{"$f":"SUM(D59:L59)","v":111.15}]
[null,"Soil & rubble","RecyclingSoil & rubble",{"v":0,"d":"0.00"},{"v":0,"d":"0.00"},{"v":0,"d":"0.00"},{"v":107,"d":"107.00"},{"v":0,"d":"0.00"},{"v":0,"d":"0.00"},{"v":0,"d":"0.00"},{"v":0,"d":"0.00"},{"v":0,"d":"0.00"},null,{"$f":"SUM(D60:L60)","v":{"v":107,"d":"107.00"}}]
[null,"Stainless Steel","RecyclingStainless Steel",{"v":0,"d":"0.00"},{"v":0,"d":"0.00"},{"v":0,"d":"0.00"},{"v":0,"d":"0.00"},{"v":0,"d":"0.00"},{"v":0,"d":"0.00"},{"v":0,"d":"0.00"},{"v":0,"d":"0.00"},{"v":0,"d":"0.00"},null,{"$f":"SUM(D61:L61)","v":{"v":0,"d":"0.00"}}]
[null,"Textiles","RecyclingTextiles",{"v":7.3,"d":"7.30"},6.54,{"v":0.271,"d":"0.27"},{"v":17.9,"d":"17.90"},5.14,15.26,1.81,{"v":0.8799999999999999,"d":"0.88"},2.54,null,{"$f":"SUM(D62:L62)","v":{"v":57.641,"d":"57.64"}}]
[null,"Tyres","RecyclingTyres",{"v":0,"d":"0.00"},{"v":0,"d":"0.00"},{"v":0,"d":"0.00"},{"v":0,"d":"0.00"},{"v":0,"d":"0.00"},{"v":0,"d":"0.00"},{"v":0,"d":"0.00"},{"v":0,"d":"0.00"},{"v":0,"d":"0.00"},null,{"$f":"SUM(D63:L63)","v":{"v":0,"d":"0.00"}}]
[null,"Wood (including treated)","RecyclingWood (including treated)",{"v":20.6,"d":"20.60"},52.32,38.17,{"v":0,"d":"0.00"},{"v":40.32000000000001,"d":"40.32"},{"v":199.32000000000002,"d":"199.32"},{"v":5.5,"d":"5.50"},9.57,15.96,null,{"$f":"SUM(D64:L64)","v":381.76}]
[]
[null,"Sub Total",null,{"$f":"SUM(D23:D64)","v":{"v":194.59282000000002,"d":"194.59"}},{"$f":"SUM(E23:E64)","v":{"v":169.87859,"d":"169.88"}},{"$f":"SUM(F23:F64)","v":{"v":300.73009,"d":"300.73"}},{"$f":"SUM(G23:G64)","v":{"v":240.19500000000002,"d":"240.20"}},{"$f":"SUM(H23:H64)","v":{"v":269.11673,"d":"269.12"}},{"$f":"SUM(I23:I64)","v":{"v":721.3420000000001,"d":"721.34"}},{"$f":"SUM(J23:J64)","v":{"v":85.88931000000001,"d":"85.89"}},{"$f":"SUM(K23:K64)","v":{"v":31.24466,"d":"31.24"}},{"$f":"SUM(L23:L64)","v":{"v":49.116,"d":"49.12"}},null,{"$f":"SUM(D66:L66)","v":{"v":2062.1052000000004,"d":"2,062.11"}}]
[]
["Re-Use","Books","Re-UseBooks",0.11,{"v":0,"d":"0.00"},{"v":0,"d":"0.00"},{"v":0,"d":"0.00"},{"v":0,"d":"0.00"},{"v":0,"d":"0.00"},{"v":0,"d":"0.00"},{"v":0,"d":"0.00"},0.08,null,{"$f":"SUM(D68:L68)","v":0.19}]
[null,"Gas Cylinders","Re-UseGas Cylinders",{"v":0,"d":"0.00"},{"v":0,"d":"0.00"},{"v":0,"d":"0.00"},{"v":0,"d":"0.00"},{"v":0,"d":"0.00"},{"v":0,"d":"0.00"},{"v":0,"d":"0.00"},{"v":0,"d":"0.00"},{"v":0,"d":"0.00"},null,{"$f":"SUM(D69:L69)","v":{"v":0,"d":"0.00"}}]
[null,"Household Goods\r\nHousehold Goods","Re-UseHousehold Goods\r\nHousehold Goods",{"v":0,"d":"0.00"},{"v":0,"d":"0.00"},{"v":0,"d":"0.00"},{"v":11.464,"d":"11.46"},{"v":0,"d":"0.00"},{"v":0,"d":"0.00"},{"v":0,"d":"0.00"},{"v":0,"d":"0.00"},{"v":0,"d":"0.00"},null,{"$f":"SUM(D70:L70)","v":{"v":11.464,"d":"11.46"}}]
[null,"Inert (rubble/hardcore)","Re-UseInert (rubble/hardcore)",{"v":98.80000000000001,"d":"98.80"},{"v":57.760000000000005,"d":"57.76"},{"v":77.8,"d":"77.80"},{"v":0,"d":"0.00"},69.94,{"v":147.5,"d":"147.50"},20.08,16.22,9.08,null,{"$f":"SUM(D71:L71)","v":497.18}]
[null,"Soil","Re-UseSoil",{"v":0,"d":"0.00"},{"v":0,"d":"0.00"},{"v":0,"d":"0.00"},{"v":0,"d":"0.00"},{"v":0,"d":"0.00"},{"v":0,"d":"0.00"},{"v":0,"d":"0.00"},{"v":0,"d":"0.00"},{"v":0,"d":"0.00"},null,{"$f":"SUM(D72:L72)","v":{"v":0,"d":"0.00"}}]
[]
[null,"Sub Total",null,{"$f":"SUM(D68:D73)","v":{"v":98.91000000000001,"d":"98.91"}},{"$f":"SUM(E68:E73)","v":{"v":57.760000000000005,"d":"57.76"}},{"$f":"SUM(F68:F73)","v":{"v":77.8,"d":"77.80"}},{"$f":"SUM(G68:G73)","v":{"v":11.464,"d":"11.46"}},{"$f":"SUM(H68:H73)","v":69.94},{"$f":"SUM(I68:I73)","v":{"v":147.5,"d":"147.50"}},{"$f":"SUM(J68:J73)","v":20.08},{"$f":"SUM(K68:K73)","v":16.22},{"$f":"SUM(L68:L73)","v":9.16},null,{"$f":"SUM(D74:L74)","v":{"v":508.834,"d":"508.83"}}]
[]
[]
[null,"Grand Total",null,{"$f":"SUM(D7)+(D15)+(D21)+(D66)+(D74)","v":{"v":528.34282,"d":"528.34"}},{"$f":"SUM(E7)+(E15)+(E21)+(E66)+(E74)","v":{"v":388.10358999999994,"d":"388.10"}},{"$f":"SUM(F7)+(F15)+(F21)+(F66)+(F74)","v":{"v":706.59509,"d":"706.60"}},{"$f":"SUM(G7)+(G15)+(G21)+(G66)+(G74)","v":{"v":922.769,"d":"922.77"}},{"$f":"SUM(H7)+(H15)+(H21)+(H66)+(H74)","v":{"v":514.95173,"d":"514.95"}},{"$f":"SUM(I7)+(I15)+(I21)+(I66)+(I74)","v":{"v":1606.847,"d":"1,606.85"}},{"$f":"SUM(J7)+(J15)+(J21)+(J66)+(J74)","v":{"v":186.06930999999997,"d":"186.07"}},{"$f":"SUM(K7)+(K15)+(K21)+(K66)+(K74)","v":{"v":85.45566,"d":"85.46"}},{"$f":"SUM(L7)+(L15)+(L21)+(L66)+(L74)","v":{"v":103.136,"d":"103.14"}},null,{"$f":"SUM(D77:L77)","v":{"v":5042.270199999999,"d":"5,042.27"}}]

{"sheet":"October","index":6,"n_rows":77,"n_cols":14,"rows_kept":77}
["October","01/04/2015 to 31/03/2016"]
[]
["Treatment Use","Waste Type",null,"Burton Farm HWRC","Cherry Orchard HWRC","Hunters Lane HWRC & Transfer","Judkins HWRC","Lower House Farm HWRC","Princes Drive HWRC & Transfer","Shipston HWRC","Stockton HWRC","Wellesbourne HWRC",null,"Total"]
[]
["Composting","Green waste","CompostingGreen waste",{"v":72.24000000000001,"d":"72.24"},78.22,75.56,19.98,53.22,167.92,{"v":35.260000000000005,"d":"35.26"},{"v":12.650000000000002,"d":"12.65"},{"v":14.669999999999998,"d":"14.67"},null,{"$f":"SUM(D5:L5)","v":{"v":529.7199999999999,"d":"529.72"}}]
[]
[null,"Sub Total",null,{"$f":"SUM(D5:D5)","v":{"v":72.24000000000001,"d":"72.24"}},{"$f":"SUM(E5:E5)","v":78.22},{"$f":"SUM(F5:F5)","v":75.56},{"$f":"SUM(G5:G5)","v":19.98},{"$f":"SUM(H5:H5)","v":53.22},{"$f":"SUM(I5:I5)","v":167.92},{"$f":"SUM(J5:J5)","v":{"v":35.260000000000005,"d":"35.26"}},{"$f":"SUM(K5:K5)","v":{"v":12.650000000000002,"d":"12.65"}},{"$f":"SUM(L5:L5)","v":{"v":14.669999999999998,"d":"14.67"}},null,{"$f":"SUM(D7:L7)","v":{"v":529.7199999999999,"d":"529.72"}}]
[]
["Efw (incineration)","Bulky Waste","Efw (incineration)Bulky Waste",{"v":0,"d":"0.00"},{"v":0,"d":"0.00"},{"v":0,"d":"0.00"},{"v":0,"d":"0.00"},15.82,{"v":0,"d":"0.00"},{"v":0,"d":"0.00"},{"v":0,"d":"0.00"},{"v":0,"d":"0.00"},null,{"$f":"SUM(D9:L9)","v":15.82}]
[null,"Chemicals","Efw (incineration)Chemicals",{"v":0,"d":"0.00"},{"v":0,"d":"0.00"},{"v":0,"d":"0.00"},{"v":0,"d":"0.00"},{"v":0,"d":"0.00"},{"v":0,"d":"0.00"},{"v":0,"d":"0.00"},{"v":0,"d":"0.00"},{"v":0,"d":"0.00"},null,{"$f":"SUM(D10:L10)","v":{"v":0,"d":"0.00"}}]
[null,"Clinical","Efw (incineration)Clinical",{"v":0,"d":"0.00"},{"v":0,"d":"0.00"},{"v":0,"d":"0.00"},{"v":0,"d":"0.00"},{"v":0,"d":"0.00"},{"v":3.214,"d":"3.21"},{"v":0,"d":"0.00"},{"v":0,"d":"0.00"},{"v":0,"d":"0.00"},null,{"$f":"SUM(D11:L11)","v":{"v":3.214,"d":"3.21"}}]
[null,"General (mixed waste)","Efw (incineration)General (mixed waste)",{"v":0,"d":"0.00"},{"v":0,"d":"0.00"},{"v":0,"d":"0.00"},{"v":0,"d":"0.00"},107.28,{"v":0,"d":"0.00"},{"v":0,"d":"0.00"},{"v":0,"d":"0.00"},{"v":0,"d":"0.00"},null,{"$f":"SUM(D12:L12)","v":107.28}]
[null,"Paint (chemicals)","Efw (incineration)Paint (chemicals)",{"v":0,"d":"0.00"},{"v":0,"d":"0.00"},{"v":0,"d":"0.00"},{"v":0,"d":"0.00"},{"v":0,"d":"0.00"},{"v":0,"d":"0.00"},{"v":0,"d":"0.00"},{"v":0,"d":"0.00"},{"v":0,"d":"0.00"},null,{"$f":"SUM(D13:L13)","v":{"v":0,"d":"0.00"}}]
[]
[null,"Sub Total",null,{"$f":"SUM(D9:D13)","v":{"v":0,"d":"0.00"}},{"$f":"SUM(E9:E13)","v":{"v":0,"d":"0.00"}},{"$f":"SUM(F9:F13)","v":{"v":0,"d":"0.00"}},{"$f":"SUM(G9:G13)","v":{"v":0,"d":"0.00"}},{"$f":"SUM(H9:H13)","v":{"v":123.1,"d":"123.10"}},{"$f":"SUM(I9:I13)","v":{"v":3.214,"d":"3.21"}},{"$f":"SUM(J9:J13)","v":{"v":0,"d":"0.00"}},{"$f":"SUM(K9:K13)","v":{"v":0,"d":"0.00"}},{"$f":"SUM(L9:L13)","v":{"v":0,"d":"0.00"}},null,{"$f":"SUM(D15:L15)","v":{"v":126.314,"d":"126.31"}}]
[]
["Landfill","Asbestos","LandfillAsbestos",{"v":0,"d":"0.00"},{"v":0,"d":"0.00"},{"v":0,"d":"0.00"},{"v":0,"d":"0.00"},{"v":0,"d":"0.00"},{"v":0,"d":"0.00"},{"v":0,"d":"0.00"},{"v":0,"d":"0.00"},{"v":0,"d":"0.00"},null,{"$f":"SUM(D17:L17)","v":{"v":0,"d":"0.00"}}]
[null,"General (mixed waste)","LandfillGeneral (mixed waste)",143.68,107.86,{"v":182.5,"d":"182.50"},395.39,{"v":0,"d":"0.00"},{"v":721.6600000000001,"d":"721.66"},26.38,{"v":21,"d":"21.00"},23.81,null,{"$f":"SUM(D18:L18)","v":{"v":1622.2800000000002,"d":"1,622.28"}}]
[null,"Hard Plastic","LandfillHard Plastic",{"v":0,"d":"0.00"},4.58,2.75,{"v":0,"d":"0.00"},6.37,{"v":0,"d":"0.00"},{"v":0,"d":"0.00"},{"v":0,"d":"0.00"},{"v":0,"d":"0.00"},null,{"$f":"SUM(D19:L19)","v":{"v":13.7,"d":"13.70"}}]
[]
[null,"Sub Total",null,{"$f":"SUM(D17:D19)","v":143.68},{"$f":"SUM(E17:E19)","v":112.44},{"$f":"SUM(F17:F19)","v":185.25},{"$f":"SUM(G17:G19)","v":395.39},{"$f":"SUM(H17:H19)","v":6.37},{"$f":"SUM(I17:I19)","v":{"v":721.6600000000001,"d":"721.66"}},{"$f":"SUM(J17:J19)","v":26.38},{"$f":"SUM(K17:K19)","v":{"v":21,"d":"21.00"}},{"$f":"SUM(L17:L19)","v":23.81},null,{"$f":"SUM(D21:L21)","v":{"v":1635.98,"d":"1,635.98"}}]
[]
["Recycling","Aluminium (nf)","RecyclingAluminium (nf)",{"v":0,"d":"0.00"},{"v":0,"d":"0.00"},{"v":0,"d":"0.00"},{"v":0,"d":"0.00"},{"v":0,"d":"0.00"},{"v":0,"d":"0.00"},{"v":0,"d":"0.00"},{"v":0,"d":"0.00"},{"v":0,"d":"0.00"},null,{"$f":"SUM(D23:L23)","v":{"v":0,"d":"0.00"}}]
[null,"Batteries (car)","RecyclingBatteries (car)",{"v":0,"d":"0.00"},{"v":2.183,"d":"2.18"},5.87,{"v":2.025,"d":"2.03"},2.38,5.15,{"v":0.7,"d":"0.70"},{"v":0,"d":"0.00"},{"v":0,"d":"0.00"},null,{"$f":"SUM(D24:L24)","v":{"v":18.308000000000003,"d":"18.31"}}]
[null,"Batteries (household)","RecyclingBatteries (household)",{"v":0,"d":"0.00"},{"v":0,"d":"0.00"},{"v":0,"d":"0.00"},{"v":0,"d":"0.00"},{"v":0,"d":"0.00"},{"v":0,"d":"0.00"},{"v":0,"d":"0.00"},{"v":0,"d":"0.00"},{"v":0,"d":"0.00"},null,{"$f":"SUM(D25:L25)","v":{"v":0,"d":"0.00"}}]
[null,"Books","RecyclingBooks",{"v":0,"d":"0.00"},{"v":0,"d":"0.00"},{"v":0,"d":"0.00"},2.14,{"v":0,"d":"0.00"},0.59,{"v":0,"d":"0.00"},{"v":0,"d":"0.00"},{"v":0,"d":"0.00"},null,{"$f":"SUM(D26:L26)","v":2.73}]
[null,"Brass(nf)","RecyclingBrass(nf)",{"v":0,"d":"0.00"},{"v":0,"d":"0.00"},{"v":0,"d":"0.00"},{"v":0,"d":"0.00"},{"v":0,"d":"0.00"},{"v":0,"d":"0.00"},{"v":0,"d":"0.00"},{"v":0,"d":"0.00"},{"v":0,"d":"0.00"},null,{"$f":"SUM(D27:L27)","v":{"v":0,"d":"0.00"}}]
[null,"Cable (nf)","RecyclingCable (nf)",{"v":0,"d":"0.00"},{"v":0,"d":"0.00"},{"v":0,"d":"0.00"},{"v":0,"d":"0.00"},{"v":0,"d":"0.00"},{"v":0,"d":"0.00"},{"v":0,"d":"0.00"},{"v":0,"d":"0.00"},{"v":0,"d":"0.00"},null,{"$f":"SUM(D28:L28)","v":{"v":0,"d":"0.00"}}]
[null,"Cardboard","RecyclingCardboard",{"v":23.1,"d":"23.10"},14.98,18.82,21.08,{"v":11.1,"d":"11.10"},{"v":42.2,"d":"42.20"},{"v":9.9,"d":"9.90"},3.75,3.78,null,{"$f":"SUM(D29:L29)","v":{"v":148.70999999999998,"d":"148.71"}}]
[null,"Carpet","RecyclingCarpet",7.24,11.76,11.58,{"v":0,"d":"0.00"},{"v":21.4,"d":"21.40"},43.18,12.98,{"v":0,"d":"0.00"},{"v":0,"d":"0.00"},null,{"$f":"SUM(D30:L30)","v":108.14}]
[null,"Chipboard","RecyclingChipboard",79.38,21.32,36.14,{"v":0,"d":"0.00"},63.08,20.84,{"v":26.160000000000004,"d":"26.16"},{"v":0,"d":"0.00"},6.62,null,{"$f":"SUM(D31:L31)","v":{"v":253.53999999999996,"d":"253.54"}}]
[null,"Copper & Brass Mixed (nf)","RecyclingCopper & Brass Mixed (nf)",{"v":0,"d":"0.00"},{"v":0,"d":"0.00"},{"v":0,"d":"0.00"},{"v":0.489,"d":"0.49"},{"v":0,"d":"0.00"},{"v":0,"d":"0.00"},{"v":0,"d":"0.00"},{"v":0,"d":"0.00"},{"v":0,"d":"0.00"},null,{"$f":"SUM(D32:L32)","v":{"v":0.489,"d":"0.49"}}]
[null,"Drink Cartons","RecyclingDrink Cartons",{"v":0,"d":"0.00"},{"v":0.405,"d":"0.41"},{"v":0,"d":"0.00"},{"v":0,"d":"0.00"},0.24,{"v":0.252,"d":"0.25"},{"v":0,"d":"0.00"},{"v":0,"d":"0.00"},{"v":0,"d":"0.00"},null,{"$f":"SUM(D33:L33)","v":{"v":0.897,"d":"0.90"}}]
[null,"Fire Extinguishers","RecyclingFire Extinguishers",{"v":0,"d":"0.00"},{"v":0,"d":"0.00"},{"v":0,"d":"0.00"},{"v":0,"d":"0.00"},{"v":0,"d":"0.00"},{"v":0,"d":"0.00"},{"v":0,"d":"0.00"},{"v":0,"d":"0.00"},{"v":0,"d":"0.00"},null,{"$f":"SUM(D34:L34)","v":{"v":0,"d":"0.00"}}]
[null,"Fluorescent Tubes Output","RecyclingFluorescent Tubes Output",{"v":0,"d":"0.00"},{"v":0,"d":"0.00"},{"v":0,"d":"0.00"},{"v":0,"d":"0.00"},{"v":0,"d":"0.00"},{"v":0,"d":"0.00"},{"v":0,"d":"0.00"},{"v":0,"d":"0.00"},{"v":0.368,"d":"0.37"},null,{"$f":"SUM(D35:L35)","v":{"v":0.368,"d":"0.37"}}]
[null,"Fridges Output","RecyclingFridges Output",7.15,{"v":2.34859,"d":"2.35"},{"v":9.40598,"d":"9.41"},{"v":5.4,"d":"5.40"},{"v":7.16161,"d":"7.16"},{"v":10.8363,"d":"10.84"},{"v":2.30687,"d":"2.31"},{"v":0.77438,"d":"0.77"},{"v":0,"d":"0.00"},null,{"$f":"SUM(D36:L36)","v":{"v":45.38372999999999,"d":"45.38"}}]
[null,"Gas Cylinders","RecyclingGas Cylinders",{"v":0,"d":"0.00"},{"v":0,"d":"0.00"},{"v":0,"d":"0.00"},{"v":0,"d":"0.00"},{"v":0,"d":"0.00"},{"v":0,"d":"0.00"},{"v":0,"d":"0.00"},{"v":0,"d":"0.00"},{"v":0,"d":"0.00"},null,{"$f":"SUM(D37:L37)","v":{"v":0,"d":"0.00"}}]
[null,"General (mixed waste)","RecyclingGeneral (mixed waste)",{"v":0,"d":"0.00"},{"v":0,"d":"0.00"},{"v":0,"d":"0.00"},{"v":0,"d":"0.00"},{"v":0,"d":"0.00"},{"v":0,"d":"0.00"},{"v":0,"d":"0.00"},{"v":0,"d":"0.00"},{"v":0,"d":"0.00"},null,{"$f":"SUM(D38:L38)","v":{"v":0,"d":"0.00"}}]
[null,"Glass (bottles)","RecyclingGlass (bottles)",{"v":0,"d":"0.00"},{"v":3.906,"d":"3.91"},{"v":0,"d":"0.00"},{"v":0,"d":"0.00"},{"v":0,"d":"0.00"},9.85,{"v":2.266,"d":"2.27"},{"v":0,"d":"0.00"},{"v":2.611,"d":"2.61"},null,{"$f":"SUM(D39:L39)","v":{"v":18.633,"d":"18.63"}}]
[null,"Green waste","RecyclingGreen waste",{"v":0,"d":"0.00"},{"v":0,"d":"0.00"},{"v":0,"d":"0.00"},{"v":0,"d":"0.00"},{"v":0,"d":"0.00"},{"v":0,"d":"0.00"},{"v":0,"d":"0.00"},{"v":0,"d":"0.00"},{"v":0,"d":"0.00"},null,{"$f":"SUM(D40:L40)","v":{"v":0,"d":"0.00"}}]
[null,"Hard Plastic","RecyclingHard Plastic",{"v":0,"d":"0.00"},{"v":0,"d":"0.00"},{"v":0,"d":"0.00"},{"v":0,"d":"0.00"},{"v":0,"d":"0.00"},{"v":0,"d":"0.00"},{"v":0,"d":"0.00"},{"v":0,"d":"0.00"},{"v":0,"d":"0.00"},null,{"$f":"SUM(D41:L41)","v":{"v":0,"d":"0.00"}}]
[null,"Household Goods\r\nHousehold Goods","RecyclingHousehold Goods\r\nHousehold Goods",{"v":0,"d":"0.00"},{"v":0,"d":"0.00"},{"v":0,"d":"0.00"},{"v":0,"d":"0.00"},{"v":0,"d":"0.00"},{"v":0,"d":"0.00"},{"v":0,"d":"0.00"},{"v":0,"d":"0.00"},{"v":0,"d":"0.00"},null,{"$f":"SUM(D42:L42)","v":{"v":0,"d":"0.00"}}]
[null,"Inert (rubble/hardcore)","RecyclingInert (rubble/hardcore)",{"v":0,"d":"0.00"},{"v":0,"d":"0.00"},{"v":0,"d":"0.00"},{"v":0,"d":"0.00"},{"v":0,"d":"0.00"},{"v":0,"d":"0.00"},{"v":0,"d":"0.00"},{"v":0,"d":"0.00"},{"v":0,"d":"0.00"},null,{"$f":"SUM(D43:L43)","v":{"v":0,"d":"0.00"}}]
[null,"Lead (nf)","RecyclingLead (nf)",{"v":0,"d":"0.00"},{"v":0,"d":"0.00"},{"v":0,"d":"0.00"},{"v":0,"d":"0.00"},{"v":0,"d":"0.00"},{"v":0,"d":"0.00"},{"v":0,"d":"0.00"},{"v":0,"d":"0.00"},{"v":0,"d":"0.00"},null,{"$f":"SUM(D44:L44)","v":{"v":0,"d":"0.00"}}]
[null,"Matresses","RecyclingMatresses",{"v":0,"d":"0.00"},{"v":0,"d":"0.00"},{"v":0,"d":"0.00"},{"v":0,"d":"0.00"},3.82,{"v":0,"d":"0.00"},{"v":0,"d":"0.00"},{"v":0,"d":"0.00"},{"v":0,"d":"0.00"},null,{"$f":"SUM(D45:L45)","v":3.82}]
[null,"Microwave Motors","RecyclingMicrowave Motors",{"v":0,"d":"0.00"},{"v":0,"d":"0.00"},{"v":0,"d":"0.00"},{"v":0,"d":"0.00"},{"v":0,"d":"0.00"},{"v":0,"d":"0.00"},{"v":0,"d":"0.00"},{"v":0,"d":"0.00"},{"v":0,"d":"0.00"},null,{"$f":"SUM(D46:L46)","v":{"v":0,"d":"0.00"}}]
[null,"Non Ferrous Metal  \r\nNon Ferrous Metal","RecyclingNon Ferrous Metal  \r\nNon Ferrous Metal",{"v":0,"d":"0.00"},{"v":0,"d":"0.00"},{"v":0,"d":"0.00"},{"v":0,"d":"0.00"},{"v":0,"d":"0.00"},{"v":0.7865,"d":"0.79"},0.93,{"v":0,"d":"0.00"},{"v":0,"d":"0.00"},null,{"$f":"SUM(D47:L47)","v":{"v":1.7165,"d":"1.72"}}]
[null,"Oil (Engine)","RecyclingOil (Engine)",{"v":0,"d":"0.00"},{"v":2.024,"d":"2.02"},{"v":1.848,"d":"1.85"},{"v":2.5,"d":"2.50"},{"v":1.408,"d":"1.41"},{"v":2.112,"d":"2.11"},{"v":0,"d":"0.00"},{"v":0,"d":"0.00"},{"v":0,"d":"0.00"},null,{"$f":"SUM(D48:L48)","v":{"v":9.892,"d":"9.89"}}]
[null,"Oil (Vegetable)","RecyclingOil (Vegetable)",{"v":0,"d":"0.00"},{"v":0,"d":"0.00"},{"v":0,"d":"0.00"},{"v":0,"d":"0.00"},{"v":0,"d":"0.00"},{"v":0,"d":"0.00"},{"v":0,"d":"0.00"},{"v":0,"d":"0.00"},{"v":0,"d":"0.00"},null,{"$f":"SUM(D49:L49)","v":{"v":0,"d":"0.00"}}]
[null,"Paint (chemicals)","RecyclingPaint (chemicals)",{"v":0,"d":"0.00"},{"v":0,"d":"0.00"},{"v":0,"d":"0.00"},{"v":0,"d":"0.00"},0.64,1.83,{"v":0,"d":"0.00"},{"v":0,"d":"0.00"},{"v":0,"d":"0.00"},null,{"$f":"SUM(D50:L50)","v":2.47}]
[null,"Paper (mixed with card)","RecyclingPaper (mixed with card)",{"v":0,"d":"0.00"},{"v":0,"d":"0.00"},{"v":0,"d":"0.00"},{"v":0,"d":"0.00"},{"v":0,"d":"0.00"},{"v":0,"d":"0.00"},{"v":0,"d":"0.00"},{"v":0,"d":"0.00"},{"v":0,"d":"0.00"},null,{"$f":"SUM(D51:L51)","v":{"v":0,"d":"0.00"}}]
[null,"Paper (newspaper & magazines)","RecyclingPaper (newspaper & magazines)",10.84,{"v":18.8,"d":"18.80"},11.14,6.98,8.38,21.34,7.58,{"v":0,"d":"0.00"},{"v":0,"d":"0.00"},null,{"$f":"SUM(D52:L52)","v":85.06}]
[null,"Plasterboard","RecyclingPlasterboard",{"v":14.2,"d":"14.20"},{"v":0,"d":"0.00"},11.42,11.81,{"v":8.5,"d":"8.50"},{"v":24.490000000000002,"d":"24.49"},{"v":0,"d":"0.00"},{"v":0,"d":"0.00"},{"v":0,"d":"0.00"},null,{"$f":"SUM(D53:L53)","v":70.42}]
[null,"Plastic (Mixed)","RecyclingPlastic (Mixed)",{"v":0,"d":"0.00"},1.18,{"v":0,"d":"0.00"},{"v":0,"d":"0.00"},{"v":0,"d":"0.00"},{"v":0,"d":"0.00"},0.18,{"v":0,"d":"0.00"},0.05,null,{"$f":"SUM(D54:L54)","v":1.41}]
[null,"Printer Cartridges","RecyclingPrinter Cartridges",{"v":0,"d":"0.00"},{"v":0,"d":"0.00"},{"v":0,"d":"0.00"},{"v":0,"d":"0.00"},{"v":0,"d":"0.00"},{"v":0,"d":"0.00"},{"v":0,"d":"0.00"},{"v":0,"d":"0.00"},{"v":0,"d":"0.00"},null,{"$f":"SUM(D55:L55)","v":{"v":0,"d":"0.00"}}]
[null,"Road Sweepings","RecyclingRoad Sweepings",{"v":0,"d":"0.00"},{"v":0,"d":"0.00"},{"v":0,"d":"0.00"},{"v":0,"d":"0.00"},{"v":0,"d":"0.00"},223.88,{"v":0,"d":"0.00"},{"v":0,"d":"0.00"},{"v":0,"d":"0.00"},null,{"$f":"SUM(D56:L56)","v":223.88}]
[null,"Scrap metal (mixed)","RecyclingScrap metal (mixed)",36.49,28.07,{"v":39.230000000000004,"d":"39.23"},{"v":46.5,"d":"46.50"},{"v":24.970000000000002,"d":"24.97"},73.49,{"v":15.4,"d":"15.40"},6.37,4.54,null,{"$f":"SUM(D57:L57)","v":275.06}]
[null,"Screens output","RecyclingScreens output",{"v":4.16823,"d":"4.17"},{"v":3.26081,"d":"3.26"},{"v":7.90206,"d":"7.90"},{"v":7.5,"d":"7.50"},{"v":7.5969,"d":"7.60"},{"v":8.10006,"d":"8.10"},{"v":2.62748,"d":"2.63"},{"v":0.90072,"d":"0.90"},{"v":1.43655,"d":"1.44"},null,{"$f":"SUM(D58:L58)","v":{"v":43.49280999999999,"d":"43.49"}}]
[null,"Small Domestic Appliances","RecyclingSmall Domestic Appliances",19.38,7.24,15.82,{"v":21,"d":"21.00"},13.52,{"v":23.3,"d":"23.30"},3.13,3.87,3.35,null,{"$f":"SUM(D59:L59)","v":{"v":110.60999999999999,"d":"110.61"}}]
[null,"Soil & rubble","RecyclingSoil & rubble",{"v":0,"d":"0.00"},{"v":0,"d":"0.00"},{"v":0,"d":"0.00"},125.24,{"v":0,"d":"0.00"},{"v":0,"d":"0.00"},{"v":0,"d":"0.00"},{"v":0,"d":"0.00"},{"v":0,"d":"0.00"},null,{"$f":"SUM(D60:L60)","v":125.24}]
[null,"Stainless Steel","RecyclingStainless Steel",{"v":0,"d":"0.00"},{"v":0,"d":"0.00"},{"v":0,"d":"0.00"},{"v":0,"d":"0.00"},{"v":0,"d":"0.00"},{"v":0,"d":"0.00"},{"v":0,"d":"0.00"},{"v":0,"d":"0.00"},{"v":0,"d":"0.00"},null,{"$f":"SUM(D61:L61)","v":{"v":0,"d":"0.00"}}]
[null,"Textiles","RecyclingTextiles",6.42,5.41,10.64,5.85,6.94,8.95,2.26,0.96,1.61,null,{"$f":"SUM(D62:L62)","v":{"v":49.03999999999999,"d":"49.04"}}]
[null,"Tyres","RecyclingTyres",{"v":0,"d":"0.00"},{"v":0,"d":"0.00"},{"v":0,"d":"0.00"},{"v":0,"d":"0.00"},{"v":0,"d":"0.00"},{"v":0,"d":"0.00"},{"v":0,"d":"0.00"},{"v":0,"d":"0.00"},{"v":0,"d":"0.00"},null,{"$f":"SUM(D63:L63)","v":{"v":0,"d":"0.00"}}]
[null,"Wood (including treated)","RecyclingWood (including treated)",{"v":0,"d":"0.00"},{"v":35.339999999999996,"d":"35.34"},62.63,{"v":0,"d":"0.00"},44.22,{"v":162.4,"d":"162.40"},{"v":0,"d":"0.00"},12.57,10.48,null,{"$f":"SUM(D64:L64)","v":{"v":327.64000000000004,"d":"327.64"}}]
[]
[null,"Sub Total",null,{"$f":"SUM(D23:D64)","v":{"v":208.36822999999998,"d":"208.37"}},{"$f":"SUM(E23:E64)","v":{"v":158.22740000000002,"d":"158.23"}},{"$f":"SUM(F23:F64)","v":{"v":242.44603999999998,"d":"242.45"}},{"$f":"SUM(G23:G64)","v":{"v":258.514,"d":"258.51"}},{"$f":"SUM(H23:H64)","v":{"v":225.35651,"d":"225.36"}},{"$f":"SUM(I23:I64)","v":{"v":683.57686,"d":"683.58"}},{"$f":"SUM(J23:J64)","v":{"v":86.42035,"d":"86.42"}},{"$f":"SUM(K23:K64)","v":{"v":29.1951,"d":"29.20"}},{"$f":"SUM(L23:L64)","v":{"v":34.84555,"d":"34.85"}},null,{"$f":"SUM(D66:L66)","v":{"v":1926.95004,"d":"1,926.95"}}]
[]
["Re-Use","Books","Re-UseBooks",0.13,{"v":0,"d":"0.00"},{"v":0,"d":"0.00"},{"v":0,"d":"0.00"},{"v":0,"d":"0.00"},{"v":0,"d":"0.00"},{"v":0,"d":"0.00"},{"v":0,"d":"0.00"},{"v":0.1,"d":"0.10"},null,{"$f":"SUM(D68:L68)","v":0.23}]
[null,"Gas Cylinders","Re-UseGas Cylinders",{"v":0,"d":"0.00"},{"v":0,"d":"0.00"},{"v":0,"d":"0.00"},{"v":0,"d":"0.00"},{"v":0,"d":"0.00"},0.68,{"v":0,"d":"0.00"},{"v":0,"d":"0.00"},{"v":0,"d":"0.00"},null,{"$f":"SUM(D69:L69)","v":0.68}]
[null,"Household Goods\r\nHousehold Goods","Re-UseHousehold Goods\r\nHousehold Goods",{"v":0,"d":"0.00"},{"v":0,"d":"0.00"},{"v":0,"d":"0.00"},{"v":12.471,"d":"12.47"},{"v":0,"d":"0.00"},{"v":0,"d":"0.00"},{"v":0,"d":"0.00"},{"v":0,"d":"0.00"},{"v":0,"d":"0.00"},null,{"$f":"SUM(D70:L70)","v":{"v":12.471,"d":"12.47"}}]
[null,"Inert (rubble/hardcore)","Re-UseInert (rubble/hardcore)",68.78,48.18,80.44,{"v":0,"d":"0.00"},{"v":87.3,"d":"87.30"},{"v":174.7,"d":"174.70"},18.34,7.86,19.34,null,{"$f":"SUM(D71:L71)","v":{"v":504.93999999999994,"d":"504.94"}}]
[null,"Soil","Re-UseSoil",{"v":0,"d":"0.00"},{"v":0,"d":"0.00"},{"v":0,"d":"0.00"},{"v":0,"d":"0.00"},{"v":0,"d":"0.00"},{"v":0,"d":"0.00"},{"v":0,"d":"0.00"},{"v":0,"d":"0.00"},{"v":0,"d":"0.00"},null,{"$f":"SUM(D72:L72)","v":{"v":0,"d":"0.00"}}]
[]
[null,"Sub Total",null,{"$f":"SUM(D68:D73)","v":68.91},{"$f":"SUM(E68:E73)","v":48.18},{"$f":"SUM(F68:F73)","v":80.44},{"$f":"SUM(G68:G73)","v":{"v":12.471,"d":"12.47"}},{"$f":"SUM(H68:H73)","v":{"v":87.3,"d":"87.30"}},{"$f":"SUM(I68:I73)","v":175.38},{"$f":"SUM(J68:J73)","v":18.34},{"$f":"SUM(K68:K73)","v":7.86},{"$f":"SUM(L68:L73)","v":19.44},null,{"$f":"SUM(D74:L74)","v":{"v":518.321,"d":"518.32"}}]
[]
[]
[null,"Grand Total",null,{"$f":"SUM(D7)+(D15)+(D21)+(D66)+(D74)","v":{"v":493.19822999999997,"d":"493.20"}},{"$f":"SUM(E7)+(E15)+(E21)+(E66)+(E74)","v":{"v":397.0674,"d":"397.07"}},{"$f":"SUM(F7)+(F15)+(F21)+(F66)+(F74)","v":{"v":583.69604,"d":"583.70"}},{"$f":"SUM(G7)+(G15)+(G21)+(G66)+(G74)","v":{"v":686.355,"d":"686.36"}},{"$f":"SUM(H7)+(H15)+(H21)+(H66)+(H74)","v":{"v":495.34651,"d":"495.35"}},{"$f":"SUM(I7)+(I15)+(I21)+(I66)+(I74)","v":{"v":1751.75086,"d":"1,751.75"}},{"$f":"SUM(J7)+(J15)+(J21)+(J66)+(J74)","v":{"v":166.40035,"d":"166.40"}},{"$f":"SUM(K7)+(K15)+(K21)+(K66)+(K74)","v":{"v":70.7051,"d":"70.71"}},{"$f":"SUM(L7)+(L15)+(L21)+(L66)+(L74)","v":{"v":92.76554999999999,"d":"92.77"}},null,{"$f":"SUM(D77:L77)","v":{"v":4737.28504,"d":"4,737.29"}}]

{"sheet":"November","index":7,"n_rows":77,"n_cols":14,"rows_kept":77}
["November","01/04/2015 to 31/03/2016"]
[]
["Treatment Use","Waste Type",null,"Burton Farm HWRC","Cherry Orchard HWRC","Hunters Lane HWRC & Transfer","Judkins HWRC","Lower House Farm HWRC","Princes Drive HWRC & Transfer","Shipston HWRC","Stockton HWRC","Wellesbourne HWRC",null,"Total"]
[]
["Composting","Green waste","CompostingGreen waste",54.28,{"v":57.9,"d":"57.90"},43.08,33.42,20.74,138.66,{"v":31.1,"d":"31.10"},6.71,15.61,null,{"$f":"SUM(D5:L5)","v":{"v":401.50000000000006,"d":"401.50"}}]
[]
[null,"Sub Total",null,{"$f":"SUM(D5:D5)","v":54.28},{"$f":"SUM(E5:E5)","v":{"v":57.9,"d":"57.90"}},{"$f":"SUM(F5:F5)","v":43.08},{"$f":"SUM(G5:G5)","v":33.42},{"$f":"SUM(H5:H5)","v":20.74},{"$f":"SUM(I5:I5)","v":138.66},{"$f":"SUM(J5:J5)","v":{"v":31.1,"d":"31.10"}},{"$f":"SUM(K5:K5)","v":6.71},{"$f":"SUM(L5:L5)","v":15.61},null,{"$f":"SUM(D7:L7)","v":{"v":401.50000000000006,"d":"401.50"}}]
[]
["Efw (incineration)","Bulky Waste","Efw (incineration)Bulky Waste",{"v":0,"d":"0.00"},{"v":0,"d":"0.00"},{"v":0,"d":"0.00"},{"v":0,"d":"0.00"},16.82,{"v":0,"d":"0.00"},{"v":0,"d":"0.00"},{"v":0,"d":"0.00"},{"v":0,"d":"0.00"},null,{"$f":"SUM(D9:L9)","v":16.82}]
[null,"Chemicals","Efw (incineration)Chemicals",{"v":0,"d":"0.00"},{"v":0,"d":"0.00"},{"v":0,"d":"0.00"},{"v":0,"d":"0.00"},{"v":0,"d":"0.00"},{"v":0,"d":"0.00"},{"v":0,"d":"0.00"},{"v":0,"d":"0.00"},{"v":0,"d":"0.00"},null,{"$f":"SUM(D10:L10)","v":{"v":0,"d":"0.00"}}]
[null,"Clinical","Efw (incineration)Clinical",{"v":0,"d":"0.00"},{"v":0,"d":"0.00"},{"v":0,"d":"0.00"},{"v":0,"d":"0.00"},{"v":0,"d":"0.00"},{"v":2.6879999999999997,"d":"2.69"},{"v":0,"d":"0.00"},{"v":0,"d":"0.00"},{"v":0,"d":"0.00"},null,{"$f":"SUM(D11:L11)","v":{"v":2.6879999999999997,"d":"2.69"}}]
[null,"General (mixed waste)","Efw (incineration)General (mixed waste)",{"v":0,"d":"0.00"},{"v":7.3,"d":"7.30"},{"v":0,"d":"0.00"},{"v":0,"d":"0.00"},92.44,{"v":0,"d":"0.00"},4.38,{"v":0,"d":"0.00"},{"v":0,"d":"0.00"},null,{"$f":"SUM(D12:L12)","v":{"v":104.11999999999999,"d":"104.12"}}]
[null,"Paint (chemicals)","Efw (incineration)Paint (chemicals)",{"v":0,"d":"0.00"},{"v":0,"d":"0.00"},{"v":0,"d":"0.00"},{"v":0,"d":"0.00"},{"v":0,"d":"0.00"},{"v":0,"d":"0.00"},{"v":0,"d":"0.00"},{"v":0,"d":"0.00"},{"v":0,"d":"0.00"},null,{"$f":"SUM(D13:L13)","v":{"v":0,"d":"0.00"}}]
[]
[null,"Sub Total",null,{"$f":"SUM(D9:D13)","v":{"v":0,"d":"0.00"}},{"$f":"SUM(E9:E13)","v":{"v":7.3,"d":"7.30"}},{"$f":"SUM(F9:F13)","v":{"v":0,"d":"0.00"}},{"$f":"SUM(G9:G13)","v":{"v":0,"d":"0.00"}},{"$f":"SUM(H9:H13)","v":{"v":109.25999999999999,"d":"109.26"}},{"$f":"SUM(I9:I13)","v":{"v":2.6879999999999997,"d":"2.69"}},{"$f":"SUM(J9:J13)","v":4.38},{"$f":"SUM(K9:K13)","v":{"v":0,"d":"0.00"}},{"$f":"SUM(L9:L13)","v":{"v":0,"d":"0.00"}},null,{"$f":"SUM(D15:L15)","v":{"v":123.62799999999999,"d":"123.63"}}]
[]
["Landfill","Asbestos","LandfillAsbestos",{"v":0,"d":"0.00"},{"v":0,"d":"0.00"},{"v":0,"d":"0.00"},{"v":4.3,"d":"4.30"},{"v":0,"d":"0.00"},{"v":0,"d":"0.00"},{"v":0,"d":"0.00"},{"v":0,"d":"0.00"},{"v":0,"d":"0.00"},null,{"$f":"SUM(D17:L17)","v":{"v":4.3,"d":"4.30"}}]
[null,"General (mixed waste)","LandfillGeneral (mixed waste)",142.88,87.06,179.32,262.19,{"v":0,"d":"0.00"},619.85,34.56,25.65,29.78,null,{"$f":"SUM(D18:L18)","v":{"v":1381.2900000000002,"d":"1,381.29"}}]
[null,"Hard Plastic","LandfillHard Plastic",{"v":0,"d":"0.00"},{"v":2.895,"d":"2.90"},{"v":3.175,"d":"3.18"},{"v":0,"d":"0.00"},{"v":1.705,"d":"1.71"},{"v":0,"d":"0.00"},{"v":0,"d":"0.00"},{"v":0,"d":"0.00"},{"v":0,"d":"0.00"},null,{"$f":"SUM(D19:L19)","v":{"v":7.775,"d":"7.78"}}]
[]
[null,"Sub Total",null,{"$f":"SUM(D17:D19)","v":142.88},{"$f":"SUM(E17:E19)","v":{"v":89.955,"d":"89.96"}},{"$f":"SUM(F17:F19)","v":{"v":182.495,"d":"182.50"}},{"$f":"SUM(G17:G19)","v":266.49},{"$f":"SUM(H17:H19)","v":{"v":1.705,"d":"1.71"}},{"$f":"SUM(I17:I19)","v":619.85},{"$f":"SUM(J17:J19)","v":34.56},{"$f":"SUM(K17:K19)","v":25.65},{"$f":"SUM(L17:L19)","v":29.78},null,{"$f":"SUM(D21:L21)","v":{"v":1393.365,"d":"1,393.37"}}]
[]
["Recycling","Aluminium (nf)","RecyclingAluminium (nf)",{"v":0,"d":"0.00"},{"v":0,"d":"0.00"},{"v":0,"d":"0.00"},{"v":0,"d":"0.00"},{"v":0,"d":"0.00"},{"v":0,"d":"0.00"},{"v":0,"d":"0.00"},{"v":0,"d":"0.00"},{"v":0,"d":"0.00"},null,{"$f":"SUM(D23:L23)","v":{"v":0,"d":"0.00"}}]
[null,"Batteries (car)","RecyclingBatteries (car)",{"v":0,"d":"0.00"},{"v":0,"d":"0.00"},{"v":0,"d":"0.00"},{"v":0,"d":"0.00"},{"v":0,"d":"0.00"},{"v":0,"d":"0.00"},{"v":0.4,"d":"0.40"},{"v":0,"d":"0.00"},{"v":0,"d":"0.00"},null,{"$f":"SUM(D24:L24)","v":{"v":0.4,"d":"0.40"}}]
[null,"Batteries (household)","RecyclingBatteries (household)",{"v":0,"d":"0.00"},{"v":0,"d":"0.00"},{"v":0,"d":"0.00"},{"v":0,"d":"0.00"},{"v":0,"d":"0.00"},{"v":0,"d":"0.00"},{"v":0,"d":"0.00"},{"v":0,"d":"0.00"},{"v":0,"d":"0.00"},null,{"$f":"SUM(D25:L25)","v":{"v":0,"d":"0.00"}}]
[null,"Books","RecyclingBooks",{"v":0,"d":"0.00"},{"v":0,"d":"0.00"},{"v":0,"d":"0.00"},{"v":1.7,"d":"1.70"},{"v":0,"d":"0.00"},{"v":0,"d":"0.00"},{"v":0,"d":"0.00"},{"v":0,"d":"0.00"},{"v":0,"d":"0.00"},null,{"$f":"SUM(D26:L26)","v":{"v":1.7,"d":"1.70"}}]
[null,"Brass(nf)","RecyclingBrass(nf)",{"v":0,"d":"0.00"},{"v":0,"d":"0.00"},{"v":0,"d":"0.00"},{"v":0,"d":"0.00"},{"v":0,"d":"0.00"},{"v":0,"d":"0.00"},{"v":0,"d":"0.00"},{"v":0,"d":"0.00"},{"v":0,"d":"0.00"},null,{"$f":"SUM(D27:L27)","v":{"v":0,"d":"0.00"}}]
[null,"Cable (nf)","RecyclingCable (nf)",{"v":0,"d":"0.00"},{"v":0,"d":"0.00"},{"v":0,"d":"0.00"},{"v":0,"d":"0.00"},{"v":0,"d":"0.00"},{"v":0,"d":"0.00"},{"v":0,"d":"0.00"},{"v":0,"d":"0.00"},{"v":0,"d":"0.00"},null,{"$f":"SUM(D28:L28)","v":{"v":0,"d":"0.00"}}]
[null,"Cardboard","RecyclingCardboard",{"v":22.1,"d":"22.10"},14.56,{"v":20,"d":"20.00"},{"v":24.4,"d":"24.40"},{"v":21,"d":"21.00"},52.94,{"v":7.4,"d":"7.40"},3.58,4.08,null,{"$f":"SUM(D29:L29)","v":{"v":170.06000000000003,"d":"170.06"}}]
[null,"Carpet","RecyclingCarpet",{"v":14.399999999999999,"d":"14.40"},7.16,21.22,{"v":0,"d":"0.00"},{"v":32.4,"d":"32.40"},28.32,12.54,{"v":0,"d":"0.00"},{"v":0,"d":"0.00"},null,{"$f":"SUM(D30:L30)","v":{"v":116.03999999999999,"d":"116.04"}}]
[null,"Chipboard","RecyclingChipboard",61.02,{"v":22.240000000000002,"d":"22.24"},60.86,{"v":0,"d":"0.00"},31.24,{"v":46.9,"d":"46.90"},{"v":0,"d":"0.00"},{"v":0,"d":"0.00"},2.21,null,{"$f":"SUM(D31:L31)","v":{"v":224.47000000000003,"d":"224.47"}}]
[null,"Copper & Brass Mixed (nf)","RecyclingCopper & Brass Mixed (nf)",{"v":0,"d":"0.00"},{"v":0,"d":"0.00"},{"v":0,"d":"0.00"},{"v":0,"d":"0.00"},{"v":0,"d":"0.00"},{"v":0,"d":"0.00"},{"v":0,"d":"0.00"},{"v":0,"d":"0.00"},{"v":0,"d":"0.00"},null,{"$f":"SUM(D32:L32)","v":{"v":0,"d":"0.00"}}]
[null,"Drink Cartons","RecyclingDrink Cartons",{"v":0,"d":"0.00"},{"v":0,"d":"0.00"},{"v":0,"d":"0.00"},{"v":0,"d":"0.00"},{"v":0.243,"d":"0.24"},{"v":0.215,"d":"0.22"},{"v":0,"d":"0.00"},{"v":0,"d":"0.00"},{"v":0,"d":"0.00"},null,{"$f":"SUM(D33:L33)","v":{"v":0.45799999999999996,"d":"0.46"}}]
[null,"Fire Extinguishers","RecyclingFire Extinguishers",{"v":0,"d":"0.00"},{"v":0,"d":"0.00"},{"v":0,"d":"0.00"},{"v":0,"d":"0.00"},{"v":0,"d":"0.00"},{"v":0,"d":"0.00"},{"v":0,"d":"0.00"},{"v":0,"d":"0.00"},{"v":0,"d":"0.00"},null,{"$f":"SUM(D34:L34)","v":{"v":0,"d":"0.00"}}]
[null,"Fluorescent Tubes Output","RecyclingFluorescent Tubes Output",{"v":0,"d":"0.00"},0.18,{"v":0,"d":"0.00"},{"v":0,"d":"0.00"},{"v":0.146,"d":"0.15"},0.29,{"v":0,"d":"0.00"},{"v":0,"d":"0.00"},{"v":0,"d":"0.00"},null,{"$f":"SUM(D35:L35)","v":{"v":0.6159999999999999,"d":"0.62"}}]
[null,"Fridges Output","RecyclingFridges Output",{"v":6.0422,"d":"6.04"},{"v":2.3215,"d":"2.32"},{"v":4.5997,"d":"4.60"},3.64,{"v":4.5397,"d":"4.54"},{"v":11.9598,"d":"11.96"},{"v":2.0256,"d":"2.03"},{"v":0.5295,"d":"0.53"},{"v":0,"d":"0.00"},null,{"$f":"SUM(D36:L36)","v":{"v":35.657999999999994,"d":"35.66"}}]
[null,"Gas Cylinders","RecyclingGas Cylinders",{"v":0,"d":"0.00"},{"v":0,"d":"0.00"},{"v":0,"d":"0.00"},{"v":0,"d":"0.00"},{"v":0,"d":"0.00"},0.81,{"v":0,"d":"0.00"},{"v":0,"d":"0.00"},{"v":0,"d":"0.00"},null,{"$f":"SUM(D37:L37)","v":0.81}]
[null,"General (mixed waste)","RecyclingGeneral (mixed waste)",{"v":0,"d":"0.00"},{"v":0,"d":"0.00"},{"v":0,"d":"0.00"},{"v":0,"d":"0.00"},{"v":0,"d":"0.00"},{"v":0,"d":"0.00"},{"v":0,"d":"0.00"},{"v":0,"d":"0.00"},{"v":0,"d":"0.00"},null,{"$f":"SUM(D38:L38)","v":{"v":0,"d":"0.00"}}]
[null,"Glass (bottles)","RecyclingGlass (bottles)",{"v":6.633,"d":"6.63"},{"v":6.136,"d":"6.14"},{"v":2.534,"d":"2.53"},{"v":3,"d":"3.00"},{"v":0,"d":"0.00"},{"v":2.255,"d":"2.26"},{"v":0.886,"d":"0.89"},{"v":0,"d":"0.00"},{"v":0.251,"d":"0.25"},null,{"$f":"SUM(D39:L39)","v":{"v":21.695,"d":"21.70"}}]
[null,"Green waste","RecyclingGreen waste",{"v":0,"d":"0.00"},{"v":0,"d":"0.00"},{"v":0,"d":"0.00"},{"v":0,"d":"0.00"},{"v":0,"d":"0.00"},{"v":0,"d":"0.00"},{"v":0,"d":"0.00"},{"v":0,"d":"0.00"},{"v":0,"d":"0.00"},null,{"$f":"SUM(D40:L40)","v":{"v":0,"d":"0.00"}}]
[null,"Hard Plastic","RecyclingHard Plastic",{"v":0,"d":"0.00"},{"v":0,"d":"0.00"},{"v":0,"d":"0.00"},{"v":0,"d":"0.00"},{"v":0,"d":"0.00"},{"v":0,"d":"0.00"},{"v":0,"d":"0.00"},{"v":0,"d":"0.00"},{"v":0,"d":"0.00"},null,{"$f":"SUM(D41:L41)","v":{"v":0,"d":"0.00"}}]
[null,"Household Goods\r\nHousehold Goods","RecyclingHousehold Goods\r\nHousehold Goods",{"v":0,"d":"0.00"},{"v":0,"d":"0.00"},{"v":0,"d":"0.00"},{"v":0,"d":"0.00"},{"v":0,"d":"0.00"},{"v":0,"d":"0.00"},{"v":0,"d":"0.00"},{"v":0,"d":"0.00"},{"v":0,"d":"0.00"},null,{"$f":"SUM(D42:L42)","v":{"v":0,"d":"0.00"}}]
[null,"Inert (rubble/hardcore)","RecyclingInert (rubble/hardcore)",{"v":0,"d":"0.00"},{"v":0,"d":"0.00"},{"v":0,"d":"0.00"},{"v":0,"d":"0.00"},{"v":0,"d":"0.00"},{"v":0,"d":"0.00"},{"v":0,"d":"0.00"},{"v":0,"d":"0.00"},{"v":0,"d":"0.00"},null,{"$f":"SUM(D43:L43)","v":{"v":0,"d":"0.00"}}]
[null,"Lead (nf)","RecyclingLead (nf)",{"v":0,"d":"0.00"},{"v":0,"d":"0.00"},{"v":0,"d":"0.00"},{"v":0,"d":"0.00"},{"v":0,"d":"0.00"},{"v":0,"d":"0.00"},{"v":0,"d":"0.00"},{"v":0,"d":"0.00"},{"v":0,"d":"0.00"},null,{"$f":"SUM(D44:L44)","v":{"v":0,"d":"0.00"}}]
[null,"Matresses","RecyclingMatresses",{"v":0,"d":"0.00"},{"v":0,"d":"0.00"},{"v":0,"d":"0.00"},{"v":0,"d":"0.00"},{"v":0,"d":"0.00"},{"v":0,"d":"0.00"},{"v":0,"d":"0.00"},{"v":0,"d":"0.00"},{"v":0,"d":"0.00"},null,{"$f":"SUM(D45:L45)","v":{"v":0,"d":"0.00"}}]
[null,"Microwave Motors","RecyclingMicrowave Motors",{"v":0,"d":"0.00"},{"v":0,"d":"0.00"},{"v":0,"d":"0.00"},{"v":0,"d":"0.00"},{"v":0,"d":"0.00"},{"v":0,"d":"0.00"},{"v":0,"d":"0.00"},{"v":0,"d":"0.00"},{"v":0,"d":"0.00"},null,{"$f":"SUM(D46:L46)","v":{"v":0,"d":"0.00"}}]
[null,"Non Ferrous Metal  \r\nNon Ferrous Metal","RecyclingNon Ferrous Metal  \r\nNon Ferrous Metal",{"v":0,"d":"0.00"},1.88,1.22,{"v":0,"d":"0.00"},{"v":0,"d":"0.00"},{"v":0.3135,"d":"0.31"},{"v":0.6,"d":"0.60"},{"v":0,"d":"0.00"},0.78,null,{"$f":"SUM(D47:L47)","v":{"v":4.7935,"d":"4.79"}}]
[null,"Oil (Engine)","RecyclingOil (Engine)",{"v":0,"d":"0.00"},{"v":0,"d":"0.00"},{"v":0,"d":"0.00"},{"v":0,"d":"0.00"},1.04,1.41,{"v":0,"d":"0.00"},{"v":1.056,"d":"1.06"},{"v":0,"d":"0.00"},null,{"$f":"SUM(D48:L48)","v":{"v":3.5060000000000002,"d":"3.51"}}]
[null,"Oil (Vegetable)","RecyclingOil (Vegetable)",{"v":0,"d":"0.00"},{"v":0,"d":"0.00"},{"v":0,"d":"0.00"},{"v":0,"d":"0.00"},{"v":0,"d":"0.00"},{"v":0,"d":"0.00"},{"v":0,"d":"0.00"},{"v":0,"d":"0.00"},{"v":0,"d":"0.00"},null,{"$f":"SUM(D49:L49)","v":{"v":0,"d":"0.00"}}]
[null,"Paint (chemicals)","RecyclingPaint (chemicals)",{"v":0,"d":"0.00"},{"v":0,"d":"0.00"},{"v":0,"d":"0.00"},{"v":0,"d":"0.00"},{"v":0,"d":"0.00"},{"v":0,"d":"0.00"},{"v":0,"d":"0.00"},{"v":0,"d":"0.00"},{"v":0,"d":"0.00"},null,{"$f":"SUM(D50:L50)","v":{"v":0,"d":"0.00"}}]
[null,"Paper (mixed with card)","RecyclingPaper (mixed with card)",{"v":0,"d":"0.00"},{"v":0,"d":"0.00"},{"v":0,"d":"0.00"},{"v":0,"d":"0.00"},{"v":0,"d":"0.00"},{"v":0,"d":"0.00"},{"v":0,"d":"0.00"},{"v":0,"d":"0.00"},{"v":0,"d":"0.00"},null,{"$f":"SUM(D51:L51)","v":{"v":0,"d":"0.00"}}]
[null,"Paper (newspaper & magazines)","RecyclingPaper (newspaper & magazines)",{"v":16.939999999999998,"d":"16.94"},12.18,{"v":6,"d":"6.00"},{"v":0,"d":"0.00"},4.56,{"v":18,"d":"18.00"},{"v":0,"d":"0.00"},{"v":0,"d":"0.00"},{"v":0,"d":"0.00"},null,{"$f":"SUM(D52:L52)","v":57.68}]
[null,"Plasterboard","RecyclingPlasterboard",{"v":0,"d":"0.00"},0.14,{"v":0,"d":"0.00"},6.44,{"v":0,"d":"0.00"},10.68,{"v":0,"d":"0.00"},{"v":0,"d":"0.00"},{"v":0,"d":"0.00"},null,{"$f":"SUM(D53:L53)","v":{"v":17.259999999999998,"d":"17.26"}}]
[null,"Plastic (Mixed)","RecyclingPlastic (Mixed)",{"v":0,"d":"0.00"},1.43,{"v":0,"d":"0.00"},{"v":0,"d":"0.00"},{"v":0,"d":"0.00"},{"v":0,"d":"0.00"},0.18,{"v":0,"d":"0.00"},{"v":0.1,"d":"0.10"},null,{"$f":"SUM(D54:L54)","v":1.71}]
[null,"Printer Cartridges","RecyclingPrinter Cartridges",{"v":0,"d":"0.00"},{"v":0,"d":"0.00"},{"v":0,"d":"0.00"},{"v":0,"d":"0.00"},{"v":0,"d":"0.00"},{"v":0,"d":"0.00"},{"v":0,"d":"0.00"},{"v":0,"d":"0.00"},{"v":0,"d":"0.00"},null,{"$f":"SUM(D55:L55)","v":{"v":0,"d":"0.00"}}]
[null,"Road Sweepings","RecyclingRoad Sweepings",{"v":0,"d":"0.00"},{"v":0,"d":"0.00"},{"v":0,"d":"0.00"},{"v":0,"d":"0.00"},{"v":0,"d":"0.00"},354.92,{"v":0,"d":"0.00"},{"v":0,"d":"0.00"},{"v":0,"d":"0.00"},null,{"$f":"SUM(D56:L56)","v":354.92}]
[null,"Scrap metal (mixed)","RecyclingScrap metal (mixed)",30.73,16.41,{"v":45.419999999999995,"d":"45.42"},{"v":20.1,"d":"20.10"},16.63,57.25,12.09,{"v":5.3,"d":"5.30"},6.08,null,{"$f":"SUM(D57:L57)","v":{"v":210.01000000000002,"d":"210.01"}}]
[null,"Screens output","RecyclingScreens output",{"v":3.4378,"d":"3.44"},{"v":3.4626,"d":"3.46"},{"v":6.5869,"d":"6.59"},3.29,{"v":5.3786,"d":"5.38"},{"v":8.0349,"d":"8.03"},{"v":2.096,"d":"2.10"},{"v":0.9326,"d":"0.93"},{"v":1.3464,"d":"1.35"},null,{"$f":"SUM(D58:L58)","v":{"v":34.5658,"d":"34.57"}}]
[null,"Small Domestic Appliances","RecyclingSmall Domestic Appliances",16.71,7.51,16.43,{"v":7,"d":"7.00"},15.69,26.64,5.78,0.59,2.35,null,{"$f":"SUM(D59:L59)","v":{"v":98.69999999999999,"d":"98.70"}}]
[null,"Soil & rubble","RecyclingSoil & rubble",{"v":0,"d":"0.00"},{"v":0,"d":"0.00"},{"v":0,"d":"0.00"},60.15,{"v":0,"d":"0.00"},{"v":0,"d":"0.00"},{"v":0,"d":"0.00"},{"v":0,"d":"0.00"},{"v":0,"d":"0.00"},null,{"$f":"SUM(D60:L60)","v":60.15}]
[null,"Stainless Steel","RecyclingStainless Steel",{"v":0,"d":"0.00"},{"v":0,"d":"0.00"},{"v":0,"d":"0.00"},{"v":0,"d":"0.00"},{"v":0,"d":"0.00"},{"v":0,"d":"0.00"},{"v":0,"d":"0.00"},{"v":0,"d":"0.00"},{"v":0,"d":"0.00"},null,{"$f":"SUM(D61:L61)","v":{"v":0,"d":"0.00"}}]
[null,"Textiles","RecyclingTextiles",9.58,5.13,7.23,3.72,7.22,10.26,2.36,0.87,1.61,null,{"$f":"SUM(D62:L62)","v":47.98}]
[null,"Tyres","RecyclingTyres",{"v":0,"d":"0.00"},{"v":0,"d":"0.00"},{"v":0,"d":"0.00"},{"v":0,"d":"0.00"},{"v":0,"d":"0.00"},{"v":0,"d":"0.00"},{"v":0,"d":"0.00"},{"v":0,"d":"0.00"},{"v":0,"d":"0.00"},null,{"$f":"SUM(D63:L63)","v":{"v":0,"d":"0.00"}}]
[null,"Wood (including treated)","RecyclingWood (including treated)",9.64,38.06,40.43,{"v":108,"d":"108.00"},{"v":59.6,"d":"59.60"},{"v":129.04000000000002,"d":"129.04"},{"v":13.120000000000001,"d":"13.12"},9.37,{"v":13.069999999999999,"d":"13.07"},null,{"$f":"SUM(D64:L64)","v":420.33}]
[]
[null,"Sub Total",null,{"$f":"SUM(D23:D64)","v":{"v":197.233,"d":"197.23"}},{"$f":"SUM(E23:E64)","v":{"v":138.8001,"d":"138.80"}},{"$f":"SUM(F23:F64)","v":{"v":232.53060000000002,"d":"232.53"}},{"$f":"SUM(G23:G64)","v":241.44},{"$f":"SUM(H23:H64)","v":{"v":199.6873,"d":"199.69"}},{"$f":"SUM(I23:I64)","v":{"v":760.2382,"d":"760.24"}},{"$f":"SUM(J23:J64)","v":{"v":59.47760000000001,"d":"59.48"}},{"$f":"SUM(K23:K64)","v":{"v":22.228099999999998,"d":"22.23"}},{"$f":"SUM(L23:L64)","v":{"v":31.8774,"d":"31.88"}},null,{"$f":"SUM(D66:L66)","v":{"v":1883.5123,"d":"1,883.51"}}]
[]
["Re-Use","Books","Re-UseBooks",0.15,{"v":0,"d":"0.00"},{"v":0,"d":"0.00"},{"v":0,"d":"0.00"},{"v":0,"d":"0.00"},{"v":0,"d":"0.00"},{"v":0,"d":"0.00"},{"v":0,"d":"0.00"},0.13,null,{"$f":"SUM(D68:L68)","v":0.28}]
[null,"Gas Cylinders","Re-UseGas Cylinders",{"v":0,"d":"0.00"},{"v":0,"d":"0.00"},{"v":0,"d":"0.00"},{"v":0,"d":"0.00"},{"v":0,"d":"0.00"},{"v":0,"d":"0.00"},{"v":0,"d":"0.00"},{"v":0,"d":"0.00"},{"v":0,"d":"0.00"},null,{"$f":"SUM(D69:L69)","v":{"v":0,"d":"0.00"}}]
[null,"Household Goods\r\nHousehold Goods","Re-UseHousehold Goods\r\nHousehold Goods",{"v":0,"d":"0.00"},{"v":0,"d":"0.00"},{"v":0,"d":"0.00"},{"v":9.929,"d":"9.93"},{"v":0,"d":"0.00"},{"v":0,"d":"0.00"},{"v":0,"d":"0.00"},{"v":0,"d":"0.00"},{"v":0,"d":"0.00"},null,{"$f":"SUM(D70:L70)","v":{"v":9.929,"d":"9.93"}}]
[null,"Inert (rubble/hardcore)","Re-UseInert (rubble/hardcore)",{"v":46.900000000000006,"d":"46.90"},{"v":40.519999999999996,"d":"40.52"},{"v":48.9,"d":"48.90"},{"v":0,"d":"0.00"},37.32,131.12,9.66,6.96,9.26,null,{"$f":"SUM(D71:L71)","v":330.64}]
[null,"Soil","Re-UseSoil",{"v":0,"d":"0.00"},{"v":0,"d":"0.00"},{"v":0,"d":"0.00"},{"v":0,"d":"0.00"},{"v":0,"d":"0.00"},{"v":0,"d":"0.00"},{"v":0,"d":"0.00"},{"v":0,"d":"0.00"},{"v":0,"d":"0.00"},null,{"$f":"SUM(D72:L72)","v":{"v":0,"d":"0.00"}}]
[]
[null,"Sub Total",null,{"$f":"SUM(D68:D73)","v":{"v":47.050000000000004,"d":"47.05"}},{"$f":"SUM(E68:E73)","v":{"v":40.519999999999996,"d":"40.52"}},{"$f":"SUM(F68:F73)","v":{"v":48.9,"d":"48.90"}},{"$f":"SUM(G68:G73)","v":{"v":9.929,"d":"9.93"}},{"$f":"SUM(H68:H73)","v":37.32},{"$f":"SUM(I68:I73)","v":131.12},{"$f":"SUM(J68:J73)","v":9.66},{"$f":"SUM(K68:K73)","v":6.96},{"$f":"SUM(L68:L73)","v":9.39},null,{"$f":"SUM(D74:L74)","v":{"v":340.849,"d":"340.85"}}]
[]
[]
[null,"Grand Total",null,{"$f":"SUM(D7)+(D15)+(D21)+(D66)+(D74)","v":{"v":441.44300000000004,"d":"441.44"}},{"$f":"SUM(E7)+(E15)+(E21)+(E66)+(E74)","v":{"v":334.4751,"d":"334.48"}},{"$f":"SUM(F7)+(F15)+(F21)+(F66)+(F74)","v":{"v":507.00559999999996,"d":"507.01"}},{"$f":"SUM(G7)+(G15)+(G21)+(G66)+(G74)","v":{"v":551.279,"d":"551.28"}},{"$f":"SUM(H7)+(H15)+(H21)+(H66)+(H74)","v":{"v":368.71229999999997,"d":"368.71"}},{"$f":"SUM(I7)+(I15)+(I21)+(I66)+(I74)","v":{"v":1652.5562,"d":"1,652.56"}},{"$f":"SUM(J7)+(J15)+(J21)+(J66)+(J74)","v":{"v":139.1776,"d":"139.18"}},{"$f":"SUM(K7)+(K15)+(K21)+(K66)+(K74)","v":{"v":61.5481,"d":"61.55"}},{"$f":"SUM(L7)+(L15)+(L21)+(L66)+(L74)","v":{"v":86.65740000000001,"d":"86.66"}},null,{"$f":"SUM(D77:L77)","v":{"v":4142.8543,"d":"4,142.85"}}]

{"sheet":"December","index":8,"n_rows":77,"n_cols":14,"rows_kept":77}
["December","01/04/2015 to 31/03/2016"]
[]
["Treatment Use","Waste Type",null,"Burton Farm HWRC","Cherry Orchard HWRC","Hunters Lane HWRC & Transfer","Judkins HWRC","Lower House Farm HWRC","Princes Drive HWRC & Transfer","Shipston HWRC","Stockton HWRC","Wellesbourne HWRC",null,"Total"]
[]
["Composting","Green waste","CompostingGreen waste",24.68,{"v":23.6,"d":"23.60"},{"v":30.200000000000003,"d":"30.20"},8.82,10.08,75.91,12.66,0.94,5.11,null,{"$f":"SUM(D5:L5)","v":{"v":192.00000000000003,"d":"192.00"}}]
[]
[null,"Sub Total",null,{"$f":"SUM(D5:D5)","v":24.68},{"$f":"SUM(E5:E5)","v":{"v":23.6,"d":"23.60"}},{"$f":"SUM(F5:F5)","v":{"v":30.200000000000003,"d":"30.20"}},{"$f":"SUM(G5:G5)","v":8.82},{"$f":"SUM(H5:H5)","v":10.08},{"$f":"SUM(I5:I5)","v":75.91},{"$f":"SUM(J5:J5)","v":12.66},{"$f":"SUM(K5:K5)","v":0.94},{"$f":"SUM(L5:L5)","v":5.11},null,{"$f":"SUM(D7:L7)","v":{"v":192.00000000000003,"d":"192.00"}}]
[]
["Efw (incineration)","Bulky Waste","Efw (incineration)Bulky Waste",{"v":0,"d":"0.00"},{"v":0,"d":"0.00"},{"v":0,"d":"0.00"},{"v":0,"d":"0.00"},{"v":20.9,"d":"20.90"},{"v":0,"d":"0.00"},{"v":0,"d":"0.00"},{"v":0,"d":"0.00"},{"v":0,"d":"0.00"},null,{"$f":"SUM(D9:L9)","v":{"v":20.9,"d":"20.90"}}]
[null,"Chemicals","Efw (incineration)Chemicals",{"v":0,"d":"0.00"},{"v":0,"d":"0.00"},{"v":0,"d":"0.00"},{"v":0,"d":"0.00"},{"v":0,"d":"0.00"},{"v":0,"d":"0.00"},{"v":0,"d":"0.00"},{"v":0,"d":"0.00"},{"v":0,"d":"0.00"},null,{"$f":"SUM(D10:L10)","v":{"v":0,"d":"0.00"}}]
[null,"Clinical","Efw (incineration)Clinical",{"v":0,"d":"0.00"},{"v":0,"d":"0.00"},{"v":0,"d":"0.00"},{"v":0,"d":"0.00"},{"v":0,"d":"0.00"},2.69,{"v":0,"d":"0.00"},{"v":0,"d":"0.00"},{"v":0,"d":"0.00"},null,{"$f":"SUM(D11:L11)","v":2.69}]
[null,"General (mixed waste)","Efw (incineration)General (mixed waste)",7.26,11.92,14.26,6.82,108.78,29.98,{"v":0,"d":"0.00"},1.98,{"v":0,"d":"0.00"},null,{"$f":"SUM(D12:L12)","v":{"v":180.99999999999997,"d":"181.00"}}]
[null,"Paint (chemicals)","Efw (incineration)Paint (chemicals)",{"v":0,"d":"0.00"},{"v":0,"d":"0.00"},{"v":0,"d":"0.00"},{"v":0,"d":"0.00"},{"v":0,"d":"0.00"},{"v":0,"d":"0.00"},{"v":0,"d":"0.00"},{"v":0,"d":"0.00"},{"v":0,"d":"0.00"},null,{"$f":"SUM(D13:L13)","v":{"v":0,"d":"0.00"}}]
[]
[null,"Sub Total",null,{"$f":"SUM(D9:D13)","v":7.26},{"$f":"SUM(E9:E13)","v":11.92},{"$f":"SUM(F9:F13)","v":14.26},{"$f":"SUM(G9:G13)","v":6.82},{"$f":"SUM(H9:H13)","v":129.68},{"$f":"SUM(I9:I13)","v":32.67},{"$f":"SUM(J9:J13)","v":{"v":0,"d":"0.00"}},{"$f":"SUM(K9:K13)","v":1.98},{"$f":"SUM(L9:L13)","v":{"v":0,"d":"0.00"}},null,{"$f":"SUM(D15:L15)","v":204.59}]
[]
["Landfill","Asbestos","LandfillAsbestos",{"v":0,"d":"0.00"},{"v":0,"d":"0.00"},{"v":0,"d":"0.00"},{"v":0,"d":"0.00"},{"v":0,"d":"0.00"},3.08,{"v":0,"d":"0.00"},{"v":0,"d":"0.00"},{"v":0,"d":"0.00"},null,{"$f":"SUM(D17:L17)","v":3.08}]
[null,"General (mixed waste)","LandfillGeneral (mixed waste)",133.42,71.32,167.22,203.86,{"v":0,"d":"0.00"},615.21,33.48,5.08,{"v":31.8,"d":"31.80"},null,{"$f":"SUM(D18:L18)","v":{"v":1261.3899999999999,"d":"1,261.39"}}]
[null,"Hard Plastic","LandfillHard Plastic",{"v":0,"d":"0.00"},1.52,1.58,{"v":0,"d":"0.00"},{"v":1.165,"d":"1.17"},{"v":0,"d":"0.00"},{"v":0,"d":"0.00"},{"v":0,"d":"0.00"},{"v":0,"d":"0.00"},null,{"$f":"SUM(D19:L19)","v":{"v":4.265000000000001,"d":"4.27"}}]
[]
[null,"Sub Total",null,{"$f":"SUM(D17:D19)","v":133.42},{"$f":"SUM(E17:E19)","v":{"v":72.83999999999999,"d":"72.84"}},{"$f":"SUM(F17:F19)","v":{"v":168.8,"d":"168.80"}},{"$f":"SUM(G17:G19)","v":203.86},{"$f":"SUM(H17:H19)","v":{"v":1.165,"d":"1.17"}},{"$f":"SUM(I17:I19)","v":{"v":618.2900000000001,"d":"618.29"}},{"$f":"SUM(J17:J19)","v":33.48},{"$f":"SUM(K17:K19)","v":5.08},{"$f":"SUM(L17:L19)","v":{"v":31.8,"d":"31.80"}},null,{"$f":"SUM(D21:L21)","v":{"v":1268.735,"d":"1,268.74"}}]
[]
["Recycling","Aluminium (nf)","RecyclingAluminium (nf)",{"v":0,"d":"0.00"},{"v":0,"d":"0.00"},{"v":0,"d":"0.00"},{"v":0,"d":"0.00"},{"v":0,"d":"0.00"},{"v":0,"d":"0.00"},{"v":0.8,"d":"0.80"},{"v":0,"d":"0.00"},{"v":0,"d":"0.00"},null,{"$f":"SUM(D23:L23)","v":{"v":0.8,"d":"0.80"}}]
[null,"Batteries (car)","RecyclingBatteries (car)",{"v":0,"d":"0.00"},{"v":0,"d":"0.00"},{"v":0,"d":"0.00"},{"v":0,"d":"0.00"},{"v":0,"d":"0.00"},{"v":5.356,"d":"5.36"},0.28,0.78,{"v":0.802,"d":"0.80"},null,{"$f":"SUM(D24:L24)","v":{"v":7.218,"d":"7.22"}}]
[null,"Batteries (household)","RecyclingBatteries (household)",{"v":0,"d":"0.00"},{"v":0,"d":"0.00"},{"v":0,"d":"0.00"},{"v":0,"d":"0.00"},{"v":0,"d":"0.00"},{"v":0,"d":"0.00"},{"v":0,"d":"0.00"},{"v":0,"d":"0.00"},{"v":0,"d":"0.00"},null,{"$f":"SUM(D25:L25)","v":{"v":0,"d":"0.00"}}]
[null,"Books","RecyclingBooks",{"v":0,"d":"0.00"},{"v":0,"d":"0.00"},{"v":0,"d":"0.00"},{"v":2.6,"d":"2.60"},{"v":0,"d":"0.00"},{"v":0,"d":"0.00"},{"v":0,"d":"0.00"},{"v":0,"d":"0.00"},{"v":0,"d":"0.00"},null,{"$f":"SUM(D26:L26)","v":{"v":2.6,"d":"2.60"}}]
[null,"Brass(nf)","RecyclingBrass(nf)",{"v":0,"d":"0.00"},{"v":0,"d":"0.00"},{"v":0,"d":"0.00"},{"v":0,"d":"0.00"},{"v":0,"d":"0.00"},{"v":0.073,"d":"0.07"},{"v":0,"d":"0.00"},{"v":0,"d":"0.00"},{"v":0,"d":"0.00"},null,{"$f":"SUM(D27:L27)","v":{"v":0.073,"d":"0.07"}}]
[null,"Cable (nf)","RecyclingCable (nf)",{"v":0,"d":"0.00"},{"v":0,"d":"0.00"},{"v":0,"d":"0.00"},{"v":0,"d":"0.00"},{"v":0,"d":"0.00"},{"v":0,"d":"0.00"},{"v":0,"d":"0.00"},{"v":0,"d":"0.00"},{"v":0,"d":"0.00"},null,{"$f":"SUM(D28:L28)","v":{"v":0,"d":"0.00"}}]
[null,"Cardboard","RecyclingCardboard",28.68,27.84,9.58,40.32,18.58,55.36,13.92,3.65,5.05,null,{"$f":"SUM(D29:L29)","v":202.98}]
[null,"Carpet","RecyclingCarpet",{"v":12.379999999999999,"d":"12.38"},{"v":12.5,"d":"12.50"},{"v":24.8,"d":"24.80"},{"v":14.7,"d":"14.70"},{"v":21.3,"d":"21.30"},33.15,4.36,{"v":0,"d":"0.00"},{"v":0,"d":"0.00"},null,{"$f":"SUM(D30:L30)","v":{"v":123.18999999999998,"d":"123.19"}}]
[null,"Chipboard","RecyclingChipboard",65.28,16.22,{"v":53.739999999999995,"d":"53.74"},{"v":0,"d":"0.00"},41.68,{"v":25.5,"d":"25.50"},{"v":0,"d":"0.00"},5.91,{"v":0,"d":"0.00"},null,{"$f":"SUM(D31:L31)","v":208.33}]
[null,"Copper & Brass Mixed (nf)","RecyclingCopper & Brass Mixed (nf)",{"v":0,"d":"0.00"},{"v":0,"d":"0.00"},{"v":0,"d":"0.00"},{"v":0,"d":"0.00"},{"v":0,"d":"0.00"},{"v":0,"d":"0.00"},{"v":0,"d":"0.00"},{"v":0,"d":"0.00"},{"v":0,"d":"0.00"},null,{"$f":"SUM(D32:L32)","v":{"v":0,"d":"0.00"}}]
[null,"Drink Cartons","RecyclingDrink Cartons",{"v":0,"d":"0.00"},0.43,{"v":0,"d":"0.00"},{"v":0,"d":"0.00"},{"v":0,"d":"0.00"},{"v":0.423,"d":"0.42"},{"v":0,"d":"0.00"},{"v":0,"d":"0.00"},{"v":0,"d":"0.00"},null,{"$f":"SUM(D33:L33)","v":{"v":0.853,"d":"0.85"}}]
[null,"Fire Extinguishers","RecyclingFire Extinguishers",{"v":0,"d":"0.00"},{"v":0,"d":"0.00"},{"v":0,"d":"0.00"},{"v":0,"d":"0.00"},{"v":0,"d":"0.00"},{"v":0,"d":"0.00"},{"v":0,"d":"0.00"},{"v":0,"d":"0.00"},{"v":0,"d":"0.00"},null,{"$f":"SUM(D34:L34)","v":{"v":0,"d":"0.00"}}]
[null,"Fluorescent Tubes Output","RecyclingFluorescent Tubes Output",{"v":0.2,"d":"0.20"},{"v":0,"d":"0.00"},{"v":0,"d":"0.00"},{"v":0.4,"d":"0.40"},{"v":0,"d":"0.00"},{"v":0,"d":"0.00"},{"v":0,"d":"0.00"},{"v":0,"d":"0.00"},{"v":0,"d":"0.00"},null,{"$f":"SUM(D35:L35)","v":{"v":0.6000000000000001,"d":"0.60"}}]
[null,"Fridges Output","RecyclingFridges Output",{"v":6.1696,"d":"6.17"},{"v":2.0248,"d":"2.02"},{"v":7.8514,"d":"7.85"},{"v":4.4,"d":"4.40"},{"v":8.2188,"d":"8.22"},{"v":8.9153,"d":"8.92"},{"v":2.1238,"d":"2.12"},{"v":0.7025,"d":"0.70"},{"v":0,"d":"0.00"},null,{"$f":"SUM(D36:L36)","v":{"v":40.406200000000005,"d":"40.41"}}]
[null,"Gas Cylinders","RecyclingGas Cylinders",{"v":0,"d":"0.00"},{"v":0,"d":"0.00"},0.06,1.75,{"v":0,"d":"0.00"},{"v":1.1400000000000001,"d":"1.14"},{"v":0,"d":"0.00"},{"v":0,"d":"0.00"},{"v":0,"d":"0.00"},null,{"$f":"SUM(D37:L37)","v":2.95}]
[null,"General (mixed waste)","RecyclingGeneral (mixed waste)",{"v":0,"d":"0.00"},{"v":0,"d":"0.00"},{"v":0,"d":"0.00"},{"v":0,"d":"0.00"},{"v":0,"d":"0.00"},{"v":0,"d":"0.00"},{"v":0,"d":"0.00"},14.03,{"v":0,"d":"0.00"},null,{"$f":"SUM(D38:L38)","v":14.03}]
[null,"Glass (bottles)","RecyclingGlass (bottles)",{"v":4.308,"d":"4.31"},{"v":8.495,"d":"8.50"},{"v":0,"d":"0.00"},{"v":0,"d":"0.00"},{"v":1.608,"d":"1.61"},{"v":8.667,"d":"8.67"},{"v":2.401,"d":"2.40"},{"v":0,"d":"0.00"},{"v":1.776,"d":"1.78"},null,{"$f":"SUM(D39:L39)","v":{"v":27.255,"d":"27.26"}}]
[null,"Green waste","RecyclingGreen waste",{"v":0,"d":"0.00"},{"v":0,"d":"0.00"},{"v":0,"d":"0.00"},{"v":0,"d":"0.00"},{"v":0,"d":"0.00"},{"v":0,"d":"0.00"},{"v":0,"d":"0.00"},3.59,{"v":0,"d":"0.00"},null,{"$f":"SUM(D40:L40)","v":3.59}]
[null,"Hard Plastic","RecyclingHard Plastic",{"v":0,"d":"0.00"},{"v":0,"d":"0.00"},{"v":0,"d":"0.00"},{"v":0,"d":"0.00"},{"v":0,"d":"0.00"},{"v":0,"d":"0.00"},{"v":0,"d":"0.00"},{"v":0,"d":"0.00"},{"v":0,"d":"0.00"},null,{"$f":"SUM(D41:L41)","v":{"v":0,"d":"0.00"}}]
[null,"Household Goods\r\nHousehold Goods","RecyclingHousehold Goods\r\nHousehold Goods",{"v":0,"d":"0.00"},{"v":0,"d":"0.00"},{"v":0,"d":"0.00"},{"v":0,"d":"0.00"},{"v":0,"d":"0.00"},{"v":0,"d":"0.00"},{"v":0,"d":"0.00"},{"v":0,"d":"0.00"},{"v":0,"d":"0.00"},null,{"$f":"SUM(D42:L42)","v":{"v":0,"d":"0.00"}}]
[null,"Inert (rubble/hardcore)","RecyclingInert (rubble/hardcore)",{"v":0,"d":"0.00"},{"v":0,"d":"0.00"},{"v":0,"d":"0.00"},{"v":0,"d":"0.00"},{"v":0,"d":"0.00"},{"v":0,"d":"0.00"},{"v":0,"d":"0.00"},{"v":0,"d":"0.00"},{"v":0,"d":"0.00"},null,{"$f":"SUM(D43:L43)","v":{"v":0,"d":"0.00"}}]
[null,"Lead (nf)","RecyclingLead (nf)",{"v":0,"d":"0.00"},{"v":0,"d":"0.00"},{"v":0,"d":"0.00"},{"v":0,"d":"0.00"},{"v":0,"d":"0.00"},{"v":0,"d":"0.00"},{"v":0,"d":"0.00"},{"v":0,"d":"0.00"},{"v":0,"d":"0.00"},null,{"$f":"SUM(D44:L44)","v":{"v":0,"d":"0.00"}}]
[null,"Matresses","RecyclingMatresses",{"v":0,"d":"0.00"},{"v":0,"d":"0.00"},{"v":0,"d":"0.00"},{"v":0,"d":"0.00"},{"v":0,"d":"0.00"},{"v":0,"d":"0.00"},{"v":0,"d":"0.00"},{"v":0,"d":"0.00"},{"v":0,"d":"0.00"},null,{"$f":"SUM(D45:L45)","v":{"v":0,"d":"0.00"}}]
[null,"Microwave Motors","RecyclingMicrowave Motors",{"v":0,"d":"0.00"},0.61,1.57,{"v":0,"d":"0.00"},{"v":0,"d":"0.00"},{"v":0,"d":"0.00"},{"v":0,"d":"0.00"},{"v":0,"d":"0.00"},{"v":0,"d":"0.00"},null,{"$f":"SUM(D46:L46)","v":2.18}]
[null,"Non Ferrous Metal  \r\nNon Ferrous Metal","RecyclingNon Ferrous Metal  \r\nNon Ferrous Metal",{"v":0,"d":"0.00"},{"v":0,"d":"0.00"},{"v":0,"d":"0.00"},{"v":0,"d":"0.00"},{"v":0,"d":"0.00"},{"v":0.5365,"d":"0.54"},{"v":0.3,"d":"0.30"},{"v":0,"d":"0.00"},{"v":0,"d":"0.00"},null,{"$f":"SUM(D47:L47)","v":{"v":0.8365,"d":"0.84"}}]
[null,"Oil (Engine)","RecyclingOil (Engine)",{"v":0,"d":"0.00"},{"v":0,"d":"0.00"},{"v":2.288,"d":"2.29"},{"v":1.1,"d":"1.10"},{"v":0,"d":"0.00"},{"v":0,"d":"0.00"},{"v":0,"d":"0.00"},{"v":0,"d":"0.00"},{"v":0,"d":"0.00"},null,{"$f":"SUM(D48:L48)","v":{"v":3.388,"d":"3.39"}}]
[null,"Oil (Vegetable)","RecyclingOil (Vegetable)",0.42,{"v":0,"d":"0.00"},0.97,{"v":0,"d":"0.00"},{"v":0,"d":"0.00"},0.61,{"v":0,"d":"0.00"},{"v":0,"d":"0.00"},{"v":0,"d":"0.00"},null,{"$f":"SUM(D49:L49)","v":{"v":2,"d":"2.00"}}]
[null,"Paint (chemicals)","RecyclingPaint (chemicals)",{"v":0,"d":"0.00"},{"v":0,"d":"0.00"},{"v":0,"d":"0.00"},{"v":0,"d":"0.00"},{"v":0.6,"d":"0.60"},1.08,{"v":0,"d":"0.00"},{"v":0.6,"d":"0.60"},{"v":0,"d":"0.00"},null,{"$f":"SUM(D50:L50)","v":{"v":2.2800000000000002,"d":"2.28"}}]
[null,"Paper (mixed with card)","RecyclingPaper (mixed with card)",{"v":0,"d":"0.00"},{"v":0,"d":"0.00"},{"v":0,"d":"0.00"},{"v":0,"d":"0.00"},{"v":0,"d":"0.00"},{"v":0,"d":"0.00"},{"v":0,"d":"0.00"},{"v":0,"d":"0.00"},{"v":0,"d":"0.00"},null,{"$f":"SUM(D51:L51)","v":{"v":0,"d":"0.00"}}]
[null,"Paper (newspaper & magazines)","RecyclingPaper (newspaper & magazines)",{"v":24.240000000000002,"d":"24.24"},{"v":20.560000000000002,"d":"20.56"},30.94,9.02,9.34,32.94,10.72,{"v":0,"d":"0.00"},{"v":0,"d":"0.00"},null,{"$f":"SUM(D52:L52)","v":{"v":137.76000000000002,"d":"137.76"}}]
[null,"Plasterboard","RecyclingPlasterboard",12.69,{"v":0,"d":"0.00"},{"v":0,"d":"0.00"},5.53,{"v":12.5,"d":"12.50"},11.49,{"v":0,"d":"0.00"},{"v":0,"d":"0.00"},{"v":0,"d":"0.00"},null,{"$f":"SUM(D53:L53)","v":42.21}]
[null,"Plastic (Mixed)","RecyclingPlastic (Mixed)",1.39,0.99,{"v":0,"d":"0.00"},{"v":0,"d":"0.00"},{"v":0,"d":"0.00"},{"v":0,"d":"0.00"},0.33,{"v":0.9,"d":"0.90"},0.07,null,{"$f":"SUM(D54:L54)","v":{"v":3.6799999999999997,"d":"3.68"}}]
[null,"Printer Cartridges","RecyclingPrinter Cartridges",{"v":0,"d":"0.00"},{"v":0,"d":"0.00"},{"v":0,"d":"0.00"},{"v":0,"d":"0.00"},{"v":0,"d":"0.00"},{"v":0,"d":"0.00"},{"v":0,"d":"0.00"},{"v":0,"d":"0.00"},{"v":0,"d":"0.00"},null,{"$f":"SUM(D55:L55)","v":{"v":0,"d":"0.00"}}]
[null,"Road Sweepings","RecyclingRoad Sweepings",{"v":0,"d":"0.00"},{"v":0,"d":"0.00"},{"v":0,"d":"0.00"},{"v":0,"d":"0.00"},{"v":0,"d":"0.00"},319.54,{"v":0,"d":"0.00"},{"v":0,"d":"0.00"},{"v":0,"d":"0.00"},null,{"$f":"SUM(D56:L56)","v":319.54}]
[null,"Scrap metal (mixed)","RecyclingScrap metal (mixed)",30.67,18.56,28.67,30.65,20.53,{"v":54.60000000000001,"d":"54.60"},16.36,6.54,{"v":4,"d":"4.00"},null,{"$f":"SUM(D57:L57)","v":210.58}]
[null,"Screens output","RecyclingScreens output",{"v":3.8545,"d":"3.85"},{"v":1.7883,"d":"1.79"},{"v":8.0426,"d":"8.04"},{"v":6.6,"d":"6.60"},{"v":4.7468,"d":"4.75"},{"v":11.5849,"d":"11.58"},{"v":2.792,"d":"2.79"},{"v":0.7121,"d":"0.71"},{"v":1.3293,"d":"1.33"},null,{"$f":"SUM(D58:L58)","v":{"v":41.450500000000005,"d":"41.45"}}]
[null,"Small Domestic Appliances","RecyclingSmall Domestic Appliances",7.88,8.14,21.49,{"v":6.3,"d":"6.30"},11.26,21.79,5.46,1.32,1.86,null,{"$f":"SUM(D59:L59)","v":{"v":85.49999999999997,"d":"85.50"}}]
[null,"Soil & rubble","RecyclingSoil & rubble",{"v":0,"d":"0.00"},{"v":0,"d":"0.00"},{"v":0,"d":"0.00"},{"v":36,"d":"36.00"},{"v":0,"d":"0.00"},{"v":0,"d":"0.00"},{"v":0,"d":"0.00"},{"v":0,"d":"0.00"},{"v":0,"d":"0.00"},null,{"$f":"SUM(D60:L60)","v":{"v":36,"d":"36.00"}}]
[null,"Stainless Steel","RecyclingStainless Steel",{"v":0,"d":"0.00"},{"v":0,"d":"0.00"},{"v":0,"d":"0.00"},{"v":0,"d":"0.00"},{"v":0,"d":"0.00"},{"v":0,"d":"0.00"},{"v":0,"d":"0.00"},{"v":0,"d":"0.00"},{"v":0,"d":"0.00"},null,{"$f":"SUM(D61:L61)","v":{"v":0,"d":"0.00"}}]
[null,"Textiles","RecyclingTextiles",{"v":5.5,"d":"5.50"},{"v":3.7,"d":"3.70"},7.64,{"v":5.1,"d":"5.10"},5.78,5.56,2.15,{"v":0.4,"d":"0.40"},1.15,null,{"$f":"SUM(D62:L62)","v":36.98}]
[null,"Tyres","RecyclingTyres",{"v":0,"d":"0.00"},{"v":0,"d":"0.00"},{"v":0,"d":"0.00"},{"v":0,"d":"0.00"},{"v":0,"d":"0.00"},{"v":0,"d":"0.00"},{"v":0,"d":"0.00"},{"v":0,"d":"0.00"},{"v":0,"d":"0.00"},null,{"$f":"SUM(D63:L63)","v":{"v":0,"d":"0.00"}}]
[null,"Wood (including treated)","RecyclingWood (including treated)",{"v":0,"d":"0.00"},{"v":30.1,"d":"30.10"},36.17,98.03,35.86,124.88,14.14,4.54,10.68,null,{"$f":"SUM(D64:L64)","v":{"v":354.40000000000003,"d":"354.40"}}]
[]
[null,"Sub Total",null,{"$f":"SUM(D23:D64)","v":{"v":203.66209999999998,"d":"203.66"}},{"$f":"SUM(E23:E64)","v":{"v":151.9581,"d":"151.96"}},{"$f":"SUM(F23:F64)","v":{"v":233.812,"d":"233.81"}},{"$f":"SUM(G23:G64)","v":{"v":262.5,"d":"262.50"}},{"$f":"SUM(H23:H64)","v":{"v":192.0036,"d":"192.00"}},{"$f":"SUM(I23:I64)","v":{"v":723.1956999999999,"d":"723.20"}},{"$f":"SUM(J23:J64)","v":{"v":76.1368,"d":"76.14"}},{"$f":"SUM(K23:K64)","v":{"v":43.6746,"d":"43.67"}},{"$f":"SUM(L23:L64)","v":{"v":26.717299999999998,"d":"26.72"}},null,{"$f":"SUM(D66:L66)","v":{"v":1913.6602,"d":"1,913.66"}}]
[]
["Re-Use","Books","Re-UseBooks",{"v":0,"d":"0.00"},{"v":0,"d":"0.00"},{"v":0,"d":"0.00"},{"v":0,"d":"0.00"},{"v":0,"d":"0.00"},{"v":0,"d":"0.00"},{"v":0,"d":"0.00"},{"v":0,"d":"0.00"},{"v":0,"d":"0.00"},null,{"$f":"SUM(D68:L68)","v":{"v":0,"d":"0.00"}}]
[null,"Gas Cylinders","Re-UseGas Cylinders",{"v":0,"d":"0.00"},{"v":0,"d":"0.00"},{"v":0,"d":"0.00"},{"v":0,"d":"0.00"},{"v":0,"d":"0.00"},{"v":0,"d":"0.00"},{"v":0,"d":"0.00"},{"v":0,"d":"0.00"},{"v":0,"d":"0.00"},null,{"$f":"SUM(D69:L69)","v":{"v":0,"d":"0.00"}}]
[null,"Household Goods\r\nHousehold Goods","Re-UseHousehold Goods\r\nHousehold Goods",{"v":0,"d":"0.00"},{"v":0,"d":"0.00"},{"v":0,"d":"0.00"},{"v":9.305,"d":"9.31"},{"v":0,"d":"0.00"},{"v":0,"d":"0.00"},{"v":0,"d":"0.00"},{"v":0,"d":"0.00"},{"v":0,"d":"0.00"},null,{"$f":"SUM(D70:L70)","v":{"v":9.305,"d":"9.31"}}]
[null,"Inert (rubble/hardcore)","Re-UseInert (rubble/hardcore)",41.22,25.84,{"v":46.4,"d":"46.40"},{"v":0,"d":"0.00"},37.46,83.58,6.18,6.54,{"v":0,"d":"0.00"},null,{"$f":"SUM(D71:L71)","v":247.22}]
[null,"Soil","Re-UseSoil",{"v":0,"d":"0.00"},{"v":0,"d":"0.00"},{"v":0,"d":"0.00"},{"v":0,"d":"0.00"},{"v":0,"d":"0.00"},{"v":0,"d":"0.00"},{"v":8.8,"d":"8.80"},{"v":0,"d":"0.00"},{"v":0,"d":"0.00"},null,{"$f":"SUM(D72:L72)","v":{"v":8.8,"d":"8.80"}}]
[]
[null,"Sub Total",null,{"$f":"SUM(D68:D73)","v":41.22},{"$f":"SUM(E68:E73)","v":25.84},{"$f":"SUM(F68:F73)","v":{"v":46.4,"d":"46.40"}},{"$f":"SUM(G68:G73)","v":{"v":9.305,"d":"9.31"}},{"$f":"SUM(H68:H73)","v":37.46},{"$f":"SUM(I68:I73)","v":83.58},{"$f":"SUM(J68:J73)","v":14.98},{"$f":"SUM(K68:K73)","v":6.54},{"$f":"SUM(L68:L73)","v":{"v":0,"d":"0.00"}},null,{"$f":"SUM(D74:L74)","v":{"v":265.32500000000005,"d":"265.33"}}]
[]
[]
[null,"Grand Total",null,{"$f":"SUM(D7)+(D15)+(D21)+(D66)+(D74)","v":{"v":410.24209999999994,"d":"410.24"}},{"$f":"SUM(E7)+(E15)+(E21)+(E66)+(E74)","v":{"v":286.15809999999993,"d":"286.16"}},{"$f":"SUM(F7)+(F15)+(F21)+(F66)+(F74)","v":{"v":493.472,"d":"493.47"}},{"$f":"SUM(G7)+(G15)+(G21)+(G66)+(G74)","v":{"v":491.305,"d":"491.31"}},{"$f":"SUM(H7)+(H15)+(H21)+(H66)+(H74)","v":{"v":370.3886,"d":"370.39"}},{"$f":"SUM(I7)+(I15)+(I21)+(I66)+(I74)","v":{"v":1533.6457,"d":"1,533.65"}},{"$f":"SUM(J7)+(J15)+(J21)+(J66)+(J74)","v":{"v":137.2568,"d":"137.26"}},{"$f":"SUM(K7)+(K15)+(K21)+(K66)+(K74)","v":{"v":58.2146,"d":"58.21"}},{"$f":"SUM(L7)+(L15)+(L21)+(L66)+(L74)","v":{"v":63.627300000000005,"d":"63.63"}},null,{"$f":"SUM(D77:L77)","v":{"v":3844.3102,"d":"3,844.31"}}]

{"sheet":"January","index":9,"n_rows":77,"n_cols":14,"rows_kept":77}
["January","01/04/2015 to 31/03/2016"]
[]
["Treatment Use","Waste Type",null,"Burton Farm HWRC","Cherry Orchard HWRC","Hunters Lane HWRC & Transfer","Judkins HWRC","Lower House Farm HWRC","Princes Drive HWRC & Transfer","Shipston HWRC","Stockton HWRC","Wellesbourne HWRC",null,"Total"]
[]
["Composting","Green waste","CompostingGreen waste",25.82,{"v":14.1,"d":"14.10"},16.46,19.98,10.44,52.16,{"v":10.7,"d":"10.70"},2.69,1.97,null,{"$f":"SUM(D5:L5)","v":{"v":154.31999999999996,"d":"154.32"}}]
[]
[null,"Sub Total",null,{"$f":"SUM(D5:D5)","v":25.82},{"$f":"SUM(E5:E5)","v":{"v":14.1,"d":"14.10"}},{"$f":"SUM(F5:F5)","v":16.46},{"$f":"SUM(G5:G5)","v":19.98},{"$f":"SUM(H5:H5)","v":10.44},{"$f":"SUM(I5:I5)","v":52.16},{"$f":"SUM(J5:J5)","v":{"v":10.7,"d":"10.70"}},{"$f":"SUM(K5:K5)","v":2.69},{"$f":"SUM(L5:L5)","v":1.97},null,{"$f":"SUM(D7:L7)","v":{"v":154.31999999999996,"d":"154.32"}}]
[]
["Efw (incineration)","Bulky Waste","Efw (incineration)Bulky Waste",{"v":0,"d":"0.00"},{"v":0,"d":"0.00"},{"v":0,"d":"0.00"},{"v":0,"d":"0.00"},23.04,{"v":0,"d":"0.00"},{"v":0,"d":"0.00"},{"v":0,"d":"0.00"},{"v":0,"d":"0.00"},null,{"$f":"SUM(D9:L9)","v":23.04}]
[null,"Chemicals","Efw (incineration)Chemicals",{"v":0,"d":"0.00"},{"v":0,"d":"0.00"},{"v":0,"d":"0.00"},{"v":0,"d":"0.00"},{"v":0,"d":"0.00"},{"v":0,"d":"0.00"},{"v":0,"d":"0.00"},{"v":0,"d":"0.00"},{"v":0,"d":"0.00"},null,{"$f":"SUM(D10:L10)","v":{"v":0,"d":"0.00"}}]
[null,"Clinical","Efw (incineration)Clinical",{"v":0,"d":"0.00"},{"v":0,"d":"0.00"},{"v":0,"d":"0.00"},{"v":0,"d":"0.00"},{"v":0,"d":"0.00"},{"v":2.305,"d":"2.31"},{"v":0,"d":"0.00"},{"v":0,"d":"0.00"},{"v":0,"d":"0.00"},null,{"$f":"SUM(D11:L11)","v":{"v":2.305,"d":"2.31"}}]
[null,"General (mixed waste)","Efw (incineration)General (mixed waste)",{"v":0,"d":"0.00"},{"v":0,"d":"0.00"},{"v":0,"d":"0.00"},{"v":0,"d":"0.00"},130.92,{"v":0,"d":"0.00"},{"v":0,"d":"0.00"},{"v":0,"d":"0.00"},{"v":0,"d":"0.00"},null,{"$f":"SUM(D12:L12)","v":130.92}]
[null,"Paint (chemicals)","Efw (incineration)Paint (chemicals)",{"v":0,"d":"0.00"},{"v":0,"d":"0.00"},{"v":0,"d":"0.00"},{"v":0,"d":"0.00"},{"v":0,"d":"0.00"},{"v":0,"d":"0.00"},{"v":0,"d":"0.00"},{"v":0,"d":"0.00"},{"v":0,"d":"0.00"},null,{"$f":"SUM(D13:L13)","v":{"v":0,"d":"0.00"}}]
[]
[null,"Sub Total",null,{"$f":"SUM(D9:D13)","v":{"v":0,"d":"0.00"}},{"$f":"SUM(E9:E13)","v":{"v":0,"d":"0.00"}},{"$f":"SUM(F9:F13)","v":{"v":0,"d":"0.00"}},{"$f":"SUM(G9:G13)","v":{"v":0,"d":"0.00"}},{"$f":"SUM(H9:H13)","v":{"v":153.95999999999998,"d":"153.96"}},{"$f":"SUM(I9:I13)","v":{"v":2.305,"d":"2.31"}},{"$f":"SUM(J9:J13)","v":{"v":0,"d":"0.00"}},{"$f":"SUM(K9:K13)","v":{"v":0,"d":"0.00"}},{"$f":"SUM(L9:L13)","v":{"v":0,"d":"0.00"}},null,{"$f":"SUM(D15:L15)","v":{"v":156.265,"d":"156.27"}}]
[]
["Landfill","Asbestos","LandfillAsbestos",{"v":0,"d":"0.00"},{"v":0,"d":"0.00"},{"v":0,"d":"0.00"},{"v":0,"d":"0.00"},{"v":0,"d":"0.00"},{"v":0,"d":"0.00"},{"v":0,"d":"0.00"},{"v":0,"d":"0.00"},{"v":0,"d":"0.00"},null,{"$f":"SUM(D17:L17)","v":{"v":0,"d":"0.00"}}]
[null,"General (mixed waste)","LandfillGeneral (mixed waste)",146.84,110.03,211.76,348.86,{"v":0,"d":"0.00"},642.02,{"v":45.879999999999995,"d":"45.88"},{"v":25.330000000000002,"d":"25.33"},31.46,null,{"$f":"SUM(D18:L18)","v":{"v":1562.1799999999998,"d":"1,562.18"}}]
[null,"Hard Plastic","LandfillHard Plastic",{"v":0,"d":"0.00"},{"v":0,"d":"0.00"},{"v":0,"d":"0.00"},{"v":0,"d":"0.00"},1.48,0.71,{"v":0,"d":"0.00"},{"v":0,"d":"0.00"},{"v":0,"d":"0.00"},null,{"$f":"SUM(D19:L19)","v":2.19}]
[]
[null,"Sub Total",null,{"$f":"SUM(D17:D19)","v":146.84},{"$f":"SUM(E17:E19)","v":110.03},{"$f":"SUM(F17:F19)","v":211.76},{"$f":"SUM(G17:G19)","v":348.86},{"$f":"SUM(H17:H19)","v":1.48},{"$f":"SUM(I17:I19)","v":642.73},{"$f":"SUM(J17:J19)","v":{"v":45.879999999999995,"d":"45.88"}},{"$f":"SUM(K17:K19)","v":{"v":25.330000000000002,"d":"25.33"}},{"$f":"SUM(L17:L19)","v":31.46},null,{"$f":"SUM(D21:L21)","v":{"v":1564.37,"d":"1,564.37"}}]
[]
["Recycling","Aluminium (nf)","RecyclingAluminium (nf)",{"v":0,"d":"0.00"},{"v":0,"d":"0.00"},{"v":0,"d":"0.00"},{"v":0,"d":"0.00"},{"v":0,"d":"0.00"},{"v":0,"d":"0.00"},{"v":0,"d":"0.00"},{"v":0,"d":"0.00"},{"v":0,"d":"0.00"},null,{"$f":"SUM(D23:L23)","v":{"v":0,"d":"0.00"}}]
[null,"Batteries (car)","RecyclingBatteries (car)",{"v":0,"d":"0.00"},{"v":2.272,"d":"2.27"},4.74,{"v":0,"d":"0.00"},4.02,{"v":0,"d":"0.00"},0.36,{"v":0,"d":"0.00"},{"v":0,"d":"0.00"},null,{"$f":"SUM(D24:L24)","v":{"v":11.392,"d":"11.39"}}]
[null,"Batteries (household)","RecyclingBatteries (household)",{"v":0,"d":"0.00"},{"v":0,"d":"0.00"},{"v":0,"d":"0.00"},{"v":0,"d":"0.00"},0.72,{"v":0,"d":"0.00"},{"v":0,"d":"0.00"},{"v":0,"d":"0.00"},{"v":0,"d":"0.00"},null,{"$f":"SUM(D25:L25)","v":0.72}]
[null,"Books","RecyclingBooks",{"v":0,"d":"0.00"},{"v":0,"d":"0.00"},{"v":0,"d":"0.00"},{"v":4.1,"d":"4.10"},{"v":0,"d":"0.00"},{"v":0,"d":"0.00"},{"v":0,"d":"0.00"},{"v":0,"d":"0.00"},{"v":0,"d":"0.00"},null,{"$f":"SUM(D26:L26)","v":{"v":4.1,"d":"4.10"}}]
[null,"Brass(nf)","RecyclingBrass(nf)",{"v":0,"d":"0.00"},{"v":0,"d":"0.00"},{"v":0,"d":"0.00"},{"v":0,"d":"0.00"},{"v":0,"d":"0.00"},{"v":0.064,"d":"0.06"},{"v":0,"d":"0.00"},{"v":0,"d":"0.00"},{"v":0,"d":"0.00"},null,{"$f":"SUM(D27:L27)","v":{"v":0.064,"d":"0.06"}}]
[null,"Cable (nf)","RecyclingCable (nf)",{"v":0,"d":"0.00"},{"v":0,"d":"0.00"},{"v":0,"d":"0.00"},{"v":0,"d":"0.00"},{"v":0,"d":"0.00"},{"v":0,"d":"0.00"},0.36,{"v":0,"d":"0.00"},{"v":0,"d":"0.00"},null,{"$f":"SUM(D28:L28)","v":0.36}]
[null,"Cardboard","RecyclingCardboard",17.84,{"v":15.620000000000001,"d":"15.62"},{"v":6.5200000000000005,"d":"6.52"},38.19,{"v":14.799999999999999,"d":"14.80"},73.48,{"v":11.219999999999999,"d":"11.22"},2.75,8.27,null,{"$f":"SUM(D29:L29)","v":188.69}]
[null,"Carpet","RecyclingCarpet",18.48,13.64,16.67,{"v":29.7,"d":"29.70"},14.46,{"v":36.199999999999996,"d":"36.20"},5.32,{"v":0,"d":"0.00"},{"v":0,"d":"0.00"},null,{"$f":"SUM(D30:L30)","v":134.47}]
[null,"Chipboard","RecyclingChipboard",{"v":63.97999999999999,"d":"63.98"},15.16,59.54,{"v":0,"d":"0.00"},{"v":57.9,"d":"57.90"},{"v":14.7,"d":"14.70"},6.44,{"v":0,"d":"0.00"},2.99,null,{"$f":"SUM(D31:L31)","v":{"v":220.70999999999998,"d":"220.71"}}]
[null,"Copper & Brass Mixed (nf)","RecyclingCopper & Brass Mixed (nf)",{"v":0,"d":"0.00"},{"v":0,"d":"0.00"},{"v":0,"d":"0.00"},{"v":0,"d":"0.00"},{"v":0,"d":"0.00"},{"v":0,"d":"0.00"},{"v":0,"d":"0.00"},{"v":0,"d":"0.00"},{"v":0,"d":"0.00"},null,{"$f":"SUM(D32:L32)","v":{"v":0,"d":"0.00"}}]
[null,"Drink Cartons","RecyclingDrink Cartons",{"v":0,"d":"0.00"},{"v":0.15654,"d":"0.16"},{"v":0,"d":"0.00"},{"v":0,"d":"0.00"},{"v":0.12119,"d":"0.12"},{"v":0.15148,"d":"0.15"},{"v":0,"d":"0.00"},{"v":0,"d":"0.00"},{"v":0,"d":"0.00"},null,{"$f":"SUM(D33:L33)","v":{"v":0.42921000000000004,"d":"0.43"}}]
[null,"Fire Extinguishers","RecyclingFire Extinguishers",{"v":0,"d":"0.00"},{"v":0,"d":"0.00"},{"v":0,"d":"0.00"},{"v":0,"d":"0.00"},{"v":0,"d":"0.00"},{"v":0.5,"d":"0.50"},{"v":0,"d":"0.00"},{"v":0,"d":"0.00"},{"v":0,"d":"0.00"},null,{"$f":"SUM(D34:L34)","v":{"v":0.5,"d":"0.50"}}]
[null,"Fluorescent Tubes Output","RecyclingFluorescent Tubes Output",{"v":0,"d":"0.00"},{"v":0.265,"d":"0.27"},0.19,{"v":0,"d":"0.00"},{"v":0,"d":"0.00"},0.09,0.34,{"v":0,"d":"0.00"},{"v":0,"d":"0.00"},null,{"$f":"SUM(D35:L35)","v":{"v":0.885,"d":"0.89"}}]
[null,"Fridges Output","RecyclingFridges Output",{"v":7.8274,"d":"7.83"},{"v":2.1393,"d":"2.14"},{"v":11.5814,"d":"11.58"},{"v":4,"d":"4.00"},{"v":13.3975,"d":"13.40"},{"v":9.9098,"d":"9.91"},{"v":2.7722,"d":"2.77"},{"v":1.2879,"d":"1.29"},{"v":0,"d":"0.00"},null,{"$f":"SUM(D36:L36)","v":{"v":52.9155,"d":"52.92"}}]
[null,"Gas Cylinders","RecyclingGas Cylinders",0.02,{"v":0,"d":"0.00"},{"v":0,"d":"0.00"},0.95,{"v":0,"d":"0.00"},0.62,{"v":0,"d":"0.00"},{"v":0,"d":"0.00"},{"v":0,"d":"0.00"},null,{"$f":"SUM(D37:L37)","v":{"v":1.5899999999999999,"d":"1.59"}}]
[null,"General (mixed waste)","RecyclingGeneral (mixed waste)",{"v":0,"d":"0.00"},{"v":0,"d":"0.00"},{"v":0,"d":"0.00"},{"v":0,"d":"0.00"},{"v":0,"d":"0.00"},{"v":0,"d":"0.00"},{"v":0,"d":"0.00"},{"v":0,"d":"0.00"},{"v":0,"d":"0.00"},null,{"$f":"SUM(D38:L38)","v":{"v":0,"d":"0.00"}}]
[null,"Glass (bottles)","RecyclingGlass (bottles)",{"v":4.843,"d":"4.84"},10.99,{"v":4.416,"d":"4.42"},{"v":0,"d":"0.00"},{"v":2.271,"d":"2.27"},14.04,{"v":3.701,"d":"3.70"},{"v":1.288,"d":"1.29"},{"v":2.944,"d":"2.94"},null,{"$f":"SUM(D39:L39)","v":{"v":44.493,"d":"44.49"}}]
[null,"Green waste","RecyclingGreen waste",{"v":0,"d":"0.00"},{"v":0,"d":"0.00"},{"v":0,"d":"0.00"},{"v":0,"d":"0.00"},{"v":0,"d":"0.00"},{"v":0,"d":"0.00"},{"v":0,"d":"0.00"},{"v":0,"d":"0.00"},{"v":0,"d":"0.00"},null,{"$f":"SUM(D40:L40)","v":{"v":0,"d":"0.00"}}]
[null,"Hard Plastic","RecyclingHard Plastic",{"v":0,"d":"0.00"},{"v":0,"d":"0.00"},{"v":0,"d":"0.00"},7.58,{"v":0,"d":"0.00"},{"v":0,"d":"0.00"},{"v":0,"d":"0.00"},{"v":0,"d":"0.00"},{"v":0,"d":"0.00"},null,{"$f":"SUM(D41:L41)","v":7.58}]
[null,"Household Goods\r\nHousehold Goods","RecyclingHousehold Goods\r\nHousehold Goods",{"v":0,"d":"0.00"},{"v":0,"d":"0.00"},{"v":0,"d":"0.00"},{"v":0,"d":"0.00"},{"v":0,"d":"0.00"},{"v":0,"d":"0.00"},{"v":0,"d":"0.00"},{"v":0,"d":"0.00"},{"v":0,"d":"0.00"},null,{"$f":"SUM(D42:L42)","v":{"v":0,"d":"0.00"}}]
[null,"Inert (rubble/hardcore)","RecyclingInert (rubble/hardcore)",{"v":0,"d":"0.00"},{"v":0,"d":"0.00"},{"v":0,"d":"0.00"},{"v":0,"d":"0.00"},{"v":0,"d":"0.00"},{"v":0,"d":"0.00"},{"v":0,"d":"0.00"},{"v":0,"d":"0.00"},{"v":0,"d":"0.00"},null,{"$f":"SUM(D43:L43)","v":{"v":0,"d":"0.00"}}]
[null,"Lead (nf)","RecyclingLead (nf)",{"v":0,"d":"0.00"},{"v":0,"d":"0.00"},{"v":0,"d":"0.00"},{"v":0,"d":"0.00"},{"v":0,"d":"0.00"},{"v":0.042,"d":"0.04"},{"v":0,"d":"0.00"},{"v":0,"d":"0.00"},{"v":0,"d":"0.00"},null,{"$f":"SUM(D44:L44)","v":{"v":0.042,"d":"0.04"}}]
[null,"Matresses","RecyclingMatresses",{"v":0,"d":"0.00"},{"v":0,"d":"0.00"},{"v":0,"d":"0.00"},{"v":0,"d":"0.00"},7.06,{"v":0,"d":"0.00"},{"v":0,"d":"0.00"},{"v":0,"d":"0.00"},{"v":0,"d":"0.00"},null,{"$f":"SUM(D45:L45)","v":7.06}]
[null,"Microwave Motors","RecyclingMicrowave Motors",{"v":0,"d":"0.00"},{"v":0,"d":"0.00"},{"v":0,"d":"0.00"},{"v":0,"d":"0.00"},{"v":0,"d":"0.00"},{"v":6.5,"d":"6.50"},{"v":0,"d":"0.00"},{"v":0,"d":"0.00"},{"v":0,"d":"0.00"},null,{"$f":"SUM(D46:L46)","v":{"v":6.5,"d":"6.50"}}]
[null,"Non Ferrous Metal  \r\nNon Ferrous Metal","RecyclingNon Ferrous Metal  \r\nNon Ferrous Metal",0.36,1.08,4.06,{"v":0,"d":"0.00"},{"v":1.8,"d":"1.80"},{"v":0.284,"d":"0.28"},1.04,{"v":0,"d":"0.00"},{"v":0,"d":"0.00"},null,{"$f":"SUM(D47:L47)","v":{"v":8.623999999999999,"d":"8.62"}}]
[null,"Oil (Engine)","RecyclingOil (Engine)",{"v":1.584,"d":"1.58"},{"v":0,"d":"0.00"},{"v":0,"d":"0.00"},{"v":1.5,"d":"1.50"},{"v":0,"d":"0.00"},{"v":1.408,"d":"1.41"},{"v":0,"d":"0.00"},{"v":0,"d":"0.00"},{"v":1.408,"d":"1.41"},null,{"$f":"SUM(D48:L48)","v":{"v":5.9,"d":"5.90"}}]
[null,"Oil (Vegetable)","RecyclingOil (Vegetable)",{"v":0,"d":"0.00"},{"v":0,"d":"0.00"},{"v":0,"d":"0.00"},{"v":0,"d":"0.00"},{"v":0,"d":"0.00"},{"v":0,"d":"0.00"},{"v":0.528,"d":"0.53"},{"v":0,"d":"0.00"},{"v":0,"d":"0.00"},null,{"$f":"SUM(D49:L49)","v":{"v":0.528,"d":"0.53"}}]
[null,"Paint (chemicals)","RecyclingPaint (chemicals)",{"v":0,"d":"0.00"},0.03,{"v":0,"d":"0.00"},{"v":0,"d":"0.00"},{"v":0,"d":"0.00"},{"v":0,"d":"0.00"},{"v":0,"d":"0.00"},{"v":0,"d":"0.00"},{"v":0,"d":"0.00"},null,{"$f":"SUM(D50:L50)","v":0.03}]
[null,"Paper (mixed with card)","RecyclingPaper (mixed with card)",{"v":0,"d":"0.00"},{"v":0,"d":"0.00"},{"v":0,"d":"0.00"},{"v":0,"d":"0.00"},{"v":0,"d":"0.00"},{"v":0,"d":"0.00"},{"v":0,"d":"0.00"},{"v":0,"d":"0.00"},{"v":0,"d":"0.00"},null,{"$f":"SUM(D51:L51)","v":{"v":0,"d":"0.00"}}]
[null,"Paper (newspaper & magazines)","RecyclingPaper (newspaper & magazines)",31.16,{"v":29.1,"d":"29.10"},{"v":30.060000000000002,"d":"30.06"},{"v":7.8,"d":"7.80"},{"v":15.299999999999999,"d":"15.30"},{"v":16.939999999999998,"d":"16.94"},{"v":0,"d":"0.00"},{"v":0,"d":"0.00"},{"v":0,"d":"0.00"},null,{"$f":"SUM(D52:L52)","v":130.36}]
[null,"Plasterboard","RecyclingPlasterboard",{"v":0,"d":"0.00"},0.16,13.04,{"v":10,"d":"10.00"},{"v":0,"d":"0.00"},9.72,{"v":0,"d":"0.00"},{"v":0,"d":"0.00"},{"v":0,"d":"0.00"},null,{"$f":"SUM(D53:L53)","v":32.92}]
[null,"Plastic (Mixed)","RecyclingPlastic (Mixed)",{"v":0,"d":"0.00"},1.64,0.18,{"v":0,"d":"0.00"},{"v":0,"d":"0.00"},{"v":0,"d":"0.00"},0.25,{"v":0,"d":"0.00"},0.22,null,{"$f":"SUM(D54:L54)","v":2.29}]
[null,"Printer Cartridges","RecyclingPrinter Cartridges",{"v":0,"d":"0.00"},{"v":0,"d":"0.00"},{"v":0,"d":"0.00"},{"v":0,"d":"0.00"},{"v":0,"d":"0.00"},{"v":0,"d":"0.00"},{"v":0,"d":"0.00"},{"v":0,"d":"0.00"},{"v":0,"d":"0.00"},null,{"$f":"SUM(D55:L55)","v":{"v":0,"d":"0.00"}}]
[null,"Road Sweepings","RecyclingRoad Sweepings",{"v":0,"d":"0.00"},{"v":0,"d":"0.00"},{"v":0,"d":"0.00"},{"v":0,"d":"0.00"},{"v":0,"d":"0.00"},{"v":377.2,"d":"377.20"},{"v":0,"d":"0.00"},{"v":0,"d":"0.00"},{"v":0,"d":"0.00"},null,{"$f":"SUM(D56:L56)","v":{"v":377.2,"d":"377.20"}}]
[null,"Scrap metal (mixed)","RecyclingScrap metal (mixed)",31.67,20.68,37.64,46.42,{"v":31.2,"d":"31.20"},{"v":62.160000000000004,"d":"62.16"},19.64,6.76,{"v":7.4399999999999995,"d":"7.44"},null,{"$f":"SUM(D57:L57)","v":263.61}]
[null,"Screens output","RecyclingScreens output",{"v":4.2112,"d":"4.21"},{"v":2.8161,"d":"2.82"},{"v":6.8707,"d":"6.87"},{"v":4.1,"d":"4.10"},{"v":5.3609,"d":"5.36"},{"v":13.1273,"d":"13.13"},{"v":1.8834,"d":"1.88"},{"v":1.3961,"d":"1.40"},{"v":4.1234,"d":"4.12"},null,{"$f":"SUM(D58:L58)","v":{"v":43.8891,"d":"43.89"}}]
[null,"Small Domestic Appliances","RecyclingSmall Domestic Appliances",19.23,{"v":6.5,"d":"6.50"},17.17,{"v":12.6,"d":"12.60"},19.19,39.63,6.72,{"v":2.6,"d":"2.60"},2.91,null,{"$f":"SUM(D59:L59)","v":{"v":126.55000000000001,"d":"126.55"}}]
[null,"Soil & rubble","RecyclingSoil & rubble",{"v":0,"d":"0.00"},{"v":0,"d":"0.00"},{"v":0,"d":"0.00"},{"v":55.9,"d":"55.90"},{"v":0,"d":"0.00"},{"v":0,"d":"0.00"},{"v":0,"d":"0.00"},{"v":0,"d":"0.00"},{"v":0,"d":"0.00"},null,{"$f":"SUM(D60:L60)","v":{"v":55.9,"d":"55.90"}}]
[null,"Stainless Steel","RecyclingStainless Steel",{"v":0,"d":"0.00"},{"v":0,"d":"0.00"},{"v":0,"d":"0.00"},{"v":0,"d":"0.00"},{"v":0,"d":"0.00"},{"v":0,"d":"0.00"},{"v":0,"d":"0.00"},{"v":0,"d":"0.00"},{"v":0,"d":"0.00"},null,{"$f":"SUM(D61:L61)","v":{"v":0,"d":"0.00"}}]
[null,"Textiles","RecyclingTextiles",{"v":8.8,"d":"8.80"},{"v":7.1,"d":"7.10"},9.21,5.64,7.24,10.28,3.25,{"v":1.1,"d":"1.10"},1.92,null,{"$f":"SUM(D62:L62)","v":{"v":54.540000000000006,"d":"54.54"}}]
[null,"Tyres","RecyclingTyres",{"v":0,"d":"0.00"},{"v":0,"d":"0.00"},{"v":0,"d":"0.00"},{"v":0,"d":"0.00"},{"v":0,"d":"0.00"},{"v":0,"d":"0.00"},{"v":0,"d":"0.00"},{"v":0,"d":"0.00"},{"v":0,"d":"0.00"},null,{"$f":"SUM(D63:L63)","v":{"v":0,"d":"0.00"}}]
[null,"Wood (including treated)","RecyclingWood (including treated)",{"v":0,"d":"0.00"},37.64,{"v":26.1,"d":"26.10"},101.38,34.78,145.08,19.54,10.02,10.77,null,{"$f":"SUM(D64:L64)","v":385.31}]
[]
[null,"Sub Total",null,{"$f":"SUM(D23:D64)","v":{"v":210.00559999999996,"d":"210.01"}},{"$f":"SUM(E23:E64)","v":{"v":166.98894,"d":"166.99"}},{"$f":"SUM(F23:F64)","v":{"v":247.98810000000003,"d":"247.99"}},{"$f":"SUM(G23:G64)","v":329.86},{"$f":"SUM(H23:H64)","v":{"v":229.62059,"d":"229.62"}},{"$f":"SUM(I23:I64)","v":{"v":832.1265799999999,"d":"832.13"}},{"$f":"SUM(J23:J64)","v":{"v":83.3646,"d":"83.36"}},{"$f":"SUM(K23:K64)","v":{"v":27.202,"d":"27.20"}},{"$f":"SUM(L23:L64)","v":{"v":42.995400000000004,"d":"43.00"}},null,{"$f":"SUM(D66:L66)","v":{"v":2170.15181,"d":"2,170.15"}}]
[]
["Re-Use","Books","Re-UseBooks",0.18,{"v":0,"d":"0.00"},{"v":0,"d":"0.00"},{"v":0,"d":"0.00"},{"v":0,"d":"0.00"},{"v":0,"d":"0.00"},{"v":0,"d":"0.00"},{"v":0,"d":"0.00"},0.16,null,{"$f":"SUM(D68:L68)","v":{"v":0.33999999999999997,"d":"0.34"}}]
[null,"Gas Cylinders","Re-UseGas Cylinders",{"v":0,"d":"0.00"},{"v":0,"d":"0.00"},{"v":0,"d":"0.00"},{"v":0,"d":"0.00"},{"v":0,"d":"0.00"},{"v":0,"d":"0.00"},{"v":0,"d":"0.00"},{"v":0,"d":"0.00"},{"v":0,"d":"0.00"},null,{"$f":"SUM(D69:L69)","v":{"v":0,"d":"0.00"}}]
[null,"Household Goods\r\nHousehold Goods","Re-UseHousehold Goods\r\nHousehold Goods",{"v":0,"d":"0.00"},{"v":0,"d":"0.00"},{"v":0,"d":"0.00"},{"v":10.604,"d":"10.60"},{"v":0,"d":"0.00"},{"v":0,"d":"0.00"},{"v":0,"d":"0.00"},{"v":0,"d":"0.00"},{"v":0,"d":"0.00"},null,{"$f":"SUM(D70:L70)","v":{"v":10.604,"d":"10.60"}}]
[null,"Inert (rubble/hardcore)","Re-UseInert (rubble/hardcore)",47.72,27.12,{"v":23.1,"d":"23.10"},{"v":0,"d":"0.00"},46.34,86.52,15.76,{"v":6,"d":"6.00"},9.92,null,{"$f":"SUM(D71:L71)","v":262.48}]
[null,"Soil","Re-UseSoil",{"v":0,"d":"0.00"},{"v":0,"d":"0.00"},{"v":0,"d":"0.00"},{"v":0,"d":"0.00"},{"v":0,"d":"0.00"},{"v":0,"d":"0.00"},{"v":0,"d":"0.00"},{"v":0,"d":"0.00"},{"v":0,"d":"0.00"},null,{"$f":"SUM(D72:L72)","v":{"v":0,"d":"0.00"}}]
[]
[null,"Sub Total",null,{"$f":"SUM(D68:D73)","v":{"v":47.9,"d":"47.90"}},{"$f":"SUM(E68:E73)","v":27.12},{"$f":"SUM(F68:F73)","v":{"v":23.1,"d":"23.10"}},{"$f":"SUM(G68:G73)","v":{"v":10.604,"d":"10.60"}},{"$f":"SUM(H68:H73)","v":46.34},{"$f":"SUM(I68:I73)","v":86.52},{"$f":"SUM(J68:J73)","v":15.76},{"$f":"SUM(K68:K73)","v":{"v":6,"d":"6.00"}},{"$f":"SUM(L68:L73)","v":10.08},null,{"$f":"SUM(D74:L74)","v":{"v":273.424,"d":"273.42"}}]
[]
[]
[null,"Grand Total",null,{"$f":"SUM(D7)+(D15)+(D21)+(D66)+(D74)","v":{"v":430.5655999999999,"d":"430.57"}},{"$f":"SUM(E7)+(E15)+(E21)+(E66)+(E74)","v":{"v":318.23894,"d":"318.24"}},{"$f":"SUM(F7)+(F15)+(F21)+(F66)+(F74)","v":{"v":499.3081000000001,"d":"499.31"}},{"$f":"SUM(G7)+(G15)+(G21)+(G66)+(G74)","v":{"v":709.3040000000001,"d":"709.30"}},{"$f":"SUM(H7)+(H15)+(H21)+(H66)+(H74)","v":{"v":441.84059,"d":"441.84"}},{"$f":"SUM(I7)+(I15)+(I21)+(I66)+(I74)","v":{"v":1615.8415799999998,"d":"1,615.84"}},{"$f":"SUM(J7)+(J15)+(J21)+(J66)+(J74)","v":{"v":155.70459999999997,"d":"155.70"}},{"$f":"SUM(K7)+(K15)+(K21)+(K66)+(K74)","v":{"v":61.22200000000001,"d":"61.22"}},{"$f":"SUM(L7)+(L15)+(L21)+(L66)+(L74)","v":{"v":86.5054,"d":"86.51"}},null,{"$f":"SUM(D77:L77)","v":{"v":4318.530809999999,"d":"4,318.53"}}]

{"sheet":"February","index":10,"n_rows":77,"n_cols":14,"rows_kept":77}
["February","01/04/2015 to 31/03/2016"]
[]
["Treatment Use","Waste Type",null,"Burton Farm HWRC","Cherry Orchard HWRC","Hunters Lane HWRC & Transfer","Judkins HWRC","Lower House Farm HWRC","Princes Drive HWRC & Transfer","Shipston HWRC","Stockton HWRC","Wellesbourne HWRC",null,"Total"]
[]
["Composting","Green waste","CompostingGreen waste",24.64,42.82,18.03,{"v":21.8,"d":"21.80"},17.22,62.58,12.18,1.93,{"v":0,"d":"0.00"},null,{"$f":"SUM(D5:L5)","v":{"v":201.20000000000002,"d":"201.20"}}]
[]
[null,"Sub Total",null,{"$f":"SUM(D5:D5)","v":24.64},{"$f":"SUM(E5:E5)","v":42.82},{"$f":"SUM(F5:F5)","v":18.03},{"$f":"SUM(G5:G5)","v":{"v":21.8,"d":"21.80"}},{"$f":"SUM(H5:H5)","v":17.22},{"$f":"SUM(I5:I5)","v":62.58},{"$f":"SUM(J5:J5)","v":12.18},{"$f":"SUM(K5:K5)","v":1.93},{"$f":"SUM(L5:L5)","v":{"v":0,"d":"0.00"}},null,{"$f":"SUM(D7:L7)","v":{"v":201.20000000000002,"d":"201.20"}}]
[]
["Efw (incineration)","Bulky Waste","Efw (incineration)Bulky Waste",{"v":0,"d":"0.00"},{"v":0,"d":"0.00"},{"v":0,"d":"0.00"},{"v":0,"d":"0.00"},17.18,{"v":0,"d":"0.00"},{"v":0,"d":"0.00"},{"v":0,"d":"0.00"},{"v":0,"d":"0.00"},null,{"$f":"SUM(D9:L9)","v":17.18}]
[null,"Chemicals","Efw (incineration)Chemicals",{"v":0,"d":"0.00"},{"v":0,"d":"0.00"},{"v":0,"d":"0.00"},{"v":0,"d":"0.00"},{"v":0,"d":"0.00"},{"v":0,"d":"0.00"},{"v":0,"d":"0.00"},{"v":0,"d":"0.00"},{"v":0,"d":"0.00"},null,{"$f":"SUM(D10:L10)","v":{"v":0,"d":"0.00"}}]
[null,"Clinical","Efw (incineration)Clinical",{"v":0,"d":"0.00"},{"v":0,"d":"0.00"},{"v":0,"d":"0.00"},{"v":0,"d":"0.00"},{"v":0,"d":"0.00"},{"v":1.108,"d":"1.11"},{"v":0,"d":"0.00"},{"v":0,"d":"0.00"},{"v":0,"d":"0.00"},null,{"$f":"SUM(D11:L11)","v":{"v":1.108,"d":"1.11"}}]
[null,"General (mixed waste)","Efw (incineration)General (mixed waste)",{"v":0,"d":"0.00"},{"v":0,"d":"0.00"},{"v":0,"d":"0.00"},{"v":0,"d":"0.00"},133.14,{"v":0,"d":"0.00"},{"v":0,"d":"0.00"},{"v":0,"d":"0.00"},{"v":0,"d":"0.00"},null,{"$f":"SUM(D12:L12)","v":133.14}]
[null,"Paint (chemicals)","Efw (incineration)Paint (chemicals)",{"v":0,"d":"0.00"},{"v":0,"d":"0.00"},{"v":0,"d":"0.00"},{"v":0,"d":"0.00"},{"v":0,"d":"0.00"},{"v":0,"d":"0.00"},{"v":0,"d":"0.00"},{"v":0,"d":"0.00"},{"v":0,"d":"0.00"},null,{"$f":"SUM(D13:L13)","v":{"v":0,"d":"0.00"}}]
[]
[null,"Sub Total",null,{"$f":"SUM(D9:D13)","v":{"v":0,"d":"0.00"}},{"$f":"SUM(E9:E13)","v":{"v":0,"d":"0.00"}},{"$f":"SUM(F9:F13)","v":{"v":0,"d":"0.00"}},{"$f":"SUM(G9:G13)","v":{"v":0,"d":"0.00"}},{"$f":"SUM(H9:H13)","v":150.32},{"$f":"SUM(I9:I13)","v":{"v":1.108,"d":"1.11"}},{"$f":"SUM(J9:J13)","v":{"v":0,"d":"0.00"}},{"$f":"SUM(K9:K13)","v":{"v":0,"d":"0.00"}},{"$f":"SUM(L9:L13)","v":{"v":0,"d":"0.00"}},null,{"$f":"SUM(D15:L15)","v":{"v":151.428,"d":"151.43"}}]
[]
["Landfill","Asbestos","LandfillAsbestos",{"v":0,"d":"0.00"},{"v":0,"d":"0.00"},{"v":0,"d":"0.00"},{"v":0,"d":"0.00"},{"v":0,"d":"0.00"},{"v":0,"d":"0.00"},{"v":0,"d":"0.00"},{"v":0,"d":"0.00"},{"v":0,"d":"0.00"},null,{"$f":"SUM(D17:L17)","v":{"v":0,"d":"0.00"}}]
[null,"General (mixed waste)","LandfillGeneral (mixed waste)",{"v":160.3,"d":"160.30"},{"v":85.8,"d":"85.80"},{"v":157.82999999999998,"d":"157.83"},{"v":254.7,"d":"254.70"},18.11,600.14,34.96,{"v":27.401,"d":"27.40"},39.83,null,{"$f":"SUM(D18:L18)","v":{"v":1379.0710000000001,"d":"1,379.07"}}]
[null,"Hard Plastic","LandfillHard Plastic",{"v":0,"d":"0.00"},{"v":0,"d":"0.00"},{"v":3.425,"d":"3.43"},{"v":0,"d":"0.00"},{"v":2.765,"d":"2.77"},{"v":0,"d":"0.00"},{"v":0,"d":"0.00"},{"v":0,"d":"0.00"},{"v":0,"d":"0.00"},null,{"$f":"SUM(D19:L19)","v":{"v":6.1899999999999995,"d":"6.19"}}]
[]
[null,"Sub Total",null,{"$f":"SUM(D17:D19)","v":{"v":160.3,"d":"160.30"}},{"$f":"SUM(E17:E19)","v":{"v":85.8,"d":"85.80"}},{"$f":"SUM(F17:F19)","v":{"v":161.255,"d":"161.26"}},{"$f":"SUM(G17:G19)","v":{"v":254.7,"d":"254.70"}},{"$f":"SUM(H17:H19)","v":{"v":20.875,"d":"20.88"}},{"$f":"SUM(I17:I19)","v":600.14},{"$f":"SUM(J17:J19)","v":34.96},{"$f":"SUM(K17:K19)","v":{"v":27.401,"d":"27.40"}},{"$f":"SUM(L17:L19)","v":39.83},null,{"$f":"SUM(D21:L21)","v":{"v":1385.2610000000002,"d":"1,385.26"}}]
[]
["Recycling","Aluminium (nf)","RecyclingAluminium (nf)",{"v":0,"d":"0.00"},{"v":0,"d":"0.00"},{"v":0.3,"d":"0.30"},{"v":0,"d":"0.00"},{"v":1.5,"d":"1.50"},0.44,{"v":0,"d":"0.00"},{"v":0,"d":"0.00"},{"v":0,"d":"0.00"},null,{"$f":"SUM(D23:L23)","v":2.24}]
[null,"Batteries (car)","RecyclingBatteries (car)",{"v":0,"d":"0.00"},{"v":0,"d":"0.00"},{"v":0,"d":"0.00"},{"v":0,"d":"0.00"},{"v":0,"d":"0.00"},{"v":0,"d":"0.00"},0.77,1.02,{"v":0,"d":"0.00"},null,{"$f":"SUM(D24:L24)","v":1.79}]
[null,"Batteries (household)","RecyclingBatteries (household)",1.96,{"v":0.891,"d":"0.89"},{"v":0,"d":"0.00"},{"v":0,"d":"0.00"},{"v":0,"d":"0.00"},1.59,{"v":1.476,"d":"1.48"},{"v":0,"d":"0.00"},{"v":0.339,"d":"0.34"},null,{"$f":"SUM(D25:L25)","v":{"v":6.256,"d":"6.26"}}]
[null,"Books","RecyclingBooks",{"v":0,"d":"0.00"},{"v":0,"d":"0.00"},{"v":0,"d":"0.00"},{"v":1.5,"d":"1.50"},{"v":0,"d":"0.00"},{"v":0,"d":"0.00"},{"v":0,"d":"0.00"},{"v":0,"d":"0.00"},{"v":0,"d":"0.00"},null,{"$f":"SUM(D26:L26)","v":{"v":1.5,"d":"1.50"}}]
[null,"Brass(nf)","RecyclingBrass(nf)",{"v":0,"d":"0.00"},{"v":0,"d":"0.00"},{"v":0,"d":"0.00"},{"v":0,"d":"0.00"},{"v":0,"d":"0.00"},{"v":0,"d":"0.00"},{"v":0,"d":"0.00"},{"v":0,"d":"0.00"},{"v":0,"d":"0.00"},null,{"$f":"SUM(D27:L27)","v":{"v":0,"d":"0.00"}}]
[null,"Cable (nf)","RecyclingCable (nf)",{"v":0,"d":"0.00"},{"v":0,"d":"0.00"},{"v":0,"d":"0.00"},{"v":0,"d":"0.00"},{"v":0,"d":"0.00"},1.38,{"v":0,"d":"0.00"},{"v":0,"d":"0.00"},{"v":0,"d":"0.00"},null,{"$f":"SUM(D28:L28)","v":1.38}]
[null,"Cardboard","RecyclingCardboard",20.16,15.18,9.38,{"v":0,"d":"0.00"},14.58,{"v":50.660000000000004,"d":"50.66"},9.86,2.86,{"v":6,"d":"6.00"},null,{"$f":"SUM(D29:L29)","v":128.68}]
[null,"Carpet","RecyclingCarpet",{"v":21.299999999999997,"d":"21.30"},12.08,14.16,{"v":35.4,"d":"35.40"},38.82,19.71,5.64,{"v":0,"d":"0.00"},{"v":0,"d":"0.00"},null,{"$f":"SUM(D30:L30)","v":{"v":147.10999999999999,"d":"147.11"}}]
[null,"Chipboard","RecyclingChipboard",{"v":65.1,"d":"65.10"},27.42,58.34,{"v":0,"d":"0.00"},{"v":24.240000000000002,"d":"24.24"},{"v":37.4,"d":"37.40"},{"v":13.120000000000001,"d":"13.12"},{"v":0,"d":"0.00"},2.94,null,{"$f":"SUM(D31:L31)","v":{"v":228.56000000000003,"d":"228.56"}}]
[null,"Copper & Brass Mixed (nf)","RecyclingCopper & Brass Mixed (nf)",{"v":0,"d":"0.00"},{"v":0,"d":"0.00"},{"v":0,"d":"0.00"},{"v":0,"d":"0.00"},{"v":0,"d":"0.00"},{"v":0,"d":"0.00"},{"v":0,"d":"0.00"},{"v":0,"d":"0.00"},{"v":0,"d":"0.00"},null,{"$f":"SUM(D32:L32)","v":{"v":0,"d":"0.00"}}]
[null,"Drink Cartons","RecyclingDrink Cartons",{"v":0,"d":"0.00"},{"v":0.308,"d":"0.31"},{"v":0,"d":"0.00"},{"v":0,"d":"0.00"},{"v":0,"d":"0.00"},{"v":0.176,"d":"0.18"},{"v":0,"d":"0.00"},{"v":0,"d":"0.00"},{"v":0,"d":"0.00"},null,{"$f":"SUM(D33:L33)","v":{"v":0.484,"d":"0.48"}}]
[null,"Fire Extinguishers","RecyclingFire Extinguishers",{"v":0,"d":"0.00"},{"v":0,"d":"0.00"},{"v":0,"d":"0.00"},{"v":0,"d":"0.00"},{"v":0,"d":"0.00"},{"v":0,"d":"0.00"},{"v":0,"d":"0.00"},{"v":0,"d":"0.00"},{"v":0,"d":"0.00"},null,{"$f":"SUM(D34:L34)","v":{"v":0,"d":"0.00"}}]
[null,"Fluorescent Tubes Output","RecyclingFluorescent Tubes Output",{"v":0.213,"d":"0.21"},{"v":0,"d":"0.00"},{"v":0,"d":"0.00"},{"v":0,"d":"0.00"},{"v":0,"d":"0.00"},0.16,{"v":0,"d":"0.00"},{"v":0,"d":"0.00"},{"v":0,"d":"0.00"},null,{"$f":"SUM(D35:L35)","v":{"v":0.373,"d":"0.37"}}]
[null,"Fridges Output","RecyclingFridges Output",{"v":4.4941,"d":"4.49"},{"v":2.4075,"d":"2.41"},{"v":8.2704,"d":"8.27"},{"v":3,"d":"3.00"},{"v":9.6697,"d":"9.67"},{"v":9.8979,"d":"9.90"},{"v":2.0096,"d":"2.01"},{"v":0.5857,"d":"0.59"},{"v":0,"d":"0.00"},null,{"$f":"SUM(D36:L36)","v":{"v":40.334900000000005,"d":"40.33"}}]
[null,"Gas Cylinders","RecyclingGas Cylinders",1.46,{"v":0,"d":"0.00"},{"v":0,"d":"0.00"},{"v":0.8,"d":"0.80"},{"v":0,"d":"0.00"},{"v":0.2,"d":"0.20"},{"v":0,"d":"0.00"},{"v":0,"d":"0.00"},{"v":0,"d":"0.00"},null,{"$f":"SUM(D37:L37)","v":2.46}]
[null,"General (mixed waste)","RecyclingGeneral (mixed waste)",{"v":0,"d":"0.00"},{"v":0,"d":"0.00"},{"v":0,"d":"0.00"},{"v":0,"d":"0.00"},{"v":0,"d":"0.00"},{"v":0,"d":"0.00"},{"v":0,"d":"0.00"},{"v":0,"d":"0.00"},{"v":0,"d":"0.00"},null,{"$f":"SUM(D38:L38)","v":{"v":0,"d":"0.00"}}]
[null,"Glass (bottles)","RecyclingGlass (bottles)",{"v":4.627,"d":"4.63"},{"v":6.566,"d":"6.57"},{"v":1.622,"d":"1.62"},{"v":6.2,"d":"6.20"},{"v":0,"d":"0.00"},7.61,{"v":5.059,"d":"5.06"},{"v":0,"d":"0.00"},{"v":0,"d":"0.00"},null,{"$f":"SUM(D39:L39)","v":{"v":31.684,"d":"31.68"}}]
[null,"Green waste","RecyclingGreen waste",{"v":0,"d":"0.00"},{"v":0,"d":"0.00"},{"v":0,"d":"0.00"},{"v":0,"d":"0.00"},{"v":0,"d":"0.00"},{"v":0,"d":"0.00"},{"v":0,"d":"0.00"},{"v":0,"d":"0.00"},4.79,null,{"$f":"SUM(D40:L40)","v":4.79}]
[null,"Hard Plastic","RecyclingHard Plastic",{"v":0,"d":"0.00"},{"v":0,"d":"0.00"},{"v":0,"d":"0.00"},{"v":0,"d":"0.00"},{"v":0,"d":"0.00"},{"v":0,"d":"0.00"},{"v":0,"d":"0.00"},{"v":0,"d":"0.00"},{"v":0,"d":"0.00"},null,{"$f":"SUM(D41:L41)","v":{"v":0,"d":"0.00"}}]
[null,"Household Goods\r\nHousehold Goods","RecyclingHousehold Goods\r\nHousehold Goods",{"v":0,"d":"0.00"},{"v":0,"d":"0.00"},{"v":0,"d":"0.00"},{"v":0,"d":"0.00"},{"v":0,"d":"0.00"},{"v":0,"d":"0.00"},{"v":0,"d":"0.00"},{"v":0,"d":"0.00"},{"v":0,"d":"0.00"},null,{"$f":"SUM(D42:L42)","v":{"v":0,"d":"0.00"}}]
[null,"Inert (rubble/hardcore)","RecyclingInert (rubble/hardcore)",{"v":0,"d":"0.00"},{"v":0,"d":"0.00"},{"v":0,"d":"0.00"},{"v":0,"d":"0.00"},{"v":0,"d":"0.00"},{"v":0,"d":"0.00"},{"v":0,"d":"0.00"},{"v":0,"d":"0.00"},{"v":0,"d":"0.00"},null,{"$f":"SUM(D43:L43)","v":{"v":0,"d":"0.00"}}]
[null,"Lead (nf)","RecyclingLead (nf)",{"v":0,"d":"0.00"},{"v":0,"d":"0.00"},{"v":0,"d":"0.00"},{"v":0,"d":"0.00"},{"v":0,"d":"0.00"},{"v":0,"d":"0.00"},{"v":0,"d":"0.00"},{"v":0,"d":"0.00"},{"v":0,"d":"0.00"},null,{"$f":"SUM(D44:L44)","v":{"v":0,"d":"0.00"}}]
[null,"Matresses","RecyclingMatresses",{"v":0,"d":"0.00"},0.86,{"v":0,"d":"0.00"},{"v":0,"d":"0.00"},3.08,{"v":0,"d":"0.00"},{"v":0,"d":"0.00"},{"v":0,"d":"0.00"},{"v":0,"d":"0.00"},null,{"$f":"SUM(D45:L45)","v":3.94}]
[null,"Microwave Motors","RecyclingMicrowave Motors",{"v":0,"d":"0.00"},{"v":0,"d":"0.00"},{"v":0,"d":"0.00"},{"v":0,"d":"0.00"},{"v":0,"d":"0.00"},{"v":0,"d":"0.00"},{"v":0,"d":"0.00"},{"v":0,"d":"0.00"},{"v":0,"d":"0.00"},null,{"$f":"SUM(D46:L46)","v":{"v":0,"d":"0.00"}}]
[null,"Non Ferrous Metal  \r\nNon Ferrous Metal","RecyclingNon Ferrous Metal  \r\nNon Ferrous Metal",{"v":0,"d":"0.00"},0.48,2.22,{"v":0,"d":"0.00"},1.74,{"v":0,"d":"0.00"},{"v":0.5,"d":"0.50"},{"v":0,"d":"0.00"},{"v":0,"d":"0.00"},null,{"$f":"SUM(D47:L47)","v":4.94}]
[null,"Oil (Engine)","RecyclingOil (Engine)",{"v":0,"d":"0.00"},{"v":0,"d":"0.00"},{"v":0,"d":"0.00"},{"v":1.4,"d":"1.40"},{"v":0,"d":"0.00"},{"v":0,"d":"0.00"},{"v":0,"d":"0.00"},{"v":0,"d":"0.00"},{"v":0,"d":"0.00"},null,{"$f":"SUM(D48:L48)","v":{"v":1.4,"d":"1.40"}}]
[null,"Oil (Vegetable)","RecyclingOil (Vegetable)",{"v":0,"d":"0.00"},{"v":0,"d":"0.00"},{"v":0,"d":"0.00"},{"v":0,"d":"0.00"},{"v":0,"d":"0.00"},{"v":0,"d":"0.00"},{"v":0,"d":"0.00"},{"v":0,"d":"0.00"},{"v":0,"d":"0.00"},null,{"$f":"SUM(D49:L49)","v":{"v":0,"d":"0.00"}}]
[null,"Paint (chemicals)","RecyclingPaint (chemicals)",{"v":0,"d":"0.00"},{"v":0,"d":"0.00"},{"v":0,"d":"0.00"},{"v":0,"d":"0.00"},0.62,{"v":0,"d":"0.00"},{"v":0,"d":"0.00"},{"v":0,"d":"0.00"},{"v":0,"d":"0.00"},null,{"$f":"SUM(D50:L50)","v":0.62}]
[null,"Paper (mixed with card)","RecyclingPaper (mixed with card)",{"v":0,"d":"0.00"},{"v":0,"d":"0.00"},{"v":0,"d":"0.00"},{"v":30.5,"d":"30.50"},{"v":0,"d":"0.00"},{"v":0,"d":"0.00"},{"v":0,"d":"0.00"},{"v":0,"d":"0.00"},{"v":0,"d":"0.00"},null,{"$f":"SUM(D51:L51)","v":{"v":30.5,"d":"30.50"}}]
[null,"Paper (newspaper & magazines)","RecyclingPaper (newspaper & magazines)",10.46,10.54,28.34,{"v":0,"d":"0.00"},10.36,{"v":26.4,"d":"26.40"},{"v":10.5,"d":"10.50"},{"v":0,"d":"0.00"},{"v":0,"d":"0.00"},null,{"$f":"SUM(D52:L52)","v":{"v":96.6,"d":"96.60"}}]
[null,"Plasterboard","RecyclingPlasterboard",12.24,{"v":0,"d":"0.00"},{"v":0,"d":"0.00"},{"v":5.7,"d":"5.70"},{"v":0,"d":"0.00"},20.96,{"v":0,"d":"0.00"},{"v":0,"d":"0.00"},{"v":0,"d":"0.00"},null,{"$f":"SUM(D53:L53)","v":{"v":38.900000000000006,"d":"38.90"}}]
[null,"Plastic (Mixed)","RecyclingPlastic (Mixed)",{"v":0,"d":"0.00"},{"v":1.7,"d":"1.70"},0.25,{"v":0,"d":"0.00"},0.11,23.89,{"v":0.2,"d":"0.20"},0.05,0.07,null,{"$f":"SUM(D54:L54)","v":26.27}]
[null,"Printer Cartridges","RecyclingPrinter Cartridges",{"v":0,"d":"0.00"},{"v":0,"d":"0.00"},0.57,{"v":0,"d":"0.00"},{"v":0,"d":"0.00"},{"v":0,"d":"0.00"},{"v":0,"d":"0.00"},{"v":0,"d":"0.00"},{"v":0,"d":"0.00"},null,{"$f":"SUM(D55:L55)","v":0.57}]
[null,"Road Sweepings","RecyclingRoad Sweepings",{"v":0,"d":"0.00"},{"v":0,"d":"0.00"},{"v":0,"d":"0.00"},{"v":0,"d":"0.00"},{"v":0,"d":"0.00"},352.02,{"v":0,"d":"0.00"},{"v":0,"d":"0.00"},{"v":0,"d":"0.00"},null,{"$f":"SUM(D56:L56)","v":352.02}]
[null,"Scrap metal (mixed)","RecyclingScrap metal (mixed)",{"v":36.519999999999996,"d":"36.52"},{"v":14.799999999999999,"d":"14.80"},46.91,{"v":36.6,"d":"36.60"},24.16,69.56,13.42,{"v":6.4,"d":"6.40"},4.54,null,{"$f":"SUM(D57:L57)","v":{"v":252.90999999999997,"d":"252.91"}}]
[null,"Screens output","RecyclingScreens output",{"v":4.0609,"d":"4.06"},{"v":3.7339,"d":"3.73"},8.11,{"v":4.2,"d":"4.20"},{"v":5.7639,"d":"5.76"},{"v":8.0376,"d":"8.04"},{"v":1.9414,"d":"1.94"},{"v":0.6817,"d":"0.68"},{"v":2.6708,"d":"2.67"},null,{"$f":"SUM(D58:L58)","v":{"v":39.2002,"d":"39.20"}}]
[null,"Small Domestic Appliances","RecyclingSmall Domestic Appliances",38.36,{"v":7.2,"d":"7.20"},16.57,{"v":7.7,"d":"7.70"},15.05,32.42,6.18,0.97,4.29,null,{"$f":"SUM(D59:L59)","v":{"v":128.73999999999998,"d":"128.74"}}]
[null,"Soil & rubble","RecyclingSoil & rubble",{"v":0,"d":"0.00"},{"v":0,"d":"0.00"},{"v":0,"d":"0.00"},{"v":0,"d":"0.00"},{"v":0,"d":"0.00"},{"v":0,"d":"0.00"},{"v":0,"d":"0.00"},{"v":0,"d":"0.00"},{"v":0,"d":"0.00"},null,{"$f":"SUM(D60:L60)","v":{"v":0,"d":"0.00"}}]
[null,"Stainless Steel","RecyclingStainless Steel",{"v":0,"d":"0.00"},{"v":0,"d":"0.00"},{"v":0,"d":"0.00"},{"v":0,"d":"0.00"},{"v":0,"d":"0.00"},0.53,{"v":0,"d":"0.00"},{"v":0,"d":"0.00"},{"v":0,"d":"0.00"},null,{"$f":"SUM(D61:L61)","v":0.53}]
[null,"Textiles","RecyclingTextiles",4.39,{"v":4.4,"d":"4.40"},6.87,{"v":53.2,"d":"53.20"},6.34,8.48,3.45,0.65,1.85,null,{"$f":"SUM(D62:L62)","v":{"v":89.63000000000001,"d":"89.63"}}]
[null,"Tyres","RecyclingTyres",{"v":0,"d":"0.00"},{"v":0,"d":"0.00"},{"v":0,"d":"0.00"},{"v":0,"d":"0.00"},{"v":0,"d":"0.00"},{"v":0,"d":"0.00"},{"v":0,"d":"0.00"},{"v":0,"d":"0.00"},{"v":0,"d":"0.00"},null,{"$f":"SUM(D63:L63)","v":{"v":0,"d":"0.00"}}]
[null,"Wood (including treated)","RecyclingWood (including treated)",{"v":0,"d":"0.00"},30.64,48.61,{"v":179.4,"d":"179.40"},{"v":80.39999999999999,"d":"80.40"},169.98,13.42,8.02,16.08,null,{"$f":"SUM(D64:L64)","v":546.55}]
[]
[null,"Sub Total",null,{"$f":"SUM(D23:D64)","v":{"v":225.34499999999997,"d":"225.35"}},{"$f":"SUM(E23:E64)","v":{"v":139.2064,"d":"139.21"}},{"$f":"SUM(F23:F64)","v":{"v":250.5224,"d":"250.52"}},{"$f":"SUM(G23:G64)","v":{"v":365.6,"d":"365.60"}},{"$f":"SUM(H23:H64)","v":{"v":236.4336,"d":"236.43"}},{"$f":"SUM(I23:I64)","v":{"v":841.5014999999999,"d":"841.50"}},{"$f":"SUM(J23:J64)","v":{"v":87.54599999999999,"d":"87.55"}},{"$f":"SUM(K23:K64)","v":{"v":21.2374,"d":"21.24"}},{"$f":"SUM(L23:L64)","v":{"v":43.5698,"d":"43.57"}},null,{"$f":"SUM(D66:L66)","v":{"v":2210.9620999999997,"d":"2,210.96"}}]
[]
["Re-Use","Books","Re-UseBooks",{"v":0,"d":"0.00"},{"v":0,"d":"0.00"},{"v":0,"d":"0.00"},{"v":0,"d":"0.00"},{"v":0,"d":"0.00"},{"v":0,"d":"0.00"},{"v":0,"d":"0.00"},{"v":0,"d":"0.00"},{"v":0,"d":"0.00"},null,{"$f":"SUM(D68:L68)","v":{"v":0,"d":"0.00"}}]
[null,"Gas Cylinders","Re-UseGas Cylinders",{"v":0,"d":"0.00"},{"v":0,"d":"0.00"},{"v":0,"d":"0.00"},{"v":0,"d":"0.00"},{"v":0,"d":"0.00"},{"v":0,"d":"0.00"},{"v":0,"d":"0.00"},{"v":0,"d":"0.00"},{"v":0,"d":"0.00"},null,{"$f":"SUM(D69:L69)","v":{"v":0,"d":"0.00"}}]
[null,"Household Goods\r\nHousehold Goods","Re-UseHousehold Goods\r\nHousehold Goods",{"v":0,"d":"0.00"},{"v":0,"d":"0.00"},{"v":0,"d":"0.00"},{"v":9,"d":"9.00"},{"v":0,"d":"0.00"},{"v":0,"d":"0.00"},{"v":0,"d":"0.00"},{"v":0,"d":"0.00"},{"v":0,"d":"0.00"},null,{"$f":"SUM(D70:L70)","v":{"v":9,"d":"9.00"}}]
[null,"Inert (rubble/hardcore)","Re-UseInert (rubble/hardcore)",64.43,41.74,65.84,{"v":0,"d":"0.00"},27.34,104.68,8.78,7.26,8.84,null,{"$f":"SUM(D71:L71)","v":{"v":328.90999999999997,"d":"328.91"}}]
[null,"Soil","Re-UseSoil",{"v":0,"d":"0.00"},{"v":0,"d":"0.00"},{"v":0,"d":"0.00"},{"v":0,"d":"0.00"},{"v":0,"d":"0.00"},{"v":0,"d":"0.00"},{"v":0,"d":"0.00"},{"v":0,"d":"0.00"},{"v":0,"d":"0.00"},null,{"$f":"SUM(D72:L72)","v":{"v":0,"d":"0.00"}}]
[]
[null,"Sub Total",null,{"$f":"SUM(D68:D73)","v":64.43},{"$f":"SUM(E68:E73)","v":41.74},{"$f":"SUM(F68:F73)","v":65.84},{"$f":"SUM(G68:G73)","v":{"v":9,"d":"9.00"}},{"$f":"SUM(H68:H73)","v":27.34},{"$f":"SUM(I68:I73)","v":104.68},{"$f":"SUM(J68:J73)","v":8.78},{"$f":"SUM(K68:K73)","v":7.26},{"$f":"SUM(L68:L73)","v":8.84},null,{"$f":"SUM(D74:L74)","v":{"v":337.90999999999997,"d":"337.91"}}]
[]
[]
[null,"Grand Total",null,{"$f":"SUM(D7)+(D15)+(D21)+(D66)+(D74)","v":{"v":474.715,"d":"474.72"}},{"$f":"SUM(E7)+(E15)+(E21)+(E66)+(E74)","v":{"v":309.56640000000004,"d":"309.57"}},{"$f":"SUM(F7)+(F15)+(F21)+(F66)+(F74)","v":{"v":495.64740000000006,"d":"495.65"}},{"$f":"SUM(G7)+(G15)+(G21)+(G66)+(G74)","v":{"v":651.1,"d":"651.10"}},{"$f":"SUM(H7)+(H15)+(H21)+(H66)+(H74)","v":{"v":452.1886,"d":"452.19"}},{"$f":"SUM(I7)+(I15)+(I21)+(I66)+(I74)","v":{"v":1610.0095,"d":"1,610.01"}},{"$f":"SUM(J7)+(J15)+(J21)+(J66)+(J74)","v":{"v":143.46599999999998,"d":"143.47"}},{"$f":"SUM(K7)+(K15)+(K21)+(K66)+(K74)","v":{"v":57.828399999999995,"d":"57.83"}},{"$f":"SUM(L7)+(L15)+(L21)+(L66)+(L74)","v":{"v":92.2398,"d":"92.24"}},null,{"$f":"SUM(D77:L77)","v":{"v":4286.761100000001,"d":"4,286.76"}}]

{"sheet":"March","index":11,"n_rows":77,"n_cols":14,"rows_kept":77}
["March","01/04/2015 to 31/03/2016"]
[]
["Treatment Use","Waste Type",null,"Burton Farm HWRC","Cherry Orchard HWRC","Hunters Lane HWRC & Transfer","Judkins HWRC","Lower House Farm HWRC","Princes Drive HWRC & Transfer","Shipston HWRC","Stockton HWRC","Wellesbourne HWRC",null,"Total"]
[]
["Composting","Green waste","CompostingGreen waste",48.68,{"v":57.519999999999996,"d":"57.52"},{"v":54.760000000000005,"d":"54.76"},{"v":44.9,"d":"44.90"},31.06,{"v":128.51999999999998,"d":"128.52"},22.14,{"v":7.7,"d":"7.70"},{"v":11.453,"d":"11.45"},null,{"$f":"SUM(D5:L5)","v":{"v":406.7329999999999,"d":"406.73"}}]
[]
[null,"Sub Total",null,{"$f":"SUM(D5:D5)","v":48.68},{"$f":"SUM(E5:E5)","v":{"v":57.519999999999996,"d":"57.52"}},{"$f":"SUM(F5:F5)","v":{"v":54.760000000000005,"d":"54.76"}},{"$f":"SUM(G5:G5)","v":{"v":44.9,"d":"44.90"}},{"$f":"SUM(H5:H5)","v":31.06},{"$f":"SUM(I5:I5)","v":{"v":128.51999999999998,"d":"128.52"}},{"$f":"SUM(J5:J5)","v":22.14},{"$f":"SUM(K5:K5)","v":{"v":7.7,"d":"7.70"}},{"$f":"SUM(L5:L5)","v":{"v":11.453,"d":"11.45"}},null,{"$f":"SUM(D7:L7)","v":{"v":406.7329999999999,"d":"406.73"}}]
[]
["Efw (incineration)","Bulky Waste","Efw (incineration)Bulky Waste",{"v":0,"d":"0.00"},{"v":0,"d":"0.00"},{"v":0,"d":"0.00"},{"v":0,"d":"0.00"},{"v":18.1,"d":"18.10"},{"v":0,"d":"0.00"},{"v":0,"d":"0.00"},{"v":0,"d":"0.00"},{"v":0,"d":"0.00"},null,{"$f":"SUM(D9:L9)","v":{"v":18.1,"d":"18.10"}}]
[null,"Chemicals","Efw (incineration)Chemicals",{"v":0,"d":"0.00"},{"v":0,"d":"0.00"},{"v":0,"d":"0.00"},{"v":0,"d":"0.00"},{"v":2.6,"d":"2.60"},{"v":0,"d":"0.00"},{"v":0,"d":"0.00"},{"v":0,"d":"0.00"},{"v":0,"d":"0.00"},null,{"$f":"SUM(D10:L10)","v":{"v":2.6,"d":"2.60"}}]
[null,"Clinical","Efw (incineration)Clinical",{"v":0,"d":"0.00"},{"v":0,"d":"0.00"},{"v":0,"d":"0.00"},{"v":0,"d":"0.00"},{"v":0,"d":"0.00"},{"v":4.257,"d":"4.26"},{"v":0,"d":"0.00"},{"v":0,"d":"0.00"},{"v":0,"d":"0.00"},null,{"$f":"SUM(D11:L11)","v":{"v":4.257,"d":"4.26"}}]
[null,"General (mixed waste)","Efw (incineration)General (mixed waste)",22.95,12.78,16.48,{"v":0,"d":"0.00"},156.93,9.82,{"v":0,"d":"0.00"},{"v":0,"d":"0.00"},{"v":0,"d":"0.00"},null,{"$f":"SUM(D12:L12)","v":{"v":218.95999999999998,"d":"218.96"}}]
[null,"Paint (chemicals)","Efw (incineration)Paint (chemicals)",{"v":0,"d":"0.00"},{"v":0,"d":"0.00"},{"v":0,"d":"0.00"},{"v":0,"d":"0.00"},{"v":0,"d":"0.00"},{"v":0,"d":"0.00"},{"v":0,"d":"0.00"},{"v":0,"d":"0.00"},{"v":0,"d":"0.00"},null,{"$f":"SUM(D13:L13)","v":{"v":0,"d":"0.00"}}]
[]
[null,"Sub Total",null,{"$f":"SUM(D9:D13)","v":22.95},{"$f":"SUM(E9:E13)","v":12.78},{"$f":"SUM(F9:F13)","v":16.48},{"$f":"SUM(G9:G13)","v":{"v":0,"d":"0.00"}},{"$f":"SUM(H9:H13)","v":177.63},{"$f":"SUM(I9:I13)","v":{"v":14.077,"d":"14.08"}},{"$f":"SUM(J9:J13)","v":{"v":0,"d":"0.00"}},{"$f":"SUM(K9:K13)","v":{"v":0,"d":"0.00"}},{"$f":"SUM(L9:L13)","v":{"v":0,"d":"0.00"}},null,{"$f":"SUM(D15:L15)","v":{"v":243.91699999999997,"d":"243.92"}}]
[]
["Landfill","Asbestos","LandfillAsbestos",{"v":0,"d":"0.00"},{"v":0,"d":"0.00"},{"v":0,"d":"0.00"},{"v":0,"d":"0.00"},{"v":4.6,"d":"4.60"},{"v":0,"d":"0.00"},{"v":0,"d":"0.00"},{"v":0,"d":"0.00"},{"v":0,"d":"0.00"},null,{"$f":"SUM(D17:L17)","v":{"v":4.6,"d":"4.60"}}]
[null,"General (mixed waste)","LandfillGeneral (mixed waste)",{"v":140.95999999999998,"d":"140.96"},83.68,{"v":220.82000000000002,"d":"220.82"},{"v":255.9,"d":"255.90"},6.86,{"v":675.9200000000001,"d":"675.92"},45.88,{"v":9.559999999999999,"d":"9.56"},{"v":0,"d":"0.00"},null,{"$f":"SUM(D18:L18)","v":{"v":1439.5800000000002,"d":"1,439.58"}}]
[null,"Hard Plastic","LandfillHard Plastic",{"v":0,"d":"0.00"},3.32,{"v":0,"d":"0.00"},{"v":0,"d":"0.00"},{"v":3.165,"d":"3.17"},{"v":0,"d":"0.00"},{"v":0,"d":"0.00"},{"v":0,"d":"0.00"},{"v":0,"d":"0.00"},null,{"$f":"SUM(D19:L19)","v":{"v":6.484999999999999,"d":"6.49"}}]
[]
[null,"Sub Total",null,{"$f":"SUM(D17:D19)","v":{"v":140.95999999999998,"d":"140.96"}},{"$f":"SUM(E17:E19)","v":{"v":87,"d":"87.00"}},{"$f":"SUM(F17:F19)","v":{"v":220.82000000000002,"d":"220.82"}},{"$f":"SUM(G17:G19)","v":{"v":255.9,"d":"255.90"}},{"$f":"SUM(H17:H19)","v":{"v":14.625,"d":"14.63"}},{"$f":"SUM(I17:I19)","v":{"v":675.9200000000001,"d":"675.92"}},{"$f":"SUM(J17:J19)","v":45.88},{"$f":"SUM(K17:K19)","v":{"v":9.559999999999999,"d":"9.56"}},{"$f":"SUM(L17:L19)","v":{"v":0,"d":"0.00"}},null,{"$f":"SUM(D21:L21)","v":{"v":1450.665,"d":"1,450.67"}}]
[]
["Recycling","Aluminium (nf)","RecyclingAluminium (nf)",{"v":0,"d":"0.00"},{"v":0,"d":"0.00"},{"v":0,"d":"0.00"},{"v":0,"d":"0.00"},{"v":0,"d":"0.00"},0.74,{"v":0,"d":"0.00"},{"v":0,"d":"0.00"},{"v":0,"d":"0.00"},null,{"$f":"SUM(D23:L23)","v":0.74}]
[null,"Batteries (car)","RecyclingBatteries (car)",{"v":0,"d":"0.00"},1.86,4.61,{"v":0,"d":"0.00"},4.38,9.99,{"v":0,"d":"0.00"},0.03,{"v":0.786,"d":"0.79"},null,{"$f":"SUM(D24:L24)","v":{"v":21.656000000000006,"d":"21.66"}}]
[null,"Batteries (household)","RecyclingBatteries (household)",{"v":0,"d":"0.00"},{"v":0,"d":"0.00"},{"v":0,"d":"0.00"},{"v":0,"d":"0.00"},{"v":0,"d":"0.00"},{"v":0,"d":"0.00"},{"v":0,"d":"0.00"},{"v":0,"d":"0.00"},{"v":0,"d":"0.00"},null,{"$f":"SUM(D25:L25)","v":{"v":0,"d":"0.00"}}]
[null,"Books","RecyclingBooks",{"v":0,"d":"0.00"},{"v":0,"d":"0.00"},{"v":0,"d":"0.00"},{"v":1.1,"d":"1.10"},{"v":0,"d":"0.00"},{"v":0,"d":"0.00"},{"v":0,"d":"0.00"},{"v":0,"d":"0.00"},{"v":0,"d":"0.00"},null,{"$f":"SUM(D26:L26)","v":{"v":1.1,"d":"1.10"}}]
[null,"Brass(nf)","RecyclingBrass(nf)",{"v":0,"d":"0.00"},{"v":0,"d":"0.00"},{"v":0,"d":"0.00"},{"v":0,"d":"0.00"},{"v":0,"d":"0.00"},{"v":0,"d":"0.00"},{"v":0,"d":"0.00"},{"v":0,"d":"0.00"},{"v":0,"d":"0.00"},null,{"$f":"SUM(D27:L27)","v":{"v":0,"d":"0.00"}}]
[null,"Cable (nf)","RecyclingCable (nf)",0.48,{"v":0,"d":"0.00"},{"v":0.8200000000000001,"d":"0.82"},{"v":0,"d":"0.00"},{"v":0,"d":"0.00"},{"v":0,"d":"0.00"},0.32,{"v":0,"d":"0.00"},{"v":0,"d":"0.00"},null,{"$f":"SUM(D28:L28)","v":1.62}]
[null,"Cardboard","RecyclingCardboard",23.77,22.34,20.48,38.28,13.68,{"v":50.800000000000004,"d":"50.80"},11.38,5.45,8.69,null,{"$f":"SUM(D29:L29)","v":194.87}]
[null,"Carpet","RecyclingCarpet",13.02,{"v":11,"d":"11.00"},{"v":15.969999999999999,"d":"15.97"},{"v":34.2,"d":"34.20"},37.11,42.53,6.94,{"v":0,"d":"0.00"},{"v":0,"d":"0.00"},null,{"$f":"SUM(D30:L30)","v":{"v":160.76999999999998,"d":"160.77"}}]
[null,"Chipboard","RecyclingChipboard",71.64,19.84,51.23,{"v":0,"d":"0.00"},{"v":68.46000000000001,"d":"68.46"},72.74,22.14,{"v":0,"d":"0.00"},{"v":0,"d":"0.00"},null,{"$f":"SUM(D31:L31)","v":306.05}]
[null,"Copper & Brass Mixed (nf)","RecyclingCopper & Brass Mixed (nf)",{"v":0,"d":"0.00"},{"v":0,"d":"0.00"},{"v":0,"d":"0.00"},{"v":0,"d":"0.00"},{"v":0,"d":"0.00"},{"v":0,"d":"0.00"},{"v":0,"d":"0.00"},{"v":0,"d":"0.00"},{"v":0,"d":"0.00"},null,{"$f":"SUM(D32:L32)","v":{"v":0,"d":"0.00"}}]
[null,"Drink Cartons","RecyclingDrink Cartons",{"v":0,"d":"0.00"},{"v":0.288,"d":"0.29"},{"v":0,"d":"0.00"},{"v":0,"d":"0.00"},{"v":0,"d":"0.00"},{"v":0.432,"d":"0.43"},{"v":0,"d":"0.00"},{"v":0,"d":"0.00"},{"v":0,"d":"0.00"},null,{"$f":"SUM(D33:L33)","v":0.72}]
[null,"Fire Extinguishers","RecyclingFire Extinguishers",{"v":0,"d":"0.00"},{"v":0,"d":"0.00"},{"v":0,"d":"0.00"},{"v":0,"d":"0.00"},{"v":0,"d":"0.00"},{"v":0,"d":"0.00"},{"v":0,"d":"0.00"},{"v":0,"d":"0.00"},{"v":0,"d":"0.00"},null,{"$f":"SUM(D34:L34)","v":{"v":0,"d":"0.00"}}]
[null,"Fluorescent Tubes Output","RecyclingFluorescent Tubes Output",{"v":0,"d":"0.00"},{"v":0,"d":"0.00"},{"v":0,"d":"0.00"},{"v":0.6,"d":"0.60"},0.34,0.29,{"v":0,"d":"0.00"},{"v":0,"d":"0.00"},{"v":0.306,"d":"0.31"},null,{"$f":"SUM(D35:L35)","v":{"v":1.536,"d":"1.54"}}]
[null,"Fridges Output","RecyclingFridges Output",{"v":6.9695,"d":"6.97"},{"v":2.4763,"d":"2.48"},{"v":7.3304,"d":"7.33"},{"v":8.8,"d":"8.80"},{"v":8.8425,"d":"8.84"},{"v":11.8886,"d":"11.89"},{"v":2.7398,"d":"2.74"},{"v":1.1157,"d":"1.12"},{"v":0,"d":"0.00"},null,{"$f":"SUM(D36:L36)","v":{"v":50.1628,"d":"50.16"}}]
[null,"Gas Cylinders","RecyclingGas Cylinders",{"v":0,"d":"0.00"},0.01,{"v":0,"d":"0.00"},{"v":0.3,"d":"0.30"},0.36,0.55,{"v":0,"d":"0.00"},{"v":0,"d":"0.00"},{"v":0,"d":"0.00"},null,{"$f":"SUM(D37:L37)","v":1.22}]
[null,"General (mixed waste)","RecyclingGeneral (mixed waste)",2.33,{"v":0,"d":"0.00"},{"v":0,"d":"0.00"},{"v":0,"d":"0.00"},{"v":0,"d":"0.00"},{"v":0,"d":"0.00"},{"v":0,"d":"0.00"},14.49,{"v":33.486,"d":"33.49"},null,{"$f":"SUM(D38:L38)","v":{"v":50.306,"d":"50.31"}}]
[null,"Glass (bottles)","RecyclingGlass (bottles)",{"v":3.619,"d":"3.62"},{"v":3.505,"d":"3.51"},{"v":1.147,"d":"1.15"},{"v":0,"d":"0.00"},{"v":0,"d":"0.00"},{"v":8.765,"d":"8.77"},{"v":1.059,"d":"1.06"},{"v":0,"d":"0.00"},{"v":1.363,"d":"1.36"},null,{"$f":"SUM(D39:L39)","v":{"v":19.458000000000002,"d":"19.46"}}]
[null,"Green waste","RecyclingGreen waste",{"v":0,"d":"0.00"},{"v":0,"d":"0.00"},{"v":0,"d":"0.00"},{"v":0,"d":"0.00"},{"v":0,"d":"0.00"},{"v":0,"d":"0.00"},{"v":0,"d":"0.00"},{"v":0,"d":"0.00"},{"v":0,"d":"0.00"},null,{"$f":"SUM(D40:L40)","v":{"v":0,"d":"0.00"}}]
[null,"Hard Plastic","RecyclingHard Plastic",{"v":0,"d":"0.00"},{"v":0,"d":"0.00"},3.83,{"v":0,"d":"0.00"},{"v":0,"d":"0.00"},{"v":0,"d":"0.00"},{"v":0,"d":"0.00"},{"v":0,"d":"0.00"},{"v":0,"d":"0.00"},null,{"$f":"SUM(D41:L41)","v":3.83}]
[null,"Household Goods\r\nHousehold Goods","RecyclingHousehold Goods\r\nHousehold Goods",{"v":0,"d":"0.00"},{"v":0,"d":"0.00"},{"v":0,"d":"0.00"},{"v":10.4,"d":"10.40"},{"v":0,"d":"0.00"},{"v":0,"d":"0.00"},{"v":0,"d":"0.00"},{"v":0,"d":"0.00"},{"v":0,"d":"0.00"},null,{"$f":"SUM(D42:L42)","v":{"v":10.4,"d":"10.40"}}]
[null,"Inert (rubble/hardcore)","RecyclingInert (rubble/hardcore)",{"v":0,"d":"0.00"},{"v":0,"d":"0.00"},{"v":0,"d":"0.00"},{"v":0,"d":"0.00"},{"v":0,"d":"0.00"},{"v":0,"d":"0.00"},{"v":0,"d":"0.00"},{"v":0,"d":"0.00"},{"v":0,"d":"0.00"},null,{"$f":"SUM(D43:L43)","v":{"v":0,"d":"0.00"}}]
[null,"Lead (nf)","RecyclingLead (nf)",{"v":0,"d":"0.00"},{"v":0,"d":"0.00"},{"v":0,"d":"0.00"},{"v":0,"d":"0.00"},{"v":0,"d":"0.00"},{"v":0,"d":"0.00"},{"v":0,"d":"0.00"},{"v":0,"d":"0.00"},{"v":0,"d":"0.00"},null,{"$f":"SUM(D44:L44)","v":{"v":0,"d":"0.00"}}]
[null,"Matresses","RecyclingMatresses",1.09,{"v":0,"d":"0.00"},{"v":0,"d":"0.00"},{"v":0,"d":"0.00"},3.62,{"v":0,"d":"0.00"},{"v":0,"d":"0.00"},{"v":0,"d":"0.00"},{"v":0,"d":"0.00"},null,{"$f":"SUM(D45:L45)","v":4.71}]
[null,"Microwave Motors","RecyclingMicrowave Motors",{"v":0,"d":"0.00"},{"v":0,"d":"0.00"},1.11,{"v":0,"d":"0.00"},{"v":0,"d":"0.00"},{"v":0,"d":"0.00"},{"v":0,"d":"0.00"},{"v":0,"d":"0.00"},{"v":0,"d":"0.00"},null,{"$f":"SUM(D46:L46)","v":1.11}]
[null,"Non Ferrous Metal  \r\nNon Ferrous Metal","RecyclingNon Ferrous Metal  \r\nNon Ferrous Metal",0.02,2.23,{"v":0,"d":"0.00"},{"v":0,"d":"0.00"},1.37,{"v":0.8235,"d":"0.82"},0.16,{"v":0,"d":"0.00"},{"v":0,"d":"0.00"},null,{"$f":"SUM(D47:L47)","v":{"v":4.6035,"d":"4.60"}}]
[null,"Oil (Engine)","RecyclingOil (Engine)",{"v":0,"d":"0.00"},{"v":0,"d":"0.00"},{"v":1.848,"d":"1.85"},{"v":1,"d":"1.00"},1.32,1.74,{"v":0,"d":"0.00"},{"v":0,"d":"0.00"},{"v":0,"d":"0.00"},null,{"$f":"SUM(D48:L48)","v":{"v":5.908,"d":"5.91"}}]
[null,"Oil (Vegetable)","RecyclingOil (Vegetable)",{"v":0,"d":"0.00"},{"v":0,"d":"0.00"},{"v":0,"d":"0.00"},{"v":0,"d":"0.00"},{"v":0,"d":"0.00"},{"v":0,"d":"0.00"},{"v":0,"d":"0.00"},{"v":0,"d":"0.00"},{"v":0,"d":"0.00"},null,{"$f":"SUM(D49:L49)","v":{"v":0,"d":"0.00"}}]
[null,"Paint (chemicals)","RecyclingPaint (chemicals)",{"v":0,"d":"0.00"},{"v":0.1,"d":"0.10"},{"v":0,"d":"0.00"},{"v":0,"d":"0.00"},{"v":0,"d":"0.00"},1.23,{"v":0,"d":"0.00"},{"v":0,"d":"0.00"},{"v":0,"d":"0.00"},null,{"$f":"SUM(D50:L50)","v":1.33}]
[null,"Paper (mixed with card)","RecyclingPaper (mixed with card)",{"v":0,"d":"0.00"},{"v":0,"d":"0.00"},{"v":0,"d":"0.00"},{"v":0,"d":"0.00"},{"v":0,"d":"0.00"},{"v":0,"d":"0.00"},{"v":0,"d":"0.00"},{"v":0,"d":"0.00"},{"v":0,"d":"0.00"},null,{"$f":"SUM(D51:L51)","v":{"v":0,"d":"0.00"}}]
[null,"Paper (newspaper & magazines)","RecyclingPaper (newspaper & magazines)",14.48,{"v":0,"d":"0.00"},18.02,7.48,3.38,29.62,10.78,{"v":0,"d":"0.00"},{"v":0,"d":"0.00"},null,{"$f":"SUM(D52:L52)","v":83.76}]
[null,"Plasterboard","RecyclingPlasterboard",{"v":0,"d":"0.00"},0.05,11.32,{"v":9.9,"d":"9.90"},{"v":18.490000000000002,"d":"18.49"},{"v":10.9,"d":"10.90"},0.22,{"v":0,"d":"0.00"},{"v":0,"d":"0.00"},null,{"$f":"SUM(D53:L53)","v":50.88}]
[null,"Plastic (Mixed)","RecyclingPlastic (Mixed)",{"v":0,"d":"0.00"},{"v":0,"d":"0.00"},{"v":0.1,"d":"0.10"},{"v":0,"d":"0.00"},{"v":0,"d":"0.00"},{"v":0,"d":"0.00"},{"v":0,"d":"0.00"},{"v":0,"d":"0.00"},0.08,null,{"$f":"SUM(D54:L54)","v":0.18}]
[null,"Printer Cartridges","RecyclingPrinter Cartridges",{"v":0,"d":"0.00"},{"v":0,"d":"0.00"},{"v":0,"d":"0.00"},{"v":0,"d":"0.00"},{"v":0,"d":"0.00"},{"v":0,"d":"0.00"},{"v":0,"d":"0.00"},{"v":0,"d":"0.00"},{"v":0,"d":"0.00"},null,{"$f":"SUM(D55:L55)","v":{"v":0,"d":"0.00"}}]
[null,"Road Sweepings","RecyclingRoad Sweepings",{"v":0,"d":"0.00"},{"v":0,"d":"0.00"},{"v":0,"d":"0.00"},{"v":0,"d":"0.00"},{"v":0,"d":"0.00"},{"v":332.7,"d":"332.70"},{"v":0,"d":"0.00"},{"v":0,"d":"0.00"},{"v":0,"d":"0.00"},null,{"$f":"SUM(D56:L56)","v":{"v":332.7,"d":"332.70"}}]
[null,"Scrap metal (mixed)","RecyclingScrap metal (mixed)",{"v":39,"d":"39.00"},18.82,46.39,{"v":45.9,"d":"45.90"},40.44,84.72,{"v":16.7,"d":"16.70"},9.42,6.71,null,{"$f":"SUM(D57:L57)","v":{"v":308.09999999999997,"d":"308.10"}}]
[null,"Screens output","RecyclingScreens output",{"v":3.8958,"d":"3.90"},{"v":2.5621,"d":"2.56"},{"v":6.9112,"d":"6.91"},{"v":10.4,"d":"10.40"},{"v":6.5725,"d":"6.57"},{"v":10.0403,"d":"10.04"},{"v":2.4352,"d":"2.44"},{"v":1.363,"d":"1.36"},{"v":1.6585,"d":"1.66"},null,{"$f":"SUM(D58:L58)","v":{"v":45.8386,"d":"45.84"}}]
[null,"Small Domestic Appliances","RecyclingSmall Domestic Appliances",{"v":19,"d":"19.00"},13.36,23.75,{"v":7,"d":"7.00"},18.46,26.18,3.48,3.35,3.62,null,{"$f":"SUM(D59:L59)","v":{"v":118.2,"d":"118.20"}}]
[null,"Soil & rubble","RecyclingSoil & rubble",{"v":0,"d":"0.00"},{"v":0,"d":"0.00"},{"v":0,"d":"0.00"},{"v":0,"d":"0.00"},{"v":0,"d":"0.00"},{"v":0,"d":"0.00"},{"v":0,"d":"0.00"},{"v":0,"d":"0.00"},{"v":0,"d":"0.00"},null,{"$f":"SUM(D60:L60)","v":{"v":0,"d":"0.00"}}]
[null,"Stainless Steel","RecyclingStainless Steel",{"v":0,"d":"0.00"},{"v":0,"d":"0.00"},{"v":0,"d":"0.00"},{"v":0,"d":"0.00"},{"v":0,"d":"0.00"},{"v":0,"d":"0.00"},{"v":0,"d":"0.00"},{"v":0,"d":"0.00"},{"v":0,"d":"0.00"},null,{"$f":"SUM(D61:L61)","v":{"v":0,"d":"0.00"}}]
[null,"Textiles","RecyclingTextiles",7.62,{"v":4.8,"d":"4.80"},7.66,{"v":9.3,"d":"9.30"},9.14,11.71,2.35,{"v":0.5,"d":"0.50"},1.85,null,{"$f":"SUM(D62:L62)","v":54.93}]
[null,"Tyres","RecyclingTyres",{"v":0,"d":"0.00"},0.01,{"v":0,"d":"0.00"},{"v":0,"d":"0.00"},{"v":0,"d":"0.00"},{"v":0,"d":"0.00"},{"v":0,"d":"0.00"},{"v":0,"d":"0.00"},{"v":0,"d":"0.00"},null,{"$f":"SUM(D63:L63)","v":0.01}]
[null,"Wood (including treated)","RecyclingWood (including treated)",26.58,46.84,79.75,{"v":127.8,"d":"127.80"},73.88,170.22,6.94,{"v":15.1,"d":"15.10"},19.73,null,{"$f":"SUM(D64:L64)","v":{"v":566.8400000000001,"d":"566.84"}}]
[]
[null,"Sub Total",null,{"$f":"SUM(D23:D64)","v":{"v":233.5143,"d":"233.51"}},{"$f":"SUM(E23:E64)","v":{"v":150.09140000000002,"d":"150.09"}},{"$f":"SUM(F23:F64)","v":{"v":302.27660000000003,"d":"302.28"}},{"$f":"SUM(G23:G64)","v":{"v":312.46000000000004,"d":"312.46"}},{"$f":"SUM(H23:H64)","v":{"v":309.845,"d":"309.85"}},{"$f":"SUM(I23:I64)","v":{"v":878.6094,"d":"878.61"}},{"$f":"SUM(J23:J64)","v":{"v":87.64399999999999,"d":"87.64"}},{"$f":"SUM(K23:K64)","v":{"v":50.81870000000001,"d":"50.82"}},{"$f":"SUM(L23:L64)","v":{"v":78.2795,"d":"78.28"}},null,{"$f":"SUM(D66:L66)","v":{"v":2403.5388999999996,"d":"2,403.54"}}]
[]
["Re-Use","Books","Re-UseBooks",{"v":0,"d":"0.00"},{"v":0,"d":"0.00"},{"v":0,"d":"0.00"},{"v":0,"d":"0.00"},{"v":0,"d":"0.00"},{"v":0,"d":"0.00"},{"v":0,"d":"0.00"},{"v":0,"d":"0.00"},{"v":0,"d":"0.00"},null,{"$f":"SUM(D68:L68)","v":{"v":0,"d":"0.00"}}]
[null,"Gas Cylinders","Re-UseGas Cylinders",{"v":0,"d":"0.00"},{"v":0,"d":"0.00"},{"v":0,"d":"0.00"},{"v":0,"d":"0.00"},{"v":0,"d":"0.00"},{"v":0,"d":"0.00"},{"v":0,"d":"0.00"},{"v":0,"d":"0.00"},{"v":0,"d":"0.00"},null,{"$f":"SUM(D69:L69)","v":{"v":0,"d":"0.00"}}]
[null,"Household Goods\r\nHousehold Goods","Re-UseHousehold Goods\r\nHousehold Goods",{"v":0,"d":"0.00"},{"v":0,"d":"0.00"},{"v":0,"d":"0.00"},{"v":0,"d":"0.00"},{"v":0,"d":"0.00"},{"v":0,"d":"0.00"},{"v":0,"d":"0.00"},{"v":0,"d":"0.00"},{"v":0,"d":"0.00"},null,{"$f":"SUM(D70:L70)","v":{"v":0,"d":"0.00"}}]
[null,"Inert (rubble/hardcore)","Re-UseInert (rubble/hardcore)",99.98,51.94,62.14,{"v":0,"d":"0.00"},70.88,{"v":173.07999999999998,"d":"173.08"},25.42,16.46,17.78,null,{"$f":"SUM(D71:L71)","v":517.68}]
[null,"Soil","Re-UseSoil",{"v":0,"d":"0.00"},{"v":0,"d":"0.00"},{"v":0,"d":"0.00"},{"v":0,"d":"0.00"},{"v":0,"d":"0.00"},{"v":0,"d":"0.00"},{"v":0,"d":"0.00"},{"v":0,"d":"0.00"},{"v":0,"d":"0.00"},null,{"$f":"SUM(D72:L72)","v":{"v":0,"d":"0.00"}}]
[]
[null,"Sub Total",null,{"$f":"SUM(D68:D73)","v":99.98},{"$f":"SUM(E68:E73)","v":51.94},{"$f":"SUM(F68:F73)","v":62.14},{"$f":"SUM(G68:G73)","v":{"v":0,"d":"0.00"}},{"$f":"SUM(H68:H73)","v":70.88},{"$f":"SUM(I68:I73)","v":{"v":173.07999999999998,"d":"173.08"}},{"$f":"SUM(J68:J73)","v":25.42},{"$f":"SUM(K68:K73)","v":16.46},{"$f":"SUM(L68:L73)","v":17.78},null,{"$f":"SUM(D74:L74)","v":517.68}]
[]
[]
[null,"Grand Total",null,{"$f":"SUM(D7)+(D15)+(D21)+(D66)+(D74)","v":{"v":546.0843,"d":"546.08"}},{"$f":"SUM(E7)+(E15)+(E21)+(E66)+(E74)","v":{"v":359.33140000000003,"d":"359.33"}},{"$f":"SUM(F7)+(F15)+(F21)+(F66)+(F74)","v":{"v":656.4766000000001,"d":"656.48"}},{"$f":"SUM(G7)+(G15)+(G21)+(G66)+(G74)","v":613.26},{"$f":"SUM(H7)+(H15)+(H21)+(H66)+(H74)","v":{"v":604.0400000000001,"d":"604.04"}},{"$f":"SUM(I7)+(I15)+(I21)+(I66)+(I74)","v":{"v":1870.2064,"d":"1,870.21"}},{"$f":"SUM(J7)+(J15)+(J21)+(J66)+(J74)","v":{"v":181.084,"d":"181.08"}},{"$f":"SUM(K7)+(K15)+(K21)+(K66)+(K74)","v":{"v":84.5387,"d":"84.54"}},{"$f":"SUM(L7)+(L15)+(L21)+(L66)+(L74)","v":{"v":107.5125,"d":"107.51"}},null,{"$f":"SUM(D77:L77)","v":{"v":5022.533899999999,"d":"5,022.53"}}]

{"sheet":"Cumulative Totals","index":12,"n_rows":77,"n_cols":14,"rows_kept":77}
["Cumulative Totals","01/04/2015 to 31/03/2016"]
[]
["Treatment Use","Waste Type",null,"Burton Farm HWRC","Cherry Orchard HWRC","Hunters Lane HWRC & Transfer","Judkins HWRC","Lower House Farm HWRC","Princes Drive HWRC & Transfer","Shipston HWRC","Stockton HWRC","Wellesbourne HWRC",null,"Total"]
[]
["Composting","Green waste","CompostingGreen waste",{"$f":"April!D5+May!D5+June!D5+July!D5+August!D5+September!D5+October!D5+November!D5+December!D5+January!D5+February!D5+March!D5","v":696.38},{"$f":"April!E5+May!E5+June!E5+July!E5+August!E5+September!E5+October!E5+November!E5+December!E5+January!E5+February!E5+March!E5","v":{"v":808.9600000000002,"d":"808.96"}},{"$f":"April!F5+May!F5+June!F5+July!F5+August!F5+September!F5+October!F5+November!F5+December!F5+January!F5+February!F5+March!F5","v":{"v":820.7700000000001,"d":"820.77"}},{"$f":"April!G5+May!G5+June!G5+July!G5+August!G5+September!G5+October!G5+November!G5+December!G5+January!G5+February!G5+March!G5","v":671.68},{"$f":"April!H5+May!H5+June!H5+July!H5+August!H5+September!H5+October!H5+November!H5+December!H5+January!H5+February!H5+March!H5","v":481.04},{"$f":"April!I5+May!I5+June!I5+July!I5+August!I5+September!I5+October!I5+November!I5+December!I5+January!I5+February!I5+March!I5","v":{"v":1683.8300000000002,"d":"1,683.83"}},{"$f":"April!J5+May!J5+June!J5+July!J5+August!J5+September!J5+October!J5+November!J5+December!J5+January!J5+February!J5+March!J5","v":{"v":327.08000000000004,"d":"327.08"}},{"$f":"April!K5+May!K5+June!K5+July!K5+August!K5+September!K5+October!K5+November!K5+December!K5+January!K5+February!K5+March!K5","v":{"v":103.63000000000001,"d":"103.63"}},{"$f":"April!L5+May!L5+June!L5+July!L5+August!L5+September!L5+October!L5+November!L5+December!L5+January!L5+February!L5+March!L5","v":{"v":148.60300000000004,"d":"148.60"}},null,{"$f":"SUM(D5:L5)","v":{"v":5741.973,"d":"5,741.97"}}]
[]
[null,"Sub Total",null,{"$f":"SUM(D5:D5)","v":696.38},{"$f":"SUM(E5:E5)","v":{"v":808.9600000000002,"d":"808.96"}},{"$f":"SUM(F5:F5)","v":{"v":820.7700000000001,"d":"820.77"}},{"$f":"SUM(G5:G5)","v":671.68},{"$f":"SUM(H5:H5)","v":481.04},{"$f":"SUM(I5:I5)","v":{"v":1683.8300000000002,"d":"1,683.83"}},{"$f":"SUM(J5:J5)","v":{"v":327.08000000000004,"d":"327.08"}},{"$f":"SUM(K5:K5)","v":{"v":103.63000000000001,"d":"103.63"}},{"$f":"SUM(L5:L5)","v":{"v":148.60300000000004,"d":"148.60"}},null,{"$f":"SUM(D7:L7)","v":{"v":5741.973,"d":"5,741.97"}}]
[]
["Efw (incineration)","Bulky Waste","Efw (incineration)Bulky Waste",{"$f":"April!D9+May!D9+June!D9+July!D9+August!D9+September!D9+October!D9+November!D9+December!D9+January!D9+February!D9+March!D9","v":{"v":0,"d":"0.00"}},{"$f":"April!E9+May!E9+June!E9+July!E9+August!E9+September!E9+October!E9+November!E9+December!E9+January!E9+February!E9+March!E9","v":{"v":0,"d":"0.00"}},{"$f":"April!F9+May!F9+June!F9+July!F9+August!F9+September!F9+October!F9+November!F9+December!F9+January!F9+February!F9+March!F9","v":{"v":0,"d":"0.00"}},{"$f":"April!G9+May!G9+June!G9+July!G9+August!G9+September!G9+October!G9+November!G9+December!G9+January!G9+February!G9+March!G9","v":{"v":0,"d":"0.00"}},{"$f":"April!H9+May!H9+June!H9+July!H9+August!H9+September!H9+October!H9+November!H9+December!H9+January!H9+February!H9+March!H9","v":233.82},{"$f":"April!I9+May!I9+June!I9+July!I9+August!I9+September!I9+October!I9+November!I9+December!I9+January!I9+February!I9+March!I9","v":{"v":0,"d":"0.00"}},{"$f":"April!J9+May!J9+June!J9+July!J9+August!J9+September!J9+October!J9+November!J9+December!J9+January!J9+February!J9+March!J9","v":{"v":0,"d":"0.00"}},{"$f":"April!K9+May!K9+June!K9+July!K9+August!K9+September!K9+October!K9+November!K9+December!K9+January!K9+February!K9+March!K9","v":{"v":0,"d":"0.00"}},{"$f":"April!L9+May!L9+June!L9+July!L9+August!L9+September!L9+October!L9+November!L9+December!L9+January!L9+February!L9+March!L9","v":{"v":0,"d":"0.00"}},null,{"$f":"SUM(D9:L9)","v":233.82}]
[null,"Chemicals","Efw (incineration)Chemicals",{"$f":"April!D10+May!D10+June!D10+July!D10+August!D10+September!D10+October!D10+November!D10+December!D10+January!D10+February!D10+March!D10","v":{"v":0,"d":"0.00"}},{"$f":"April!E10+May!E10+June!E10+July!E10+August!E10+September!E10+October!E10+November!E10+December!E10+January!E10+February!E10+March!E10","v":0.14},{"$f":"April!F10+May!F10+June!F10+July!F10+August!F10+September!F10+October!F10+November!F10+December!F10+January!F10+February!F10+March!F10","v":{"v":0,"d":"0.00"}},{"$f":"April!G10+May!G10+June!G10+July!G10+August!G10+September!G10+October!G10+November!G10+December!G10+January!G10+February!G10+March!G10","v":{"v":0,"d":"0.00"}},{"$f":"April!H10+May!H10+June!H10+July!H10+August!H10+September!H10+October!H10+November!H10+December!H10+January!H10+February!H10+March!H10","v":{"v":2.6,"d":"2.60"}},{"$f":"April!I10+May!I10+June!I10+July!I10+August!I10+September!I10+October!I10+November!I10+December!I10+January!I10+February!I10+March!I10","v":1.94},{"$f":"April!J10+May!J10+June!J10+July!J10+August!J10+September!J10+October!J10+November!J10+December!J10+January!J10+February!J10+March!J10","v":{"v":0,"d":"0.00"}},{"$f":"April!K10+May!K10+June!K10+July!K10+August!K10+September!K10+October!K10+November!K10+December!K10+January!K10+February!K10+March!K10","v":{"v":0,"d":"0.00"}},{"$f":"April!L10+May!L10+June!L10+July!L10+August!L10+September!L10+October!L10+November!L10+December!L10+January!L10+February!L10+March!L10","v":0.01},null,{"$f":"SUM(D10:L10)","v":{"v":4.6899999999999995,"d":"4.69"}}]
[null,"Clinical","Efw (incineration)Clinical",{"$f":"April!D11+May!D11+June!D11+July!D11+August!D11+September!D11+October!D11+November!D11+December!D11+January!D11+February!D11+March!D11","v":{"v":0,"d":"0.00"}},{"$f":"April!E11+May!E11+June!E11+July!E11+August!E11+September!E11+October!E11+November!E11+December!E11+January!E11+February!E11+March!E11","v":{"v":0,"d":"0.00"}},{"$f":"April!F11+May!F11+June!F11+July!F11+August!F11+September!F11+October!F11+November!F11+December!F11+January!F11+February!F11+March!F11","v":{"v":0,"d":"0.00"}},{"$f":"April!G11+May!G11+June!G11+July!G11+August!G11+September!G11+October!G11+November!G11+December!G11+January!G11+February!G11+March!G11","v":{"v":0,"d":"0.00"}},{"$f":"April!H11+May!H11+June!H11+July!H11+August!H11+September!H11+October!H11+November!H11+December!H11+January!H11+February!H11+March!H11","v":{"v":0,"d":"0.00"}},{"$f":"April!I11+May!I11+June!I11+July!I11+August!I11+September!I11+October!I11+November!I11+December!I11+January!I11+February!I11+March!I11","v":{"v":31.247,"d":"31.25"}},{"$f":"April!J11+May!J11+June!J11+July!J11+August!J11+September!J11+October!J11+November!J11+December!J11+January!J11+February!J11+March!J11","v":{"v":0,"d":"0.00"}},{"$f":"April!K11+May!K11+June!K11+July!K11+August!K11+September!K11+October!K11+November!K11+December!K11+January!K11+February!K11+March!K11","v":{"v":0,"d":"0.00"}},{"$f":"April!L11+May!L11+June!L11+July!L11+August!L11+September!L11+October!L11+November!L11+December!L11+January!L11+February!L11+March!L11","v":{"v":0,"d":"0.00"}},null,{"$f":"SUM(D11:L11)","v":{"v":31.247,"d":"31.25"}}]
[null,"General (mixed waste)","Efw (incineration)General (mixed waste)",{"$f":"April!D12+May!D12+June!D12+July!D12+August!D12+September!D12+October!D12+November!D12+December!D12+January!D12+February!D12+March!D12","v":30.21},{"$f":"April!E12+May!E12+June!E12+July!E12+August!E12+September!E12+October!E12+November!E12+December!E12+January!E12+February!E12+March!E12","v":{"v":32,"d":"32.00"}},{"$f":"April!F12+May!F12+June!F12+July!F12+August!F12+September!F12+October!F12+November!F12+December!F12+January!F12+February!F12+March!F12","v":{"v":30.740000000000002,"d":"30.74"}},{"$f":"April!G12+May!G12+June!G12+July!G12+August!G12+September!G12+October!G12+November!G12+December!G12+January!G12+February!G12+March!G12","v":6.82},{"$f":"April!H12+May!H12+June!H12+July!H12+August!H12+September!H12+October!H12+November!H12+December!H12+January!H12+February!H12+March!H12","v":{"v":1493.6299999999999,"d":"1,493.63"}},{"$f":"April!I12+May!I12+June!I12+July!I12+August!I12+September!I12+October!I12+November!I12+December!I12+January!I12+February!I12+March!I12","v":{"v":39.8,"d":"39.80"}},{"$f":"April!J12+May!J12+June!J12+July!J12+August!J12+September!J12+October!J12+November!J12+December!J12+January!J12+February!J12+March!J12","v":4.38},{"$f":"April!K12+May!K12+June!K12+July!K12+August!K12+September!K12+October!K12+November!K12+December!K12+January!K12+February!K12+March!K12","v":1.98},{"$f":"April!L12+May!L12+June!L12+July!L12+August!L12+September!L12+October!L12+November!L12+December!L12+January!L12+February!L12+March!L12","v":{"v":0,"d":"0.00"}},null,{"$f":"SUM(D12:L12)","v":{"v":1639.56,"d":"1,639.56"}}]
[null,"Paint (chemicals)","Efw (incineration)Paint (chemicals)",{"$f":"April!D13+May!D13+June!D13+July!D13+August!D13+September!D13+October!D13+November!D13+December!D13+January!D13+February!D13+March!D13","v":{"v":0,"d":"0.00"}},{"$f":"April!E13+May!E13+June!E13+July!E13+August!E13+September!E13+October!E13+November!E13+December!E13+January!E13+February!E13+March!E13","v":{"v":0.1,"d":"0.10"}},{"$f":"April!F13+May!F13+June!F13+July!F13+August!F13+September!F13+October!F13+November!F13+December!F13+January!F13+February!F13+March!F13","v":{"v":0,"d":"0.00"}},{"$f":"April!G13+May!G13+June!G13+July!G13+August!G13+September!G13+October!G13+November!G13+December!G13+January!G13+February!G13+March!G13","v":{"v":0,"d":"0.00"}},{"$f":"April!H13+May!H13+June!H13+July!H13+August!H13+September!H13+October!H13+November!H13+December!H13+January!H13+February!H13+March!H13","v":{"v":0,"d":"0.00"}},{"$f":"April!I13+May!I13+June!I13+July!I13+August!I13+September!I13+October!I13+November!I13+December!I13+January!I13+February!I13+March!I13","v":{"v":0,"d":"0.00"}},{"$f":"April!J13+May!J13+June!J13+July!J13+August!J13+September!J13+October!J13+November!J13+December!J13+January!J13+February!J13+March!J13","v":{"v":0,"d":"0.00"}},{"$f":"April!K13+May!K13+June!K13+July!K13+August!K13+September!K13+October!K13+November!K13+December!K13+January!K13+February!K13+March!K13","v":{"v":0,"d":"0.00"}},{"$f":"April!L13+May!L13+June!L13+July!L13+August!L13+September!L13+October!L13+November!L13+December!L13+January!L13+February!L13+March!L13","v":0.03},null,{"$f":"SUM(D13:L13)","v":0.13}]
[]
[null,"Sub Total",null,{"$f":"SUM(D9:D13)","v":30.21},{"$f":"SUM(E9:E13)","v":32.24},{"$f":"SUM(F9:F13)","v":{"v":30.740000000000002,"d":"30.74"}},{"$f":"SUM(G9:G13)","v":6.82},{"$f":"SUM(H9:H13)","v":{"v":1730.05,"d":"1,730.05"}},{"$f":"SUM(I9:I13)","v":{"v":72.987,"d":"72.99"}},{"$f":"SUM(J9:J13)","v":4.38},{"$f":"SUM(K9:K13)","v":1.98},{"$f":"SUM(L9:L13)","v":0.04},null,{"$f":"SUM(D15:L15)","v":{"v":1909.4470000000001,"d":"1,909.45"}}]
[]
["Landfill","Asbestos","LandfillAsbestos",{"$f":"April!D17+May!D17+June!D17+July!D17+August!D17+September!D17+October!D17+November!D17+December!D17+January!D17+February!D17+March!D17","v":{"v":0,"d":"0.00"}},{"$f":"April!E17+May!E17+June!E17+July!E17+August!E17+September!E17+October!E17+November!E17+December!E17+January!E17+February!E17+March!E17","v":0.12},{"$f":"April!F17+May!F17+June!F17+July!F17+August!F17+September!F17+October!F17+November!F17+December!F17+January!F17+February!F17+March!F17","v":4.38},{"$f":"April!G17+May!G17+June!G17+July!G17+August!G17+September!G17+October!G17+November!G17+December!G17+January!G17+February!G17+March!G17","v":10.04},{"$f":"April!H17+May!H17+June!H17+July!H17+August!H17+September!H17+October!H17+November!H17+December!H17+January!H17+February!H17+March!H17","v":8.52},{"$f":"April!I17+May!I17+June!I17+July!I17+August!I17+September!I17+October!I17+November!I17+December!I17+January!I17+February!I17+March!I17","v":11.62},{"$f":"April!J17+May!J17+June!J17+July!J17+August!J17+September!J17+October!J17+November!J17+December!J17+January!J17+February!J17+March!J17","v":{"v":0,"d":"0.00"}},{"$f":"April!K17+May!K17+June!K17+July!K17+August!K17+September!K17+October!K17+November!K17+December!K17+January!K17+February!K17+March!K17","v":{"v":0,"d":"0.00"}},{"$f":"April!L17+May!L17+June!L17+July!L17+August!L17+September!L17+October!L17+November!L17+December!L17+January!L17+February!L17+March!L17","v":0.92},null,{"$f":"SUM(D17:L17)","v":{"v":35.6,"d":"35.60"}}]
[null,"General (mixed waste)","LandfillGeneral (mixed waste)",{"$f":"April!D18+May!D18+June!D18+July!D18+August!D18+September!D18+October!D18+November!D18+December!D18+January!D18+February!D18+March!D18","v":{"v":1864.7800000000002,"d":"1,864.78"}},{"$f":"April!E18+May!E18+June!E18+July!E18+August!E18+September!E18+October!E18+November!E18+December!E18+January!E18+February!E18+March!E18","v":{"v":1184.3099999999997,"d":"1,184.31"}},{"$f":"April!F18+May!F18+June!F18+July!F18+August!F18+September!F18+October!F18+November!F18+December!F18+January!F18+February!F18+March!F18","v":{"v":2531.315,"d":"2,531.32"}},{"$f":"April!G18+May!G18+June!G18+July!G18+August!G18+September!G18+October!G18+November!G18+December!G18+January!G18+February!G18+March!G18","v":{"v":4134.429999999999,"d":"4,134.43"}},{"$f":"April!H18+May!H18+June!H18+July!H18+August!H18+September!H18+October!H18+November!H18+December!H18+January!H18+February!H18+March!H18","v":24.97},{"$f":"April!I18+May!I18+June!I18+July!I18+August!I18+September!I18+October!I18+November!I18+December!I18+January!I18+February!I18+March!I18","v":{"v":7952.580000000001,"d":"7,952.58"}},{"$f":"April!J18+May!J18+June!J18+July!J18+August!J18+September!J18+October!J18+November!J18+December!J18+January!J18+February!J18+March!J18","v":{"v":500.65500000000003,"d":"500.66"}},{"$f":"April!K18+May!K18+June!K18+July!K18+August!K18+September!K18+October!K18+November!K18+December!K18+January!K18+February!K18+March!K18","v":{"v":294.83200000000005,"d":"294.83"}},{"$f":"April!L18+May!L18+June!L18+July!L18+August!L18+September!L18+October!L18+November!L18+December!L18+January!L18+February!L18+March!L18","v":{"v":333.91999999999996,"d":"333.92"}},null,{"$f":"SUM(D18:L18)","v":{"v":18821.791999999994,"d":"18,821.79"}}]
[null,"Hard Plastic","LandfillHard Plastic",{"$f":"April!D19+May!D19+June!D19+July!D19+August!D19+September!D19+October!D19+November!D19+December!D19+January!D19+February!D19+March!D19","v":{"v":0,"d":"0.00"}},{"$f":"April!E19+May!E19+June!E19+July!E19+August!E19+September!E19+October!E19+November!E19+December!E19+January!E19+February!E19+March!E19","v":35.96},{"$f":"April!F19+May!F19+June!F19+July!F19+August!F19+September!F19+October!F19+November!F19+December!F19+January!F19+February!F19+March!F19","v":{"v":29.680000000000003,"d":"29.68"}},{"$f":"April!G19+May!G19+June!G19+July!G19+August!G19+September!G19+October!G19+November!G19+December!G19+January!G19+February!G19+March!G19","v":{"v":0,"d":"0.00"}},{"$f":"April!H19+May!H19+June!H19+July!H19+August!H19+September!H19+October!H19+November!H19+December!H19+January!H19+February!H19+March!H19","v":{"v":44.46499999999999,"d":"44.47"}},{"$f":"April!I19+May!I19+June!I19+July!I19+August!I19+September!I19+October!I19+November!I19+December!I19+January!I19+February!I19+March!I19","v":0.71},{"$f":"April!J19+May!J19+June!J19+July!J19+August!J19+September!J19+October!J19+November!J19+December!J19+January!J19+February!J19+March!J19","v":{"v":0,"d":"0.00"}},{"$f":"April!K19+May!K19+June!K19+July!K19+August!K19+September!K19+October!K19+November!K19+December!K19+January!K19+February!K19+March!K19","v":{"v":0,"d":"0.00"}},{"$f":"April!L19+May!L19+June!L19+July!L19+August!L19+September!L19+October!L19+November!L19+December!L19+January!L19+February!L19+March!L19","v":{"v":0,"d":"0.00"}},null,{"$f":"SUM(D19:L19)","v":{"v":110.81499999999998,"d":"110.82"}}]
[]
[null,"Sub Total",null,{"$f":"SUM(D17:D19)","v":{"v":1864.7800000000002,"d":"1,864.78"}},{"$f":"SUM(E17:E19)","v":{"v":1220.3899999999996,"d":"1,220.39"}},{"$f":"SUM(F17:F19)","v":{"v":2565.375,"d":"2,565.38"}},{"$f":"SUM(G17:G19)","v":{"v":4144.469999999999,"d":"4,144.47"}},{"$f":"SUM(H17:H19)","v":{"v":77.95499999999998,"d":"77.96"}},{"$f":"SUM(I17:I19)","v":{"v":7964.910000000001,"d":"7,964.91"}},{"$f":"SUM(J17:J19)","v":{"v":500.65500000000003,"d":"500.66"}},{"$f":"SUM(K17:K19)","v":{"v":294.83200000000005,"d":"294.83"}},{"$f":"SUM(L17:L19)","v":334.84},null,{"$f":"SUM(D21:L21)","v":{"v":18968.207,"d":"18,968.21"}}]
[]
["Recycling","Aluminium (nf)","RecyclingAluminium (nf)",{"$f":"April!D23+May!D23+June!D23+July!D23+August!D23+September!D23+October!D23+November!D23+December!D23+January!D23+February!D23+March!D23","v":{"v":0,"d":"0.00"}},{"$f":"April!E23+May!E23+June!E23+July!E23+August!E23+September!E23+October!E23+November!E23+December!E23+January!E23+February!E23+March!E23","v":{"v":0,"d":"0.00"}},{"$f":"April!F23+May!F23+June!F23+July!F23+August!F23+September!F23+October!F23+November!F23+December!F23+January!F23+February!F23+March!F23","v":{"v":0.3,"d":"0.30"}},{"$f":"April!G23+May!G23+June!G23+July!G23+August!G23+September!G23+October!G23+November!G23+December!G23+January!G23+February!G23+March!G23","v":2.78},{"$f":"April!H23+May!H23+June!H23+July!H23+August!H23+September!H23+October!H23+November!H23+December!H23+January!H23+February!H23+March!H23","v":{"v":1.5,"d":"1.50"}},{"$f":"April!I23+May!I23+June!I23+July!I23+August!I23+September!I23+October!I23+November!I23+December!I23+January!I23+February!I23+March!I23","v":{"v":3.3599999999999994,"d":"3.36"}},{"$f":"April!J23+May!J23+June!J23+July!J23+August!J23+September!J23+October!J23+November!J23+December!J23+January!J23+February!J23+March!J23","v":{"v":1.3,"d":"1.30"}},{"$f":"April!K23+May!K23+June!K23+July!K23+August!K23+September!K23+October!K23+November!K23+December!K23+January!K23+February!K23+March!K23","v":{"v":0,"d":"0.00"}},{"$f":"April!L23+May!L23+June!L23+July!L23+August!L23+September!L23+October!L23+November!L23+December!L23+January!L23+February!L23+March!L23","v":{"v":0,"d":"0.00"}},null,{"$f":"SUM(D23:L23)","v":9.24}]
[null,"Batteries (car)","RecyclingBatteries (car)",{"$f":"April!D24+May!D24+June!D24+July!D24+August!D24+September!D24+October!D24+November!D24+December!D24+January!D24+February!D24+March!D24","v":{"v":1.4825,"d":"1.48"}},{"$f":"April!E24+May!E24+June!E24+July!E24+August!E24+September!E24+October!E24+November!E24+December!E24+January!E24+February!E24+March!E24","v":{"v":12.860999999999999,"d":"12.86"}},{"$f":"April!F24+May!F24+June!F24+July!F24+August!F24+September!F24+October!F24+November!F24+December!F24+January!F24+February!F24+March!F24","v":{"v":25.5,"d":"25.50"}},{"$f":"April!G24+May!G24+June!G24+July!G24+August!G24+September!G24+October!G24+November!G24+December!G24+January!G24+February!G24+March!G24","v":{"v":9.411,"d":"9.41"}},{"$f":"April!H24+May!H24+June!H24+July!H24+August!H24+September!H24+October!H24+November!H24+December!H24+January!H24+February!H24+March!H24","v":{"v":23.339999999999996,"d":"23.34"}},{"$f":"April!I24+May!I24+June!I24+July!I24+August!I24+September!I24+October!I24+November!I24+December!I24+January!I24+February!I24+March!I24","v":{"v":37.033,"d":"37.03"}},{"$f":"April!J24+May!J24+June!J24+July!J24+August!J24+September!J24+October!J24+November!J24+December!J24+January!J24+February!J24+March!J24","v":4.56},{"$f":"April!K24+May!K24+June!K24+July!K24+August!K24+September!K24+October!K24+November!K24+December!K24+January!K24+February!K24+March!K24","v":{"v":4.2,"d":"4.20"}},{"$f":"April!L24+May!L24+June!L24+July!L24+August!L24+September!L24+October!L24+November!L24+December!L24+January!L24+February!L24+March!L24","v":{"v":5.084,"d":"5.08"}},null,{"$f":"SUM(D24:L24)","v":{"v":123.4715,"d":"123.47"}}]
[null,"Batteries (household)","RecyclingBatteries (household)",{"$f":"April!D25+May!D25+June!D25+July!D25+August!D25+September!D25+October!D25+November!D25+December!D25+January!D25+February!D25+March!D25","v":1.96},{"$f":"April!E25+May!E25+June!E25+July!E25+August!E25+September!E25+October!E25+November!E25+December!E25+January!E25+February!E25+March!E25","v":1.56},{"$f":"April!F25+May!F25+June!F25+July!F25+August!F25+September!F25+October!F25+November!F25+December!F25+January!F25+February!F25+March!F25","v":{"v":0,"d":"0.00"}},{"$f":"April!G25+May!G25+June!G25+July!G25+August!G25+September!G25+October!G25+November!G25+December!G25+January!G25+February!G25+March!G25","v":{"v":0,"d":"0.00"}},{"$f":"April!H25+May!H25+June!H25+July!H25+August!H25+September!H25+October!H25+November!H25+December!H25+January!H25+February!H25+March!H25","v":{"v":1.4,"d":"1.40"}},{"$f":"April!I25+May!I25+June!I25+July!I25+August!I25+September!I25+October!I25+November!I25+December!I25+January!I25+February!I25+March!I25","v":3.74},{"$f":"April!J25+May!J25+June!J25+July!J25+August!J25+September!J25+October!J25+November!J25+December!J25+January!J25+February!J25+March!J25","v":{"v":1.476,"d":"1.48"}},{"$f":"April!K25+May!K25+June!K25+July!K25+August!K25+September!K25+October!K25+November!K25+December!K25+January!K25+February!K25+March!K25","v":0.55},{"$f":"April!L25+May!L25+June!L25+July!L25+August!L25+September!L25+October!L25+November!L25+December!L25+January!L25+February!L25+March!L25","v":{"v":0.674,"d":"0.67"}},null,{"$f":"SUM(D25:L25)","v":11.36}]
[null,"Books","RecyclingBooks",{"$f":"April!D26+May!D26+June!D26+July!D26+August!D26+September!D26+October!D26+November!D26+December!D26+January!D26+February!D26+March!D26","v":{"v":0,"d":"0.00"}},{"$f":"April!E26+May!E26+June!E26+July!E26+August!E26+September!E26+October!E26+November!E26+December!E26+January!E26+February!E26+March!E26","v":1.02},{"$f":"April!F26+May!F26+June!F26+July!F26+August!F26+September!F26+October!F26+November!F26+December!F26+January!F26+February!F26+March!F26","v":{"v":0,"d":"0.00"}},{"$f":"April!G26+May!G26+June!G26+July!G26+August!G26+September!G26+October!G26+November!G26+December!G26+January!G26+February!G26+March!G26","v":26.36},{"$f":"April!H26+May!H26+June!H26+July!H26+August!H26+September!H26+October!H26+November!H26+December!H26+January!H26+February!H26+March!H26","v":{"v":0,"d":"0.00"}},{"$f":"April!I26+May!I26+June!I26+July!I26+August!I26+September!I26+October!I26+November!I26+December!I26+January!I26+February!I26+March!I26","v":3.73},{"$f":"April!J26+May!J26+June!J26+July!J26+August!J26+September!J26+October!J26+November!J26+December!J26+January!J26+February!J26+March!J26","v":{"v":0,"d":"0.00"}},{"$f":"April!K26+May!K26+June!K26+July!K26+August!K26+September!K26+October!K26+November!K26+December!K26+January!K26+February!K26+March!K26","v":{"v":0,"d":"0.00"}},{"$f":"April!L26+May!L26+June!L26+July!L26+August!L26+September!L26+October!L26+November!L26+December!L26+January!L26+February!L26+March!L26","v":{"v":0,"d":"0.00"}},null,{"$f":"SUM(D26:L26)","v":31.11}]
[null,"Brass(nf)","RecyclingBrass(nf)",{"$f":"April!D27+May!D27+June!D27+July!D27+August!D27+September!D27+October!D27+November!D27+December!D27+January!D27+February!D27+March!D27","v":{"v":0,"d":"0.00"}},{"$f":"April!E27+May!E27+June!E27+July!E27+August!E27+September!E27+October!E27+November!E27+December!E27+January!E27+February!E27+March!E27","v":{"v":0,"d":"0.00"}},{"$f":"April!F27+May!F27+June!F27+July!F27+August!F27+September!F27+October!F27+November!F27+December!F27+January!F27+February!F27+March!F27","v":{"v":0,"d":"0.00"}},{"$f":"April!G27+May!G27+June!G27+July!G27+August!G27+September!G27+October!G27+November!G27+December!G27+January!G27+February!G27+March!G27","v":{"v":0,"d":"0.00"}},{"$f":"April!H27+May!H27+June!H27+July!H27+August!H27+September!H27+October!H27+November!H27+December!H27+January!H27+February!H27+March!H27","v":{"v":0,"d":"0.00"}},{"$f":"April!I27+May!I27+June!I27+July!I27+August!I27+September!I27+October!I27+November!I27+December!I27+January!I27+February!I27+March!I27","v":{"v":0.137,"d":"0.14"}},{"$f":"April!J27+May!J27+June!J27+July!J27+August!J27+September!J27+October!J27+November!J27+December!J27+January!J27+February!J27+March!J27","v":{"v":0,"d":"0.00"}},{"$f":"April!K27+May!K27+June!K27+July!K27+August!K27+September!K27+October!K27+November!K27+December!K27+January!K27+February!K27+March!K27","v":{"v":0,"d":"0.00"}},{"$f":"April!L27+May!L27+June!L27+July!L27+August!L27+September!L27+October!L27+November!L27+December!L27+January!L27+February!L27+March!L27","v":{"v":0,"d":"0.00"}},null,{"$f":"SUM(D27:L27)","v":{"v":0.137,"d":"0.14"}}]
[null,"Cable (nf)","RecyclingCable (nf)",{"$f":"April!D28+May!D28+June!D28+July!D28+August!D28+September!D28+October!D28+November!D28+December!D28+January!D28+February!D28+March!D28","v":1.48},{"$f":"April!E28+May!E28+June!E28+July!E28+August!E28+September!E28+October!E28+November!E28+December!E28+January!E28+February!E28+March!E28","v":0.46},{"$f":"April!F28+May!F28+June!F28+July!F28+August!F28+September!F28+October!F28+November!F28+December!F28+January!F28+February!F28+March!F28","v":{"v":0.8200000000000001,"d":"0.82"}},{"$f":"April!G28+May!G28+June!G28+July!G28+August!G28+September!G28+October!G28+November!G28+December!G28+January!G28+February!G28+March!G28","v":{"v":0,"d":"0.00"}},{"$f":"April!H28+May!H28+June!H28+July!H28+August!H28+September!H28+October!H28+November!H28+December!H28+January!H28+February!H28+March!H28","v":{"v":0,"d":"0.00"}},{"$f":"April!I28+May!I28+June!I28+July!I28+August!I28+September!I28+October!I28+November!I28+December!I28+January!I28+February!I28+March!I28","v":{"v":1.5305,"d":"1.53"}},{"$f":"April!J28+May!J28+June!J28+July!J28+August!J28+September!J28+October!J28+November!J28+December!J28+January!J28+February!J28+March!J28","v":{"v":0.8800000000000001,"d":"0.88"}},{"$f":"April!K28+May!K28+June!K28+July!K28+August!K28+September!K28+October!K28+November!K28+December!K28+January!K28+February!K28+March!K28","v":{"v":0.1,"d":"0.10"}},{"$f":"April!L28+May!L28+June!L28+July!L28+August!L28+September!L28+October!L28+November!L28+December!L28+January!L28+February!L28+March!L28","v":{"v":0,"d":"0.00"}},null,{"$f":"SUM(D28:L28)","v":{"v":5.270499999999999,"d":"5.27"}}]
[null,"Cardboard","RecyclingCardboard",{"$f":"April!D29+May!D29+June!D29+July!D29+August!D29+September!D29+October!D29+November!D29+December!D29+January!D29+February!D29+March!D29","v":276.65},{"$f":"April!E29+May!E29+June!E29+July!E29+August!E29+September!E29+October!E29+November!E29+December!E29+January!E29+February!E29+March!E29","v":{"v":205.3,"d":"205.30"}},{"$f":"April!F29+May!F29+June!F29+July!F29+August!F29+September!F29+October!F29+November!F29+December!F29+January!F29+February!F29+March!F29","v":243.04},{"$f":"April!G29+May!G29+June!G29+July!G29+August!G29+September!G29+October!G29+November!G29+December!G29+January!G29+February!G29+March!G29","v":327.53},{"$f":"April!H29+May!H29+June!H29+July!H29+August!H29+September!H29+October!H29+November!H29+December!H29+January!H29+February!H29+March!H29","v":{"v":196.82000000000002,"d":"196.82"}},{"$f":"April!I29+May!I29+June!I29+July!I29+August!I29+September!I29+October!I29+November!I29+December!I29+January!I29+February!I29+March!I29","v":594.81},{"$f":"April!J29+May!J29+June!J29+July!J29+August!J29+September!J29+October!J29+November!J29+December!J29+January!J29+February!J29+March!J29","v":116.14},{"$f":"April!K29+May!K29+June!K29+July!K29+August!K29+September!K29+October!K29+November!K29+December!K29+January!K29+February!K29+March!K29","v":41.38},{"$f":"April!L29+May!L29+June!L29+July!L29+August!L29+September!L29+October!L29+November!L29+December!L29+January!L29+February!L29+March!L29","v":{"v":69.91999999999999,"d":"69.92"}},null,{"$f":"SUM(D29:L29)","v":{"v":2071.59,"d":"2,071.59"}}]
[null,"Carpet","RecyclingCarpet",{"$f":"April!D30+May!D30+June!D30+July!D30+August!D30+September!D30+October!D30+November!D30+December!D30+January!D30+February!D30+March!D30","v":{"v":183.89999999999995,"d":"183.90"}},{"$f":"April!E30+May!E30+June!E30+July!E30+August!E30+September!E30+October!E30+November!E30+December!E30+January!E30+February!E30+March!E30","v":{"v":144.70000000000002,"d":"144.70"}},{"$f":"April!F30+May!F30+June!F30+July!F30+August!F30+September!F30+October!F30+November!F30+December!F30+January!F30+February!F30+March!F30","v":238.99},{"$f":"April!G30+May!G30+June!G30+July!G30+August!G30+September!G30+October!G30+November!G30+December!G30+January!G30+February!G30+March!G30","v":{"v":114,"d":"114.00"}},{"$f":"April!H30+May!H30+June!H30+July!H30+August!H30+September!H30+October!H30+November!H30+December!H30+January!H30+February!H30+March!H30","v":{"v":329.27000000000004,"d":"329.27"}},{"$f":"April!I30+May!I30+June!I30+July!I30+August!I30+September!I30+October!I30+November!I30+December!I30+January!I30+February!I30+March!I30","v":{"v":421.73699999999997,"d":"421.74"}},{"$f":"April!J30+May!J30+June!J30+July!J30+August!J30+September!J30+October!J30+November!J30+December!J30+January!J30+February!J30+March!J30","v":{"v":74.67999999999999,"d":"74.68"}},{"$f":"April!K30+May!K30+June!K30+July!K30+August!K30+September!K30+October!K30+November!K30+December!K30+January!K30+February!K30+March!K30","v":{"v":0,"d":"0.00"}},{"$f":"April!L30+May!L30+June!L30+July!L30+August!L30+September!L30+October!L30+November!L30+December!L30+January!L30+February!L30+March!L30","v":{"v":0,"d":"0.00"}},null,{"$f":"SUM(D30:L30)","v":{"v":1507.2769999999998,"d":"1,507.28"}}]
[null,"Chipboard","RecyclingChipboard",{"$f":"April!D31+May!D31+June!D31+July!D31+August!D31+September!D31+October!D31+November!D31+December!D31+January!D31+February!D31+March!D31","v":835.24},{"$f":"April!E31+May!E31+June!E31+July!E31+August!E31+September!E31+October!E31+November!E31+December!E31+January!E31+February!E31+March!E31","v":205.42},{"$f":"April!F31+May!F31+June!F31+July!F31+August!F31+September!F31+October!F31+November!F31+December!F31+January!F31+February!F31+March!F31","v":879.88},{"$f":"April!G31+May!G31+June!G31+July!G31+August!G31+September!G31+October!G31+November!G31+December!G31+January!G31+February!G31+March!G31","v":{"v":0,"d":"0.00"}},{"$f":"April!H31+May!H31+June!H31+July!H31+August!H31+September!H31+October!H31+November!H31+December!H31+January!H31+February!H31+March!H31","v":680.56},{"$f":"April!I31+May!I31+June!I31+July!I31+August!I31+September!I31+October!I31+November!I31+December!I31+January!I31+February!I31+March!I31","v":{"v":383.71999999999997,"d":"383.72"}},{"$f":"April!J31+May!J31+June!J31+July!J31+August!J31+September!J31+October!J31+November!J31+December!J31+January!J31+February!J31+March!J31","v":137.56},{"$f":"April!K31+May!K31+June!K31+July!K31+August!K31+September!K31+October!K31+November!K31+December!K31+January!K31+February!K31+March!K31","v":35.69},{"$f":"April!L31+May!L31+June!L31+July!L31+August!L31+September!L31+October!L31+November!L31+December!L31+January!L31+February!L31+March!L31","v":58.36},null,{"$f":"SUM(D31:L31)","v":{"v":3216.43,"d":"3,216.43"}}]
[null,"Copper & Brass Mixed (nf)","RecyclingCopper & Brass Mixed (nf)",{"$f":"April!D32+May!D32+June!D32+July!D32+August!D32+September!D32+October!D32+November!D32+December!D32+January!D32+February!D32+March!D32","v":{"v":0,"d":"0.00"}},{"$f":"April!E32+May!E32+June!E32+July!E32+August!E32+September!E32+October!E32+November!E32+December!E32+January!E32+February!E32+March!E32","v":{"v":0,"d":"0.00"}},{"$f":"April!F32+May!F32+June!F32+July!F32+August!F32+September!F32+October!F32+November!F32+December!F32+January!F32+February!F32+March!F32","v":{"v":0,"d":"0.00"}},{"$f":"April!G32+May!G32+June!G32+July!G32+August!G32+September!G32+October!G32+November!G32+December!G32+January!G32+February!G32+March!G32","v":{"v":11.689,"d":"11.69"}},{"$f":"April!H32+May!H32+June!H32+July!H32+August!H32+September!H32+October!H32+November!H32+December!H32+January!H32+February!H32+March!H32","v":{"v":0,"d":"0.00"}},{"$f":"April!I32+May!I32+June!I32+July!I32+August!I32+September!I32+October!I32+November!I32+December!I32+January!I32+February!I32+March!I32","v":{"v":0,"d":"0.00"}},{"$f":"April!J32+May!J32+June!J32+July!J32+August!J32+September!J32+October!J32+November!J32+December!J32+January!J32+February!J32+March!J32","v":{"v":0,"d":"0.00"}},{"$f":"April!K32+May!K32+June!K32+July!K32+August!K32+September!K32+October!K32+November!K32+December!K32+January!K32+February!K32+March!K32","v":{"v":0,"d":"0.00"}},{"$f":"April!L32+May!L32+June!L32+July!L32+August!L32+September!L32+October!L32+November!L32+December!L32+January!L32+February!L32+March!L32","v":{"v":0,"d":"0.00"}},null,{"$f":"SUM(D32:L32)","v":{"v":11.689,"d":"11.69"}}]
[null,"Drink Cartons","RecyclingDrink Cartons",{"$f":"April!D33+May!D33+June!D33+July!D33+August!D33+September!D33+October!D33+November!D33+December!D33+January!D33+February!D33+March!D33","v":{"v":0,"d":"0.00"}},{"$f":"April!E33+May!E33+June!E33+July!E33+August!E33+September!E33+October!E33+November!E33+December!E33+January!E33+February!E33+March!E33","v":{"v":3.75463,"d":"3.75"}},{"$f":"April!F33+May!F33+June!F33+July!F33+August!F33+September!F33+October!F33+November!F33+December!F33+January!F33+February!F33+March!F33","v":{"v":0,"d":"0.00"}},{"$f":"April!G33+May!G33+June!G33+July!G33+August!G33+September!G33+October!G33+November!G33+December!G33+January!G33+February!G33+March!G33","v":{"v":0,"d":"0.00"}},{"$f":"April!H33+May!H33+June!H33+July!H33+August!H33+September!H33+October!H33+November!H33+December!H33+January!H33+February!H33+March!H33","v":{"v":0.76747,"d":"0.77"}},{"$f":"April!I33+May!I33+June!I33+July!I33+August!I33+September!I33+October!I33+November!I33+December!I33+January!I33+February!I33+March!I33","v":{"v":2.87255,"d":"2.87"}},{"$f":"April!J33+May!J33+June!J33+July!J33+August!J33+September!J33+October!J33+November!J33+December!J33+January!J33+February!J33+March!J33","v":{"v":0,"d":"0.00"}},{"$f":"April!K33+May!K33+June!K33+July!K33+August!K33+September!K33+October!K33+November!K33+December!K33+January!K33+February!K33+March!K33","v":{"v":0,"d":"0.00"}},{"$f":"April!L33+May!L33+June!L33+July!L33+August!L33+September!L33+October!L33+November!L33+December!L33+January!L33+February!L33+March!L33","v":{"v":0,"d":"0.00"}},null,{"$f":"SUM(D33:L33)","v":{"v":7.39465,"d":"7.39"}}]
[null,"Fire Extinguishers","RecyclingFire Extinguishers",{"$f":"April!D34+May!D34+June!D34+July!D34+August!D34+September!D34+October!D34+November!D34+December!D34+January!D34+February!D34+March!D34","v":{"v":0,"d":"0.00"}},{"$f":"April!E34+May!E34+June!E34+July!E34+August!E34+September!E34+October!E34+November!E34+December!E34+January!E34+February!E34+March!E34","v":{"v":0,"d":"0.00"}},{"$f":"April!F34+May!F34+June!F34+July!F34+August!F34+September!F34+October!F34+November!F34+December!F34+January!F34+February!F34+March!F34","v":{"v":0,"d":"0.00"}},{"$f":"April!G34+May!G34+June!G34+July!G34+August!G34+September!G34+October!G34+November!G34+December!G34+January!G34+February!G34+March!G34","v":{"v":0,"d":"0.00"}},{"$f":"April!H34+May!H34+June!H34+July!H34+August!H34+September!H34+October!H34+November!H34+December!H34+January!H34+February!H34+March!H34","v":{"v":0,"d":"0.00"}},{"$f":"April!I34+May!I34+June!I34+July!I34+August!I34+September!I34+October!I34+November!I34+December!I34+January!I34+February!I34+March!I34","v":{"v":0.5,"d":"0.50"}},{"$f":"April!J34+May!J34+June!J34+July!J34+August!J34+September!J34+October!J34+November!J34+December!J34+January!J34+February!J34+March!J34","v":{"v":0,"d":"0.00"}},{"$f":"April!K34+May!K34+June!K34+July!K34+August!K34+September!K34+October!K34+November!K34+December!K34+January!K34+February!K34+March!K34","v":{"v":0,"d":"0.00"}},{"$f":"April!L34+May!L34+June!L34+July!L34+August!L34+September!L34+October!L34+November!L34+December!L34+January!L34+February!L34+March!L34","v":{"v":0,"d":"0.00"}},null,{"$f":"SUM(D34:L34)","v":{"v":0.5,"d":"0.50"}}]
[null,"Fluorescent Tubes Output","RecyclingFluorescent Tubes Output",{"$f":"April!D35+May!D35+June!D35+July!D35+August!D35+September!D35+October!D35+November!D35+December!D35+January!D35+February!D35+March!D35","v":{"v":1.243,"d":"1.24"}},{"$f":"April!E35+May!E35+June!E35+July!E35+August!E35+September!E35+October!E35+November!E35+December!E35+January!E35+February!E35+March!E35","v":{"v":0.818,"d":"0.82"}},{"$f":"April!F35+May!F35+June!F35+July!F35+August!F35+September!F35+October!F35+November!F35+December!F35+January!F35+February!F35+March!F35","v":{"v":0.9099999999999999,"d":"0.91"}},{"$f":"April!G35+May!G35+June!G35+July!G35+August!G35+September!G35+October!G35+November!G35+December!G35+January!G35+February!G35+March!G35","v":{"v":1,"d":"1.00"}},{"$f":"April!H35+May!H35+June!H35+July!H35+August!H35+September!H35+October!H35+November!H35+December!H35+January!H35+February!H35+March!H35","v":{"v":1.057,"d":"1.06"}},{"$f":"April!I35+May!I35+June!I35+July!I35+August!I35+September!I35+October!I35+November!I35+December!I35+January!I35+February!I35+March!I35","v":1.72},{"$f":"April!J35+May!J35+June!J35+July!J35+August!J35+September!J35+October!J35+November!J35+December!J35+January!J35+February!J35+March!J35","v":{"v":0.8160000000000001,"d":"0.82"}},{"$f":"April!K35+May!K35+June!K35+July!K35+August!K35+September!K35+October!K35+November!K35+December!K35+January!K35+February!K35+March!K35","v":{"v":0.171,"d":"0.17"}},{"$f":"April!L35+May!L35+June!L35+July!L35+August!L35+September!L35+October!L35+November!L35+December!L35+January!L35+February!L35+March!L35","v":{"v":0.812,"d":"0.81"}},null,{"$f":"SUM(D35:L35)","v":{"v":8.547,"d":"8.55"}}]
[null,"Fridges Output","RecyclingFridges Output",{"$f":"April!D36+May!D36+June!D36+July!D36+August!D36+September!D36+October!D36+November!D36+December!D36+January!D36+February!D36+March!D36","v":{"v":77.86502,"d":"77.87"}},{"$f":"April!E36+May!E36+June!E36+July!E36+August!E36+September!E36+October!E36+November!E36+December!E36+January!E36+February!E36+March!E36","v":{"v":29.331449999999997,"d":"29.33"}},{"$f":"April!F36+May!F36+June!F36+July!F36+August!F36+September!F36+October!F36+November!F36+December!F36+January!F36+February!F36+March!F36","v":{"v":90.96533,"d":"90.97"}},{"$f":"April!G36+May!G36+June!G36+July!G36+August!G36+September!G36+October!G36+November!G36+December!G36+January!G36+February!G36+March!G36","v":{"v":74.2,"d":"74.20"}},{"$f":"April!H36+May!H36+June!H36+July!H36+August!H36+September!H36+October!H36+November!H36+December!H36+January!H36+February!H36+March!H36","v":{"v":92.89973,"d":"92.90"}},{"$f":"April!I36+May!I36+June!I36+July!I36+August!I36+September!I36+October!I36+November!I36+December!I36+January!I36+February!I36+March!I36","v":{"v":135.22991,"d":"135.23"}},{"$f":"April!J36+May!J36+June!J36+July!J36+August!J36+September!J36+October!J36+November!J36+December!J36+January!J36+February!J36+March!J36","v":{"v":27.223919999999996,"d":"27.22"}},{"$f":"April!K36+May!K36+June!K36+July!K36+August!K36+September!K36+October!K36+November!K36+December!K36+January!K36+February!K36+March!K36","v":{"v":9.949979999999998,"d":"9.95"}},{"$f":"April!L36+May!L36+June!L36+July!L36+August!L36+September!L36+October!L36+November!L36+December!L36+January!L36+February!L36+March!L36","v":{"v":0,"d":"0.00"}},null,{"$f":"SUM(D36:L36)","v":{"v":537.66534,"d":"537.67"}}]
[null,"Gas Cylinders","RecyclingGas Cylinders",{"$f":"April!D37+May!D37+June!D37+July!D37+August!D37+September!D37+October!D37+November!D37+December!D37+January!D37+February!D37+March!D37","v":{"v":1.545,"d":"1.55"}},{"$f":"April!E37+May!E37+June!E37+July!E37+August!E37+September!E37+October!E37+November!E37+December!E37+January!E37+February!E37+March!E37","v":0.02},{"$f":"April!F37+May!F37+June!F37+July!F37+August!F37+September!F37+October!F37+November!F37+December!F37+January!F37+February!F37+March!F37","v":{"v":0.6799999999999999,"d":"0.68"}},{"$f":"April!G37+May!G37+June!G37+July!G37+August!G37+September!G37+October!G37+November!G37+December!G37+January!G37+February!G37+March!G37","v":{"v":3.8,"d":"3.80"}},{"$f":"April!H37+May!H37+June!H37+July!H37+August!H37+September!H37+October!H37+November!H37+December!H37+January!H37+February!H37+March!H37","v":{"v":0.8,"d":"0.80"}},{"$f":"April!I37+May!I37+June!I37+July!I37+August!I37+September!I37+October!I37+November!I37+December!I37+January!I37+February!I37+March!I37","v":{"v":4.1000000000000005,"d":"4.10"}},{"$f":"April!J37+May!J37+June!J37+July!J37+August!J37+September!J37+October!J37+November!J37+December!J37+January!J37+February!J37+March!J37","v":{"v":0,"d":"0.00"}},{"$f":"April!K37+May!K37+June!K37+July!K37+August!K37+September!K37+October!K37+November!K37+December!K37+January!K37+February!K37+March!K37","v":{"v":0,"d":"0.00"}},{"$f":"April!L37+May!L37+June!L37+July!L37+August!L37+September!L37+October!L37+November!L37+December!L37+January!L37+February!L37+March!L37","v":{"v":0,"d":"0.00"}},null,{"$f":"SUM(D37:L37)","v":{"v":10.945,"d":"10.95"}}]
[null,"General (mixed waste)","RecyclingGeneral (mixed waste)",{"$f":"April!D38+May!D38+June!D38+July!D38+August!D38+September!D38+October!D38+November!D38+December!D38+January!D38+February!D38+March!D38","v":2.33},{"$f":"April!E38+May!E38+June!E38+July!E38+August!E38+September!E38+October!E38+November!E38+December!E38+January!E38+February!E38+March!E38","v":{"v":0,"d":"0.00"}},{"$f":"April!F38+May!F38+June!F38+July!F38+August!F38+September!F38+October!F38+November!F38+December!F38+January!F38+February!F38+March!F38","v":{"v":0,"d":"0.00"}},{"$f":"April!G38+May!G38+June!G38+July!G38+August!G38+September!G38+October!G38+November!G38+December!G38+January!G38+February!G38+March!G38","v":{"v":0,"d":"0.00"}},{"$f":"April!H38+May!H38+June!H38+July!H38+August!H38+September!H38+October!H38+November!H38+December!H38+January!H38+February!H38+March!H38","v":{"v":0,"d":"0.00"}},{"$f":"April!I38+May!I38+June!I38+July!I38+August!I38+September!I38+October!I38+November!I38+December!I38+January!I38+February!I38+March!I38","v":{"v":0,"d":"0.00"}},{"$f":"April!J38+May!J38+June!J38+July!J38+August!J38+September!J38+October!J38+November!J38+December!J38+January!J38+February!J38+March!J38","v":{"v":0,"d":"0.00"}},{"$f":"April!K38+May!K38+June!K38+July!K38+August!K38+September!K38+October!K38+November!K38+December!K38+January!K38+February!K38+March!K38","v":28.52},{"$f":"April!L38+May!L38+June!L38+July!L38+August!L38+September!L38+October!L38+November!L38+December!L38+January!L38+February!L38+March!L38","v":{"v":56.491,"d":"56.49"}},null,{"$f":"SUM(D38:L38)","v":{"v":87.34100000000001,"d":"87.34"}}]
[null,"Glass (bottles)","RecyclingGlass (bottles)",{"$f":"April!D39+May!D39+June!D39+July!D39+August!D39+September!D39+October!D39+November!D39+December!D39+January!D39+February!D39+March!D39","v":{"v":40.717,"d":"40.72"}},{"$f":"April!E39+May!E39+June!E39+July!E39+August!E39+September!E39+October!E39+November!E39+December!E39+January!E39+February!E39+March!E39","v":{"v":76.634,"d":"76.63"}},{"$f":"April!F39+May!F39+June!F39+July!F39+August!F39+September!F39+October!F39+November!F39+December!F39+January!F39+February!F39+March!F39","v":{"v":18.451999999999998,"d":"18.45"}},{"$f":"April!G39+May!G39+June!G39+July!G39+August!G39+September!G39+October!G39+November!G39+December!G39+January!G39+February!G39+March!G39","v":15.98},{"$f":"April!H39+May!H39+June!H39+July!H39+August!H39+September!H39+October!H39+November!H39+December!H39+January!H39+February!H39+March!H39","v":{"v":7.598,"d":"7.60"}},{"$f":"April!I39+May!I39+June!I39+July!I39+August!I39+September!I39+October!I39+November!I39+December!I39+January!I39+February!I39+March!I39","v":{"v":99.80600000000001,"d":"99.81"}},{"$f":"April!J39+May!J39+June!J39+July!J39+August!J39+September!J39+October!J39+November!J39+December!J39+January!J39+February!J39+March!J39","v":{"v":32.012,"d":"32.01"}},{"$f":"April!K39+May!K39+June!K39+July!K39+August!K39+September!K39+October!K39+November!K39+December!K39+January!K39+February!K39+March!K39","v":{"v":3.1020000000000003,"d":"3.10"}},{"$f":"April!L39+May!L39+June!L39+July!L39+August!L39+September!L39+October!L39+November!L39+December!L39+January!L39+February!L39+March!L39","v":{"v":18.166,"d":"18.17"}},null,{"$f":"SUM(D39:L39)","v":{"v":312.467,"d":"312.47"}}]
[null,"Green waste","RecyclingGreen waste",{"$f":"April!D40+May!D40+June!D40+July!D40+August!D40+September!D40+October!D40+November!D40+December!D40+January!D40+February!D40+March!D40","v":{"v":0,"d":"0.00"}},{"$f":"April!E40+May!E40+June!E40+July!E40+August!E40+September!E40+October!E40+November!E40+December!E40+January!E40+February!E40+March!E40","v":{"v":0,"d":"0.00"}},{"$f":"April!F40+May!F40+June!F40+July!F40+August!F40+September!F40+October!F40+November!F40+December!F40+January!F40+February!F40+March!F40","v":{"v":0,"d":"0.00"}},{"$f":"April!G40+May!G40+June!G40+July!G40+August!G40+September!G40+October!G40+November!G40+December!G40+January!G40+February!G40+March!G40","v":{"v":0,"d":"0.00"}},{"$f":"April!H40+May!H40+June!H40+July!H40+August!H40+September!H40+October!H40+November!H40+December!H40+January!H40+February!H40+March!H40","v":{"v":0,"d":"0.00"}},{"$f":"April!I40+May!I40+June!I40+July!I40+August!I40+September!I40+October!I40+November!I40+December!I40+January!I40+February!I40+March!I40","v":{"v":0,"d":"0.00"}},{"$f":"April!J40+May!J40+June!J40+July!J40+August!J40+September!J40+October!J40+November!J40+December!J40+January!J40+February!J40+March!J40","v":{"v":0,"d":"0.00"}},{"$f":"April!K40+May!K40+June!K40+July!K40+August!K40+September!K40+October!K40+November!K40+December!K40+January!K40+February!K40+March!K40","v":3.59},{"$f":"April!L40+May!L40+June!L40+July!L40+August!L40+September!L40+October!L40+November!L40+December!L40+January!L40+February!L40+March!L40","v":4.79},null,{"$f":"SUM(D40:L40)","v":{"v":8.379999999999999,"d":"8.38"}}]
[null,"Hard Plastic","RecyclingHard Plastic",{"$f":"April!D41+May!D41+June!D41+July!D41+August!D41+September!D41+October!D41+November!D41+December!D41+January!D41+February!D41+March!D41","v":{"v":0,"d":"0.00"}},{"$f":"April!E41+May!E41+June!E41+July!E41+August!E41+September!E41+October!E41+November!E41+December!E41+January!E41+February!E41+March!E41","v":{"v":0,"d":"0.00"}},{"$f":"April!F41+May!F41+June!F41+July!F41+August!F41+September!F41+October!F41+November!F41+December!F41+January!F41+February!F41+March!F41","v":3.83},{"$f":"April!G41+May!G41+June!G41+July!G41+August!G41+September!G41+October!G41+November!G41+December!G41+January!G41+February!G41+March!G41","v":77.72},{"$f":"April!H41+May!H41+June!H41+July!H41+August!H41+September!H41+October!H41+November!H41+December!H41+January!H41+February!H41+March!H41","v":5.36},{"$f":"April!I41+May!I41+June!I41+July!I41+August!I41+September!I41+October!I41+November!I41+December!I41+January!I41+February!I41+March!I41","v":{"v":0,"d":"0.00"}},{"$f":"April!J41+May!J41+June!J41+July!J41+August!J41+September!J41+October!J41+November!J41+December!J41+January!J41+February!J41+March!J41","v":{"v":0,"d":"0.00"}},{"$f":"April!K41+May!K41+June!K41+July!K41+August!K41+September!K41+October!K41+November!K41+December!K41+January!K41+February!K41+March!K41","v":{"v":0,"d":"0.00"}},{"$f":"April!L41+May!L41+June!L41+July!L41+August!L41+September!L41+October!L41+November!L41+December!L41+January!L41+February!L41+March!L41","v":{"v":0,"d":"0.00"}},null,{"$f":"SUM(D41:L41)","v":86.91}]
[null,"Household Goods\r\nHousehold Goods","RecyclingHousehold Goods\r\nHousehold Goods",{"$f":"April!D42+May!D42+June!D42+July!D42+August!D42+September!D42+October!D42+November!D42+December!D42+January!D42+February!D42+March!D42","v":{"v":0,"d":"0.00"}},{"$f":"April!E42+May!E42+June!E42+July!E42+August!E42+September!E42+October!E42+November!E42+December!E42+January!E42+February!E42+March!E42","v":{"v":0,"d":"0.00"}},{"$f":"April!F42+May!F42+June!F42+July!F42+August!F42+September!F42+October!F42+November!F42+December!F42+January!F42+February!F42+March!F42","v":{"v":0,"d":"0.00"}},{"$f":"April!G42+May!G42+June!G42+July!G42+August!G42+September!G42+October!G42+November!G42+December!G42+January!G42+February!G42+March!G42","v":{"v":10.4,"d":"10.40"}},{"$f":"April!H42+May!H42+June!H42+July!H42+August!H42+September!H42+October!H42+November!H42+December!H42+January!H42+February!H42+March!H42","v":{"v":0,"d":"0.00"}},{"$f":"April!I42+May!I42+June!I42+July!I42+August!I42+September!I42+October!I42+November!I42+December!I42+January!I42+February!I42+March!I42","v":{"v":0,"d":"0.00"}},{"$f":"April!J42+May!J42+June!J42+July!J42+August!J42+September!J42+October!J42+November!J42+December!J42+January!J42+February!J42+March!J42","v":{"v":0,"d":"0.00"}},{"$f":"April!K42+May!K42+June!K42+July!K42+August!K42+September!K42+October!K42+November!K42+December!K42+January!K42+February!K42+March!K42","v":{"v":0,"d":"0.00"}},{"$f":"April!L42+May!L42+June!L42+July!L42+August!L42+September!L42+October!L42+November!L42+December!L42+January!L42+February!L42+March!L42","v":{"v":0,"d":"0.00"}},null,{"$f":"SUM(D42:L42)","v":{"v":10.4,"d":"10.40"}}]
[null,"Inert (rubble/hardcore)","RecyclingInert (rubble/hardcore)",{"$f":"April!D43+May!D43+June!D43+July!D43+August!D43+September!D43+October!D43+November!D43+December!D43+January!D43+February!D43+March!D43","v":{"v":0,"d":"0.00"}},{"$f":"April!E43+May!E43+June!E43+July!E43+August!E43+September!E43+October!E43+November!E43+December!E43+January!E43+February!E43+March!E43","v":{"v":0,"d":"0.00"}},{"$f":"April!F43+May!F43+June!F43+July!F43+August!F43+September!F43+October!F43+November!F43+December!F43+January!F43+February!F43+March!F43","v":{"v":0,"d":"0.00"}},{"$f":"April!G43+May!G43+June!G43+July!G43+August!G43+September!G43+October!G43+November!G43+December!G43+January!G43+February!G43+March!G43","v":{"v":0,"d":"0.00"}},{"$f":"April!H43+May!H43+June!H43+July!H43+August!H43+September!H43+October!H43+November!H43+December!H43+January!H43+February!H43+March!H43","v":{"v":0,"d":"0.00"}},{"$f":"April!I43+May!I43+June!I43+July!I43+August!I43+September!I43+October!I43+November!I43+December!I43+January!I43+February!I43+March!I43","v":{"v":0,"d":"0.00"}},{"$f":"April!J43+May!J43+June!J43+July!J43+August!J43+September!J43+October!J43+November!J43+December!J43+January!J43+February!J43+March!J43","v":{"v":0,"d":"0.00"}},{"$f":"April!K43+May!K43+June!K43+July!K43+August!K43+September!K43+October!K43+November!K43+December!K43+January!K43+February!K43+March!K43","v":{"v":0,"d":"0.00"}},{"$f":"April!L43+May!L43+June!L43+July!L43+August!L43+September!L43+October!L43+November!L43+December!L43+January!L43+February!L43+March!L43","v":5.67},null,{"$f":"SUM(D43:L43)","v":5.67}]
[null,"Lead (nf)","RecyclingLead (nf)",{"$f":"April!D44+May!D44+June!D44+July!D44+August!D44+September!D44+October!D44+November!D44+December!D44+January!D44+February!D44+March!D44","v":{"v":0,"d":"0.00"}},{"$f":"April!E44+May!E44+June!E44+July!E44+August!E44+September!E44+October!E44+November!E44+December!E44+January!E44+February!E44+March!E44","v":{"v":0,"d":"0.00"}},{"$f":"April!F44+May!F44+June!F44+July!F44+August!F44+September!F44+October!F44+November!F44+December!F44+January!F44+February!F44+March!F44","v":{"v":0,"d":"0.00"}},{"$f":"April!G44+May!G44+June!G44+July!G44+August!G44+September!G44+October!G44+November!G44+December!G44+January!G44+February!G44+March!G44","v":{"v":0,"d":"0.00"}},{"$f":"April!H44+May!H44+June!H44+July!H44+August!H44+September!H44+October!H44+November!H44+December!H44+January!H44+February!H44+March!H44","v":{"v":0,"d":"0.00"}},{"$f":"April!I44+May!I44+June!I44+July!I44+August!I44+September!I44+October!I44+November!I44+December!I44+January!I44+February!I44+March!I44","v":{"v":0.042,"d":"0.04"}},{"$f":"April!J44+May!J44+June!J44+July!J44+August!J44+September!J44+October!J44+November!J44+December!J44+January!J44+February!J44+March!J44","v":{"v":0,"d":"0.00"}},{"$f":"April!K44+May!K44+June!K44+July!K44+August!K44+September!K44+October!K44+November!K44+December!K44+January!K44+February!K44+March!K44","v":{"v":0,"d":"0.00"}},{"$f":"April!L44+May!L44+June!L44+July!L44+August!L44+September!L44+October!L44+November!L44+December!L44+January!L44+February!L44+March!L44","v":{"v":0,"d":"0.00"}},null,{"$f":"SUM(D44:L44)","v":{"v":0.042,"d":"0.04"}}]
[null,"Matresses","RecyclingMatresses",{"$f":"April!D45+May!D45+June!D45+July!D45+August!D45+September!D45+October!D45+November!D45+December!D45+January!D45+February!D45+March!D45","v":{"v":12.675,"d":"12.68"}},{"$f":"April!E45+May!E45+June!E45+July!E45+August!E45+September!E45+October!E45+November!E45+December!E45+January!E45+February!E45+March!E45","v":{"v":9.614,"d":"9.61"}},{"$f":"April!F45+May!F45+June!F45+July!F45+August!F45+September!F45+October!F45+November!F45+December!F45+January!F45+February!F45+March!F45","v":19.62},{"$f":"April!G45+May!G45+June!G45+July!G45+August!G45+September!G45+October!G45+November!G45+December!G45+January!G45+February!G45+March!G45","v":{"v":0,"d":"0.00"}},{"$f":"April!H45+May!H45+June!H45+July!H45+August!H45+September!H45+October!H45+November!H45+December!H45+January!H45+February!H45+March!H45","v":{"v":32.059999999999995,"d":"32.06"}},{"$f":"April!I45+May!I45+June!I45+July!I45+August!I45+September!I45+October!I45+November!I45+December!I45+January!I45+February!I45+March!I45","v":28.75},{"$f":"April!J45+May!J45+June!J45+July!J45+August!J45+September!J45+October!J45+November!J45+December!J45+January!J45+February!J45+March!J45","v":{"v":1.4849999999999999,"d":"1.49"}},{"$f":"April!K45+May!K45+June!K45+July!K45+August!K45+September!K45+October!K45+November!K45+December!K45+January!K45+February!K45+March!K45","v":{"v":0,"d":"0.00"}},{"$f":"April!L45+May!L45+June!L45+July!L45+August!L45+September!L45+October!L45+November!L45+December!L45+January!L45+February!L45+March!L45","v":{"v":0,"d":"0.00"}},null,{"$f":"SUM(D45:L45)","v":{"v":104.204,"d":"104.20"}}]
[null,"Microwave Motors","RecyclingMicrowave Motors",{"$f":"April!D46+May!D46+June!D46+July!D46+August!D46+September!D46+October!D46+November!D46+December!D46+January!D46+February!D46+March!D46","v":{"v":0,"d":"0.00"}},{"$f":"April!E46+May!E46+June!E46+July!E46+August!E46+September!E46+October!E46+November!E46+December!E46+January!E46+February!E46+March!E46","v":1.25},{"$f":"April!F46+May!F46+June!F46+July!F46+August!F46+September!F46+October!F46+November!F46+December!F46+January!F46+February!F46+March!F46","v":2.68},{"$f":"April!G46+May!G46+June!G46+July!G46+August!G46+September!G46+October!G46+November!G46+December!G46+January!G46+February!G46+March!G46","v":{"v":0,"d":"0.00"}},{"$f":"April!H46+May!H46+June!H46+July!H46+August!H46+September!H46+October!H46+November!H46+December!H46+January!H46+February!H46+March!H46","v":{"v":0,"d":"0.00"}},{"$f":"April!I46+May!I46+June!I46+July!I46+August!I46+September!I46+October!I46+November!I46+December!I46+January!I46+February!I46+March!I46","v":{"v":13.280000000000001,"d":"13.28"}},{"$f":"April!J46+May!J46+June!J46+July!J46+August!J46+September!J46+October!J46+November!J46+December!J46+January!J46+February!J46+March!J46","v":0.42},{"$f":"April!K46+May!K46+June!K46+July!K46+August!K46+September!K46+October!K46+November!K46+December!K46+January!K46+February!K46+March!K46","v":{"v":0,"d":"0.00"}},{"$f":"April!L46+May!L46+June!L46+July!L46+August!L46+September!L46+October!L46+November!L46+December!L46+January!L46+February!L46+March!L46","v":{"v":0,"d":"0.00"}},null,{"$f":"SUM(D46:L46)","v":{"v":17.630000000000003,"d":"17.63"}}]
[null,"Non Ferrous Metal  \r\nNon Ferrous Metal","RecyclingNon Ferrous Metal  \r\nNon Ferrous Metal",{"$f":"April!D47+May!D47+June!D47+July!D47+August!D47+September!D47+October!D47+November!D47+December!D47+January!D47+February!D47+March!D47","v":0.38},{"$f":"April!E47+May!E47+June!E47+July!E47+August!E47+September!E47+October!E47+November!E47+December!E47+January!E47+February!E47+March!E47","v":11.77},{"$f":"April!F47+May!F47+June!F47+July!F47+August!F47+September!F47+October!F47+November!F47+December!F47+January!F47+February!F47+March!F47","v":14.69},{"$f":"April!G47+May!G47+June!G47+July!G47+August!G47+September!G47+October!G47+November!G47+December!G47+January!G47+February!G47+March!G47","v":{"v":0,"d":"0.00"}},{"$f":"April!H47+May!H47+June!H47+July!H47+August!H47+September!H47+October!H47+November!H47+December!H47+January!H47+February!H47+March!H47","v":{"v":10.189999999999998,"d":"10.19"}},{"$f":"April!I47+May!I47+June!I47+July!I47+August!I47+September!I47+October!I47+November!I47+December!I47+January!I47+February!I47+March!I47","v":{"v":9.2315,"d":"9.23"}},{"$f":"April!J47+May!J47+June!J47+July!J47+August!J47+September!J47+October!J47+November!J47+December!J47+January!J47+February!J47+March!J47","v":8.91},{"$f":"April!K47+May!K47+June!K47+July!K47+August!K47+September!K47+October!K47+November!K47+December!K47+January!K47+February!K47+March!K47","v":0.88},{"$f":"April!L47+May!L47+June!L47+July!L47+August!L47+September!L47+October!L47+November!L47+December!L47+January!L47+February!L47+March!L47","v":{"v":1.5750000000000002,"d":"1.58"}},null,{"$f":"SUM(D47:L47)","v":{"v":57.6265,"d":"57.63"}}]
[null,"Oil (Engine)","RecyclingOil (Engine)",{"$f":"April!D48+May!D48+June!D48+July!D48+August!D48+September!D48+October!D48+November!D48+December!D48+January!D48+February!D48+March!D48","v":{"v":5.960000000000001,"d":"5.96"}},{"$f":"April!E48+May!E48+June!E48+July!E48+August!E48+September!E48+October!E48+November!E48+December!E48+January!E48+February!E48+March!E48","v":{"v":2.904,"d":"2.90"}},{"$f":"April!F48+May!F48+June!F48+July!F48+August!F48+September!F48+October!F48+November!F48+December!F48+January!F48+February!F48+March!F48","v":{"v":12.324000000000002,"d":"12.32"}},{"$f":"April!G48+May!G48+June!G48+July!G48+August!G48+September!G48+October!G48+November!G48+December!G48+January!G48+February!G48+March!G48","v":{"v":18.559999999999995,"d":"18.56"}},{"$f":"April!H48+May!H48+June!H48+July!H48+August!H48+September!H48+October!H48+November!H48+December!H48+January!H48+February!H48+March!H48","v":{"v":12.137999999999998,"d":"12.14"}},{"$f":"April!I48+May!I48+June!I48+July!I48+August!I48+September!I48+October!I48+November!I48+December!I48+January!I48+February!I48+March!I48","v":{"v":14.213999999999999,"d":"14.21"}},{"$f":"April!J48+May!J48+June!J48+July!J48+August!J48+September!J48+October!J48+November!J48+December!J48+January!J48+February!J48+March!J48","v":0.44},{"$f":"April!K48+May!K48+June!K48+July!K48+August!K48+September!K48+October!K48+November!K48+December!K48+January!K48+February!K48+March!K48","v":{"v":1.796,"d":"1.80"}},{"$f":"April!L48+May!L48+June!L48+July!L48+August!L48+September!L48+October!L48+November!L48+December!L48+January!L48+February!L48+March!L48","v":{"v":1.7599999999999998,"d":"1.76"}},null,{"$f":"SUM(D48:L48)","v":{"v":70.096,"d":"70.10"}}]
[null,"Oil (Vegetable)","RecyclingOil (Vegetable)",{"$f":"April!D49+May!D49+June!D49+July!D49+August!D49+September!D49+October!D49+November!D49+December!D49+January!D49+February!D49+March!D49","v":0.42},{"$f":"April!E49+May!E49+June!E49+July!E49+August!E49+September!E49+October!E49+November!E49+December!E49+January!E49+February!E49+March!E49","v":{"v":0.898,"d":"0.90"}},{"$f":"April!F49+May!F49+June!F49+July!F49+August!F49+September!F49+October!F49+November!F49+December!F49+January!F49+February!F49+March!F49","v":1.71},{"$f":"April!G49+May!G49+June!G49+July!G49+August!G49+September!G49+October!G49+November!G49+December!G49+January!G49+February!G49+March!G49","v":{"v":0,"d":"0.00"}},{"$f":"April!H49+May!H49+June!H49+July!H49+August!H49+September!H49+October!H49+November!H49+December!H49+January!H49+February!H49+March!H49","v":1.18},{"$f":"April!I49+May!I49+June!I49+July!I49+August!I49+September!I49+October!I49+November!I49+December!I49+January!I49+February!I49+March!I49","v":{"v":3.3399999999999994,"d":"3.34"}},{"$f":"April!J49+May!J49+June!J49+July!J49+August!J49+September!J49+October!J49+November!J49+December!J49+January!J49+February!J49+March!J49","v":{"v":0.528,"d":"0.53"}},{"$f":"April!K49+May!K49+June!K49+July!K49+August!K49+September!K49+October!K49+November!K49+December!K49+January!K49+February!K49+March!K49","v":{"v":0,"d":"0.00"}},{"$f":"April!L49+May!L49+June!L49+July!L49+August!L49+September!L49+October!L49+November!L49+December!L49+January!L49+February!L49+March!L49","v":{"v":0,"d":"0.00"}},null,{"$f":"SUM(D49:L49)","v":{"v":8.076,"d":"8.08"}}]
[null,"Paint (chemicals)","RecyclingPaint (chemicals)",{"$f":"April!D50+May!D50+June!D50+July!D50+August!D50+September!D50+October!D50+November!D50+December!D50+January!D50+February!D50+March!D50","v":{"v":0,"d":"0.00"}},{"$f":"April!E50+May!E50+June!E50+July!E50+August!E50+September!E50+October!E50+November!E50+December!E50+January!E50+February!E50+March!E50","v":0.18},{"$f":"April!F50+May!F50+June!F50+July!F50+August!F50+September!F50+October!F50+November!F50+December!F50+January!F50+February!F50+March!F50","v":{"v":0,"d":"0.00"}},{"$f":"April!G50+May!G50+June!G50+July!G50+August!G50+September!G50+October!G50+November!G50+December!G50+January!G50+February!G50+March!G50","v":{"v":0,"d":"0.00"}},{"$f":"April!H50+May!H50+June!H50+July!H50+August!H50+September!H50+October!H50+November!H50+December!H50+January!H50+February!H50+March!H50","v":4.78},{"$f":"April!I50+May!I50+June!I50+July!I50+August!I50+September!I50+October!I50+November!I50+December!I50+January!I50+February!I50+March!I50","v":{"v":11.890000000000002,"d":"11.89"}},{"$f":"April!J50+May!J50+June!J50+July!J50+August!J50+September!J50+October!J50+November!J50+December!J50+January!J50+February!J50+March!J50","v":{"v":0,"d":"0.00"}},{"$f":"April!K50+May!K50+June!K50+July!K50+August!K50+September!K50+October!K50+November!K50+December!K50+January!K50+February!K50+March!K50","v":0.95},{"$f":"April!L50+May!L50+June!L50+July!L50+August!L50+September!L50+October!L50+November!L50+December!L50+January!L50+February!L50+March!L50","v":0.75},null,{"$f":"SUM(D50:L50)","v":18.55}]
[null,"Paper (mixed with card)","RecyclingPaper (mixed with card)",{"$f":"April!D51+May!D51+June!D51+July!D51+August!D51+September!D51+October!D51+November!D51+December!D51+January!D51+February!D51+March!D51","v":{"v":0,"d":"0.00"}},{"$f":"April!E51+May!E51+June!E51+July!E51+August!E51+September!E51+October!E51+November!E51+December!E51+January!E51+February!E51+March!E51","v":{"v":0,"d":"0.00"}},{"$f":"April!F51+May!F51+June!F51+July!F51+August!F51+September!F51+October!F51+November!F51+December!F51+January!F51+February!F51+March!F51","v":{"v":0,"d":"0.00"}},{"$f":"April!G51+May!G51+June!G51+July!G51+August!G51+September!G51+October!G51+November!G51+December!G51+January!G51+February!G51+March!G51","v":{"v":30.5,"d":"30.50"}},{"$f":"April!H51+May!H51+June!H51+July!H51+August!H51+September!H51+October!H51+November!H51+December!H51+January!H51+February!H51+March!H51","v":4.16},{"$f":"April!I51+May!I51+June!I51+July!I51+August!I51+September!I51+October!I51+November!I51+December!I51+January!I51+February!I51+March!I51","v":{"v":0,"d":"0.00"}},{"$f":"April!J51+May!J51+June!J51+July!J51+August!J51+September!J51+October!J51+November!J51+December!J51+January!J51+February!J51+March!J51","v":{"v":0,"d":"0.00"}},{"$f":"April!K51+May!K51+June!K51+July!K51+August!K51+September!K51+October!K51+November!K51+December!K51+January!K51+February!K51+March!K51","v":{"v":0,"d":"0.00"}},{"$f":"April!L51+May!L51+June!L51+July!L51+August!L51+September!L51+October!L51+November!L51+December!L51+January!L51+February!L51+March!L51","v":{"v":0,"d":"0.00"}},null,{"$f":"SUM(D51:L51)","v":34.66}]
[null,"Paper (newspaper & magazines)","RecyclingPaper (newspaper & magazines)",{"$f":"April!D52+May!D52+June!D52+July!D52+August!D52+September!D52+October!D52+November!D52+December!D52+January!D52+February!D52+March!D52","v":201.12},{"$f":"April!E52+May!E52+June!E52+July!E52+August!E52+September!E52+October!E52+November!E52+December!E52+January!E52+February!E52+March!E52","v":{"v":164.55999999999997,"d":"164.56"}},{"$f":"April!F52+May!F52+June!F52+July!F52+August!F52+September!F52+October!F52+November!F52+December!F52+January!F52+February!F52+March!F52","v":{"v":208.40000000000003,"d":"208.40"}},{"$f":"April!G52+May!G52+June!G52+July!G52+August!G52+September!G52+October!G52+November!G52+December!G52+January!G52+February!G52+March!G52","v":68.62},{"$f":"April!H52+May!H52+June!H52+July!H52+August!H52+September!H52+October!H52+November!H52+December!H52+January!H52+February!H52+March!H52","v":112.96},{"$f":"April!I52+May!I52+June!I52+July!I52+August!I52+September!I52+October!I52+November!I52+December!I52+January!I52+February!I52+March!I52","v":295.56},{"$f":"April!J52+May!J52+June!J52+July!J52+August!J52+September!J52+October!J52+November!J52+December!J52+January!J52+February!J52+March!J52","v":77.78},{"$f":"April!K52+May!K52+June!K52+July!K52+August!K52+September!K52+October!K52+November!K52+December!K52+January!K52+February!K52+March!K52","v":{"v":0,"d":"0.00"}},{"$f":"April!L52+May!L52+June!L52+July!L52+August!L52+September!L52+October!L52+November!L52+December!L52+January!L52+February!L52+March!L52","v":{"v":0,"d":"0.00"}},null,{"$f":"SUM(D52:L52)","v":{"v":1129,"d":"1,129.00"}}]
[null,"Plasterboard","RecyclingPlasterboard",{"$f":"April!D53+May!D53+June!D53+July!D53+August!D53+September!D53+October!D53+November!D53+December!D53+January!D53+February!D53+March!D53","v":62.24},{"$f":"April!E53+May!E53+June!E53+July!E53+August!E53+September!E53+October!E53+November!E53+December!E53+January!E53+February!E53+March!E53","v":0.67},{"$f":"April!F53+May!F53+June!F53+July!F53+August!F53+September!F53+October!F53+November!F53+December!F53+January!F53+February!F53+March!F53","v":{"v":63.4,"d":"63.40"}},{"$f":"April!G53+May!G53+June!G53+July!G53+August!G53+September!G53+October!G53+November!G53+December!G53+January!G53+February!G53+March!G53","v":{"v":101.58000000000001,"d":"101.58"}},{"$f":"April!H53+May!H53+June!H53+July!H53+August!H53+September!H53+October!H53+November!H53+December!H53+January!H53+February!H53+March!H53","v":89.91},{"$f":"April!I53+May!I53+June!I53+July!I53+August!I53+September!I53+October!I53+November!I53+December!I53+January!I53+February!I53+March!I53","v":{"v":164.81000000000003,"d":"164.81"}},{"$f":"April!J53+May!J53+June!J53+July!J53+August!J53+September!J53+October!J53+November!J53+December!J53+January!J53+February!J53+March!J53","v":0.22},{"$f":"April!K53+May!K53+June!K53+July!K53+August!K53+September!K53+October!K53+November!K53+December!K53+January!K53+February!K53+March!K53","v":{"v":0,"d":"0.00"}},{"$f":"April!L53+May!L53+June!L53+July!L53+August!L53+September!L53+October!L53+November!L53+December!L53+January!L53+February!L53+March!L53","v":0.22},null,{"$f":"SUM(D53:L53)","v":{"v":483.05000000000007,"d":"483.05"}}]
[null,"Plastic (Mixed)","RecyclingPlastic (Mixed)",{"$f":"April!D54+May!D54+June!D54+July!D54+August!D54+September!D54+October!D54+November!D54+December!D54+January!D54+February!D54+March!D54","v":{"v":2.4299999999999997,"d":"2.43"}},{"$f":"April!E54+May!E54+June!E54+July!E54+August!E54+September!E54+October!E54+November!E54+December!E54+January!E54+February!E54+March!E54","v":13.63},{"$f":"April!F54+May!F54+June!F54+July!F54+August!F54+September!F54+October!F54+November!F54+December!F54+January!F54+February!F54+March!F54","v":0.91},{"$f":"April!G54+May!G54+June!G54+July!G54+August!G54+September!G54+October!G54+November!G54+December!G54+January!G54+February!G54+March!G54","v":{"v":0,"d":"0.00"}},{"$f":"April!H54+May!H54+June!H54+July!H54+August!H54+September!H54+October!H54+November!H54+December!H54+January!H54+February!H54+March!H54","v":1.04},{"$f":"April!I54+May!I54+June!I54+July!I54+August!I54+September!I54+October!I54+November!I54+December!I54+January!I54+February!I54+March!I54","v":56.29},{"$f":"April!J54+May!J54+June!J54+July!J54+August!J54+September!J54+October!J54+November!J54+December!J54+January!J54+February!J54+March!J54","v":4.73},{"$f":"April!K54+May!K54+June!K54+July!K54+August!K54+September!K54+October!K54+November!K54+December!K54+January!K54+February!K54+March!K54","v":{"v":0.9500000000000001,"d":"0.95"}},{"$f":"April!L54+May!L54+June!L54+July!L54+August!L54+September!L54+October!L54+November!L54+December!L54+January!L54+February!L54+March!L54","v":{"v":1.1800000000000002,"d":"1.18"}},null,{"$f":"SUM(D54:L54)","v":{"v":81.16000000000001,"d":"81.16"}}]
[null,"Printer Cartridges","RecyclingPrinter Cartridges",{"$f":"April!D55+May!D55+June!D55+July!D55+August!D55+September!D55+October!D55+November!D55+December!D55+January!D55+February!D55+March!D55","v":{"v":0,"d":"0.00"}},{"$f":"April!E55+May!E55+June!E55+July!E55+August!E55+September!E55+October!E55+November!E55+December!E55+January!E55+February!E55+March!E55","v":{"v":0,"d":"0.00"}},{"$f":"April!F55+May!F55+June!F55+July!F55+August!F55+September!F55+October!F55+November!F55+December!F55+January!F55+February!F55+March!F55","v":0.57},{"$f":"April!G55+May!G55+June!G55+July!G55+August!G55+September!G55+October!G55+November!G55+December!G55+January!G55+February!G55+March!G55","v":{"v":0,"d":"0.00"}},{"$f":"April!H55+May!H55+June!H55+July!H55+August!H55+September!H55+October!H55+November!H55+December!H55+January!H55+February!H55+March!H55","v":{"v":0,"d":"0.00"}},{"$f":"April!I55+May!I55+June!I55+July!I55+August!I55+September!I55+October!I55+November!I55+December!I55+January!I55+February!I55+March!I55","v":{"v":0,"d":"0.00"}},{"$f":"April!J55+May!J55+June!J55+July!J55+August!J55+September!J55+October!J55+November!J55+December!J55+January!J55+February!J55+March!J55","v":{"v":0,"d":"0.00"}},{"$f":"April!K55+May!K55+June!K55+July!K55+August!K55+September!K55+October!K55+November!K55+December!K55+January!K55+February!K55+March!K55","v":{"v":0,"d":"0.00"}},{"$f":"April!L55+May!L55+June!L55+July!L55+August!L55+September!L55+October!L55+November!L55+December!L55+January!L55+February!L55+March!L55","v":{"v":0,"d":"0.00"}},null,{"$f":"SUM(D55:L55)","v":0.57}]
[null,"Road Sweepings","RecyclingRoad Sweepings",{"$f":"April!D56+May!D56+June!D56+July!D56+August!D56+September!D56+October!D56+November!D56+December!D56+January!D56+February!D56+March!D56","v":{"v":0,"d":"0.00"}},{"$f":"April!E56+May!E56+June!E56+July!E56+August!E56+September!E56+October!E56+November!E56+December!E56+January!E56+February!E56+March!E56","v":{"v":0,"d":"0.00"}},{"$f":"April!F56+May!F56+June!F56+July!F56+August!F56+September!F56+October!F56+November!F56+December!F56+January!F56+February!F56+March!F56","v":{"v":0,"d":"0.00"}},{"$f":"April!G56+May!G56+June!G56+July!G56+August!G56+September!G56+October!G56+November!G56+December!G56+January!G56+February!G56+March!G56","v":{"v":0,"d":"0.00"}},{"$f":"April!H56+May!H56+June!H56+July!H56+August!H56+September!H56+October!H56+November!H56+December!H56+January!H56+February!H56+March!H56","v":{"v":0,"d":"0.00"}},{"$f":"April!I56+May!I56+June!I56+July!I56+August!I56+September!I56+October!I56+November!I56+December!I56+January!I56+February!I56+March!I56","v":{"v":3355.9199999999996,"d":"3,355.92"}},{"$f":"April!J56+May!J56+June!J56+July!J56+August!J56+September!J56+October!J56+November!J56+December!J56+January!J56+February!J56+March!J56","v":{"v":0,"d":"0.00"}},{"$f":"April!K56+May!K56+June!K56+July!K56+August!K56+September!K56+October!K56+November!K56+December!K56+January!K56+February!K56+March!K56","v":{"v":0,"d":"0.00"}},{"$f":"April!L56+May!L56+June!L56+July!L56+August!L56+September!L56+October!L56+November!L56+December!L56+January!L56+February!L56+March!L56","v":{"v":0,"d":"0.00"}},null,{"$f":"SUM(D56:L56)","v":{"v":3355.9199999999996,"d":"3,355.92"}}]
[null,"Scrap metal (mixed)","RecyclingScrap metal (mixed)",{"$f":"April!D57+May!D57+June!D57+July!D57+August!D57+September!D57+October!D57+November!D57+December!D57+January!D57+February!D57+March!D57","v":{"v":424.12500000000006,"d":"424.13"}},{"$f":"April!E57+May!E57+June!E57+July!E57+August!E57+September!E57+October!E57+November!E57+December!E57+January!E57+February!E57+March!E57","v":{"v":253.50000000000003,"d":"253.50"}},{"$f":"April!F57+May!F57+June!F57+July!F57+August!F57+September!F57+October!F57+November!F57+December!F57+January!F57+February!F57+March!F57","v":534.36},{"$f":"April!G57+May!G57+June!G57+July!G57+August!G57+September!G57+October!G57+November!G57+December!G57+January!G57+February!G57+March!G57","v":466.09},{"$f":"April!H57+May!H57+June!H57+July!H57+August!H57+September!H57+October!H57+November!H57+December!H57+January!H57+February!H57+March!H57","v":356.57},{"$f":"April!I57+May!I57+June!I57+July!I57+August!I57+September!I57+October!I57+November!I57+December!I57+January!I57+February!I57+March!I57","v":{"v":854.8225,"d":"854.82"}},{"$f":"April!J57+May!J57+June!J57+July!J57+August!J57+September!J57+October!J57+November!J57+December!J57+January!J57+February!J57+March!J57","v":{"v":207.69999999999996,"d":"207.70"}},{"$f":"April!K57+May!K57+June!K57+July!K57+August!K57+September!K57+October!K57+November!K57+December!K57+January!K57+February!K57+March!K57","v":80.45},{"$f":"April!L57+May!L57+June!L57+July!L57+August!L57+September!L57+October!L57+November!L57+December!L57+January!L57+February!L57+March!L57","v":85.28},null,{"$f":"SUM(D57:L57)","v":{"v":3262.8974999999996,"d":"3,262.90"}}]
[null,"Screens output","RecyclingScreens output",{"$f":"April!D58+May!D58+June!D58+July!D58+August!D58+September!D58+October!D58+November!D58+December!D58+January!D58+February!D58+March!D58","v":{"v":48.71321,"d":"48.71"}},{"$f":"April!E58+May!E58+June!E58+July!E58+August!E58+September!E58+October!E58+November!E58+December!E58+January!E58+February!E58+March!E58","v":{"v":36.49803,"d":"36.50"}},{"$f":"April!F58+May!F58+June!F58+July!F58+August!F58+September!F58+October!F58+November!F58+December!F58+January!F58+February!F58+March!F58","v":{"v":92.0395,"d":"92.04"}},{"$f":"April!G58+May!G58+June!G58+July!G58+August!G58+September!G58+October!G58+November!G58+December!G58+January!G58+February!G58+March!G58","v":76.79},{"$f":"April!H58+May!H58+June!H58+July!H58+August!H58+September!H58+October!H58+November!H58+December!H58+January!H58+February!H58+March!H58","v":{"v":68.0774,"d":"68.08"}},{"$f":"April!I58+May!I58+June!I58+July!I58+August!I58+September!I58+October!I58+November!I58+December!I58+January!I58+February!I58+March!I58","v":{"v":116.57241,"d":"116.57"}},{"$f":"April!J58+May!J58+June!J58+July!J58+August!J58+September!J58+October!J58+November!J58+December!J58+January!J58+February!J58+March!J58","v":{"v":27.392590000000006,"d":"27.39"}},{"$f":"April!K58+May!K58+June!K58+July!K58+August!K58+September!K58+October!K58+November!K58+December!K58+January!K58+February!K58+March!K58","v":{"v":10.606489999999999,"d":"10.61"}},{"$f":"April!L58+May!L58+June!L58+July!L58+August!L58+September!L58+October!L58+November!L58+December!L58+January!L58+February!L58+March!L58","v":{"v":22.09105,"d":"22.09"}},null,{"$f":"SUM(D58:L58)","v":{"v":498.78068,"d":"498.78"}}]
[null,"Small Domestic Appliances","RecyclingSmall Domestic Appliances",{"$f":"April!D59+May!D59+June!D59+July!D59+August!D59+September!D59+October!D59+November!D59+December!D59+January!D59+February!D59+March!D59","v":231.74},{"$f":"April!E59+May!E59+June!E59+July!E59+August!E59+September!E59+October!E59+November!E59+December!E59+January!E59+February!E59+March!E59","v":96.55},{"$f":"April!F59+May!F59+June!F59+July!F59+August!F59+September!F59+October!F59+November!F59+December!F59+January!F59+February!F59+March!F59","v":{"v":232.2,"d":"232.20"}},{"$f":"April!G59+May!G59+June!G59+July!G59+August!G59+September!G59+October!G59+November!G59+December!G59+January!G59+February!G59+March!G59","v":{"v":140.83999999999997,"d":"140.84"}},{"$f":"April!H59+May!H59+June!H59+July!H59+August!H59+September!H59+October!H59+November!H59+December!H59+January!H59+February!H59+March!H59","v":{"v":173.04000000000002,"d":"173.04"}},{"$f":"April!I59+May!I59+June!I59+July!I59+August!I59+September!I59+October!I59+November!I59+December!I59+January!I59+February!I59+March!I59","v":{"v":385.1,"d":"385.10"}},{"$f":"April!J59+May!J59+June!J59+July!J59+August!J59+September!J59+October!J59+November!J59+December!J59+January!J59+February!J59+March!J59","v":63.39},{"$f":"April!K59+May!K59+June!K59+July!K59+August!K59+September!K59+October!K59+November!K59+December!K59+January!K59+February!K59+March!K59","v":{"v":28.470000000000002,"d":"28.47"}},{"$f":"April!L59+May!L59+June!L59+July!L59+August!L59+September!L59+October!L59+November!L59+December!L59+January!L59+February!L59+March!L59","v":{"v":38.4,"d":"38.40"}},null,{"$f":"SUM(D59:L59)","v":{"v":1389.73,"d":"1,389.73"}}]
[null,"Soil & rubble","RecyclingSoil & rubble",{"$f":"April!D60+May!D60+June!D60+July!D60+August!D60+September!D60+October!D60+November!D60+December!D60+January!D60+February!D60+March!D60","v":{"v":0,"d":"0.00"}},{"$f":"April!E60+May!E60+June!E60+July!E60+August!E60+September!E60+October!E60+November!E60+December!E60+January!E60+February!E60+March!E60","v":{"v":0,"d":"0.00"}},{"$f":"April!F60+May!F60+June!F60+July!F60+August!F60+September!F60+October!F60+November!F60+December!F60+January!F60+February!F60+March!F60","v":{"v":0,"d":"0.00"}},{"$f":"April!G60+May!G60+June!G60+July!G60+August!G60+September!G60+October!G60+November!G60+December!G60+January!G60+February!G60+March!G60","v":{"v":1158.19,"d":"1,158.19"}},{"$f":"April!H60+May!H60+June!H60+July!H60+August!H60+September!H60+October!H60+November!H60+December!H60+January!H60+February!H60+March!H60","v":{"v":0,"d":"0.00"}},{"$f":"April!I60+May!I60+June!I60+July!I60+August!I60+September!I60+October!I60+November!I60+December!I60+January!I60+February!I60+March!I60","v":{"v":0,"d":"0.00"}},{"$f":"April!J60+May!J60+June!J60+July!J60+August!J60+September!J60+October!J60+November!J60+December!J60+January!J60+February!J60+March!J60","v":{"v":0,"d":"0.00"}},{"$f":"April!K60+May!K60+June!K60+July!K60+August!K60+September!K60+October!K60+November!K60+December!K60+January!K60+February!K60+March!K60","v":{"v":0,"d":"0.00"}},{"$f":"April!L60+May!L60+June!L60+July!L60+August!L60+September!L60+October!L60+November!L60+December!L60+January!L60+February!L60+March!L60","v":{"v":0,"d":"0.00"}},null,{"$f":"SUM(D60:L60)","v":{"v":1158.19,"d":"1,158.19"}}]
[null,"Stainless Steel","RecyclingStainless Steel",{"$f":"April!D61+May!D61+June!D61+July!D61+August!D61+September!D61+October!D61+November!D61+December!D61+January!D61+February!D61+March!D61","v":{"v":0,"d":"0.00"}},{"$f":"April!E61+May!E61+June!E61+July!E61+August!E61+September!E61+October!E61+November!E61+December!E61+January!E61+February!E61+March!E61","v":{"v":0,"d":"0.00"}},{"$f":"April!F61+May!F61+June!F61+July!F61+August!F61+September!F61+October!F61+November!F61+December!F61+January!F61+February!F61+March!F61","v":{"v":0,"d":"0.00"}},{"$f":"April!G61+May!G61+June!G61+July!G61+August!G61+September!G61+October!G61+November!G61+December!G61+January!G61+February!G61+March!G61","v":{"v":0,"d":"0.00"}},{"$f":"April!H61+May!H61+June!H61+July!H61+August!H61+September!H61+October!H61+November!H61+December!H61+January!H61+February!H61+March!H61","v":{"v":0,"d":"0.00"}},{"$f":"April!I61+May!I61+June!I61+July!I61+August!I61+September!I61+October!I61+November!I61+December!I61+January!I61+February!I61+March!I61","v":0.53},{"$f":"April!J61+May!J61+June!J61+July!J61+August!J61+September!J61+October!J61+November!J61+December!J61+January!J61+February!J61+March!J61","v":{"v":0,"d":"0.00"}},{"$f":"April!K61+May!K61+June!K61+July!K61+August!K61+September!K61+October!K61+November!K61+December!K61+January!K61+February!K61+March!K61","v":{"v":0,"d":"0.00"}},{"$f":"April!L61+May!L61+June!L61+July!L61+August!L61+September!L61+October!L61+November!L61+December!L61+January!L61+February!L61+March!L61","v":{"v":0,"d":"0.00"}},null,{"$f":"SUM(D61:L61)","v":0.53}]
[null,"Textiles","RecyclingTextiles",{"$f":"April!D62+May!D62+June!D62+July!D62+August!D62+September!D62+October!D62+November!D62+December!D62+January!D62+February!D62+March!D62","v":83.95},{"$f":"April!E62+May!E62+June!E62+July!E62+August!E62+September!E62+October!E62+November!E62+December!E62+January!E62+February!E62+March!E62","v":{"v":57.830149999999996,"d":"57.83"}},{"$f":"April!F62+May!F62+June!F62+July!F62+August!F62+September!F62+October!F62+November!F62+December!F62+January!F62+February!F62+March!F62","v":{"v":91.58100000000002,"d":"91.58"}},{"$f":"April!G62+May!G62+June!G62+July!G62+August!G62+September!G62+October!G62+November!G62+December!G62+January!G62+February!G62+March!G62","v":135.86},{"$f":"April!H62+May!H62+June!H62+July!H62+August!H62+September!H62+October!H62+November!H62+December!H62+January!H62+February!H62+March!H62","v":73.33},{"$f":"April!I62+May!I62+June!I62+July!I62+August!I62+September!I62+October!I62+November!I62+December!I62+January!I62+February!I62+March!I62","v":114.97},{"$f":"April!J62+May!J62+June!J62+July!J62+August!J62+September!J62+October!J62+November!J62+December!J62+January!J62+February!J62+March!J62","v":{"v":23.988699999999998,"d":"23.99"}},{"$f":"April!K62+May!K62+June!K62+July!K62+August!K62+September!K62+October!K62+November!K62+December!K62+January!K62+February!K62+March!K62","v":{"v":7.7871500000000005,"d":"7.79"}},{"$f":"April!L62+May!L62+June!L62+July!L62+August!L62+September!L62+October!L62+November!L62+December!L62+January!L62+February!L62+March!L62","v":{"v":19.913800000000002,"d":"19.91"}},null,{"$f":"SUM(D62:L62)","v":{"v":609.2108000000001,"d":"609.21"}}]
[null,"Tyres","RecyclingTyres",{"$f":"April!D63+May!D63+June!D63+July!D63+August!D63+September!D63+October!D63+November!D63+December!D63+January!D63+February!D63+March!D63","v":{"v":0,"d":"0.00"}},{"$f":"April!E63+May!E63+June!E63+July!E63+August!E63+September!E63+October!E63+November!E63+December!E63+January!E63+February!E63+March!E63","v":0.01},{"$f":"April!F63+May!F63+June!F63+July!F63+August!F63+September!F63+October!F63+November!F63+December!F63+January!F63+February!F63+March!F63","v":{"v":0,"d":"0.00"}},{"$f":"April!G63+May!G63+June!G63+July!G63+August!G63+September!G63+October!G63+November!G63+December!G63+January!G63+February!G63+March!G63","v":{"v":0,"d":"0.00"}},{"$f":"April!H63+May!H63+June!H63+July!H63+August!H63+September!H63+October!H63+November!H63+December!H63+January!H63+February!H63+March!H63","v":{"v":0,"d":"0.00"}},{"$f":"April!I63+May!I63+June!I63+July!I63+August!I63+September!I63+October!I63+November!I63+December!I63+January!I63+February!I63+March!I63","v":{"v":0,"d":"0.00"}},{"$f":"April!J63+May!J63+June!J63+July!J63+August!J63+September!J63+October!J63+November!J63+December!J63+January!J63+February!J63+March!J63","v":{"v":0,"d":"0.00"}},{"$f":"April!K63+May!K63+June!K63+July!K63+August!K63+September!K63+October!K63+November!K63+December!K63+January!K63+February!K63+March!K63","v":{"v":0,"d":"0.00"}},{"$f":"April!L63+May!L63+June!L63+July!L63+August!L63+September!L63+October!L63+November!L63+December!L63+January!L63+February!L63+March!L63","v":{"v":0,"d":"0.00"}},null,{"$f":"SUM(D63:L63)","v":0.01}]
[null,"Wood (including treated)","RecyclingWood (including treated)",{"$f":"April!D64+May!D64+June!D64+July!D64+August!D64+September!D64+October!D64+November!D64+December!D64+January!D64+February!D64+March!D64","v":128.02},{"$f":"April!E64+May!E64+June!E64+July!E64+August!E64+September!E64+October!E64+November!E64+December!E64+January!E64+February!E64+March!E64","v":{"v":551.5799999999999,"d":"551.58"}},{"$f":"April!F64+May!F64+June!F64+July!F64+August!F64+September!F64+October!F64+November!F64+December!F64+January!F64+February!F64+March!F64","v":{"v":478.04800000000006,"d":"478.05"}},{"$f":"April!G64+May!G64+June!G64+July!G64+August!G64+September!G64+October!G64+November!G64+December!G64+January!G64+February!G64+March!G64","v":{"v":1208.35,"d":"1,208.35"}},{"$f":"April!H64+May!H64+June!H64+July!H64+August!H64+September!H64+October!H64+November!H64+December!H64+January!H64+February!H64+March!H64","v":{"v":705.7,"d":"705.70"}},{"$f":"April!I64+May!I64+June!I64+July!I64+August!I64+September!I64+October!I64+November!I64+December!I64+January!I64+February!I64+March!I64","v":{"v":2174.18,"d":"2,174.18"}},{"$f":"April!J64+May!J64+June!J64+July!J64+August!J64+September!J64+October!J64+November!J64+December!J64+January!J64+February!J64+March!J64","v":{"v":179.20499999999998,"d":"179.21"}},{"$f":"April!K64+May!K64+June!K64+July!K64+August!K64+September!K64+October!K64+November!K64+December!K64+January!K64+February!K64+March!K64","v":116.75},{"$f":"April!L64+May!L64+June!L64+July!L64+August!L64+September!L64+October!L64+November!L64+December!L64+January!L64+February!L64+March!L64","v":{"v":148.67499999999998,"d":"148.68"}},null,{"$f":"SUM(D64:L64)","v":{"v":5690.507999999999,"d":"5,690.51"}}]
[]
[null,"Sub Total",null,{"$f":"SUM(D23:D64)","v":{"v":2626.1857299999997,"d":"2,626.19"}},{"$f":"SUM(E23:E64)","v":{"v":1883.32326,"d":"1,883.32"}},{"$f":"SUM(F23:F64)","v":{"v":3255.8998300000003,"d":"3,255.90"}},{"$f":"SUM(G23:G64)","v":{"v":4080.25,"d":"4,080.25"}},{"$f":"SUM(H23:H64)","v":{"v":2986.5076,"d":"2,986.51"}},{"$f":"SUM(I23:I64)","v":{"v":9293.52837,"d":"9,293.53"}},{"$f":"SUM(J23:J64)","v":{"v":992.8372100000001,"d":"992.84"}},{"$f":"SUM(K23:K64)","v":{"v":375.89262,"d":"375.89"}},{"$f":"SUM(L23:L64)","v":{"v":539.8118499999999,"d":"539.81"}},null,{"$f":"SUM(D66:L66)","v":{"v":26034.23647,"d":"26,034.24"}}]
[]
["Re-Use","Books","Re-UseBooks",{"$f":"April!D68+May!D68+June!D68+July!D68+August!D68+September!D68+October!D68+November!D68+December!D68+January!D68+February!D68+March!D68","v":{"v":1.089,"d":"1.09"}},{"$f":"April!E68+May!E68+June!E68+July!E68+August!E68+September!E68+October!E68+November!E68+December!E68+January!E68+February!E68+March!E68","v":{"v":0,"d":"0.00"}},{"$f":"April!F68+May!F68+June!F68+July!F68+August!F68+September!F68+October!F68+November!F68+December!F68+January!F68+February!F68+March!F68","v":{"v":0,"d":"0.00"}},{"$f":"April!G68+May!G68+June!G68+July!G68+August!G68+September!G68+October!G68+November!G68+December!G68+January!G68+February!G68+March!G68","v":{"v":0,"d":"0.00"}},{"$f":"April!H68+May!H68+June!H68+July!H68+August!H68+September!H68+October!H68+November!H68+December!H68+January!H68+February!H68+March!H68","v":{"v":0,"d":"0.00"}},{"$f":"April!I68+May!I68+June!I68+July!I68+August!I68+September!I68+October!I68+November!I68+December!I68+January!I68+February!I68+March!I68","v":{"v":0,"d":"0.00"}},{"$f":"April!J68+May!J68+June!J68+July!J68+August!J68+September!J68+October!J68+November!J68+December!J68+January!J68+February!J68+March!J68","v":{"v":0,"d":"0.00"}},{"$f":"April!K68+May!K68+June!K68+July!K68+August!K68+September!K68+October!K68+November!K68+December!K68+January!K68+February!K68+March!K68","v":{"v":0,"d":"0.00"}},{"$f":"April!L68+May!L68+June!L68+July!L68+August!L68+September!L68+October!L68+November!L68+December!L68+January!L68+February!L68+March!L68","v":{"v":0.9600000000000001,"d":"0.96"}},null,{"$f":"SUM(D68:L68)","v":{"v":2.049,"d":"2.05"}}]
[null,"Gas Cylinders","Re-UseGas Cylinders",{"$f":"April!D69+May!D69+June!D69+July!D69+August!D69+September!D69+October!D69+November!D69+December!D69+January!D69+February!D69+March!D69","v":{"v":0,"d":"0.00"}},{"$f":"April!E69+May!E69+June!E69+July!E69+August!E69+September!E69+October!E69+November!E69+December!E69+January!E69+February!E69+March!E69","v":{"v":0,"d":"0.00"}},{"$f":"April!F69+May!F69+June!F69+July!F69+August!F69+September!F69+October!F69+November!F69+December!F69+January!F69+February!F69+March!F69","v":{"v":0,"d":"0.00"}},{"$f":"April!G69+May!G69+June!G69+July!G69+August!G69+September!G69+October!G69+November!G69+December!G69+January!G69+February!G69+March!G69","v":{"v":0,"d":"0.00"}},{"$f":"April!H69+May!H69+June!H69+July!H69+August!H69+September!H69+October!H69+November!H69+December!H69+January!H69+February!H69+March!H69","v":{"v":0,"d":"0.00"}},{"$f":"April!I69+May!I69+June!I69+July!I69+August!I69+September!I69+October!I69+November!I69+December!I69+January!I69+February!I69+March!I69","v":0.68},{"$f":"April!J69+May!J69+June!J69+July!J69+August!J69+September!J69+October!J69+November!J69+December!J69+January!J69+February!J69+March!J69","v":{"v":0,"d":"0.00"}},{"$f":"April!K69+May!K69+June!K69+July!K69+August!K69+September!K69+October!K69+November!K69+December!K69+January!K69+February!K69+March!K69","v":{"v":0,"d":"0.00"}},{"$f":"April!L69+May!L69+June!L69+July!L69+August!L69+September!L69+October!L69+November!L69+December!L69+January!L69+February!L69+March!L69","v":{"v":0,"d":"0.00"}},null,{"$f":"SUM(D69:L69)","v":0.68}]
[null,"Household Goods\r\nHousehold Goods","Re-UseHousehold Goods\r\nHousehold Goods",{"$f":"April!D70+May!D70+June!D70+July!D70+August!D70+September!D70+October!D70+November!D70+December!D70+January!D70+February!D70+March!D70","v":{"v":0,"d":"0.00"}},{"$f":"April!E70+May!E70+June!E70+July!E70+August!E70+September!E70+October!E70+November!E70+December!E70+January!E70+February!E70+March!E70","v":{"v":0,"d":"0.00"}},{"$f":"April!F70+May!F70+June!F70+July!F70+August!F70+September!F70+October!F70+November!F70+December!F70+January!F70+February!F70+March!F70","v":{"v":0,"d":"0.00"}},{"$f":"April!G70+May!G70+June!G70+July!G70+August!G70+September!G70+October!G70+November!G70+December!G70+January!G70+February!G70+March!G70","v":{"v":134.728,"d":"134.73"}},{"$f":"April!H70+May!H70+June!H70+July!H70+August!H70+September!H70+October!H70+November!H70+December!H70+January!H70+February!H70+March!H70","v":{"v":0,"d":"0.00"}},{"$f":"April!I70+May!I70+June!I70+July!I70+August!I70+September!I70+October!I70+November!I70+December!I70+January!I70+February!I70+March!I70","v":{"v":0,"d":"0.00"}},{"$f":"April!J70+May!J70+June!J70+July!J70+August!J70+September!J70+October!J70+November!J70+December!J70+January!J70+February!J70+March!J70","v":{"v":0,"d":"0.00"}},{"$f":"April!K70+May!K70+June!K70+July!K70+August!K70+September!K70+October!K70+November!K70+December!K70+January!K70+February!K70+March!K70","v":{"v":0,"d":"0.00"}},{"$f":"April!L70+May!L70+June!L70+July!L70+August!L70+September!L70+October!L70+November!L70+December!L70+January!L70+February!L70+March!L70","v":{"v":0,"d":"0.00"}},null,{"$f":"SUM(D70:L70)","v":{"v":134.728,"d":"134.73"}}]
[null,"Inert (rubble/hardcore)","Re-UseInert (rubble/hardcore)",{"$f":"April!D71+May!D71+June!D71+July!D71+August!D71+September!D71+October!D71+November!D71+December!D71+January!D71+February!D71+March!D71","v":{"v":1055.91,"d":"1,055.91"}},{"$f":"April!E71+May!E71+June!E71+July!E71+August!E71+September!E71+October!E71+November!E71+December!E71+January!E71+February!E71+March!E71","v":{"v":673.6400000000001,"d":"673.64"}},{"$f":"April!F71+May!F71+June!F71+July!F71+August!F71+September!F71+October!F71+November!F71+December!F71+January!F71+February!F71+March!F71","v":953.66},{"$f":"April!G71+May!G71+June!G71+July!G71+August!G71+September!G71+October!G71+November!G71+December!G71+January!G71+February!G71+March!G71","v":{"v":0,"d":"0.00"}},{"$f":"April!H71+May!H71+June!H71+July!H71+August!H71+September!H71+October!H71+November!H71+December!H71+January!H71+February!H71+March!H71","v":{"v":819.8200000000002,"d":"819.82"}},{"$f":"April!I71+May!I71+June!I71+July!I71+August!I71+September!I71+October!I71+November!I71+December!I71+January!I71+February!I71+March!I71","v":{"v":2052.0800000000004,"d":"2,052.08"}},{"$f":"April!J71+May!J71+June!J71+July!J71+August!J71+September!J71+October!J71+November!J71+December!J71+January!J71+February!J71+March!J71","v":{"v":230.89999999999998,"d":"230.90"}},{"$f":"April!K71+May!K71+June!K71+July!K71+August!K71+September!K71+October!K71+November!K71+December!K71+January!K71+February!K71+March!K71","v":149.12},{"$f":"April!L71+May!L71+June!L71+July!L71+August!L71+September!L71+October!L71+November!L71+December!L71+January!L71+February!L71+March!L71","v":169.29},null,{"$f":"SUM(D71:L71)","v":{"v":6104.42,"d":"6,104.42"}}]
[null,"Soil","Re-UseSoil",{"$f":"April!D72+May!D72+June!D72+July!D72+August!D72+September!D72+October!D72+November!D72+December!D72+January!D72+February!D72+March!D72","v":{"v":34.599999999999994,"d":"34.60"}},{"$f":"April!E72+May!E72+June!E72+July!E72+August!E72+September!E72+October!E72+November!E72+December!E72+January!E72+February!E72+March!E72","v":{"v":0,"d":"0.00"}},{"$f":"April!F72+May!F72+June!F72+July!F72+August!F72+September!F72+October!F72+November!F72+December!F72+January!F72+February!F72+March!F72","v":{"v":0,"d":"0.00"}},{"$f":"April!G72+May!G72+June!G72+July!G72+August!G72+September!G72+October!G72+November!G72+December!G72+January!G72+February!G72+March!G72","v":{"v":0,"d":"0.00"}},{"$f":"April!H72+May!H72+June!H72+July!H72+August!H72+September!H72+October!H72+November!H72+December!H72+January!H72+February!H72+March!H72","v":{"v":0,"d":"0.00"}},{"$f":"April!I72+May!I72+June!I72+July!I72+August!I72+September!I72+October!I72+November!I72+December!I72+January!I72+February!I72+March!I72","v":{"v":0,"d":"0.00"}},{"$f":"April!J72+May!J72+June!J72+July!J72+August!J72+September!J72+October!J72+November!J72+December!J72+January!J72+February!J72+March!J72","v":{"v":8.8,"d":"8.80"}},{"$f":"April!K72+May!K72+June!K72+July!K72+August!K72+September!K72+October!K72+November!K72+December!K72+January!K72+February!K72+March!K72","v":{"v":0,"d":"0.00"}},{"$f":"April!L72+May!L72+June!L72+July!L72+August!L72+September!L72+October!L72+November!L72+December!L72+January!L72+February!L72+March!L72","v":{"v":0,"d":"0.00"}},null,{"$f":"SUM(D72:L72)","v":{"v":43.39999999999999,"d":"43.40"}}]
[]
[null,"Sub Total",null,{"$f":"SUM(D68:D73)","v":{"v":1091.599,"d":"1,091.60"}},{"$f":"SUM(E68:E73)","v":{"v":673.6400000000001,"d":"673.64"}},{"$f":"SUM(F68:F73)","v":953.66},{"$f":"SUM(G68:G73)","v":{"v":134.728,"d":"134.73"}},{"$f":"SUM(H68:H73)","v":{"v":819.8200000000002,"d":"819.82"}},{"$f":"SUM(I68:I73)","v":{"v":2052.76,"d":"2,052.76"}},{"$f":"SUM(J68:J73)","v":{"v":239.7,"d":"239.70"}},{"$f":"SUM(K68:K73)","v":149.12},{"$f":"SUM(L68:L73)","v":170.25},null,{"$f":"SUM(D74:L74)","v":{"v":6285.277,"d":"6,285.28"}}]
[]
[]
[null,"Grand Total",null,{"$f":"SUM(D7)+(D15)+(D21)+(D66)+(D74)","v":{"v":6309.15473,"d":"6,309.15"}},{"$f":"SUM(E7)+(E15)+(E21)+(E66)+(E74)","v":{"v":4618.55326,"d":"4,618.55"}},{"$f":"SUM(F7)+(F15)+(F21)+(F66)+(F74)","v":{"v":7626.44483,"d":"7,626.44"}},{"$f":"SUM(G7)+(G15)+(G21)+(G66)+(G74)","v":{"v":9037.947999999999,"d":"9,037.95"}},{"$f":"SUM(H7)+(H15)+(H21)+(H66)+(H74)","v":{"v":6095.372600000001,"d":"6,095.37"}},{"$f":"SUM(I7)+(I15)+(I21)+(I66)+(I74)","v":{"v":21068.01537,"d":"21,068.02"}},{"$f":"SUM(J7)+(J15)+(J21)+(J66)+(J74)","v":{"v":2064.65221,"d":"2,064.65"}},{"$f":"SUM(K7)+(K15)+(K21)+(K66)+(K74)","v":{"v":925.4546200000001,"d":"925.45"}},{"$f":"SUM(L7)+(L15)+(L21)+(L66)+(L74)","v":{"v":1193.54485,"d":"1,193.54"}},null,{"$f":"SUM(D77:L77)","v":{"v":58939.14047,"d":"58,939.14"}}]

{"sheet":"QueryImport","index":13,"n_rows":275,"n_cols":17,"rows_kept":275}
["Lookup Value","SiteName","OutputWasteType","UseTreatment","Apr","May","Jun","Jul","Aug","Sep","Oct","Nov","Dec","Jan","Feb","Mar","Total"]
[{"$f":"B2&D2&C2","v":"Burton Farm HWRCRecyclingBatteries (car)"},"Burton Farm HWRC","Batteries (car)","Recycling",1.4825,{"$nulls":11},1.4825]
[{"$f":"B3&D3&C3","v":"Burton Farm HWRCRecyclingBatteries (household)"},"Burton Farm HWRC","Batteries (household)","Recycling",{"$nulls":10},1.96,null,1.96]
[{"$f":"B4&D4&C4","v":"Burton Farm HWRCRe-UseBooks"},"Burton Farm HWRC","Books","Re-Use",0.18,0.16,0.009,0.08,0.09,0.11,0.13,0.15,null,0.18,null,null,1.089]
[{"$f":"B5&D5&C5","v":"Burton Farm HWRCRecyclingCable (nf)"},"Burton Farm HWRC","Cable (nf)","Recycling",0.4,{"$nulls":3},0.6,{"$nulls":6},0.48,1.48]
[{"$f":"B6&D6&C6","v":"Burton Farm HWRCRecyclingCardboard"},"Burton Farm HWRC","Cardboard","Recycling",25.68,26.92,24.299999999999997,29.36,21.6,13.14,23.1,22.1,28.68,17.84,20.16,23.77,276.6500000000001]
[{"$f":"B7&D7&C7","v":"Burton Farm HWRCRecyclingCarpet"},"Burton Farm HWRC","Carpet","Recycling",23.16,7.82,5.46,19.9,22.119999999999997,18.619999999999997,7.24,14.399999999999999,12.379999999999999,18.48,21.299999999999997,13.02,183.89999999999998]
[{"$f":"B8&D8&C8","v":"Burton Farm HWRCRecyclingChipboard"},"Burton Farm HWRC","Chipboard","Recycling",90.96,6.92,84.96,91.24000000000001,90.74000000000001,64.02,79.38,61.02,65.28,63.97999999999999,65.1,71.64,835.2399999999998]
[{"$f":"B9&D9&C9","v":"Burton Farm HWRCRecyclingFluorescent Tubes Output"},"Burton Farm HWRC","Fluorescent Tubes Output","Recycling",0.26,null,0.14,null,0.23,0.2,null,null,0.2,null,0.213,null,1.243]
[{"$f":"B10&D10&C10","v":"Burton Farm HWRCRecyclingFridges Output"},"Burton Farm HWRC","Fridges Output","Recycling",12.303,5.395,5.87724,5.62,6.245,3.77198,7.15,6.0422,6.1696,7.8274,4.4941,6.9695,77.86502]
[{"$f":"B11&D11&C11","v":"Burton Farm HWRCRecyclingGas Cylinders"},"Burton Farm HWRC","Gas Cylinders","Recycling",{"$nulls":4},0.065,{"$nulls":4},0.02,1.46,null,1.545]
[{"$f":"B12&D12&C12","v":"Burton Farm HWRCEfw (incineration)General (mixed waste)"},"Burton Farm HWRC","General (mixed waste)","Efw (incineration)",{"$nulls":8},7.26,null,null,22.95,30.21]
[{"$f":"B13&D13&C13","v":"Burton Farm HWRCLandfillGeneral (mixed waste)"},"Burton Farm HWRC","General (mixed waste)","Landfill",198.12,170.07999999999998,141.9,159.96,167.2,159.44,143.68,142.88,133.42,146.84,160.3,140.95999999999998,1864.78]
[{"$f":"B14&D14&C14","v":"Burton Farm HWRCRecyclingGeneral (mixed waste)"},"Burton Farm HWRC","General (mixed waste)","Recycling",{"$nulls":11},2.33,2.33]
[{"$f":"B15&D15&C15","v":"Burton Farm HWRCRecyclingGlass (bottles)"},"Burton Farm HWRC","Glass (bottles)","Recycling",3.786,null,3.261,2.6,5.521,1.519,null,6.633,4.308,4.843,4.627,3.619,40.717]
[{"$f":"B16&D16&C16","v":"Burton Farm HWRCCompostingGreen waste"},"Burton Farm HWRC","Green waste","Composting",82.92,67.12,76.9,75.58,68.12,75.4,72.24000000000001,54.28,24.68,25.82,24.64,48.68,696.3800000000001]
[{"$f":"B17&D17&C17","v":"Burton Farm HWRCRe-UseInert (rubble/hardcore)"},"Burton Farm HWRC","Inert (rubble/hardcore)","Re-Use",143.1,127.74000000000001,111.44,97.78,108.02,98.80000000000001,68.78,46.900000000000006,41.22,47.72,64.43,99.98,1055.91]
[{"$f":"B18&D18&C18","v":"Burton Farm HWRCRecyclingMatresses"},"Burton Farm HWRC","Matresses","Recycling",2.605,3.22,2.86,2.24,0.66,{"$nulls":6},1.09,12.675]
[{"$f":"B19&D19&C19","v":"Burton Farm HWRCRecyclingNon Ferrous Metal  \r\nNon Ferrous Metal"},"Burton Farm HWRC","Non Ferrous Metal  \r\nNon Ferrous Metal","Recycling",{"$nulls":9},0.36,null,0.02,0.38]
[{"$f":"B20&D20&C20","v":"Burton Farm HWRCRecyclingOil (Engine)"},"Burton Farm HWRC","Oil (Engine)","Recycling",1.12,null,1.584,null,null,1.672,{"$nulls":3},1.584,null,null,5.960000000000001]
[{"$f":"B21&D21&C21","v":"Burton Farm HWRCRecyclingOil (Vegetable)"},"Burton Farm HWRC","Oil (Vegetable)","Recycling",{"$nulls":8},0.42,{"$nulls":3},0.42]
[{"$f":"B22&D22&C22","v":"Burton Farm HWRCRecyclingPaper (newspaper & magazines)"},"Burton Farm HWRC","Paper (newspaper & magazines)","Recycling",15.02,6.12,9.2,18.36,25.1,19.2,10.84,16.939999999999998,24.240000000000002,31.16,10.46,14.48,201.12]
[{"$f":"B23&D23&C23","v":"Burton Farm HWRCRecyclingPlasterboard"},"Burton Farm HWRC","Plasterboard","Recycling",6.46,3.95,3.89,8.81,null,null,14.2,null,12.69,null,12.24,null,62.24]
[{"$f":"B24&D24&C24","v":"Burton Farm HWRCRecyclingPlastic (Mixed)"},"Burton Farm HWRC","Plastic (Mixed)","Recycling",1.04,{"$nulls":7},1.39,{"$nulls":3},2.4299999999999997]
[{"$f":"B25&D25&C25","v":"Burton Farm HWRCRecyclingScrap metal (mixed)"},"Burton Farm HWRC","Scrap metal (mixed)","Recycling",50.81999999999999,37.925000000000004,31.04,37.12,39.31,22.83,36.49,30.73,30.67,31.67,36.519999999999996,39,424.1249999999999]
[{"$f":"B26&D26&C26","v":"Burton Farm HWRCRecyclingScreens output"},"Burton Farm HWRC","Screens output","Recycling",5.125,3.61,3.928,4.798,3.36394,4.25984,4.16823,3.4378,3.8545,4.2112,4.0609,3.8958,48.71321]
[{"$f":"B27&D27&C27","v":"Burton Farm HWRCRecyclingSmall Domestic Appliances"},"Burton Farm HWRC","Small Domestic Appliances","Recycling",24.66,16.07,16.88,18.51,17.6,17.46,19.38,16.71,7.88,19.23,38.36,19,231.74]
[{"$f":"B28&D28&C28","v":"Burton Farm HWRCRe-UseSoil"},"Burton Farm HWRC","Soil","Re-Use",11.68,13.26,9.66,{"$nulls":9},34.599999999999994]
[{"$f":"B29&D29&C29","v":"Burton Farm HWRCRecyclingTextiles"},"Burton Farm HWRC","Textiles","Recycling",7.19,7.21,6.48,6.94,6.5200000000000005,7.3,6.42,9.58,5.5,8.8,4.39,7.62,83.95]
[{"$f":"B30&D30&C30","v":"Burton Farm HWRCRecyclingWood (including treated)"},"Burton Farm HWRC","Wood (including treated)","Recycling",null,71.2,{"$nulls":3},20.6,null,9.64,{"$nulls":3},26.58,128.02]
[{"$f":"B31&D31&C31","v":"Cherry Orchard HWRCLandfillAsbestos"},"Cherry Orchard HWRC","Asbestos","Landfill",0.02,null,0.02,0.08,{"$nulls":8},0.12]
[{"$f":"B32&D32&C32","v":"Cherry Orchard HWRCRecyclingBatteries (car)"},"Cherry Orchard HWRC","Batteries (car)","Recycling",3.302,0.979,null,null,2.265,null,2.183,null,null,2.272,null,1.86,12.860999999999999]
[{"$f":"B33&D33&C33","v":"Cherry Orchard HWRCRecyclingBatteries (household)"},"Cherry Orchard HWRC","Batteries (household)","Recycling",{"$nulls":4},0.669,{"$nulls":5},0.891,null,1.56]
[{"$f":"B34&D34&C34","v":"Cherry Orchard HWRCRecyclingBooks"},"Cherry Orchard HWRC","Books","Recycling",0.63,0.05,0.15,0.19,{"$nulls":8},1.02]
[{"$f":"B35&D35&C35","v":"Cherry Orchard HWRCRecyclingCable (nf)"},"Cherry Orchard HWRC","Cable (nf)","Recycling",null,null,0.46,{"$nulls":9},0.46]
[{"$f":"B36&D36&C36","v":"Cherry Orchard HWRCRecyclingCardboard"},"Cherry Orchard HWRC","Cardboard","Recycling",16.34,14.18,14.32,16.86,16.18,16.900000000000002,14.98,14.56,27.84,15.620000000000001,15.18,22.34,205.3]
[{"$f":"B37&D37&C37","v":"Cherry Orchard HWRCRecyclingCarpet"},"Cherry Orchard HWRC","Carpet","Recycling",10.620000000000001,11.3,12.059999999999999,13.559999999999999,14.879999999999999,14.14,11.76,7.16,12.5,13.64,12.08,11,144.70000000000002]
[{"$f":"B38&D38&C38","v":"Cherry Orchard HWRCEfw (incineration)Chemicals"},"Cherry Orchard HWRC","Chemicals","Efw (incineration)",0.05,null,0.04,null,null,0.05,{"$nulls":6},0.14]
[{"$f":"B39&D39&C39","v":"Cherry Orchard HWRCRecyclingChipboard"},"Cherry Orchard HWRC","Chipboard","Recycling",20.66,24.46,5.94,14.899999999999999,null,17.259999999999998,21.32,22.240000000000002,16.22,15.16,27.42,19.84,205.42]
[{"$f":"B40&D40&C40","v":"Cherry Orchard HWRCRecyclingDrink Cartons"},"Cherry Orchard HWRC","Drink Cartons","Recycling",0.47774,0.64161,0.08274,0.411,0.159,0.395,0.405,null,0.43,0.15654,0.308,0.288,3.75463]
[{"$f":"B41&D41&C41","v":"Cherry Orchard HWRCRecyclingFluorescent Tubes Output"},"Cherry Orchard HWRC","Fluorescent Tubes Output","Recycling",0.167,null,null,0.206,{"$nulls":3},0.18,null,0.265,null,null,0.818]
[{"$f":"B42&D42&C42","v":"Cherry Orchard HWRCRecyclingFridges Output"},"Cherry Orchard HWRC","Fridges Output","Recycling",2.582,2.085,2.33,2.803,3.14518,2.66828,2.34859,2.3215,2.0248,2.1393,2.4075,2.4763,29.331449999999997]
[{"$f":"B43&D43&C43","v":"Cherry Orchard HWRCRecyclingGas Cylinders"},"Cherry Orchard HWRC","Gas Cylinders","Recycling",{"$nulls":5},0.01,{"$nulls":5},0.01,0.02]
[{"$f":"B44&D44&C44","v":"Cherry Orchard HWRCEfw (incineration)General (mixed waste)"},"Cherry Orchard HWRC","General (mixed waste)","Efw (incineration)",{"$nulls":7},7.3,11.92,null,null,12.78,32]
[{"$f":"B45&D45&C45","v":"Cherry Orchard HWRCLandfillGeneral (mixed waste)"},"Cherry Orchard HWRC","General (mixed waste)","Landfill",125.61999999999999,97.72,102.1,115.89999999999998,116.32,80.89999999999999,107.86,87.06,71.32,110.03,85.8,83.68,1184.3100000000002]
[{"$f":"B46&D46&C46","v":"Cherry Orchard HWRCRecyclingGlass (bottles)"},"Cherry Orchard HWRC","Glass (bottles)","Recycling",6.725,4.518,3.735,6,7.412,8.646,3.906,6.136,8.495,10.99,6.566,3.505,76.634]
[{"$f":"B47&D47&C47","v":"Cherry Orchard HWRCCompostingGreen waste"},"Cherry Orchard HWRC","Green waste","Composting",97.36,76.2,98.28,93.56,91.38000000000001,78.02,78.22,57.9,23.6,14.1,42.82,57.519999999999996,808.9599999999999]
[{"$f":"B48&D48&C48","v":"Cherry Orchard HWRCLandfillHard Plastic"},"Cherry Orchard HWRC","Hard Plastic","Landfill",null,7.1,1.635,2.925,10.49,1.495,4.58,2.895,1.52,null,null,3.32,35.96]
[{"$f":"B49&D49&C49","v":"Cherry Orchard HWRCRe-UseInert (rubble/hardcore)"},"Cherry Orchard HWRC","Inert (rubble/hardcore)","Re-Use",75.53999999999999,75.6,79.02,83.46000000000001,66.92,57.760000000000005,48.18,40.519999999999996,25.84,27.12,41.74,51.94,673.6399999999999]
[{"$f":"B50&D50&C50","v":"Cherry Orchard HWRCRecyclingMatresses"},"Cherry Orchard HWRC","Matresses","Recycling",2.19,2.355,0.651,0.663,2.31,0.585,{"$nulls":4},0.86,null,9.613999999999997]
[{"$f":"B51&D51&C51","v":"Cherry Orchard HWRCRecyclingMicrowave Motors"},"Cherry Orchard HWRC","Microwave Motors","Recycling",null,null,0.64,{"$nulls":5},0.61,{"$nulls":3},1.25]
[{"$f":"B52&D52&C52","v":"Cherry Orchard HWRCRecyclingNon Ferrous Metal  \r\nNon Ferrous Metal"},"Cherry Orchard HWRC","Non Ferrous Metal  \r\nNon Ferrous Metal","Recycling",0.2,0.29,1.16,1.71,1.4900000000000002,1.25,null,1.88,null,1.08,0.48,2.23,11.77]
[{"$f":"B53&D53&C53","v":"Cherry Orchard HWRCRecyclingOil (Engine)"},"Cherry Orchard HWRC","Oil (Engine)","Recycling",0.88,{"$nulls":5},2.024,{"$nulls":5},2.904]
[{"$f":"B54&D54&C54","v":"Cherry Orchard HWRCRecyclingOil (Vegetable)"},"Cherry Orchard HWRC","Oil (Vegetable)","Recycling",0.44,{"$nulls":4},0.458,{"$nulls":6},0.898]
[{"$f":"B55&D55&C55","v":"Cherry Orchard HWRCEfw (incineration)Paint (chemicals)"},"Cherry Orchard HWRC","Paint (chemicals)","Efw (incineration)",0.1,{"$nulls":11},0.1]
[{"$f":"B56&D56&C56","v":"Cherry Orchard HWRCRecyclingPaint (chemicals)"},"Cherry Orchard HWRC","Paint (chemicals)","Recycling",{"$nulls":5},0.05,{"$nulls":3},0.03,null,0.1,0.18]
[{"$f":"B57&D57&C57","v":"Cherry Orchard HWRCRecyclingPaper (newspaper & magazines)"},"Cherry Orchard HWRC","Paper (newspaper & magazines)","Recycling",10.44,10.22,10.4,13.12,17,12.2,18.8,12.18,20.560000000000002,29.1,10.54,null,164.56]
[{"$f":"B58&D58&C58","v":"Cherry Orchard HWRCRecyclingPlasterboard"},"Cherry Orchard HWRC","Plasterboard","Recycling",0.08,null,0.14,0.04,null,0.06,null,0.14,null,0.16,null,0.05,0.67]
[{"$f":"B59&D59&C59","v":"Cherry Orchard HWRCRecyclingPlastic (Mixed)"},"Cherry Orchard HWRC","Plastic (Mixed)","Recycling",1.36,1.58,0.98,1.36,null,1.41,1.18,1.43,0.99,1.64,1.7,null,13.63]
[{"$f":"B60&D60&C60","v":"Cherry Orchard HWRCRecyclingScrap metal (mixed)"},"Cherry Orchard HWRC","Scrap metal (mixed)","Recycling",25.339999999999996,24.880000000000003,17.520000000000003,25,18.64,24.78,28.07,16.41,18.56,20.68,14.799999999999999,18.82,253.49999999999997]
[{"$f":"B61&D61&C61","v":"Cherry Orchard HWRCRecyclingScreens output"},"Cherry Orchard HWRC","Screens output","Recycling",2.615,2.24,3.697,3.579,3.25691,3.48631,3.26081,3.4626,1.7883,2.8161,3.7339,2.5621,36.49803]
[{"$f":"B62&D62&C62","v":"Cherry Orchard HWRCRecyclingSmall Domestic Appliances"},"Cherry Orchard HWRC","Small Domestic Appliances","Recycling",7.02,6.82,6.16,13.08,6.8,6.72,7.24,7.51,8.14,6.5,7.2,13.36,96.55]
[{"$f":"B63&D63&C63","v":"Cherry Orchard HWRCRecyclingTextiles"},"Cherry Orchard HWRC","Textiles","Recycling",4.5786,3.7838,5.48655,4.6736,2.2276,6.54,5.41,5.13,3.7,7.1,4.4,4.8,57.830149999999996]
[{"$f":"B64&D64&C64","v":"Cherry Orchard HWRCRecyclingTyres"},"Cherry Orchard HWRC","Tyres","Recycling",{"$nulls":11},0.01,0.01]
[{"$f":"B65&D65&C65","v":"Cherry Orchard HWRCRecyclingWood (including treated)"},"Cherry Orchard HWRC","Wood (including treated)","Recycling",58.02,31.5,73.48,49.08,68.56,52.32,35.339999999999996,38.06,30.1,37.64,30.64,46.84,551.5799999999999]
[{"$f":"B66&D66&C66","v":"Hunters Lane HWRC & TransferRecyclingAluminium (nf)"},"Hunters Lane HWRC & Transfer","Aluminium (nf)","Recycling",{"$nulls":10},0.3,null,0.3]
[{"$f":"B67&D67&C67","v":"Hunters Lane HWRC & TransferLandfillAsbestos"},"Hunters Lane HWRC & Transfer","Asbestos","Landfill",null,4.38,{"$nulls":10},4.38]
[{"$f":"B68&D68&C68","v":"Hunters Lane HWRC & TransferRecyclingBatteries (car)"},"Hunters Lane HWRC & Transfer","Batteries (car)","Recycling",4.33,null,null,5.95,null,null,5.87,null,null,4.74,null,4.61,25.5]
[{"$f":"B69&D69&C69","v":"Hunters Lane HWRC & TransferRecyclingCable (nf)"},"Hunters Lane HWRC & Transfer","Cable (nf)","Recycling",{"$nulls":11},0.8200000000000001,0.8200000000000001]
[{"$f":"B70&D70&C70","v":"Hunters Lane HWRC & TransferRecyclingCardboard"},"Hunters Lane HWRC & Transfer","Cardboard","Recycling",18.02,21.52,21.04,21.72,34.92,41.04,18.82,20,9.58,6.5200000000000005,9.38,20.48,243.03999999999996]
[{"$f":"B71&D71&C71","v":"Hunters Lane HWRC & TransferRecyclingCarpet"},"Hunters Lane HWRC & Transfer","Carpet","Recycling",20.46,18.380000000000003,27.32,23.35,19.7,25.38,11.58,21.22,24.8,16.67,14.16,15.969999999999999,238.99]
[{"$f":"B72&D72&C72","v":"Hunters Lane HWRC & TransferRecyclingChipboard"},"Hunters Lane HWRC & Transfer","Chipboard","Recycling",89.9,109.91,96.97,85.52,85.93,91.8,36.14,60.86,53.739999999999995,59.54,58.34,51.23,879.8800000000001]
[{"$f":"B73&D73&C73","v":"Hunters Lane HWRC & TransferRecyclingFluorescent Tubes Output"},"Hunters Lane HWRC & Transfer","Fluorescent Tubes Output","Recycling",0.28,{"$nulls":4},0.44,{"$nulls":3},0.19,null,null,0.9099999999999999]
[{"$f":"B74&D74&C74","v":"Hunters Lane HWRC & TransferRecyclingFridges Output"},"Hunters Lane HWRC & Transfer","Fridges Output","Recycling",7.643,6.118,5.714,7.436,7.13344,7.88161,9.40598,4.5997,7.8514,11.5814,8.2704,7.3304,90.96533]
[{"$f":"B75&D75&C75","v":"Hunters Lane HWRC & TransferRecyclingGas Cylinders"},"Hunters Lane HWRC & Transfer","Gas Cylinders","Recycling",{"$nulls":4},0.22,0.4,null,null,0.06,{"$nulls":3},0.6799999999999999]
[{"$f":"B76&D76&C76","v":"Hunters Lane HWRC & TransferEfw (incineration)General (mixed waste)"},"Hunters Lane HWRC & Transfer","General (mixed waste)","Efw (incineration)",{"$nulls":8},14.26,null,null,16.48,30.740000000000002]
[{"$f":"B77&D77&C77","v":"Hunters Lane HWRC & TransferLandfillGeneral (mixed waste)"},"Hunters Lane HWRC & Transfer","General (mixed waste)","Landfill",266.795,205.51,217.53,235.91000000000003,258.98,227.14000000000001,182.5,179.32,167.22,211.76,157.82999999999998,220.82000000000002,2531.314999999999]
[{"$f":"B78&D78&C78","v":"Hunters Lane HWRC & TransferRecyclingGlass (bottles)"},"Hunters Lane HWRC & Transfer","Glass (bottles)","Recycling",null,2.784,0.68,2.134,null,3.135,null,2.534,null,4.416,1.622,1.147,18.451999999999998]
[{"$f":"B79&D79&C79","v":"Hunters Lane HWRC & TransferCompostingGreen waste"},"Hunters Lane HWRC & Transfer","Green waste","Composting",99.03999999999999,84.48,102.19999999999999,94.33999999999999,105.10000000000001,97.52000000000001,75.56,43.08,30.200000000000003,16.46,18.03,54.760000000000005,820.77]
[{"$f":"B80&D80&C80","v":"Hunters Lane HWRC & TransferLandfillHard Plastic"},"Hunters Lane HWRC & Transfer","Hard Plastic","Landfill",null,6.665,3.61,1.9,3.17,3.405,2.75,3.175,1.58,null,3.425,null,29.680000000000003]
[{"$f":"B81&D81&C81","v":"Hunters Lane HWRC & TransferRecyclingHard Plastic"},"Hunters Lane HWRC & Transfer","Hard Plastic","Recycling",{"$nulls":11},3.83,3.83]
[{"$f":"B82&D82&C82","v":"Hunters Lane HWRC & TransferRe-UseInert (rubble/hardcore)"},"Hunters Lane HWRC & Transfer","Inert (rubble/hardcore)","Re-Use",125.14,110.38,98.1,124.64,90.78,77.8,80.44,48.9,46.4,23.1,65.84,62.14,953.6600000000001]
[{"$f":"B83&D83&C83","v":"Hunters Lane HWRC & TransferRecyclingMatresses"},"Hunters Lane HWRC & Transfer","Matresses","Recycling",4.94,5.86,4.41,1.61,2.8,{"$nulls":7},19.62]
[{"$f":"B84&D84&C84","v":"Hunters Lane HWRC & TransferRecyclingMicrowave Motors"},"Hunters Lane HWRC & Transfer","Microwave Motors","Recycling",{"$nulls":8},1.57,null,null,1.11,2.68]
[{"$f":"B85&D85&C85","v":"Hunters Lane HWRC & TransferRecyclingNon Ferrous Metal  \r\nNon Ferrous Metal"},"Hunters Lane HWRC & Transfer","Non Ferrous Metal  \r\nNon Ferrous Metal","Recycling",null,1.01,null,2.03,0.19,3.96,null,1.22,null,4.06,2.22,null,14.69]
[{"$f":"B86&D86&C86","v":"Hunters Lane HWRC & TransferRecyclingOil (Engine)"},"Hunters Lane HWRC & Transfer","Oil (Engine)","Recycling",2.38,null,2.024,null,1.936,null,1.848,null,2.288,null,null,1.848,12.324000000000002]
[{"$f":"B87&D87&C87","v":"Hunters Lane HWRC & TransferRecyclingOil (Vegetable)"},"Hunters Lane HWRC & Transfer","Oil (Vegetable)","Recycling",{"$nulls":3},0.74,{"$nulls":4},0.97,{"$nulls":3},1.71]
[{"$f":"B88&D88&C88","v":"Hunters Lane HWRC & TransferRecyclingPaper (newspaper & magazines)"},"Hunters Lane HWRC & Transfer","Paper (newspaper & magazines)","Recycling",21.64,11.54,15.18,13.24,null,22.299999999999997,11.14,6,30.94,30.060000000000002,28.34,18.02,208.4]
[{"$f":"B89&D89&C89","v":"Hunters Lane HWRC & TransferRecyclingPlasterboard"},"Hunters Lane HWRC & Transfer","Plasterboard","Recycling",9.159999999999998,null,9.52,null,8.94,null,11.42,null,null,13.04,null,11.32,63.4]
[{"$f":"B90&D90&C90","v":"Hunters Lane HWRC & TransferRecyclingPlastic (Mixed)"},"Hunters Lane HWRC & Transfer","Plastic (Mixed)","Recycling",{"$nulls":4},0.1,0.28,{"$nulls":3},0.18,0.25,0.1,0.91]
[{"$f":"B91&D91&C91","v":"Hunters Lane HWRC & TransferRecyclingPrinter Cartridges"},"Hunters Lane HWRC & Transfer","Printer Cartridges","Recycling",{"$nulls":10},0.57,null,0.57]
[{"$f":"B92&D92&C92","v":"Hunters Lane HWRC & TransferRecyclingScrap metal (mixed)"},"Hunters Lane HWRC & Transfer","Scrap metal (mixed)","Recycling",58.39,49.93000000000001,51.25000000000001,44.480000000000004,41.699999999999996,44.35000000000001,39.230000000000004,45.419999999999995,28.67,37.64,46.91,46.39,534.3599999999999]
[{"$f":"B93&D93&C93","v":"Hunters Lane HWRC & TransferRecyclingScreens output"},"Hunters Lane HWRC & Transfer","Screens output","Recycling",10.63,6.491,8.224,7.675,8.56356,6.03248,7.90206,6.5869,8.0426,6.8707,8.11,6.9112,92.03950000000002]
[{"$f":"B94&D94&C94","v":"Hunters Lane HWRC & TransferRecyclingSmall Domestic Appliances"},"Hunters Lane HWRC & Transfer","Small Domestic Appliances","Recycling",23.5,16.68,25.38,15.92,24.2,15.29,15.82,16.43,21.49,17.17,16.57,23.75,232.20000000000005]
[{"$f":"B95&D95&C95","v":"Hunters Lane HWRC & TransferRecyclingTextiles"},"Hunters Lane HWRC & Transfer","Textiles","Recycling",10.01,7.79,9.85,9.03,5.38,0.271,10.64,7.23,7.64,9.21,6.87,7.66,91.58100000000002]
[{"$f":"B96&D96&C96","v":"Hunters Lane HWRC & TransferRecyclingWood (including treated)"},"Hunters Lane HWRC & Transfer","Wood (including treated)","Recycling",58.948,null,14.41,37.01,35.82,38.17,62.63,40.43,36.17,26.1,48.61,79.75,478.048]
[{"$f":"B97&D97&C97","v":"Judkins HWRCRecyclingAluminium (nf)"},"Judkins HWRC","Aluminium (nf)","Recycling",{"$nulls":5},2.78,{"$nulls":6},2.78]
[{"$f":"B98&D98&C98","v":"Judkins HWRCLandfillAsbestos"},"Judkins HWRC","Asbestos","Landfill",null,null,5.74,{"$nulls":4},4.3,{"$nulls":4},10.04]
[{"$f":"B99&D99&C99","v":"Judkins HWRCRecyclingBatteries (car)"},"Judkins HWRC","Batteries (car)","Recycling",1.2,1.361,1.06,1.74,null,2.025,2.025,{"$nulls":5},9.411]
[{"$f":"B100&D100&C100","v":"Judkins HWRCRecyclingBooks"},"Judkins HWRC","Books","Recycling",2.3,3.24,1.46,2.16,1.02,3.04,2.14,1.7,2.6,4.1,1.5,1.1,26.36]
[{"$f":"B101&D101&C101","v":"Judkins HWRCRecyclingCardboard"},"Judkins HWRC","Cardboard","Recycling",33.22,26.48,19.52,28.32,28.9,28.82,21.08,24.4,40.32,38.19,null,38.28,327.53]
[{"$f":"B102&D102&C102","v":"Judkins HWRCRecyclingCarpet"},"Judkins HWRC","Carpet","Recycling",{"$nulls":8},14.7,29.7,35.4,34.2,114]
[{"$f":"B103&D103&C103","v":"Judkins HWRCRecyclingCopper & Brass Mixed (nf)"},"Judkins HWRC","Copper & Brass Mixed (nf)","Recycling",null,null,11.2,{"$nulls":3},0.489,{"$nulls":5},11.689]
[{"$f":"B104&D104&C104","v":"Judkins HWRCRecyclingFluorescent Tubes Output"},"Judkins HWRC","Fluorescent Tubes Output","Recycling",{"$nulls":8},0.4,null,null,0.6,1]
[{"$f":"B105&D105&C105","v":"Judkins HWRCRecyclingFridges Output"},"Judkins HWRC","Fridges Output","Recycling",6.98,6.3,16,7.28,3.3,5.1,5.4,3.64,4.4,4,3,8.8,74.2]
[{"$f":"B106&D106&C106","v":"Judkins HWRCRecyclingGas Cylinders"},"Judkins HWRC","Gas Cylinders","Recycling",{"$nulls":8},1.75,0.95,0.8,0.3,3.8]
[{"$f":"B107&D107&C107","v":"Judkins HWRCEfw (incineration)General (mixed waste)"},"Judkins HWRC","General (mixed waste)","Efw (incineration)",{"$nulls":8},6.82,{"$nulls":3},6.82]
[{"$f":"B108&D108&C108","v":"Judkins HWRCLandfillGeneral (mixed waste)"},"Judkins HWRC","General (mixed waste)","Landfill",344.51,317.98,265.1,481.49,393.14,611.31,395.39,262.19,203.86,348.86,254.7,255.9,4134.429999999999]
[{"$f":"B109&D109&C109","v":"Judkins HWRCRecyclingGlass (bottles)"},"Judkins HWRC","Glass (bottles)","Recycling",{"$nulls":3},2.28,null,4.5,null,3,null,null,6.2,null,15.979999999999999]
[{"$f":"B110&D110&C110","v":"Judkins HWRCCompostingGreen waste"},"Judkins HWRC","Green waste","Composting",102.42,84.78,94.54,79.9,101.34,59.8,19.98,33.42,8.82,19.98,21.8,44.9,671.68]
[{"$f":"B111&D111&C111","v":"Judkins HWRCRecyclingHard Plastic"},"Judkins HWRC","Hard Plastic","Recycling",18.58,17.18,15.72,18.66,{"$nulls":5},7.58,null,null,77.72]
[{"$f":"B112&D112&C112","v":"Judkins HWRCRecyclingHousehold Goods\r\nHousehold Goods"},"Judkins HWRC","Household Goods\r\nHousehold Goods","Recycling",{"$nulls":11},10.4,10.4]
[{"$f":"B113&D113&C113","v":"Judkins HWRCRe-UseHousehold Goods\r\nHousehold Goods"},"Judkins HWRC","Household Goods\r\nHousehold Goods","Re-Use",17.177,12.481,13.286,13.689,15.322,11.464,12.471,9.929,9.305,10.604,9,null,134.728]
[{"$f":"B114&D114&C114","v":"Judkins HWRCRecyclingOil (Engine)"},"Judkins HWRC","Oil (Engine)","Recycling",2.12,1.36,1.72,2.66,1.5,1.7,2.5,null,1.1,1.5,1.4,1,18.56]
[{"$f":"B115&D115&C115","v":"Judkins HWRCRecyclingPaper (mixed with card)"},"Judkins HWRC","Paper (mixed with card)","Recycling",{"$nulls":10},30.5,null,30.5]
[{"$f":"B116&D116&C116","v":"Judkins HWRCRecyclingPaper (newspaper & magazines)"},"Judkins HWRC","Paper (newspaper & magazines)","Recycling",8.34,7.62,null,5.68,7.34,8.36,6.98,null,9.02,7.8,null,7.48,68.62]
[{"$f":"B117&D117&C117","v":"Judkins HWRCRecyclingPlasterboard"},"Judkins HWRC","Plasterboard","Recycling",10.36,5.36,10.92,5.48,10.21,9.87,11.81,6.44,5.53,10,5.7,9.9,101.58000000000001]
[{"$f":"B118&D118&C118","v":"Judkins HWRCRecyclingScrap metal (mixed)"},"Judkins HWRC","Scrap metal (mixed)","Recycling",54.9,36.14,34.32,31.2,45.16,38.2,46.5,20.1,30.65,46.42,36.6,45.9,466.09000000000003]
[{"$f":"B119&D119&C119","v":"Judkins HWRCRecyclingScreens output"},"Judkins HWRC","Screens output","Recycling",9.2,7.08,8.96,7.14,4.42,3.9,7.5,3.29,6.6,4.1,4.2,10.4,76.79]
[{"$f":"B120&D120&C120","v":"Judkins HWRCRecyclingSmall Domestic Appliances"},"Judkins HWRC","Small Domestic Appliances","Recycling",17.72,14.2,13.8,13.24,13.28,7,21,7,6.3,12.6,7.7,7,140.83999999999997]
[{"$f":"B121&D121&C121","v":"Judkins HWRCRecyclingSoil & rubble"},"Judkins HWRC","Soil & rubble","Recycling",180.86,148.42,149.82,194.18,100.62,107,125.24,60.15,36,55.9,null,null,1158.19]
[{"$f":"B122&D122&C122","v":"Judkins HWRCRecyclingTextiles"},"Judkins HWRC","Textiles","Recycling",7.16,6.88,7.04,6.34,7.73,17.9,5.85,3.72,5.1,5.64,53.2,9.3,135.86]
[{"$f":"B123&D123&C123","v":"Judkins HWRCRecyclingWood (including treated)"},"Judkins HWRC","Wood (including treated)","Recycling",218.78,115.54,182.02,77.4,{"$nulls":3},108,98.03,101.38,179.4,127.8,1208.35]
[{"$f":"B124&D124&C124","v":"Lower House Farm HWRCRecyclingAluminium (nf)"},"Lower House Farm HWRC","Aluminium (nf)","Recycling",{"$nulls":10},1.5,null,1.5]
[{"$f":"B125&D125&C125","v":"Lower House Farm HWRCLandfillAsbestos"},"Lower House Farm HWRC","Asbestos","Landfill",3.92,{"$nulls":10},4.6,8.52]
[{"$f":"B126&D126&C126","v":"Lower House Farm HWRCRecyclingBatteries (car)"},"Lower House Farm HWRC","Batteries (car)","Recycling",2.32,2.28,2.28,2.36,null,3.32,2.38,null,null,4.02,null,4.38,23.339999999999996]
[{"$f":"B127&D127&C127","v":"Lower House Farm HWRCRecyclingBatteries (household)"},"Lower House Farm HWRC","Batteries (household)","Recycling",{"$nulls":3},0.68,{"$nulls":5},0.72,null,null,1.4]
[{"$f":"B128&D128&C128","v":"Lower House Farm HWRCEfw (incineration)Bulky Waste"},"Lower House Farm HWRC","Bulky Waste","Efw (incineration)",31.24,26.04,18.66,15.46,14.16,16.4,15.82,16.82,20.9,23.04,17.18,18.1,233.81999999999996]
[{"$f":"B129&D129&C129","v":"Lower House Farm HWRCRecyclingCardboard"},"Lower House Farm HWRC","Cardboard","Recycling",17.84,25.28,14.5,16.38,9.74,19.34,11.1,21,18.58,14.799999999999999,14.58,13.68,196.81999999999996]
[{"$f":"B130&D130&C130","v":"Lower House Farm HWRCRecyclingCarpet"},"Lower House Farm HWRC","Carpet","Recycling",31.340000000000003,32.54,15.98,31.22,22.959999999999997,29.740000000000002,21.4,32.4,21.3,14.46,38.82,37.11,329.27]
[{"$f":"B131&D131&C131","v":"Lower House Farm HWRCEfw (incineration)Chemicals"},"Lower House Farm HWRC","Chemicals","Efw (incineration)",{"$nulls":11},2.6,2.6]
[{"$f":"B132&D132&C132","v":"Lower House Farm HWRCRecyclingChipboard"},"Lower House Farm HWRC","Chipboard","Recycling",91.12,15.3,41.3,86.8,76.4,83.03999999999999,63.08,31.24,41.68,57.9,24.240000000000002,68.46000000000001,680.56]
[{"$f":"B133&D133&C133","v":"Lower House Farm HWRCRecyclingDrink Cartons"},"Lower House Farm HWRC","Drink Cartons","Recycling",null,0.07013,0.02615,null,0.067,null,0.24,0.243,null,0.12119,0,null,0.76747]
[{"$f":"B134&D134&C134","v":"Lower House Farm HWRCRecyclingFluorescent Tubes Output"},"Lower House Farm HWRC","Fluorescent Tubes Output","Recycling",0.189,null,null,0.2,null,0.182,null,0.146,{"$nulls":3},0.34,1.057]
[{"$f":"B135&D135&C135","v":"Lower House Farm HWRCRecyclingFridges Output"},"Lower House Farm HWRC","Fridges Output","Recycling",6.792,5.24,6.585,9.656,5.4177,7.37922,7.16161,4.5397,8.2188,13.3975,9.6697,8.8425,92.89973]
[{"$f":"B136&D136&C136","v":"Lower House Farm HWRCRecyclingGas Cylinders"},"Lower House Farm HWRC","Gas Cylinders","Recycling",null,null,0.44000000000000006,{"$nulls":8},0.36,0.8000000000000002]
[{"$f":"B137&D137&C137","v":"Lower House Farm HWRCEfw (incineration)General (mixed waste)"},"Lower House Farm HWRC","General (mixed waste)","Efw (incineration)",170.14,132.16,117.54,102.6,139.56,102.14,107.28,92.44,108.78,130.92,133.14,156.93,1493.6299999999999]
[{"$f":"B138&D138&C138","v":"Lower House Farm HWRCLandfillGeneral (mixed waste)"},"Lower House Farm HWRC","General (mixed waste)","Landfill",{"$nulls":10},18.11,6.86,24.97]
[{"$f":"B139&D139&C139","v":"Lower House Farm HWRCRecyclingGlass (bottles)"},"Lower House Farm HWRC","Glass (bottles)","Recycling",0.879,null,1.473,null,null,1.367,null,null,1.608,2.271,null,null,7.598]
[{"$f":"B140&D140&C140","v":"Lower House Farm HWRCCompostingGreen waste"},"Lower House Farm HWRC","Green waste","Composting",64.38,54.1,67.56,47.14,54.22,50.88,53.22,20.74,10.08,10.44,17.22,31.06,481.0399999999999]
[{"$f":"B141&D141&C141","v":"Lower House Farm HWRCLandfillHard Plastic"},"Lower House Farm HWRC","Hard Plastic","Landfill",null,4.685,5.245,6.105,5.305,6.475,6.37,1.705,1.165,1.48,2.765,3.165,44.46499999999999]
[{"$f":"B142&D142&C142","v":"Lower House Farm HWRCRecyclingHard Plastic"},"Lower House Farm HWRC","Hard Plastic","Recycling",null,5.36,{"$nulls":10},5.36]
[{"$f":"B143&D143&C143","v":"Lower House Farm HWRCRe-UseInert (rubble/hardcore)"},"Lower House Farm HWRC","Inert (rubble/hardcore)","Re-Use",98.06,106.08,79.56,70.62,88.92000000000002,69.94,87.3,37.32,37.46,46.34,27.34,70.88,819.8200000000002]
[{"$f":"B144&D144&C144","v":"Lower House Farm HWRCRecyclingMatresses"},"Lower House Farm HWRC","Matresses","Recycling",null,null,1.62,3.36,4.619999999999999,4.88,3.82,null,null,7.06,3.08,3.62,32.059999999999995]
[{"$f":"B145&D145&C145","v":"Lower House Farm HWRCRecyclingNon Ferrous Metal  \r\nNon Ferrous Metal"},"Lower House Farm HWRC","Non Ferrous Metal  \r\nNon Ferrous Metal","Recycling",null,null,1.17,1.01,null,3.1,{"$nulls":3},1.8,1.74,1.37,10.189999999999998]
[{"$f":"B146&D146&C146","v":"Lower House Farm HWRCRecyclingOil (Engine)"},"Lower House Farm HWRC","Oil (Engine)","Recycling",null,4.85,1.76,null,1.76,null,1.408,1.04,{"$nulls":3},1.32,12.137999999999998]
[{"$f":"B147&D147&C147","v":"Lower House Farm HWRCRecyclingOil (Vegetable)"},"Lower House Farm HWRC","Oil (Vegetable)","Recycling",null,0.6,{"$nulls":3},0.58,{"$nulls":6},1.18]
[{"$f":"B148&D148&C148","v":"Lower House Farm HWRCRecyclingPaint (chemicals)"},"Lower House Farm HWRC","Paint (chemicals)","Recycling",null,null,1.38,null,0.74,0.8,0.64,null,0.6,null,0.62,null,4.78]
[{"$f":"B149&D149&C149","v":"Lower House Farm HWRCRecyclingPaper (mixed with card)"},"Lower House Farm HWRC","Paper (mixed with card)","Recycling",null,4.16,{"$nulls":10},4.16]
[{"$f":"B150&D150&C150","v":"Lower House Farm HWRCRecyclingPaper (newspaper & magazines)"},"Lower House Farm HWRC","Paper (newspaper & magazines)","Recycling",14.42,4.16,18.18,null,24.88,null,8.38,4.56,9.34,15.299999999999999,10.36,3.38,112.96000000000001]
[{"$f":"B151&D151&C151","v":"Lower House Farm HWRCRecyclingPlasterboard"},"Lower House Farm HWRC","Plasterboard","Recycling",7.11,5.7,7.43,8.95,8.55,12.68,8.5,null,12.5,null,null,18.490000000000002,89.91]
[{"$f":"B152&D152&C152","v":"Lower House Farm HWRCRecyclingPlastic (Mixed)"},"Lower House Farm HWRC","Plastic (Mixed)","Recycling",null,0.86,0.07,{"$nulls":7},0.11,null,1.04]
[{"$f":"B153&D153&C153","v":"Lower House Farm HWRCRecyclingScrap metal (mixed)"},"Lower House Farm HWRC","Scrap metal (mixed)","Recycling",36.33,29.810000000000002,39.879999999999995,33.92,28.77,29.93,24.970000000000002,16.63,20.53,31.2,24.16,40.44,356.56999999999994]
[{"$f":"B154&D154&C154","v":"Lower House Farm HWRCRecyclingScreens output"},"Lower House Farm HWRC","Screens output","Recycling",5.546,4.078,7.62,4.458,5.69729,5.25851,7.5969,5.3786,4.7468,5.3609,5.7639,6.5725,68.0774]
[{"$f":"B155&D155&C155","v":"Lower House Farm HWRCRecyclingSmall Domestic Appliances"},"Lower House Farm HWRC","Small Domestic Appliances","Recycling",15.51,14.22,null,14.88,13.2,22.06,13.52,15.69,11.26,19.19,15.05,18.46,173.04000000000002]
[{"$f":"B156&D156&C156","v":"Lower House Farm HWRCRecyclingTextiles"},"Lower House Farm HWRC","Textiles","Recycling",4.78,5.175,4.72,6.395,4.46,5.14,6.94,7.22,5.78,7.24,6.34,9.14,73.33]
[{"$f":"B157&D157&C157","v":"Lower House Farm HWRCRecyclingWood (including treated)"},"Lower House Farm HWRC","Wood (including treated)","Recycling",63,98.96000000000001,83.82000000000001,38.66,52.2,40.32000000000001,44.22,59.6,35.86,34.78,80.39999999999999,73.88,705.6999999999999]
[{"$f":"B158&D158&C158","v":"Princes Drive HWRC & TransferRecyclingAluminium (nf)"},"Princes Drive HWRC & Transfer","Aluminium (nf)","Recycling",0.44,null,0.96,null,0.78,{"$nulls":5},0.44,0.74,3.3599999999999994]
[{"$f":"B159&D159&C159","v":"Princes Drive HWRC & TransferLandfillAsbestos"},"Princes Drive HWRC & Transfer","Asbestos","Landfill",null,2.7,2.92,null,null,2.92,null,null,3.08,{"$nulls":3},11.62]
[{"$f":"B160&D160&C160","v":"Princes Drive HWRC & TransferRecyclingBatteries (car)"},"Princes Drive HWRC & Transfer","Batteries (car)","Recycling",5.58,1.7,0.65,null,8.607,null,5.15,null,5.356,null,null,9.99,37.033]
[{"$f":"B161&D161&C161","v":"Princes Drive HWRC & TransferRecyclingBatteries (household)"},"Princes Drive HWRC & Transfer","Batteries (household)","Recycling",null,0.73,null,null,1.42,{"$nulls":5},1.59,null,3.74]
[{"$f":"B162&D162&C162","v":"Princes Drive HWRC & TransferRecyclingBooks"},"Princes Drive HWRC & Transfer","Books","Recycling",1.12,0.33,0.86,0.83,null,null,0.59,{"$nulls":5},3.73]
[{"$f":"B163&D163&C163","v":"Princes Drive HWRC & TransferRecyclingBrass(nf)"},"Princes Drive HWRC & Transfer","Brass(nf)","Recycling",{"$nulls":8},0.073,0.064,null,null,0.137]
[{"$f":"B164&D164&C164","v":"Princes Drive HWRC & TransferRecyclingCable (nf)"},"Princes Drive HWRC & Transfer","Cable (nf)","Recycling",{"$nulls":4},0.1505,{"$nulls":5},1.38,null,1.5305]
[{"$f":"B165&D165&C165","v":"Princes Drive HWRC & TransferRecyclingCardboard"},"Princes Drive HWRC & Transfer","Cardboard","Recycling",46.61,41.7,42.66,48.34,49.4,40.660000000000004,42.2,52.94,55.36,73.48,50.660000000000004,50.800000000000004,594.8099999999998]
[{"$f":"B166&D166&C166","v":"Princes Drive HWRC & TransferRecyclingCarpet"},"Princes Drive HWRC & Transfer","Carpet","Recycling",45.849999999999994,34.69,39.34,28.37,37.970000000000006,32.427,43.18,28.32,33.15,36.199999999999996,19.71,42.53,421.737]
[{"$f":"B167&D167&C167","v":"Princes Drive HWRC & TransferEfw (incineration)Chemicals"},"Princes Drive HWRC & Transfer","Chemicals","Efw (incineration)",{"$nulls":3},1.41,null,0.53,{"$nulls":6},1.94]
[{"$f":"B168&D168&C168","v":"Princes Drive HWRC & TransferRecyclingChipboard"},"Princes Drive HWRC & Transfer","Chipboard","Recycling",45.24,5.98,21.8,39.82,27.459999999999997,25.34,20.84,46.9,25.5,14.7,37.4,72.74,383.7200000000001]
[{"$f":"B169&D169&C169","v":"Princes Drive HWRC & TransferEfw (incineration)Clinical"},"Princes Drive HWRC & Transfer","Clinical","Efw (incineration)",3.044,2.206,2.342,1.954,2.584,2.855,3.214,2.6879999999999997,2.69,2.305,1.108,4.257,31.247000000000007]
[{"$f":"B170&D170&C170","v":"Princes Drive HWRC & TransferRecyclingDrink Cartons"},"Princes Drive HWRC & Transfer","Drink Cartons","Recycling",0.24974,0.12001,0.22332,0.274,0.159,0.197,0.252,0.215,0.423,0.15148,0.176,0.432,2.87255]
[{"$f":"B171&D171&C171","v":"Princes Drive HWRC & TransferRecyclingFire Extinguishers"},"Princes Drive HWRC & Transfer","Fire Extinguishers","Recycling",{"$nulls":9},0.5,null,null,0.5]
[{"$f":"B172&D172&C172","v":"Princes Drive HWRC & TransferRecyclingFluorescent Tubes Output"},"Princes Drive HWRC & Transfer","Fluorescent Tubes Output","Recycling",0.19,0.13,null,0.19,null,0.38,null,0.29,null,0.09,0.16,0.29,1.72]
[{"$f":"B173&D173&C173","v":"Princes Drive HWRC & TransferRecyclingFridges Output"},"Princes Drive HWRC & Transfer","Fridges Output","Recycling",13.085,9.417,12.191,13.796,8.16811,15.1651,10.8363,11.9598,8.9153,9.9098,9.8979,11.8886,135.22991000000002]
[{"$f":"B174&D174&C174","v":"Princes Drive HWRC & TransferRecyclingGas Cylinders"},"Princes Drive HWRC & Transfer","Gas Cylinders","Recycling",0.11,0.09,0.03,0.12,0.43,null,null,0.81,1.1400000000000001,0.62,0.2,0.55,4.1000000000000005]
[{"$f":"B175&D175&C175","v":"Princes Drive HWRC & TransferRe-UseGas Cylinders"},"Princes Drive HWRC & Transfer","Gas Cylinders","Re-Use",{"$nulls":6},0.68,{"$nulls":5},0.68]
[{"$f":"B176&D176&C176","v":"Princes Drive HWRC & TransferEfw (incineration)General (mixed waste)"},"Princes Drive HWRC & Transfer","General (mixed waste)","Efw (incineration)",{"$nulls":8},29.98,null,null,9.82,39.8]
[{"$f":"B177&D177&C177","v":"Princes Drive HWRC & TransferLandfillGeneral (mixed waste)"},"Princes Drive HWRC & Transfer","General (mixed waste)","Landfill",752.14,638.46,660.4800000000001,737.82,708.26,580.6199999999999,721.6600000000001,619.85,615.21,642.02,600.14,675.9200000000001,7952.58]
[{"$f":"B178&D178&C178","v":"Princes Drive HWRC & TransferRecyclingGlass (bottles)"},"Princes Drive HWRC & Transfer","Glass (bottles)","Recycling",6.371,7.682,7.841,11.139,9.142,6.444,9.85,2.255,8.667,14.04,7.61,8.765,99.80600000000001]
[{"$f":"B179&D179&C179","v":"Princes Drive HWRC & TransferCompostingGreen waste"},"Princes Drive HWRC & Transfer","Green waste","Composting",154.88,164.44,204.5,181.51999999999998,201.65999999999997,151.08,167.92,138.66,75.91,52.16,62.58,128.51999999999998,1683.83]
[{"$f":"B180&D180&C180","v":"Princes Drive HWRC & TransferLandfillHard Plastic"},"Princes Drive HWRC & Transfer","Hard Plastic","Landfill",{"$nulls":9},0.71,null,null,0.71]
[{"$f":"B181&D181&C181","v":"Princes Drive HWRC & TransferRe-UseInert (rubble/hardcore)"},"Princes Drive HWRC & Transfer","Inert (rubble/hardcore)","Re-Use",266.48,212.70000000000002,218.98000000000002,226.04,226.7,147.5,174.7,131.12,83.58,86.52,104.68,173.07999999999998,2052.0799999999995]
[{"$f":"B182&D182&C182","v":"Princes Drive HWRC & TransferRecyclingLead (nf)"},"Princes Drive HWRC & Transfer","Lead (nf)","Recycling",{"$nulls":9},0.042,null,null,0.042]
[{"$f":"B183&D183&C183","v":"Princes Drive HWRC & TransferRecyclingMatresses"},"Princes Drive HWRC & Transfer","Matresses","Recycling",8.86,6.18,null,6.14,6.09,1.48,{"$nulls":6},28.75]
[{"$f":"B184&D184&C184","v":"Princes Drive HWRC & TransferRecyclingMicrowave Motors"},"Princes Drive HWRC & Transfer","Microwave Motors","Recycling",null,6.78,{"$nulls":7},6.5,null,null,13.280000000000001]
[{"$f":"B185&D185&C185","v":"Princes Drive HWRC & TransferRecyclingNon Ferrous Metal  \r\nNon Ferrous Metal"},"Princes Drive HWRC & Transfer","Non Ferrous Metal  \r\nNon Ferrous Metal","Recycling",null,0.15600000000000003,0.444,4.2375,0.1845,1.4655,0.7865,0.3135,0.5365,0.284,null,0.8235,9.231500000000002]
[{"$f":"B186&D186&C186","v":"Princes Drive HWRC & TransferRecyclingOil (Engine)"},"Princes Drive HWRC & Transfer","Oil (Engine)","Recycling",3.02,0.74,1.584,null,2.2,null,2.112,1.41,null,1.408,null,1.74,14.213999999999999]
[{"$f":"B187&D187&C187","v":"Princes Drive HWRC & TransferRecyclingOil (Vegetable)"},"Princes Drive HWRC & Transfer","Oil (Vegetable)","Recycling",null,0.97,null,1.04,null,0.72,null,null,0.61,{"$nulls":3},3.3399999999999994]
[{"$f":"B188&D188&C188","v":"Princes Drive HWRC & TransferRecyclingPaint (chemicals)"},"Princes Drive HWRC & Transfer","Paint (chemicals)","Recycling",2.29,null,2.18,null,1.08,2.2,1.83,null,1.08,null,null,1.23,11.89]
[{"$f":"B189&D189&C189","v":"Princes Drive HWRC & TransferRecyclingPaper (newspaper & magazines)"},"Princes Drive HWRC & Transfer","Paper (newspaper & magazines)","Recycling",20.98,29.38,20.58,20.46,26.94,31.979999999999997,21.34,18,32.94,16.939999999999998,26.4,29.62,295.55999999999995]
[{"$f":"B190&D190&C190","v":"Princes Drive HWRC & TransferRecyclingPlasterboard"},"Princes Drive HWRC & Transfer","Plasterboard","Recycling",12.969999999999999,13.1,7.89,17.72,12.34,12.55,24.490000000000002,10.68,11.49,9.72,20.96,10.9,164.81000000000003]
[{"$f":"B191&D191&C191","v":"Princes Drive HWRC & TransferRecyclingPlastic (Mixed)"},"Princes Drive HWRC & Transfer","Plastic (Mixed)","Recycling",null,23.68,{"$nulls":3},8.72,{"$nulls":4},23.89,null,56.29]
[{"$f":"B192&D192&C192","v":"Princes Drive HWRC & TransferRecyclingRoad Sweepings"},"Princes Drive HWRC & Transfer","Road Sweepings","Recycling",331.28,232.3,227.14,293.5,115.76,195.68,223.88,354.92,319.54,377.2,352.02,332.7,3355.9199999999996]
[{"$f":"B193&D193&C193","v":"Princes Drive HWRC & TransferRecyclingScrap metal (mixed)"},"Princes Drive HWRC & Transfer","Scrap metal (mixed)","Recycling",82.03,65.41250000000001,68.74,75.21000000000001,78.53999999999999,83.11,73.49,57.25,54.60000000000001,62.160000000000004,69.56,84.72,854.8225000000001]
[{"$f":"B194&D194&C194","v":"Princes Drive HWRC & TransferRecyclingScreens output"},"Princes Drive HWRC & Transfer","Screens output","Recycling",10.716,7.672,8.51,11.272,7.89395,11.5834,8.10006,8.0349,11.5849,13.1273,8.0376,10.0403,116.57241]
[{"$f":"B195&D195&C195","v":"Princes Drive HWRC & TransferRecyclingSmall Domestic Appliances"},"Princes Drive HWRC & Transfer","Small Domestic Appliances","Recycling",47.49,31.9,31.04,37.45,30.6,36.66,23.3,26.64,21.79,39.63,32.42,26.18,385.1]
[{"$f":"B196&D196&C196","v":"Princes Drive HWRC & TransferRecyclingStainless Steel"},"Princes Drive HWRC & Transfer","Stainless Steel","Recycling",{"$nulls":10},0.53,null,0.53]
[{"$f":"B197&D197&C197","v":"Princes Drive HWRC & TransferRecyclingTextiles"},"Princes Drive HWRC & Transfer","Textiles","Recycling",8.78,9.44,9.06,10.29,6.9,15.26,8.95,10.26,5.56,10.28,8.48,11.71,114.97]
[{"$f":"B198&D198&C198","v":"Princes Drive HWRC & TransferRecyclingWood (including treated)"},"Princes Drive HWRC & Transfer","Wood (including treated)","Recycling",209.82,229.2,213.56,199.71999999999997,220.96,199.32000000000002,162.4,129.04000000000002,124.88,145.08,169.98,170.22,2174.1800000000003]
[{"$f":"B199&D199&C199","v":"Shipston HWRCRecyclingAluminium (nf)"},"Shipston HWRC","Aluminium (nf)","Recycling",{"$nulls":4},0.5,{"$nulls":3},0.8,{"$nulls":3},1.3]
[{"$f":"B200&D200&C200","v":"Shipston HWRCRecyclingBatteries (car)"},"Shipston HWRC","Batteries (car)","Recycling",0.12,0.36,0.2,0.24,1.13,null,0.7,0.4,0.28,0.36,0.77,null,4.56]
[{"$f":"B201&D201&C201","v":"Shipston HWRCRecyclingBatteries (household)"},"Shipston HWRC","Batteries (household)","Recycling",{"$nulls":10},1.476,null,1.476]
[{"$f":"B202&D202&C202","v":"Shipston HWRCRecyclingCable (nf)"},"Shipston HWRC","Cable (nf)","Recycling",null,0.2,{"$nulls":7},0.36,null,0.32,0.8800000000000001]
[{"$f":"B203&D203&C203","v":"Shipston HWRCRecyclingCardboard"},"Shipston HWRC","Cardboard","Recycling",8.42,6.36,7.82,8.02,11.879999999999999,9.96,9.9,7.4,13.92,11.219999999999999,9.86,11.38,116.14000000000001]
[{"$f":"B204&D204&C204","v":"Shipston HWRCRecyclingCarpet"},"Shipston HWRC","Carpet","Recycling",6.3,3.86,null,6.66,10.08,null,12.98,12.54,4.36,5.32,5.64,6.94,74.67999999999999]
[{"$f":"B205&D205&C205","v":"Shipston HWRCRecyclingChipboard"},"Shipston HWRC","Chipboard","Recycling",13.74,8.14,6.94,13.559999999999999,6.68,20.64,26.160000000000004,null,null,6.44,13.120000000000001,22.14,137.55999999999997]
[{"$f":"B206&D206&C206","v":"Shipston HWRCRecyclingFluorescent Tubes Output"},"Shipston HWRC","Fluorescent Tubes Output","Recycling",0.203,{"$nulls":3},0.273,{"$nulls":4},0.34,null,null,0.8160000000000001]
[{"$f":"B207&D207&C207","v":"Shipston HWRCRecyclingFridges Output"},"Shipston HWRC","Fridges Output","Recycling",2.074,2.295,2.181,2.547,2.24407,1.90498,2.30687,2.0256,2.1238,2.7722,2.0096,2.7398,27.22392]
[{"$f":"B208&D208&C208","v":"Shipston HWRCEfw (incineration)General (mixed waste)"},"Shipston HWRC","General (mixed waste)","Efw (incineration)",{"$nulls":7},4.38,{"$nulls":4},4.38]
[{"$f":"B209&D209&C209","v":"Shipston HWRCLandfillGeneral (mixed waste)"},"Shipston HWRC","General (mixed waste)","Landfill",57.53500000000001,40.839999999999996,47.42,39.18,45.3,49.24,26.38,34.56,33.48,45.879999999999995,34.96,45.88,500.655]
[{"$f":"B210&D210&C210","v":"Shipston HWRCRecyclingGlass (bottles)"},"Shipston HWRC","Glass (bottles)","Recycling",null,4.026,2.476,3.673,1.776,4.689,2.266,0.886,2.401,3.701,5.059,1.059,32.012]
[{"$f":"B211&D211&C211","v":"Shipston HWRCCompostingGreen waste"},"Shipston HWRC","Green waste","Composting",34.94,30.28,36.18,39.5,31.28,30.86,35.260000000000005,31.1,12.66,10.7,12.18,22.14,327.08000000000004]
[{"$f":"B212&D212&C212","v":"Shipston HWRCRe-UseInert (rubble/hardcore)"},"Shipston HWRC","Inert (rubble/hardcore)","Re-Use",21.299999999999997,28.46,21.92,33.26,21.740000000000002,20.08,18.34,9.66,6.18,15.76,8.78,25.42,230.9]
[{"$f":"B213&D213&C213","v":"Shipston HWRCRecyclingMatresses"},"Shipston HWRC","Matresses","Recycling",0.585,0.42,0.48,{"$nulls":9},1.4849999999999999]
[{"$f":"B214&D214&C214","v":"Shipston HWRCRecyclingMicrowave Motors"},"Shipston HWRC","Microwave Motors","Recycling",null,0.37,0.05,{"$nulls":9},0.42]
[{"$f":"B215&D215&C215","v":"Shipston HWRCRecyclingNon Ferrous Metal  \r\nNon Ferrous Metal"},"Shipston HWRC","Non Ferrous Metal  \r\nNon Ferrous Metal","Recycling",0.36,0.9099999999999999,0.81,1.14,0.94,1.22,0.93,0.6,0.3,1.04,0.5,0.16,8.909999999999998]
[{"$f":"B216&D216&C216","v":"Shipston HWRCRecyclingOil (Engine)"},"Shipston HWRC","Oil (Engine)","Recycling",0.44,{"$nulls":11},0.44]
[{"$f":"B217&D217&C217","v":"Shipston HWRCRecyclingOil (Vegetable)"},"Shipston HWRC","Oil (Vegetable)","Recycling",{"$nulls":9},0.528,null,null,0.528]
[{"$f":"B218&D218&C218","v":"Shipston HWRCRecyclingPaper (newspaper & magazines)"},"Shipston HWRC","Paper (newspaper & magazines)","Recycling",10.66,null,9.32,9.1,null,9.12,7.58,null,10.72,null,10.5,10.78,77.78]
[{"$f":"B219&D219&C219","v":"Shipston HWRCRecyclingPlasterboard"},"Shipston HWRC","Plasterboard","Recycling",{"$nulls":11},0.22,0.22]
[{"$f":"B220&D220&C220","v":"Shipston HWRCRecyclingPlastic (Mixed)"},"Shipston HWRC","Plastic (Mixed)","Recycling",2.14,0.28,0.3,0.36,0.1,0.41,0.18,0.18,0.33,0.25,0.2,null,4.73]
[{"$f":"B221&D221&C221","v":"Shipston HWRCRecyclingScrap metal (mixed)"},"Shipston HWRC","Scrap metal (mixed)","Recycling",15.18,16.76,23.049999999999997,13.21,19.63,26.26,15.4,12.09,16.36,19.64,13.42,16.7,207.70000000000005]
[{"$f":"B222&D222&C222","v":"Shipston HWRCRecyclingScreens output"},"Shipston HWRC","Screens output","Recycling",2.832,0.80876,3.344,2.131,2.84602,1.65533,2.62748,2.096,2.792,1.8834,1.9414,2.4352,27.392590000000006]
[{"$f":"B223&D223&C223","v":"Shipston HWRCRecyclingSmall Domestic Appliances"},"Shipston HWRC","Small Domestic Appliances","Recycling",6.88,3.28,2.92,7.35,9.49,2.72,3.13,5.78,5.46,6.72,6.18,3.48,63.39]
[{"$f":"B224&D224&C224","v":"Shipston HWRCRe-UseSoil"},"Shipston HWRC","Soil","Re-Use",{"$nulls":8},8.8,{"$nulls":3},8.8]
[{"$f":"B225&D225&C225","v":"Shipston HWRCRecyclingTextiles"},"Shipston HWRC","Textiles","Recycling",1.4272,1.3854,1.1768,1.119,1.2503,1.81,2.26,2.36,2.15,3.25,3.45,2.35,23.988699999999998]
[{"$f":"B226&D226&C226","v":"Shipston HWRCRecyclingWood (including treated)"},"Shipston HWRC","Wood (including treated)","Recycling",27.945,20.22,18.6,19.439999999999998,20.340000000000003,5.5,null,13.120000000000001,14.14,19.54,13.42,6.94,179.205]
[{"$f":"B227&D227&C227","v":"Stockton HWRCRecyclingBatteries (car)"},"Stockton HWRC","Batteries (car)","Recycling",null,null,1.7,null,0.2,0.47,null,null,0.78,null,1.02,0.03,4.2]
[{"$f":"B228&D228&C228","v":"Stockton HWRCRecyclingBatteries (household)"},"Stockton HWRC","Batteries (household)","Recycling",null,null,0.55,{"$nulls":9},0.55]
[{"$f":"B229&D229&C229","v":"Stockton HWRCRecyclingCable (nf)"},"Stockton HWRC","Cable (nf)","Recycling",{"$nulls":4},0.02,0.08,{"$nulls":6},0.1]
[{"$f":"B230&D230&C230","v":"Stockton HWRCRecyclingCardboard"},"Stockton HWRC","Cardboard","Recycling",2.48,2.4000000000000004,2.58,3.98,3.7699999999999996,4.13,3.75,3.58,3.65,2.75,2.86,5.45,41.379999999999995]
[{"$f":"B231&D231&C231","v":"Stockton HWRCRecyclingChipboard"},"Stockton HWRC","Chipboard","Recycling",19.34,null,null,5.87,null,4.57,null,null,5.91,{"$nulls":3},35.69]
[{"$f":"B232&D232&C232","v":"Stockton HWRCRecyclingFluorescent Tubes Output"},"Stockton HWRC","Fluorescent Tubes Output","Recycling",{"$nulls":5},0.171,{"$nulls":6},0.171]
[{"$f":"B233&D233&C233","v":"Stockton HWRCRecyclingFridges Output"},"Stockton HWRC","Fridges Output","Recycling",0.41197,0.508,0.952,0.836,0.54407,1.70226,0.77438,0.5295,0.7025,1.2879,0.5857,1.1157,9.949979999999998]
[{"$f":"B234&D234&C234","v":"Stockton HWRCEfw (incineration)General (mixed waste)"},"Stockton HWRC","General (mixed waste)","Efw (incineration)",{"$nulls":8},1.98,{"$nulls":3},1.98]
[{"$f":"B235&D235&C235","v":"Stockton HWRCLandfillGeneral (mixed waste)"},"Stockton HWRC","General (mixed waste)","Landfill",27.610000000000003,30.16,25.759999999999998,39.67000000000001,32.17,25.441000000000003,21,25.65,5.08,25.330000000000002,27.401,9.559999999999999,294.83199999999994]
[{"$f":"B236&D236&C236","v":"Stockton HWRCRecyclingGeneral (mixed waste)"},"Stockton HWRC","General (mixed waste)","Recycling",{"$nulls":8},14.03,null,null,14.49,28.52]
[{"$f":"B237&D237&C237","v":"Stockton HWRCRecyclingGlass (bottles)"},"Stockton HWRC","Glass (bottles)","Recycling",0.658,null,0.291,0.485,null,0.38,{"$nulls":3},1.288,null,null,3.1020000000000003]
[{"$f":"B238&D238&C238","v":"Stockton HWRCCompostingGreen waste"},"Stockton HWRC","Green waste","Composting",9.94,8.95,10.96,12.790000000000001,15.82,12.55,12.650000000000002,6.71,0.94,2.69,1.93,7.7,103.63]
[{"$f":"B239&D239&C239","v":"Stockton HWRCRecyclingGreen waste"},"Stockton HWRC","Green waste","Recycling",{"$nulls":8},3.59,{"$nulls":3},3.59]
[{"$f":"B240&D240&C240","v":"Stockton HWRCRe-UseInert (rubble/hardcore)"},"Stockton HWRC","Inert (rubble/hardcore)","Re-Use",23.32,15.719999999999999,14.02,16.14,12.620000000000001,16.22,7.86,6.96,6.54,6,7.26,16.46,149.12]
[{"$f":"B241&D241&C241","v":"Stockton HWRCRecyclingNon Ferrous Metal  \r\nNon Ferrous Metal"},"Stockton HWRC","Non Ferrous Metal  \r\nNon Ferrous Metal","Recycling",{"$nulls":3},0.37,0.25,0.26,{"$nulls":6},0.88]
[{"$f":"B242&D242&C242","v":"Stockton HWRCRecyclingOil (Engine)"},"Stockton HWRC","Oil (Engine)","Recycling",null,null,0.74,{"$nulls":4},1.056,{"$nulls":4},1.796]
[{"$f":"B243&D243&C243","v":"Stockton HWRCRecyclingPaint (chemicals)"},"Stockton HWRC","Paint (chemicals)","Recycling",{"$nulls":4},0.35,{"$nulls":3},0.6,{"$nulls":3},0.95]
[{"$f":"B244&D244&C244","v":"Stockton HWRCRecyclingPlastic (Mixed)"},"Stockton HWRC","Plastic (Mixed)","Recycling",{"$nulls":8},0.9,null,0.05,null,0.9500000000000001]
[{"$f":"B245&D245&C245","v":"Stockton HWRCRecyclingScrap metal (mixed)"},"Stockton HWRC","Scrap metal (mixed)","Recycling",8.74,4.06,7.29,6.27,5.9,7.4,6.37,5.3,6.54,6.76,6.4,9.42,80.45]
[{"$f":"B246&D246&C246","v":"Stockton HWRCRecyclingScreens output"},"Stockton HWRC","Screens output","Recycling",1.125,0.5293,null,1.329,0.98557,0.6514,0.90072,0.9326,0.7121,1.3961,0.6817,1.363,10.606489999999999]
[{"$f":"B247&D247&C247","v":"Stockton HWRCRecyclingSmall Domestic Appliances"},"Stockton HWRC","Small Domestic Appliances","Recycling",4.61,null,4.11,3.3,2.77,0.98,3.87,0.59,1.32,2.6,0.97,3.35,28.470000000000002]
[{"$f":"B248&D248&C248","v":"Stockton HWRCRecyclingTextiles"},"Stockton HWRC","Textiles","Recycling",0.3494,0.44915,0.527,0.4576,0.644,0.8799999999999999,0.96,0.87,0.4,1.1,0.65,0.5,7.7871500000000005]
[{"$f":"B249&D249&C249","v":"Stockton HWRCRecyclingWood (including treated)"},"Stockton HWRC","Wood (including treated)","Recycling",6.6,5.76,14.29,2.97,17.94,9.57,12.57,9.37,4.54,10.02,8.02,15.1,116.75]
[{"$f":"B250&D250&C250","v":"Wellesbourne HWRCLandfillAsbestos"},"Wellesbourne HWRC","Asbestos","Landfill",{"$nulls":3},0.92,{"$nulls":8},0.92]
[{"$f":"B251&D251&C251","v":"Wellesbourne HWRCRecyclingBatteries (car)"},"Wellesbourne HWRC","Batteries (car)","Recycling",1.137,null,0.831,null,0.747,0.781,null,null,0.802,null,null,0.786,5.084]
[{"$f":"B252&D252&C252","v":"Wellesbourne HWRCRecyclingBatteries (household)"},"Wellesbourne HWRC","Batteries (household)","Recycling",{"$nulls":4},0.335,{"$nulls":5},0.339,null,0.674]
[{"$f":"B253&D253&C253","v":"Wellesbourne HWRCRe-UseBooks"},"Wellesbourne HWRC","Books","Re-Use",0.14,0.14,0.07,0.07,0.07,0.08,0.1,0.13,null,0.16,null,null,0.9600000000000001]
[{"$f":"B254&D254&C254","v":"Wellesbourne HWRCRecyclingCardboard"},"Wellesbourne HWRC","Cardboard","Recycling",5.29,3.8200000000000003,5.9799999999999995,6.56,6.24,6.16,3.78,4.08,5.05,8.27,6,8.69,69.92]
[{"$f":"B255&D255&C255","v":"Wellesbourne HWRCEfw (incineration)Chemicals"},"Wellesbourne HWRC","Chemicals","Efw (incineration)",0.01,{"$nulls":11},0.01]
[{"$f":"B256&D256&C256","v":"Wellesbourne HWRCRecyclingChipboard"},"Wellesbourne HWRC","Chipboard","Recycling",14.09,12.75,1.72,9.52,2.74,2.78,6.62,2.21,null,2.99,2.94,null,58.36]
[{"$f":"B257&D257&C257","v":"Wellesbourne HWRCRecyclingFluorescent Tubes Output"},"Wellesbourne HWRC","Fluorescent Tubes Output","Recycling",null,null,0.138,{"$nulls":3},0.368,{"$nulls":4},0.306,0.812]
[{"$f":"B258&D258&C258","v":"Wellesbourne HWRCLandfillGeneral (mixed waste)"},"Wellesbourne HWRC","General (mixed waste)","Landfill",11.32,29.43,34.1,29.830000000000002,42.35,30.21,23.81,29.78,31.8,31.46,39.83,null,333.92]
[{"$f":"B259&D259&C259","v":"Wellesbourne HWRCRecyclingGeneral (mixed waste)"},"Wellesbourne HWRC","General (mixed waste)","Recycling",23.005,{"$nulls":10},33.486,56.491]
[{"$f":"B260&D260&C260","v":"Wellesbourne HWRCRecyclingGlass (bottles)"},"Wellesbourne HWRC","Glass (bottles)","Recycling",null,1.83,1.913,1.9,1.184,2.394,2.611,0.251,1.776,2.944,null,1.363,18.166]
[{"$f":"B261&D261&C261","v":"Wellesbourne HWRCCompostingGreen waste"},"Wellesbourne HWRC","Green waste","Composting",12.129999999999999,18.96,17.47,18.71,17.87,14.65,14.669999999999998,15.61,5.11,1.97,null,11.453,148.60300000000004]
[{"$f":"B262&D262&C262","v":"Wellesbourne HWRCRecyclingGreen waste"},"Wellesbourne HWRC","Green waste","Recycling",{"$nulls":10},4.79,null,4.79]
[{"$f":"B263&D263&C263","v":"Wellesbourne HWRCRecyclingInert (rubble/hardcore)"},"Wellesbourne HWRC","Inert (rubble/hardcore)","Recycling",{"$nulls":5},5.67,{"$nulls":6},5.67]
[{"$f":"B264&D264&C264","v":"Wellesbourne HWRCRe-UseInert (rubble/hardcore)"},"Wellesbourne HWRC","Inert (rubble/hardcore)","Re-Use",17.66,18.81,24.46,17.439999999999998,16.7,9.08,19.34,9.26,null,9.92,8.84,17.78,169.29]
[{"$f":"B265&D265&C265","v":"Wellesbourne HWRCRecyclingNon Ferrous Metal  \r\nNon Ferrous Metal"},"Wellesbourne HWRC","Non Ferrous Metal  \r\nNon Ferrous Metal","Recycling",null,0.275,null,null,0.52,null,null,0.78,{"$nulls":4},1.5750000000000002]
[{"$f":"B266&D266&C266","v":"Wellesbourne HWRCRecyclingOil (Engine)"},"Wellesbourne HWRC","Oil (Engine)","Recycling",0.352,{"$nulls":8},1.408,null,null,1.7599999999999998]
[{"$f":"B267&D267&C267","v":"Wellesbourne HWRCEfw (incineration)Paint (chemicals)"},"Wellesbourne HWRC","Paint (chemicals)","Efw (incineration)",0.03,{"$nulls":11},0.03]
[{"$f":"B268&D268&C268","v":"Wellesbourne HWRCRecyclingPaint (chemicals)"},"Wellesbourne HWRC","Paint (chemicals)","Recycling",{"$nulls":4},0.04,0.71,{"$nulls":6},0.75]
[{"$f":"B269&D269&C269","v":"Wellesbourne HWRCRecyclingPlasterboard"},"Wellesbourne HWRC","Plasterboard","Recycling",0.1,0.1,0.02,{"$nulls":9},0.22]
[{"$f":"B270&D270&C270","v":"Wellesbourne HWRCRecyclingPlastic (Mixed)"},"Wellesbourne HWRC","Plastic (Mixed)","Recycling",0.1,0.05,0.1,0.11,0.22,0.01,0.05,0.1,0.07,0.22,0.07,0.08,1.1800000000000002]
[{"$f":"B271&D271&C271","v":"Wellesbourne HWRCRecyclingScrap metal (mixed)"},"Wellesbourne HWRC","Scrap metal (mixed)","Recycling",9.51,7.88,8.79,8.19,9.3,8.3,4.54,6.08,4,7.4399999999999995,4.54,6.71,85.28]
[{"$f":"B272&D272&C272","v":"Wellesbourne HWRCRecyclingScreens output"},"Wellesbourne HWRC","Screens output","Recycling",1.567,1.115,1.697,1.748,1.8481,1.551,1.43655,1.3464,1.3293,4.1234,2.6708,1.6585,22.09105]
[{"$f":"B273&D273&C273","v":"Wellesbourne HWRCRecyclingSmall Domestic Appliances"},"Wellesbourne HWRC","Small Domestic Appliances","Recycling",2.6,6.48,2.59,3.11,2.98,2.26,3.35,2.35,1.86,2.91,4.29,3.62,38.400000000000006]
[{"$f":"B274&D274&C274","v":"Wellesbourne HWRCRecyclingTextiles"},"Wellesbourne HWRC","Textiles","Recycling",1.5519,1.05195,1.9647,1.06295,1.7523,2.54,1.61,1.61,1.15,1.92,1.85,1.85,19.913800000000002]
[{"$f":"B275&D275&C275","v":"Wellesbourne HWRCRecyclingWood (including treated)"},"Wellesbourne HWRC","Wood (including treated)","Recycling",8.715,7.45,15.26,9.22,11.26,15.96,10.48,13.069999999999999,10.68,10.77,16.08,19.73,148.67499999999998]

{"sheet":"Dates","index":14,"n_rows":1,"n_cols":2,"rows_kept":1,"hidden":true}
["01/04/2015","31/03/2016"]