Workbook

Sheet Calibration
B1: Coordinates
A2: Zone - FloleVac | B2: [[21628,25321,36028,31971,1]]
A3: Point a - FloleVac | B3: [21800,31800]
A4: Corner a - GIMP | B4: [47,98]
A5: Point b - FloleVac | B5: [21800,25250]
A6: Corner b - GIMP | B6: [47,665]
A7: Point c - FloleVac | B7: [35800,25450]
A8: Corner c - GIMP | B8: [1278,665]
D10: =IFERROR('DO NOT MODIFY'!B26,"INVALID DATA") -> calibration_points: - vacuum: x: 21628 y: 31971 map: x: 47 y: 98 - vacuum: x: 21628 y: 25321 map: x: 47 y: 665 - vacuum: x: 36028 y: 25321 map: x: 1278 y: 665

Sheet DO NOT MODIFY
A1: ZONE COORDINATES | B1: x1 | C1: y1 | D1: x2 | E1: y2 | N1: 0 | O1: =FIND(",",$M$2) -> 6 | P1: =FIND(",",$M$2,O1+1) -> 12 | Q1: =FIND(",",$M$2,P1+1) -> 18 | R1: =FIND(",",$M$2,Q1+1) -> 24
A2: =Calibration!B2 -> [[21628,25321,36028,31971,1]] | B2: =N2 -> 21628 | C2: =O2 -> 25321 | D2: =P2 -> 36028 | E2: =Q2 -> 31971 | M2: =SUBSTITUTE(SUBSTITUTE(A2,"]",""),"[","") -> 21628,25321,36028,31971,1 | N2: =VALUE(MID($M$2,N1+1,O1-N1-1)) -> 21628 | O2: =VALUE(MID($M$2,O1+1,P1-O1-1)) -> 25321 | P2: =VALUE(MID($M$2,P1+1,Q1-P1-1)) -> 36028 | Q2: =VALUE(MID($M$2,Q1+1,R1-Q1-1)) -> 31971
A4: POINT 1 | B4: x | C4: y
A5: =Calibration!B3 -> [21800,31800] | B5: =VALUE(MID($M5,N5+1,O5-N5-1)) -> 21800 | C5: =VALUE(MID($M5,O5+1,P5-O5-1)) -> 31800 | M5: =SUBSTITUTE(SUBSTITUTE(A5,"[",""),"]","") -> 21800,31800 | N5: 0 | O5: =FIND(",",$M5) -> 6 | P5: =LEN(M5)+1 -> 12
A6: =Calibration!B4 -> [47,98] | B6: =VALUE(MID($M6,N6+1,O6-N6-1)) -> 47 | C6: =VALUE(MID($M6,O6+1,P6-O6-1)) -> 98 | M6: =SUBSTITUTE(SUBSTITUTE(A6,"[",""),"]","") -> 47,98 | N6: 0 | O6: =FIND(",",$M6) -> 3 | P6: =LEN(M6)+1 -> 6
A7: POINT 2 | B7: x | C7: y
A8: =Calibration!B5 -> [21800,25250] | B8: =VALUE(MID($M8,N8+1,O8-N8-1)) -> 21800 | C8: =VALUE(MID($M8,O8+1,P8-O8-1)) -> 25250 | M8: =SUBSTITUTE(SUBSTITUTE(A8,"[",""),"]","") -> 21800,25250 | N8: 0 | O8: =FIND(",",$M8) -> 6 | P8: =LEN(M8)+1 -> 12
A9: =Calibration!B6 -> [47,665] | B9: =VALUE(MID($M9,N9+1,O9-N9-1)) -> 47 | C9: =VALUE(MID($M9,O9+1,P9-O9-1)) -> 665 | M9: =SUBSTITUTE(SUBSTITUTE(A9,"[",""),"]","") -> 47,665 | N9: 0 | O9: =FIND(",",$M9) -> 3 | P9: =LEN(M9)+1 -> 7
A10: POINT 3 | B10: x | C10: y
A11: =Calibration!B7 -> [35800,25450] | B11: =VALUE(MID($M11,N11+1,O11-N11-1)) -> 35800 | C11: =VALUE(MID($M11,O11+1,P11-O11-1)) -> 25450 | M11: =SUBSTITUTE(SUBSTITUTE(A11,"[",""),"]","") -> 35800,25450 | N11: 0 | O11: =FIND(",",$M11) -> 6 | P11: =LEN(M11)+1 -> 12
A12: =Calibration!B8 -> [1278,665] | B12: =VALUE(MID($M12,N12+1,O12-N12-1)) -> 1278 | C12: =VALUE(MID($M12,O12+1,P12-O12-1)) -> 665 | M12: =SUBSTITUTE(SUBSTITUTE(A12,"[",""),"]","") -> 1278,665 | N12: 0 | O12: =FIND(",",$M12) -> 5 | P12: =LEN(M12)+1 -> 9
A16: CORNER 1 | B16: x | C16: y
B17: =IF(ABS(B$2-B5)<ABS(D$2-B5),B$2,D$2) -> 21628 | C17: =IF(ABS(C$2-C5)<ABS(E$2-C5),C$2,E$2) -> 31971
B18: =B6 -> 47 | C18: =C6 -> 98
A19: CORNER 2 | B19: x | C19: y
B20: =IF(ABS(B$2-B8)<ABS(D$2-B8),B$2,D$2) -> 21628 | C20: =IF(ABS(C$2-C8)<ABS(E$2-C8),C$2,E$2) -> 25321
B21: =B9 -> 47 | C21: =C9 -> 665
A22: CORNER 3 | B22: x | C22: y
B23: =IF(ABS(B$2-B11)<ABS(D$2-B11),B$2,D$2) -> 36028 | C23: =IF(ABS(C$2-C11)<ABS(E$2-C11),C$2,E$2) -> 25321
B24: =B12 -> 1278 | C24: =C12 -> 665
B26: ="calibration_points: - vacuum: x: "&'DO NOT MODIFY'!B17&" y: "&'DO NOT MODIFY'!C17&" map: x: "&'DO NOT MODIFY'!B18&" y: "&'DO NOT MODIFY'!C18&" - vacuum: x: "&'DO NOT MODIFY'!B20&" y: "&'DO NOT MODIFY'!C20&" map: x: "&'DO NOT MODIFY'!B21&" y: "&'DO NOT MODIFY'!C21&" - vacuum: x: "&'DO NOT MODIFY'!B23&" y: "&'DO NOT MODIFY'!C23&" map: x: "&'DO NOT MODIFY'!B24&" y: "&'DO NOT MODIFY'!C24 -> calibration_points: - vacuum: x: 21628 y: 31971 map: x: 47 y: 98 - vacuum: x: 21628 y: 25321 map: x: 47 y: 665 - vacuum: x: 36028 y: 25321 map: x: 1278 y: 665
